Workbook
Name femme: 'Base de données'!$B$3:$B$72

Sheet Inventaire
C1: AC total : | D1: =SUM(E6:E40)+SUM(K6:K40)+SUM(Q6:Q40)+SUM(X6:X40)+SUM(AD6:AD40) -> 34 | K1: Dgéodey Parfum ** 1=12€ 5=55€(11€) 10=100€(10])
B3: Femme | U3: Homme
B5: N° | C5: Parfum | E5: AC | F5: Stock | G5: Vendu | H5: N° | I5: Parfum | K5: AC | L5: Stock | M5: Vendu | N5: N° | O5: Parfum | Q5: AC | R5: Stock | S5: Vendu | U5: N° | V5: Parfum | X5: AC | Y5: Stock | Z5: Vendu | AA5: N° | AB5: Parfum | AD5: AC | AE5: Stock | AF5: Vendu
B6: 1 | C6: Aqua di gio | F6: 10 | G6: 3 | H6: 36 | I6: Dior J adore | L6: 12 | M6: 2 | N6: 71 | O6: Nina Ricci Nina | R6: 14 | S6: 3 | U6: 1 | V6: Aqua di gio Homme | X6: 1 | Y6: 25 | Z6: 5 | AA6: 36 | AB6: Kenzo L'eau par kenzo | AF6: 5
B7: 2 | C7: Armani code | F7: 10 | H7: 37 | I7: Dior Addict | L7: 12 | M7: 2 | N7: 72 | O7: PacoRabanne Black Xs | Q7: 1 | R7: 14 | S7: 8 | U7: 2 | V7: Armani code | Z7: 22 | AA7: 37 | AB7: Lacoste L.12.12 Blanc | AF7: 7
B8: 3 | C8: Aqua di gioa | F8: 10 | G8: 3 | H8: 38 | I8: Dior Addict 2 | L8: 12 | M8: 2 | N8: 73 | O8: PacoRabanne Lady million | Q8: 2 | R8: 14 | S8: 8 | U8: 3 | V8: Armani code sport | Z8: 5 | AA8: 38 | AB8: Lacoste Live | AF8: 24
B9: 4 | C9: Armani mania | F9: 10 | H9: 39 | I9: Dior Miss Cherie | K9: 1 | L9: 12 | M9: 2 | N9: 74 | O9: PacoRabanne Olympea | Q9: 1 | R9: 14 | S9: 8 | U9: 4 | V9: Armani diamonds | X9: 1 | AA9: 39 | AB9: Lacoste L.12.12 Bleu | AF9: 8
B10: 5 | C10: Armani sensi | F10: 10 | H10: 40 | I10: Dior Hypnotic poison | K10: 1 | L10: 12 | M10: 2 | N10: 75 | O10: Thierry mugler Angel | Q10: 1 | R10: 14 | U10: 5 | V10: Armani mania | Z10: 5 | AA10: 40 | AB10: Lacoste L.12.12 vert | AF10: 2
B11: 6 | C11: Armani Elle | F11: 10 | G11: 3 | H11: 41 | I11: Dior Midnight poison | K11: 1 | L11: 12 | M11: 2 | N11: 76 | O11: Thierry mugler Alien | R11: 14 | U11: 6 | V11: Azzaro Chrome | AA11: 41 | AB11: PacoRabanne One million | AD11: 3 | AF11: 4
B12: 7 | C12: Armani Si | F12: 10 | H12: 42 | I12: Dior Dune | L12: 12 | M12: 2 | N12: 77 | O12: Victor&Rolph Flower bomb | R12: 14 | U12: 7 | V12: Boss | X12: 1 | Z12: 5 | AA12: 42 | AB12: PacoRabanne Ultraviolet | AF12: 1
B13: 8 | C13: Armani Si intense | F13: 10 | G13: 1 | H13: 43 | I13: Dior Dolce vita | L13: 12 | M13: 4 | N13: 78 | O13: Versace Bright christal | R13: 14 | U13: 8 | V13: Boss bottled night | AA13: 43 | AB13: PacoRabanne Invictus | AD13: 2 | AF13: 3
B14: 9 | C14: Boss xx | F14: 10 | H14: 44 | I14: D&G The one | L14: 12 | M14: 8 | N14: 79 | O14: Versace Chrystal noir | R14: 14 | U14: 9 | V14: Boss in motion | Y14: 40 | Z14: 30 | AA14: 44 | AB14: Ralph lauren Polo black | AF14: 7
B15: 10 | C15: Boss Women | F15: 10 | G15: 5 | H15: 45 | I15: D&G The one rose | L15: 12 | N15: 80 | O15: Versace Yellowdiamonds | R15: 14 | U15: 10 | V15: Boss bottled sport | AA15: 45 | AB15: Ralph lauren Polo blue | AD15: 1 | AF15: 9
B16: 11 | C16: Boss Femme | F16: 10 | H16: 46 | I16: D&G Light blue | L16: 12 | N16: 81 | O16: Versace Versense | R16: 14 | U16: 11 | V16: Boss orange | Z16: 5 | AA16: 46 | AB16: Versace Fraiche men | AD16: 1 | AF16: 1
B17: 12 | C17: Boss nuit | F17: 10 | G17: 6 | H17: 47 | I17: D&G pour femme | L17: 12 | N17: 82 | O17: Yves S-l Black opium | R17: 14 | U17: 12 | V17: Boss Hugo Men | Z17: 9 | AA17: 47 | AB17: Yves S-l La nuit de l Homme
B18: 13 | C18: Boss intense | F18: 10 | G18: 6 | H18: 48 | I18: D&G Dolce | L18: 12 | N18: 83 | O18: Yves S-l Elle | R18: 14 | S18: 5 | U18: 13 | V18: Boss Unlimited | Z18: 9 | AA18: 48
B19: 14 | C19: Boss deep red | F19: 10 | G19: 4 | H19: 49 | I19: D&G L imperatrice | L19: 12 | N19: 84 | R19: 14 | U19: 14 | V19: Carolina Herrera 212 | Z19: 9 | AA19: 49
B20: 15 | C20: Boss Jour | F20: 10 | G20: 8 | H20: 50 | I20: D&G The one Desire | L20: 12 | N20: 85 | R20: 14 | U20: 15 | V20: Carolina Herrera 212 vip | Z20: 12 | AA20: 50
B21: 16 | C21: Boss Ma vie | F21: 10 | G21: 2 | H21: 51 | I21: DknY Be delicious | K21: 2 | L21: 12 | N21: 86 | R21: 14 | U21: 16 | V21: Carolina Herrera 212 sexy | Z21: 1 | AA21: 51
B22: 17 | C22: Carolina Herrera 212 vip Women | F22: 10 | H22: 52 | I22: DknY Be delicious fresh blossom | L22: 12 | N22: 87 | R22: 14 | U22: 17 | V22: Chanel Platiniumegoiste | Z22: 3 | AA22: 52
B23: 18 | C23: Carolina Herrera 212 sexy | F23: 10 | H23: 53 | I23: DknY Be delicious red | L23: 12 | N23: 88 | R23: 14 | U23: 18 | V23: Chanel Bleu de chanel | AA23: 53
B24: 19 | C24: Carolina Herrera 212 vip rose | F24: 10 | H24: 54 | I24: DknY Woman | L24: 12 | N24: 89 | R24: 14 | U24: 19 | V24: Chanel Allure | AA24: 54
B25: 20 | C25: Chloe | F25: 10 | H25: 55 | I25: DknY MY NY | L25: 12 | N25: 90 | R25: 14 | U25: 20 | V25: Chanel Allure sport | AA25: 55
B26: 21 | C26: Chloe Love Story | F26: 10 | H26: 56 | I26: Gucci Envi Me | L26: 12 | N26: 91 | R26: 14 | U26: 21 | V26: Calvin Klein Euphoria | AA26: 56
B27: 22 | C27: Cacharel Amor amor | E27: 1 | F27: 10 | H27: 57 | I27: Gucci Rush | L27: 12 | N27: 92 | R27: 14 | U27: 22 | V27: Davidoff Champion | AA27: 57
B28: 23 | C28: Cacharel Noa | F28: 10 | H28: 58 | I28: Gucci Rush 2 | L28: 12 | N28: 93 | R28: 14 | U28: 23 | V28: Davidoff Cool water | AA28: 58
B29: 24 | C29: Cartier La panthere | F29: 10 | H29: 59 | I29: Gucci Guilty | L29: 12 | N29: 94 | R29: 14 | U29: 24 | V29: Dior Farhrenheit | AA29: 59
B30: 25 | C30: Chanel Coco mlle | E30: 2 | F30: 10 | H30: 60 | I30: Gucci Flora | L30: 12 | N30: 95 | R30: 14 | U30: 25 | V30: Dior Hommes | AA30: 60
B31: 26 | C31: Chanel N5 | E31: 1 | F31: 10 | H31: 61 | I31: Gucci Eau de parfumll | L31: 12 | N31: 96 | R31: 14 | U31: 26 | V31: Dior Fahreinheit 32 | AA31: 61
B32: 27 | C32: Chanel Chance | F32: 10 | H32: 62 | I32: Jean-paul Gaultier Classique | L32: 12 | N32: 97 | R32: 14 | U32: 27 | V32: D&G The one gentlemen | X32: 1 | AA32: 62
B33: 28 | C33: Chanel Chance eau fraiche | F33: 10 | H33: 63 | I33: Kenzo Jungle | L33: 12 | N33: 98 | R33: 14 | U33: 28 | V33: D&G The one sport | AA33: 63
B34: 29 | C34: Chanel Allure | F34: 10 | H34: 64 | I34: Kenzo Flower | K34: 2 | L34: 12 | N34: 99 | R34: 14 | U34: 29 | V34: D&G Light blue | AA34: 64
B35: 30 | C35: Chanel Coco Noir | E35: 1 | F35: 10 | H35: 65 | I35: Lancome Hypnose | K35: 1 | L35: 12 | N35: 100 | R35: 14 | U35: 30 | V35: D&G pour homme | X35: 2 | AA35: 65
B36: 31 | C36: Calvin Klein Euphoria | F36: 10 | H36: 66 | I36: Lancome Tresor | L36: 12 | N36: 101 | R36: 14 | U36: 31 | V36: Diesel Only the brave | AA36: 66
B37: 32 | C37: Calvin Klein Euphoria Forbidden | F37: 10 | H37: 67 | I37: Lancome Tresor in love | L37: 12 | N37: 102 | R37: 14 | U37: 32 | V37: Gucci guilty | X37: 1 | AA37: 67
B38: 33 | C38: Calvin Klein Euphoria Blossom | F38: 10 | H38: 68 | I38: Lancome La vie est belle | K38: 1 | L38: 12 | N38: 103 | R38: 14 | U38: 33 | V38: Gucci Bygucci | AA38: 68
B39: 34 | C39: Calvin Klein Eternity | F39: 10 | H39: 69 | I39: Lancome Miracle | L39: 12 | N39: 104 | R39: 14 | U39: 34 | V39: Hermeas Terre d'hermes | X39: 1 | AA39: 69
B40: 35 | C40: Davidoff Cool water | F40: 10 | H40: 70 | I40: Moschino I love love | L40: 12 | N40: 105 | R40: 14 | U40: 35 | V40: Jean-paul Gaultier Le male | AA40: 70

Sheet Lise idée
B2: AC | H2: Stock | N2: Vendu
B3: Parfum Femme | E3: Parfum Homme | H3: Parfum Femme | K3: Parfum Homme | N3: Parfum Femme | Q3: Parfum Homme
B4: {=IFERROR(INDEX('Base de données'!B$3:B$85,SMALL(IF('Base de données'!$C$3:$C$85<>"",ROW(C$3:C$85)-2,""),ROW(B1))),)} -> Cacharel Amor amor | C4: =IFERROR(VLOOKUP(B4,'Base de données'!$B$3:$E$124,2,0),"") -> 1 | E4: {=IFERROR(INDEX('Base de données'!$H$3:$H$85,SMALL(IF('Base de données'!I$3:I$85<>"",ROW($H$3:$H$85)-2,""),ROW($E1))),"")} -> Aqua di gio homme | F4: =IFERROR(VLOOKUP(E4,'Base de données'!$H$3:$K$72,2,0),"") -> 1 | H4: {=IFERROR(INDEX('Base de données'!$B$3:$B$85,SMALL(IF('Base de données'!$D$3:$D$85<>"",ROW(I$3:I$85)-2,""),ROW(H1))),)} -> Aqua di gio | I4: =IFERROR(VLOOKUP(H4,'Base de données'!$B$3:$E$124,3,0),"") -> 10 | K4: {=IFERROR(INDEX('Base de données'!$H$3:$H$85,SMALL(IF('Base de données'!J$3:J$85<>"",ROW($H$3:$H$85)-2,""),ROW($E1))),"")} -> Aqua di gio homme | L4: =IFERROR(VLOOKUP(K4,'Base de données'!$H$3:$K$72,3,0),"") -> 25 | N4: {=IFERROR(INDEX('Base de données'!$B$3:$B$85,SMALL(IF('Base de données'!$E$3:$E$85<>"",ROW(O$3:O$85)-2,""),ROW(N1))),)} -> Aqua di gio | O4: =IFERROR(VLOOKUP(N4,'Base de données'!$B$3:$E$124,4,0),"") -> 3 | Q4: {=IFERROR(INDEX('Base de données'!$H$3:$H$85,SMALL(IF('Base de données'!K$3:K$85<>"",ROW($H$3:$H$85)-2,""),ROW($E1))),"")} -> Aqua di gio homme | R4: =IFERROR(VLOOKUP(Q4,'Base de données'!$H$3:$K$72,4,0),"") -> 5
B5: {=IFERROR(INDEX('Base de données'!B$3:B$85,SMALL(IF('Base de données'!$C$3:$C$85<>"",ROW(C$3:C$85)-2,""),ROW(B2))),)} -> Chanel Coco mlle | C5: =IFERROR(VLOOKUP(B5,'Base de données'!$B$3:$E$124,2,0),"") -> 2 | E5: {=IFERROR(INDEX('Base de données'!$H$3:$H$85,SMALL(IF('Base de données'!I$3:I$85<>"",ROW($H$3:$H$85)-2,""),ROW($E2))),"")} -> Armani diamonds | F5: =IFERROR(VLOOKUP(E5,'Base de données'!$H$3:$K$72,2,0),"") -> 1 | H5: {=IFERROR(INDEX('Base de données'!B$3:B$85,SMALL(IF('Base de données'!$D$3:$D$85<>"",ROW(I$3:I$85)-2,""),ROW(H2))),)} -> Armani code | I5: =IFERROR(VLOOKUP(H5,'Base de données'!$B$3:$E$124,3,0),"") -> 10 | K5: {=IFERROR(INDEX('Base de données'!$H$3:$H$85,SMALL(IF('Base de données'!J$3:J$85<>"",ROW($H$3:$H$85)-2,""),ROW($E2))),"")} -> Boss in motion | L5: =IFERROR(VLOOKUP(K5,'Base de données'!$H$3:$K$72,3,0),"") -> 40 | N5: {=IFERROR(INDEX('Base de données'!$B$3:$B$85,SMALL(IF('Base de données'!$E$3:$E$85<>"",ROW(O$3:O$85)-2,""),ROW(N2))),)} -> Aqua di gioa | O5: =IFERROR(VLOOKUP(N5,'Base de données'!$B$3:$E$124,4,0),"") -> 3 | Q5: {=IFERROR(INDEX('Base de données'!$H$3:$H$85,SMALL(IF('Base de données'!K$3:K$85<>"",ROW($H$3:$H$85)-2,""),ROW($E2))),"")} -> Armani code | R5: =IFERROR(VLOOKUP(Q5,'Base de données'!$H$3:$K$72,4,0),"") -> 22
B6: {=IFERROR(INDEX('Base de données'!B$3:B$85,SMALL(IF('Base de données'!$C$3:$C$85<>"",ROW(C$3:C$85)-2,""),ROW(B3))),)} -> Chanel N5 | C6: =IFERROR(VLOOKUP(B6,'Base de données'!$B$3:$E$124,2,0),"") -> 1 | E6: {=IFERROR(INDEX('Base de données'!$H$3:$H$85,SMALL(IF('Base de données'!I$3:I$85<>"",ROW($H$3:$H$85)-2,""),ROW($E3))),"")} -> Boss | F6: =IFERROR(VLOOKUP(E6,'Base de données'!$H$3:$K$72,2,0),"") -> 1 | H6: {=IFERROR(INDEX('Base de données'!B$3:B$85,SMALL(IF('Base de données'!$D$3:$D$85<>"",ROW(I$3:I$85)-2,""),ROW(H3))),)} -> Aqua di gioa | I6: =IFERROR(VLOOKUP(H6,'Base de données'!$B$3:$E$124,3,0),"") -> 10 | K6: {=IFERROR(INDEX('Base de données'!$H$3:$H$85,SMALL(IF('Base de données'!J$3:J$85<>"",ROW($H$3:$H$85)-2,""),ROW($E3))),"")} | L6: =IFERROR(VLOOKUP(K6,'Base de données'!$H$3:$K$72,3,0),"") | N6: {=IFERROR(INDEX('Base de données'!$B$3:$B$85,SMALL(IF('Base de données'!$E$3:$E$85<>"",ROW(O$3:O$85)-2,""),ROW(N3))),)} -> Armani Elle | O6: =IFERROR(VLOOKUP(N6,'Base de données'!$B$3:$E$124,4,0),"") -> 3 | Q6: {=IFERROR(INDEX('Base de données'!$H$3:$H$85,SMALL(IF('Base de données'!K$3:K$85<>"",ROW($H$3:$H$85)-2,""),ROW($E3))),"")} -> Armani code sport | R6: =IFERROR(VLOOKUP(Q6,'Base de données'!$H$3:$K$72,4,0),"") -> 5
B7: {=IFERROR(INDEX('Base de données'!B$3:B$85,SMALL(IF('Base de données'!$C$3:$C$85<>"",ROW(C$3:C$85)-2,""),ROW(B4))),)} -> Chanel Coco Noir | C7: =IFERROR(VLOOKUP(B7,'Base de données'!$B$3:$E$124,2,0),"") -> 1 | E7: {=IFERROR(INDEX('Base de données'!$H$3:$H$85,SMALL(IF('Base de données'!I$3:I$85<>"",ROW($H$3:$H$85)-2,""),ROW($E4))),"")} -> D&G The one gentlemen | F7: =IFERROR(VLOOKUP(E7,'Base de données'!$H$3:$K$72,2,0),"") -> 1 | H7: {=IFERROR(INDEX('Base de données'!B$3:B$85,SMALL(IF('Base de données'!$D$3:$D$85<>"",ROW(I$3:I$85)-2,""),ROW(H4))),)} -> Armani mania | I7: =IFERROR(VLOOKUP(H7,'Base de données'!$B$3:$E$124,3,0),"") -> 10 | K7: {=IFERROR(INDEX('Base de données'!$H$3:$H$85,SMALL(IF('Base de données'!J$3:J$85<>"",ROW($H$3:$H$85)-2,""),ROW($E4))),"")} | L7: =IFERROR(VLOOKUP(K7,'Base de données'!$H$3:$K$72,3,0),"") | N7: {=IFERROR(INDEX('Base de données'!$B$3:$B$85,SMALL(IF('Base de données'!$E$3:$E$85<>"",ROW(O$3:O$85)-2,""),ROW(N4))),)} -> Armani Si intense | O7: =IFERROR(VLOOKUP(N7,'Base de données'!$B$3:$E$124,4,0),"") -> 1 | Q7: {=IFERROR(INDEX('Base de données'!$H$3:$H$85,SMALL(IF('Base de données'!K$3:K$85<>"",ROW($H$3:$H$85)-2,""),ROW($E4))),"")} -> Armani mania | R7: =IFERROR(VLOOKUP(Q7,'Base de données'!$H$3:$K$72,4,0),"") -> 5
B8: {=IFERROR(INDEX('Base de données'!B$3:B$85,SMALL(IF('Base de données'!$C$3:$C$85<>"",ROW(C$3:C$85)-2,""),ROW(B5))),)} -> Dior Miss Cherie | C8: =IFERROR(VLOOKUP(B8,'Base de données'!$B$3:$E$124,2,0),"") -> 1 | E8: {=IFERROR(INDEX('Base de données'!$H$3:$H$85,SMALL(IF('Base de données'!I$3:I$85<>"",ROW($H$3:$H$85)-2,""),ROW($E5))),"")} -> D&G pour homme | F8: =IFERROR(VLOOKUP(E8,'Base de données'!$H$3:$K$72,2,0),"") -> 2 | H8: {=IFERROR(INDEX('Base de données'!B$3:B$85,SMALL(IF('Base de données'!$D$3:$D$85<>"",ROW(I$3:I$85)-2,""),ROW(H5))),)} -> Armani sensi | I8: =IFERROR(VLOOKUP(H8,'Base de données'!$B$3:$E$124,3,0),"") -> 10 | K8: {=IFERROR(INDEX('Base de données'!$H$3:$H$85,SMALL(IF('Base de données'!J$3:J$85<>"",ROW($H$3:$H$85)-2,""),ROW($E5))),"")} | L8: =IFERROR(VLOOKUP(K8,'Base de données'!$H$3:$K$72,3,0),"") | N8: {=IFERROR(INDEX('Base de données'!$B$3:$B$85,SMALL(IF('Base de données'!$E$3:$E$85<>"",ROW(O$3:O$85)-2,""),ROW(N5))),)} -> Boss Women | O8: =IFERROR(VLOOKUP(N8,'Base de données'!$B$3:$E$124,4,0),"") -> 5 | Q8: {=IFERROR(INDEX('Base de données'!$H$3:$H$85,SMALL(IF('Base de données'!K$3:K$85<>"",ROW($H$3:$H$85)-2,""),ROW($E5))),"")} -> Boss | R8: =IFERROR(VLOOKUP(Q8,'Base de données'!$H$3:$K$72,4,0),"") -> 5
B9: {=IFERROR(INDEX('Base de données'!B$3:B$85,SMALL(IF('Base de données'!$C$3:$C$85<>"",ROW(C$3:C$85)-2,""),ROW(B6))),)} -> Dior Hypnotic poison | C9: =IFERROR(VLOOKUP(B9,'Base de données'!$B$3:$E$124,2,0),"") -> 1 | E9: {=IFERROR(INDEX('Base de données'!$H$3:$H$85,SMALL(IF('Base de données'!I$3:I$85<>"",ROW($H$3:$H$85)-2,""),ROW($E6))),"")} -> Gucci guilty | F9: =IFERROR(VLOOKUP(E9,'Base de données'!$H$3:$K$72,2,0),"") -> 1 | H9: {=IFERROR(INDEX('Base de données'!B$3:B$85,SMALL(IF('Base de données'!$D$3:$D$85<>"",ROW(I$3:I$85)-2,""),ROW(H6))),)} -> Armani Elle | I9: =IFERROR(VLOOKUP(H9,'Base de données'!$B$3:$E$124,3,0),"") -> 10 | K9: {=IFERROR(INDEX('Base de données'!$H$3:$H$85,SMALL(IF('Base de données'!J$3:J$85<>"",ROW($H$3:$H$85)-2,""),ROW($E6))),"")} | L9: =IFERROR(VLOOKUP(K9,'Base de données'!$H$3:$K$72,3,0),"") | N9: {=IFERROR(INDEX('Base de données'!$B$3:$B$85,SMALL(IF('Base de données'!$E$3:$E$85<>"",ROW(O$3:O$85)-2,""),ROW(N6))),)} -> Boss nuit | O9: =IFERROR(VLOOKUP(N9,'Base de données'!$B$3:$E$124,4,0),"") -> 6 | Q9: {=IFERROR(INDEX('Base de données'!$H$3:$H$85,SMALL(IF('Base de données'!K$3:K$85<>"",ROW($H$3:$H$85)-2,""),ROW($E6))),"")} -> Boss in motion | R9: =IFERROR(VLOOKUP(Q9,'Base de données'!$H$3:$K$72,4,0),"") -> 30
B10: {=IFERROR(INDEX('Base de données'!B$3:B$85,SMALL(IF('Base de données'!$C$3:$C$85<>"",ROW(C$3:C$85)-2,""),ROW(B7))),)} -> Dior Midnight poison | C10: =IFERROR(VLOOKUP(B10,'Base de données'!$B$3:$E$124,2,0),"") -> 1 | E10: {=IFERROR(INDEX('Base de données'!$H$3:$H$85,SMALL(IF('Base de données'!I$3:I$85<>"",ROW($H$3:$H$85)-2,""),ROW($E7))),"")} -> Hermeas Terre d'hermes | F10: =IFERROR(VLOOKUP(E10,'Base de données'!$H$3:$K$72,2,0),"") -> 1 | H10: {=IFERROR(INDEX('Base de données'!B$3:B$85,SMALL(IF('Base de données'!$D$3:$D$85<>"",ROW(I$3:I$85)-2,""),ROW(H7))),)} -> Armani Si | I10: =IFERROR(VLOOKUP(H10,'Base de données'!$B$3:$E$124,3,0),"") -> 10 | K10: {=IFERROR(INDEX('Base de données'!$H$3:$H$85,SMALL(IF('Base de données'!J$3:J$85<>"",ROW($H$3:$H$85)-2,""),ROW($E7))),"")} | L10: =IFERROR(VLOOKUP(K10,'Base de données'!$H$3:$K$72,3,0),"") | N10: {=IFERROR(INDEX('Base de données'!$B$3:$B$85,SMALL(IF('Base de données'!$E$3:$E$85<>"",ROW(O$3:O$85)-2,""),ROW(N7))),)} -> Boss intense | O10: =IFERROR(VLOOKUP(N10,'Base de données'!$B$3:$E$124,4,0),"") -> 6 | Q10: {=IFERROR(INDEX('Base de données'!$H$3:$H$85,SMALL(IF('Base de données'!K$3:K$85<>"",ROW($H$3:$H$85)-2,""),ROW($E7))),"")} -> Boss orange | R10: =IFERROR(VLOOKUP(Q10,'Base de données'!$H$3:$K$72,4,0),"") -> 5
B11: {=IFERROR(INDEX('Base de données'!B$3:B$85,SMALL(IF('Base de données'!$C$3:$C$85<>"",ROW(C$3:C$85)-2,""),ROW(B8))),)} -> DknY Be delicious | C11: =IFERROR(VLOOKUP(B11,'Base de données'!$B$3:$E$124,2,0),"") -> 2 | E11: {=IFERROR(INDEX('Base de données'!$H$3:$H$85,SMALL(IF('Base de données'!I$3:I$85<>"",ROW($H$3:$H$85)-2,""),ROW($E8))),"")} -> PacoRabanne One million | F11: =IFERROR(VLOOKUP(E11,'Base de données'!$H$3:$K$72,2,0),"") -> 3 | H11: {=IFERROR(INDEX('Base de données'!B$3:B$85,SMALL(IF('Base de données'!$D$3:$D$85<>"",ROW(I$3:I$85)-2,""),ROW(H8))),)} -> Armani Si intense | I11: =IFERROR(VLOOKUP(H11,'Base de données'!$B$3:$E$124,3,0),"") -> 10 | K11: {=IFERROR(INDEX('Base de données'!$H$3:$H$85,SMALL(IF('Base de données'!J$3:J$85<>"",ROW($H$3:$H$85)-2,""),ROW($E8))),"")} | L11: =IFERROR(VLOOKUP(K11,'Base de données'!$H$3:$K$72,3,0),"") | N11: {=IFERROR(INDEX('Base de données'!$B$3:$B$85,SMALL(IF('Base de données'!$E$3:$E$85<>"",ROW(O$3:O$85)-2,""),ROW(N8))),)} -> Boss deep red | O11: =IFERROR(VLOOKUP(N11,'Base de données'!$B$3:$E$124,4,0),"") -> 4 | Q11: {=IFERROR(INDEX('Base de données'!$H$3:$H$85,SMALL(IF('Base de données'!K$3:K$85<>"",ROW($H$3:$H$85)-2,""),ROW($E8))),"")} -> Boss Hugo Men | R11: =IFERROR(VLOOKUP(Q11,'Base de données'!$H$3:$K$72,4,0),"") -> 9
B12: {=IFERROR(INDEX('Base de données'!B$3:B$85,SMALL(IF('Base de données'!$C$3:$C$85<>"",ROW(C$3:C$85)-2,""),ROW(B9))),)} -> Kenzo Flower | C12: =IFERROR(VLOOKUP(B12,'Base de données'!$B$3:$E$124,2,0),"") -> 2 | E12: {=IFERROR(INDEX('Base de données'!$H$3:$H$85,SMALL(IF('Base de données'!I$3:I$85<>"",ROW($H$3:$H$85)-2,""),ROW($E9))),"")} -> PacoRabanne Invictus | F12: =IFERROR(VLOOKUP(E12,'Base de données'!$H$3:$K$72,2,0),"") -> 2 | H12: {=IFERROR(INDEX('Base de données'!B$3:B$85,SMALL(IF('Base de données'!$D$3:$D$85<>"",ROW(I$3:I$85)-2,""),ROW(H9))),)} -> Boss xx | I12: =IFERROR(VLOOKUP(H12,'Base de données'!$B$3:$E$124,3,0),"") -> 10 | K12: {=IFERROR(INDEX('Base de données'!$H$3:$H$85,SMALL(IF('Base de données'!J$3:J$85<>"",ROW($H$3:$H$85)-2,""),ROW($E9))),"")} | L12: =IFERROR(VLOOKUP(K12,'Base de données'!$H$3:$K$72,3,0),"") | N12: {=IFERROR(INDEX('Base de données'!$B$3:$B$85,SMALL(IF('Base de données'!$E$3:$E$85<>"",ROW(O$3:O$85)-2,""),ROW(N9))),)} -> Boss Jour | O12: =IFERROR(VLOOKUP(N12,'Base de données'!$B$3:$E$124,4,0),"") -> 8 | Q12: {=IFERROR(INDEX('Base de données'!$H$3:$H$85,SMALL(IF('Base de données'!K$3:K$85<>"",ROW($H$3:$H$85)-2,""),ROW($E9))),"")} -> Boss Unlimited | R12: =IFERROR(VLOOKUP(Q12,'Base de données'!$H$3:$K$72,4,0),"") -> 9
B13: {=IFERROR(INDEX('Base de données'!B$3:B$85,SMALL(IF('Base de données'!$C$3:$C$85<>"",ROW(C$3:C$85)-2,""),ROW(B10))),)} -> Lancome Hypnose | C13: =IFERROR(VLOOKUP(B13,'Base de données'!$B$3:$E$124,2,0),"") -> 1 | E13: {=IFERROR(INDEX('Base de données'!$H$3:$H$85,SMALL(IF('Base de données'!I$3:I$85<>"",ROW($H$3:$H$85)-2,""),ROW($E10))),"")} -> Ralph lauren Polo blue | F13: =IFERROR(VLOOKUP(E13,'Base de données'!$H$3:$K$72,2,0),"") -> 1 | H13: {=IFERROR(INDEX('Base de données'!B$3:B$85,SMALL(IF('Base de données'!$D$3:$D$85<>"",ROW(I$3:I$85)-2,""),ROW(H10))),)} -> Boss Women | I13: =IFERROR(VLOOKUP(H13,'Base de données'!$B$3:$E$124,3,0),"") -> 10 | K13: {=IFERROR(INDEX('Base de données'!$H$3:$H$85,SMALL(IF('Base de données'!J$3:J$85<>"",ROW($H$3:$H$85)-2,""),ROW($E10))),"")} | L13: =IFERROR(VLOOKUP(K13,'Base de données'!$H$3:$K$72,3,0),"") | N13: {=IFERROR(INDEX('Base de données'!$B$3:$B$85,SMALL(IF('Base de données'!$E$3:$E$85<>"",ROW(O$3:O$85)-2,""),ROW(N10))),)} -> Boss Ma vie | O13: =IFERROR(VLOOKUP(N13,'Base de données'!$B$3:$E$124,4,0),"") -> 2 | Q13: {=IFERROR(INDEX('Base de données'!$H$3:$H$85,SMALL(IF('Base de données'!K$3:K$85<>"",ROW($H$3:$H$85)-2,""),ROW($E10))),"")} -> Carolina Herrera 212 | R13: =IFERROR(VLOOKUP(Q13,'Base de données'!$H$3:$K$72,4,0),"") -> 9
B14: {=IFERROR(INDEX('Base de données'!B$3:B$85,SMALL(IF('Base de données'!$C$3:$C$85<>"",ROW(C$3:C$85)-2,""),ROW(B11))),)} -> Lancome La vie est belle | C14: =IFERROR(VLOOKUP(B14,'Base de données'!$B$3:$E$124,2,0),"") -> 1 | E14: {=IFERROR(INDEX('Base de données'!$H$3:$H$85,SMALL(IF('Base de données'!I$3:I$85<>"",ROW($H$3:$H$85)-2,""),ROW($E11))),"")} -> Versace Fraiche men | F14: =IFERROR(VLOOKUP(E14,'Base de données'!$H$3:$K$72,2,0),"") -> 1 | H14: {=IFERROR(INDEX('Base de données'!B$3:B$85,SMALL(IF('Base de données'!$D$3:$D$85<>"",ROW(I$3:I$85)-2,""),ROW(H11))),)} -> Boss Femme | I14: =IFERROR(VLOOKUP(H14,'Base de données'!$B$3:$E$124,3,0),"") -> 10 | K14: {=IFERROR(INDEX('Base de données'!$H$3:$H$85,SMALL(IF('Base de données'!J$3:J$85<>"",ROW($H$3:$H$85)-2,""),ROW($E11))),"")} | L14: =IFERROR(VLOOKUP(K14,'Base de données'!$H$3:$K$72,3,0),"") | N14: {=IFERROR(INDEX('Base de données'!$B$3:$B$85,SMALL(IF('Base de données'!$E$3:$E$85<>"",ROW(O$3:O$85)-2,""),ROW(N11))),)} -> Dior J adore | O14: =IFERROR(VLOOKUP(N14,'Base de données'!$B$3:$E$124,4,0),"") -> 2 | Q14: {=IFERROR(INDEX('Base de données'!$H$3:$H$85,SMALL(IF('Base de données'!K$3:K$85<>"",ROW($H$3:$H$85)-2,""),ROW($E11))),"")} -> Carolina Herrera 212 vip | R14: =IFERROR(VLOOKUP(Q14,'Base de données'!$H$3:$K$72,4,0),"") -> 12
B15: {=IFERROR(INDEX('Base de données'!B$3:B$85,SMALL(IF('Base de données'!$C$3:$C$85<>"",ROW(C$3:C$85)-2,""),ROW(B12))),)} -> PacoRabanne Black Xs | C15: =IFERROR(VLOOKUP(B15,'Base de données'!$B$3:$E$124,2,0),"") -> 1 | E15: {=IFERROR(INDEX('Base de données'!$H$3:$H$85,SMALL(IF('Base de données'!I$3:I$85<>"",ROW($H$3:$H$85)-2,""),ROW($E12))),"")} | F15: =IFERROR(VLOOKUP(E15,'Base de données'!$H$3:$K$72,2,0),"") | H15: {=IFERROR(INDEX('Base de données'!B$3:B$85,SMALL(IF('Base de données'!$D$3:$D$85<>"",ROW(I$3:I$85)-2,""),ROW(H12))),)} -> Boss nuit | I15: =IFERROR(VLOOKUP(H15,'Base de données'!$B$3:$E$124,3,0),"") -> 10 | K15: {=IFERROR(INDEX('Base de données'!$H$3:$H$85,SMALL(IF('Base de données'!J$3:J$85<>"",ROW($H$3:$H$85)-2,""),ROW($E12))),"")} | L15: =IFERROR(VLOOKUP(K15,'Base de données'!$H$3:$K$72,3,0),"") | N15: {=IFERROR(INDEX('Base de données'!$B$3:$B$85,SMALL(IF('Base de données'!$E$3:$E$85<>"",ROW(O$3:O$85)-2,""),ROW(N12))),)} -> Dior Addict | O15: =IFERROR(VLOOKUP(N15,'Base de données'!$B$3:$E$124,4,0),"") -> 2 | Q15: {=IFERROR(INDEX('Base de données'!$H$3:$H$85,SMALL(IF('Base de données'!K$3:K$85<>"",ROW($H$3:$H$85)-2,""),ROW($E12))),"")} -> Carolina Herrera 212 sexy | R15: =IFERROR(VLOOKUP(Q15,'Base de données'!$H$3:$K$72,4,0),"") -> 1
B16: {=IFERROR(INDEX('Base de données'!B$3:B$85,SMALL(IF('Base de données'!$C$3:$C$85<>"",ROW(C$3:C$85)-2,""),ROW(B13))),)} -> PacoRabanne Lady million | C16: =IFERROR(VLOOKUP(B16,'Base de données'!$B$3:$E$124,2,0),"") -> 2 | E16: {=IFERROR(INDEX('Base de données'!$H$3:$H$85,SMALL(IF('Base de données'!I$3:I$85<>"",ROW($H$3:$H$85)-2,""),ROW($E13))),"")} | F16: =IFERROR(VLOOKUP(E16,'Base de données'!$H$3:$K$72,2,0),"") | H16: {=IFERROR(INDEX('Base de données'!B$3:B$85,SMALL(IF('Base de données'!$D$3:$D$85<>"",ROW(I$3:I$85)-2,""),ROW(H13))),)} -> Boss intense | I16: =IFERROR(VLOOKUP(H16,'Base de données'!$B$3:$E$124,3,0),"") -> 10 | K16: {=IFERROR(INDEX('Base de données'!$H$3:$H$85,SMALL(IF('Base de données'!J$3:J$85<>"",ROW($H$3:$H$85)-2,""),ROW($E13))),"")} | L16: =IFERROR(VLOOKUP(K16,'Base de données'!$H$3:$K$72,3,0),"") | N16: {=IFERROR(INDEX('Base de données'!$B$3:$B$85,SMALL(IF('Base de données'!$E$3:$E$85<>"",ROW(O$3:O$85)-2,""),ROW(N13))),)} -> Dior Addict 2 | O16: =IFERROR(VLOOKUP(N16,'Base de données'!$B$3:$E$124,4,0),"") -> 2 | Q16: {=IFERROR(INDEX('Base de données'!$H$3:$H$85,SMALL(IF('Base de données'!K$3:K$85<>"",ROW($H$3:$H$85)-2,""),ROW($E13))),"")} -> Chanel Platiniumegoiste | R16: =IFERROR(VLOOKUP(Q16,'Base de données'!$H$3:$K$72,4,0),"") -> 3
... B42: {=IFERROR(INDEX('Base de données'!B$3:B$85,SMALL(IF('Base de données'!$C$3:$C$85<>"",ROW(C$3:C$85)-2,""),ROW(B39))),)} -> 0 | C42: =IFERROR(VLOOKUP(B42,'Base de données'!$B$3:$E$124,2,0),"") | E42: {=IFERROR(INDEX('Base de données'!$H$3:$H$85,SMALL(IF('Base de données'!I$3:I$85<>"",ROW($H$3:$H$85)-2,""),ROW($E39))),"")} | F42: =IFERROR(VLOOKUP(E42,'Base de données'!$H$3:$K$72,2,0),"") | H42: {=IFERROR(INDEX('Base de données'!B$3:B$85,SMALL(IF('Base de données'!$D$3:$D$85<>"",ROW(I$3:I$85)-2,""),ROW(H39))),)} -> Dior Miss Cherie | I42: =IFERROR(VLOOKUP(H42,'Base de données'!$B$3:$E$124,3,0),"") -> 12 | K42: {=IFERROR(INDEX('Base de données'!$H$3:$H$85,SMALL(IF('Base de données'!J$3:J$85<>"",ROW($H$3:$H$85)-2,""),ROW($E39))),"")} | L42: =IFERROR(VLOOKUP(K42,'Base de données'!$H$3:$K$72,3,0),"") | N42: {=IFERROR(INDEX('Base de données'!$B$3:$B$85,SMALL(IF('Base de données'!$E$3:$E$85<>"",ROW(O$3:O$85)-2,""),ROW(N39))),)} -> 0 | O42: =IFERROR(VLOOKUP(N42,'Base de données'!$B$3:$E$124,4,0),"") | Q42: {=IFERROR(INDEX('Base de données'!$H$3:$H$85,SMALL(IF('Base de données'!K$3:K$85<>"",ROW($H$3:$H$85)-2,""),ROW($E39))),"")} | R42: =IFERROR(VLOOKUP(Q42,'Base de données'!$H$3:$K$72,4,0),"")
H43: {=IFERROR(INDEX('Base de données'!B$3:B$85,SMALL(IF('Base de données'!$D$3:$D$85<>"",ROW(I$3:I$85)-2,""),ROW(H40))),)} -> Dior Hypnotic poison | I43: =IFERROR(VLOOKUP(H43,'Base de données'!$B$3:$E$124,3,0),"") -> 12 | K43: {=IFERROR(INDEX('Base de données'!$H$3:$H$85,SMALL(IF('Base de données'!J$3:J$85<>"",ROW($H$3:$H$85)-2,""),ROW($E40))),"")} | L43: =IFERROR(VLOOKUP(K43,'Base de données'!$H$3:$K$72,3,0),"") | Q43: {=IFERROR(INDEX('Base de données'!$H$3:$H$85,SMALL(IF('Base de données'!K$3:K$85<>"",ROW($H$3:$H$85)-2,""),ROW($E40))),"")} | R43: =IFERROR(VLOOKUP(Q43,'Base de données'!$H$3:$K$72,4,0),"")
H44: {=IFERROR(INDEX('Base de données'!B$3:B$85,SMALL(IF('Base de données'!$D$3:$D$85<>"",ROW(I$3:I$85)-2,""),ROW(H41))),)} -> Dior Midnight poison | I44: =IFERROR(VLOOKUP(H44,'Base de données'!$B$3:$E$124,3,0),"") -> 12 | K44: {=IFERROR(INDEX('Base de données'!$H$3:$H$85,SMALL(IF('Base de données'!J$3:J$85<>"",ROW($H$3:$H$85)-2,""),ROW($E41))),"")} | L44: =IFERROR(VLOOKUP(K44,'Base de données'!$H$3:$K$72,3,0),"") | Q44: {=IFERROR(INDEX('Base de données'!$H$3:$H$85,SMALL(IF('Base de données'!K$3:K$85<>"",ROW($H$3:$H$85)-2,""),ROW($E41))),"")} | R44: =IFERROR(VLOOKUP(Q44,'Base de données'!$H$3:$K$72,4,0),"")
H45: {=IFERROR(INDEX('Base de données'!B$3:B$85,SMALL(IF('Base de données'!$D$3:$D$85<>"",ROW(I$3:I$85)-2,""),ROW(H42))),)} -> Dior Dune | I45: =IFERROR(VLOOKUP(H45,'Base de données'!$B$3:$E$124,3,0),"") -> 12 | K45: {=IFERROR(INDEX('Base de données'!$H$3:$H$85,SMALL(IF('Base de données'!J$3:J$85<>"",ROW($H$3:$H$85)-2,""),ROW($E42))),"")} | L45: =IFERROR(VLOOKUP(K45,'Base de données'!$H$3:$K$72,3,0),"") | Q45: {=IFERROR(INDEX('Base de données'!$H$3:$H$85,SMALL(IF('Base de données'!K$3:K$85<>"",ROW($H$3:$H$85)-2,""),ROW($E42))),"")} | R45: =IFERROR(VLOOKUP(Q45,'Base de données'!$H$3:$K$72,4,0),"")
H46: {=IFERROR(INDEX('Base de données'!B$3:B$85,SMALL(IF('Base de données'!$D$3:$D$85<>"",ROW(I$3:I$85)-2,""),ROW(H43))),)} -> Dior Dolce vita | I46: =IFERROR(VLOOKUP(H46,'Base de données'!$B$3:$E$124,3,0),"") -> 12 | K46: {=IFERROR(INDEX('Base de données'!$H$3:$H$85,SMALL(IF('Base de données'!J$3:J$85<>"",ROW($H$3:$H$85)-2,""),ROW($E43))),"")} | L46: =IFERROR(VLOOKUP(K46,'Base de données'!$H$3:$K$72,3,0),"") | Q46: {=IFERROR(INDEX('Base de données'!$H$3:$H$85,SMALL(IF('Base de données'!K$3:K$85<>"",ROW($H$3:$H$85)-2,""),ROW($E43))),"")} | R46: =IFERROR(VLOOKUP(Q46,'Base de données'!$H$3:$K$72,4,0),"")
H47: {=IFERROR(INDEX('Base de données'!B$3:B$85,SMALL(IF('Base de données'!$D$3:$D$85<>"",ROW(I$3:I$85)-2,""),ROW(H44))),)} -> D&G The one | I47: =IFERROR(VLOOKUP(H47,'Base de données'!$B$3:$E$124,3,0),"") -> 12 | K47: {=IFERROR(INDEX('Base de données'!$H$3:$H$85,SMALL(IF('Base de données'!J$3:J$85<>"",ROW($H$3:$H$85)-2,""),ROW($E44))),"")} | L47: =IFERROR(VLOOKUP(K47,'Base de données'!$H$3:$K$72,3,0),"") | Q47: {=IFERROR(INDEX('Base de données'!$H$3:$H$85,SMALL(IF('Base de données'!K$3:K$85<>"",ROW($H$3:$H$85)-2,""),ROW($E44))),"")} | R47: =IFERROR(VLOOKUP(Q47,'Base de données'!$H$3:$K$72,4,0),"")
H48: {=IFERROR(INDEX('Base de données'!B$3:B$85,SMALL(IF('Base de données'!$D$3:$D$85<>"",ROW(I$3:I$85)-2,""),ROW(H45))),)} -> D&G The one rose | I48: =IFERROR(VLOOKUP(H48,'Base de données'!$B$3:$E$124,3,0),"") -> 12 | K48: {=IFERROR(INDEX('Base de données'!$H$3:$H$85,SMALL(IF('Base de données'!J$3:J$85<>"",ROW($H$3:$H$85)-2,""),ROW($E45))),"")} | L48: =IFERROR(VLOOKUP(K48,'Base de données'!$H$3:$K$72,3,0),"") | Q48: {=IFERROR(INDEX('Base de données'!$H$3:$H$85,SMALL(IF('Base de données'!K$3:K$85<>"",ROW($H$3:$H$85)-2,""),ROW($E45))),"")} | R48: =IFERROR(VLOOKUP(Q48,'Base de données'!$H$3:$K$72,4,0),"")
H49: {=IFERROR(INDEX('Base de données'!B$3:B$85,SMALL(IF('Base de données'!$D$3:$D$85<>"",ROW(I$3:I$85)-2,""),ROW(H46))),)} -> D&G Light blue | I49: =IFERROR(VLOOKUP(H49,'Base de données'!$B$3:$E$124,3,0),"") -> 12 | K49: {=IFERROR(INDEX('Base de données'!$H$3:$H$85,SMALL(IF('Base de données'!J$3:J$85<>"",ROW($H$3:$H$85)-2,""),ROW($E46))),"")} | L49: =IFERROR(VLOOKUP(K49,'Base de données'!$H$3:$K$72,3,0),"") | Q49: {=IFERROR(INDEX('Base de données'!$H$3:$H$85,SMALL(IF('Base de données'!K$3:K$85<>"",ROW($H$3:$H$85)-2,""),ROW($E46))),"")} | R49: =IFERROR(VLOOKUP(Q49,'Base de données'!$H$3:$K$72,4,0),"")
H50: {=IFERROR(INDEX('Base de données'!B$3:B$85,SMALL(IF('Base de données'!$D$3:$D$85<>"",ROW(I$3:I$85)-2,""),ROW(H47))),)} -> D&G pour femme | I50: =IFERROR(VLOOKUP(H50,'Base de données'!$B$3:$E$124,3,0),"") -> 12 | K50: {=IFERROR(INDEX('Base de données'!$H$3:$H$85,SMALL(IF('Base de données'!J$3:J$85<>"",ROW($H$3:$H$85)-2,""),ROW($E47))),"")} | L50: =IFERROR(VLOOKUP(K50,'Base de données'!$H$3:$K$72,3,0),"") | Q50: {=IFERROR(INDEX('Base de données'!$H$3:$H$85,SMALL(IF('Base de données'!K$3:K$85<>"",ROW($H$3:$H$85)-2,""),ROW($E47))),"")} | R50: =IFERROR(VLOOKUP(Q50,'Base de données'!$H$3:$K$72,4,0),"")
H51: {=IFERROR(INDEX('Base de données'!B$3:B$85,SMALL(IF('Base de données'!$D$3:$D$85<>"",ROW(I$3:I$85)-2,""),ROW(H48))),)} -> D&G Dolce | I51: =IFERROR(VLOOKUP(H51,'Base de données'!$B$3:$E$124,3,0),"") -> 12 | K51: {=IFERROR(INDEX('Base de données'!$H$3:$H$85,SMALL(IF('Base de données'!J$3:J$85<>"",ROW($H$3:$H$85)-2,""),ROW($E48))),"")} | L51: =IFERROR(VLOOKUP(K51,'Base de données'!$H$3:$K$72,3,0),"") | Q51: {=IFERROR(INDEX('Base de données'!$H$3:$H$85,SMALL(IF('Base de données'!K$3:K$85<>"",ROW($H$3:$H$85)-2,""),ROW($E48))),"")} | R51: =IFERROR(VLOOKUP(Q51,'Base de données'!$H$3:$K$72,4,0),"")
H52: {=IFERROR(INDEX('Base de données'!B$3:B$85,SMALL(IF('Base de données'!$D$3:$D$85<>"",ROW(I$3:I$85)-2,""),ROW(H49))),)} -> D&G L imperatrice | I52: =IFERROR(VLOOKUP(H52,'Base de données'!$B$3:$E$124,3,0),"") -> 12 | K52: {=IFERROR(INDEX('Base de données'!$H$3:$H$85,SMALL(IF('Base de données'!J$3:J$85<>"",ROW($H$3:$H$85)-2,""),ROW($E49))),"")} | L52: =IFERROR(VLOOKUP(K52,'Base de données'!$H$3:$K$72,3,0),"") | Q52: {=IFERROR(INDEX('Base de données'!$H$3:$H$85,SMALL(IF('Base de données'!K$3:K$85<>"",ROW($H$3:$H$85)-2,""),ROW($E49))),"")} | R52: =IFERROR(VLOOKUP(Q52,'Base de données'!$H$3:$K$72,4,0),"")
H53: {=IFERROR(INDEX('Base de données'!B$3:B$85,SMALL(IF('Base de données'!$D$3:$D$85<>"",ROW(I$3:I$85)-2,""),ROW(H50))),)} -> D&G The one Desire | I53: =IFERROR(VLOOKUP(H53,'Base de données'!$B$3:$E$124,3,0),"") -> 12 | K53: {=IFERROR(INDEX('Base de données'!$H$3:$H$85,SMALL(IF('Base de données'!J$3:J$85<>"",ROW($H$3:$H$85)-2,""),ROW($E50))),"")} | L53: =IFERROR(VLOOKUP(K53,'Base de données'!$H$3:$K$72,3,0),"") | Q53: {=IFERROR(INDEX('Base de données'!$H$3:$H$85,SMALL(IF('Base de données'!K$3:K$85<>"",ROW($H$3:$H$85)-2,""),ROW($E50))),"")} | R53: =IFERROR(VLOOKUP(Q53,'Base de données'!$H$3:$K$72,4,0),"")
H54: {=IFERROR(INDEX('Base de données'!B$3:B$85,SMALL(IF('Base de données'!$D$3:$D$85<>"",ROW(I$3:I$85)-2,""),ROW(H51))),)} -> DknY Be delicious | I54: =IFERROR(VLOOKUP(H54,'Base de données'!$B$3:$E$124,3,0),"") -> 12 | K54: {=IFERROR(INDEX('Base de données'!$H$3:$H$85,SMALL(IF('Base de données'!J$3:J$85<>"",ROW($H$3:$H$85)-2,""),ROW($E51))),"")} | L54: =IFERROR(VLOOKUP(K54,'Base de données'!$H$3:$K$72,3,0),"") | Q54: {=IFERROR(INDEX('Base de données'!$H$3:$H$85,SMALL(IF('Base de données'!K$3:K$85<>"",ROW($H$3:$H$85)-2,""),ROW($E51))),"")} | R54: =IFERROR(VLOOKUP(Q54,'Base de données'!$H$3:$K$72,4,0),"")
H55: {=IFERROR(INDEX('Base de données'!B$3:B$85,SMALL(IF('Base de données'!$D$3:$D$85<>"",ROW(I$3:I$85)-2,""),ROW(H52))),)} -> DknY Be delicious fresh blossom | I55: =IFERROR(VLOOKUP(H55,'Base de données'!$B$3:$E$124,3,0),"") -> 12 | K55: {=IFERROR(INDEX('Base de données'!$H$3:$H$85,SMALL(IF('Base de données'!J$3:J$85<>"",ROW($H$3:$H$85)-2,""),ROW($E52))),"")} | L55: =IFERROR(VLOOKUP(K55,'Base de données'!$H$3:$K$72,3,0),"")
H56: {=IFERROR(INDEX('Base de données'!B$3:B$85,SMALL(IF('Base de données'!$D$3:$D$85<>"",ROW(I$3:I$85)-2,""),ROW(H53))),)} -> DknY Be delicious red | I56: =IFERROR(VLOOKUP(H56,'Base de données'!$B$3:$E$124,3,0),"") -> 12 | K56: {=IFERROR(INDEX('Base de données'!$H$3:$H$85,SMALL(IF('Base de données'!J$3:J$85<>"",ROW($H$3:$H$85)-2,""),ROW($E53))),"")} | L56: =IFERROR(VLOOKUP(K56,'Base de données'!$H$3:$K$72,3,0),"")
H57: {=IFERROR(INDEX('Base de données'!B$3:B$85,SMALL(IF('Base de données'!$D$3:$D$85<>"",ROW(I$3:I$85)-2,""),ROW(H54))),)} -> DknY Woman | I57: =IFERROR(VLOOKUP(H57,'Base de données'!$B$3:$E$124,3,0),"") -> 12 | K57: {=IFERROR(INDEX('Base de données'!$H$3:$H$85,SMALL(IF('Base de données'!J$3:J$85<>"",ROW($H$3:$H$85)-2,""),ROW($E54))),"")} | L57: =IFERROR(VLOOKUP(K57,'Base de données'!$H$3:$K$72,3,0),"")
H58: {=IFERROR(INDEX('Base de données'!B$3:B$85,SMALL(IF('Base de données'!$D$3:$D$85<>"",ROW(I$3:I$85)-2,""),ROW(H55))),)} -> DknY MY NY | I58: =IFERROR(VLOOKUP(H58,'Base de données'!$B$3:$E$124,3,0),"") -> 12 | K58: {=IFERROR(INDEX('Base de données'!$H$3:$H$85,SMALL(IF('Base de données'!J$3:J$85<>"",ROW($H$3:$H$85)-2,""),ROW($E55))),"")} | L58: =IFERROR(VLOOKUP(K58,'Base de données'!$H$3:$K$72,3,0),"")
H59: {=IFERROR(INDEX('Base de données'!B$3:B$85,SMALL(IF('Base de données'!$D$3:$D$85<>"",ROW(I$3:I$85)-2,""),ROW(H56))),)} -> Gucci Envi Me | I59: =IFERROR(VLOOKUP(H59,'Base de données'!$B$3:$E$124,3,0),"") -> 12 | K59: {=IFERROR(INDEX('Base de données'!$H$3:$H$85,SMALL(IF('Base de données'!J$3:J$85<>"",ROW($H$3:$H$85)-2,""),ROW($E56))),"")} | L59: =IFERROR(VLOOKUP(K59,'Base de données'!$H$3:$K$72,3,0),"")
H60: {=IFERROR(INDEX('Base de données'!B$3:B$85,SMALL(IF('Base de données'!$D$3:$D$85<>"",ROW(I$3:I$85)-2,""),ROW(H57))),)} -> Gucci Rush | I60: =IFERROR(VLOOKUP(H60,'Base de données'!$B$3:$E$124,3,0),"") -> 12 | K60: {=IFERROR(INDEX('Base de données'!$H$3:$H$85,SMALL(IF('Base de données'!J$3:J$85<>"",ROW($H$3:$H$85)-2,""),ROW($E57))),"")} | L60: =IFERROR(VLOOKUP(K60,'Base de données'!$H$3:$K$72,3,0),"")
H61: {=IFERROR(INDEX('Base de données'!B$3:B$85,SMALL(IF('Base de données'!$D$3:$D$85<>"",ROW(I$3:I$85)-2,""),ROW(H58))),)} -> Gucci Rush 2 | I61: =IFERROR(VLOOKUP(H61,'Base de données'!$B$3:$E$124,3,0),"") -> 12 | K61: {=IFERROR(INDEX('Base de données'!$H$3:$H$85,SMALL(IF('Base de données'!J$3:J$85<>"",ROW($H$3:$H$85)-2,""),ROW($E58))),"")} | L61: =IFERROR(VLOOKUP(K61,'Base de données'!$H$3:$K$72,3,0),"")
H62: {=IFERROR(INDEX('Base de données'!B$3:B$85,SMALL(IF('Base de données'!$D$3:$D$85<>"",ROW(I$3:I$85)-2,""),ROW(H59))),)} -> Gucci Guilty | I62: =IFERROR(VLOOKUP(H62,'Base de données'!$B$3:$E$124,3,0),"") -> 12 | K62: {=IFERROR(INDEX('Base de données'!$H$3:$H$85,SMALL(IF('Base de données'!J$3:J$85<>"",ROW($H$3:$H$85)-2,""),ROW($E59))),"")} | L62: =IFERROR(VLOOKUP(K62,'Base de données'!$H$3:$K$72,3,0),"")
H63: {=IFERROR(INDEX('Base de données'!B$3:B$85,SMALL(IF('Base de données'!$D$3:$D$85<>"",ROW(I$3:I$85)-2,""),ROW(H60))),)} -> Gucci Flora | I63: =IFERROR(VLOOKUP(H63,'Base de données'!$B$3:$E$124,3,0),"") -> 12 | K63: {=IFERROR(INDEX('Base de données'!$H$3:$H$85,SMALL(IF('Base de données'!J$3:J$85<>"",ROW($H$3:$H$85)-2,""),ROW($E60))),"")} | L63: =IFERROR(VLOOKUP(K63,'Base de données'!$H$3:$K$72,3,0),"")
H64: {=IFERROR(INDEX('Base de données'!B$3:B$85,SMALL(IF('Base de données'!$D$3:$D$85<>"",ROW(I$3:I$85)-2,""),ROW(H61))),)} -> Gucci Eau de parfumll | I64: =IFERROR(VLOOKUP(H64,'Base de données'!$B$3:$E$124,3,0),"") -> 12 | K64: {=IFERROR(INDEX('Base de données'!$H$3:$H$85,SMALL(IF('Base de données'!J$3:J$85<>"",ROW($H$3:$H$85)-2,""),ROW($E61))),"")} | L64: =IFERROR(VLOOKUP(K64,'Base de données'!$H$3:$K$72,3,0),"")
H65: {=IFERROR(INDEX('Base de données'!B$3:B$85,SMALL(IF('Base de données'!$D$3:$D$85<>"",ROW(I$3:I$85)-2,""),ROW(H62))),)} -> Jean-paul Gaultier Classique | I65: =IFERROR(VLOOKUP(H65,'Base de données'!$B$3:$E$124,3,0),"") -> 12 | K65: {=IFERROR(INDEX('Base de données'!$H$3:$H$85,SMALL(IF('Base de données'!J$3:J$85<>"",ROW($H$3:$H$85)-2,""),ROW($E62))),"")} | L65: =IFERROR(VLOOKUP(K65,'Base de données'!$H$3:$K$72,3,0),"")
H66: {=IFERROR(INDEX('Base de données'!B$3:B$85,SMALL(IF('Base de données'!$D$3:$D$85<>"",ROW(I$3:I$85)-2,""),ROW(H63))),)} -> Kenzo Jungle | I66: =IFERROR(VLOOKUP(H66,'Base de données'!$B$3:$E$124,3,0),"") -> 12 | K66: {=IFERROR(INDEX('Base de données'!$H$3:$H$85,SMALL(IF('Base de données'!J$3:J$85<>"",ROW($H$3:$H$85)-2,""),ROW($E63))),"")} | L66: =IFERROR(VLOOKUP(K66,'Base de données'!$H$3:$K$72,3,0),"")
...

Sheet Base de données
B1: Femme | H1: Homme
C2: ac | D2: stk | E2: vendu | I2: ac | J2: stk | K2: vendu
A3: 1 | B3: Aqua di gio | C3: {=IFERROR(INDEX(Inventaire!$C$6:S$40,MAX(IF((Inventaire!$C$6:$O$40=$B3)*(Inventaire!$E$6:$Q$40>0),ROW($D$6:$D$40)-5,-1)),SUMPRODUCT(MAX((Inventaire!$C$6:S$40=$B3)*COLUMN($C:$S)))),"")} | D3: {=IFERROR(INDEX(Inventaire!$C$6:T$40,MAX(IF((Inventaire!$C$6:$O$40=$B3)*(Inventaire!$F$6:$R$40>0),ROW($D$6:$D$40)-5,-1)),SUMPRODUCT(MAX((Inventaire!$C$6:$S$40=$B3)*COLUMN($D:$T)))),"")} -> 10 | E3: {=IFERROR(INDEX(Inventaire!$C$6:U$40,MAX(IF((Inventaire!$C$6:$O$40=$B3)*(Inventaire!$G$6:$S$40>0),ROW($D$6:$D$40)-5,-1)),SUMPRODUCT(MAX((Inventaire!$C$6:$S$40=$B3)*COLUMN($E:$U)))),"")} -> 3 | G3: 1 | H3: Aqua di gio homme | I3: {=IFERROR(INDEX(Inventaire!$V$6:$AD$40,MAX(IF((Inventaire!V$6:$AB$40=H3)*(Inventaire!X$6:$AD$40>0),ROW($J$6:$J$40)-5,-1)),SUMPRODUCT(MAX((Inventaire!$V$6:$AB$40=$H3)*COLUMN($V:$AB)-19))),"")} -> 1 | J3: {=IFERROR(INDEX(Inventaire!$V$6:$AF$40,MAX(IF((Inventaire!V$6:$AB$40=$H3)*(Inventaire!Y$6:$AE$40>0),ROW($J$6:$J$40)-5,-1)),SUMPRODUCT(MAX((Inventaire!$V$6:$AB$40=$H3)*COLUMN($W:$AC)-19))),"")} -> 25 | K3: {=IFERROR(INDEX(Inventaire!$V$6:$AF$40,MAX(IF((Inventaire!$V$6:$AB$40=$H3)*(Inventaire!Z$6:$AF$40>0),ROW($J$6:$J$40)-5,-1)),SUMPRODUCT(MAX((Inventaire!$V$6:$AB$40=$H3)*COLUMN($X:$AD)-19))),"")} -> 5
A4: 2 | B4: Armani code | C4: {=IFERROR(INDEX(Inventaire!$C$6:S$40,MAX(IF((Inventaire!C$6:O$40=B4)*(Inventaire!E$6:Q$40>0),ROW(D$6:D$40)-5,-1)),SUMPRODUCT(MAX((Inventaire!C$6:S$40=$B4)*COLUMN(C:S)))),"")} | D4: {=IFERROR(INDEX(Inventaire!$C$6:T$40,MAX(IF((Inventaire!$C$6:$O$40=$B4)*(Inventaire!$F$6:$R$40>0),ROW($D$6:$D$40)-5,-1)),SUMPRODUCT(MAX((Inventaire!$C$6:$S$40=$B4)*COLUMN($D:$T)))),"")} -> 10 | E4: {=IFERROR(INDEX(Inventaire!$C$6:U$40,MAX(IF((Inventaire!$C$6:$O$40=$B4)*(Inventaire!$G$6:$S$40>0),ROW($D$6:$D$40)-5,-1)),SUMPRODUCT(MAX((Inventaire!$C$6:$S$40=$B4)*COLUMN($E:$U)))),"")} | G4: 2 | H4: Armani code | I4: {=IFERROR(INDEX(Inventaire!$V$6:AD$40,MAX(IF((Inventaire!V$6:AB$40=H4)*(Inventaire!X$6:AD$40>0),ROW(J$6:J$40)-5,-1)),SUMPRODUCT(MAX((Inventaire!V$6:AB$40=$H4)*COLUMN(V:AB)-19))),"")} | J4: {=IFERROR(INDEX(Inventaire!$V$6:$AF$40,MAX(IF((Inventaire!V$6:$AB$40=$H4)*(Inventaire!Y$6:$AE$40>0),ROW($J$6:$J$40)-5,-1)),SUMPRODUCT(MAX((Inventaire!$V$6:$AB$40=$H4)*COLUMN($W:$AC)-19))),"")} | K4: {=IFERROR(INDEX(Inventaire!$V$6:$AF$40,MAX(IF((Inventaire!$V$6:$AB$40=$H4)*(Inventaire!Z$6:$AF$40>0),ROW($J$6:$J$40)-5,-1)),SUMPRODUCT(MAX((Inventaire!$V$6:$AB$40=$H4)*COLUMN($X:$AD)-19))),"")} -> 22
A5: 3 | B5: Aqua di gioa | C5: {=IFERROR(INDEX(Inventaire!$C$6:S$40,MAX(IF((Inventaire!C$6:O$40=B5)*(Inventaire!E$6:Q$40>0),ROW(D$6:D$40)-5,-1)),SUMPRODUCT(MAX((Inventaire!C$6:S$40=$B5)*COLUMN(C:S)))),"")} | D5: {=IFERROR(INDEX(Inventaire!$C$6:T$40,MAX(IF((Inventaire!$C$6:$O$40=$B5)*(Inventaire!$F$6:$R$40>0),ROW($D$6:$D$40)-5,-1)),SUMPRODUCT(MAX((Inventaire!$C$6:$S$40=$B5)*COLUMN($D:$T)))),"")} -> 10 | E5: {=IFERROR(INDEX(Inventaire!$C$6:U$40,MAX(IF((Inventaire!$C$6:$O$40=$B5)*(Inventaire!$G$6:$S$40>0),ROW($D$6:$D$40)-5,-1)),SUMPRODUCT(MAX((Inventaire!$C$6:$S$40=$B5)*COLUMN($E:$U)))),"")} -> 3 | G5: 3 | H5: Armani code sport | I5: {=IFERROR(INDEX(Inventaire!$V$6:AD$40,MAX(IF((Inventaire!V$6:AB$40=H5)*(Inventaire!X$6:AD$40>0),ROW(J$6:J$40)-5,-1)),SUMPRODUCT(MAX((Inventaire!V$6:AB$40=$H5)*COLUMN(V:AB)-19))),"")} | J5: {=IFERROR(INDEX(Inventaire!$V$6:$AF$40,MAX(IF((Inventaire!V$6:$AB$40=$H5)*(Inventaire!Y$6:$AE$40>0),ROW($J$6:$J$40)-5,-1)),SUMPRODUCT(MAX((Inventaire!$V$6:$AB$40=$H5)*COLUMN($W:$AC)-19))),"")} | K5: {=IFERROR(INDEX(Inventaire!$V$6:$AF$40,MAX(IF((Inventaire!$V$6:$AB$40=$H5)*(Inventaire!Z$6:$AF$40>0),ROW($J$6:$J$40)-5,-1)),SUMPRODUCT(MAX((Inventaire!$V$6:$AB$40=$H5)*COLUMN($X:$AD)-19))),"")} -> 5
A6: 4 | B6: Armani mania | C6: {=IFERROR(INDEX(Inventaire!$C$6:S$40,MAX(IF((Inventaire!C$6:O$40=B6)*(Inventaire!E$6:Q$40>0),ROW(D$6:D$40)-5,-1)),SUMPRODUCT(MAX((Inventaire!C$6:S$40=$B6)*COLUMN(C:S)))),"")} | D6: {=IFERROR(INDEX(Inventaire!$C$6:T$40,MAX(IF((Inventaire!$C$6:$O$40=$B6)*(Inventaire!$F$6:$R$40>0),ROW($D$6:$D$40)-5,-1)),SUMPRODUCT(MAX((Inventaire!$C$6:$S$40=$B6)*COLUMN($D:$T)))),"")} -> 10 | E6: {=IFERROR(INDEX(Inventaire!$C$6:U$40,MAX(IF((Inventaire!$C$6:$O$40=$B6)*(Inventaire!$G$6:$S$40>0),ROW($D$6:$D$40)-5,-1)),SUMPRODUCT(MAX((Inventaire!$C$6:$S$40=$B6)*COLUMN($E:$U)))),"")} | G6: 4 | H6: Armani diamonds | I6: {=IFERROR(INDEX(Inventaire!$V$6:AD$40,MAX(IF((Inventaire!V$6:AB$40=H6)*(Inventaire!X$6:AD$40>0),ROW(J$6:J$40)-5,-1)),SUMPRODUCT(MAX((Inventaire!V$6:AB$40=$H6)*COLUMN(V:AB)-19))),"")} -> 1 | J6: {=IFERROR(INDEX(Inventaire!$V$6:$AF$40,MAX(IF((Inventaire!V$6:$AB$40=$H6)*(Inventaire!Y$6:$AE$40>0),ROW($J$6:$J$40)-5,-1)),SUMPRODUCT(MAX((Inventaire!$V$6:$AB$40=$H6)*COLUMN($W:$AC)-19))),"")} | K6: {=IFERROR(INDEX(Inventaire!$V$6:$AF$40,MAX(IF((Inventaire!$V$6:$AB$40=$H6)*(Inventaire!Z$6:$AF$40>0),ROW($J$6:$J$40)-5,-1)),SUMPRODUCT(MAX((Inventaire!$V$6:$AB$40=$H6)*COLUMN($X:$AD)-19))),"")}
A7: 5 | B7: Armani sensi | C7: {=IFERROR(INDEX(Inventaire!$C$6:S$40,MAX(IF((Inventaire!C$6:O$40=B7)*(Inventaire!E$6:Q$40>0),ROW(D$6:D$40)-5,-1)),SUMPRODUCT(MAX((Inventaire!C$6:S$40=$B7)*COLUMN(C:S)))),"")} | D7: {=IFERROR(INDEX(Inventaire!$C$6:T$40,MAX(IF((Inventaire!$C$6:$O$40=$B7)*(Inventaire!$F$6:$R$40>0),ROW($D$6:$D$40)-5,-1)),SUMPRODUCT(MAX((Inventaire!$C$6:$S$40=$B7)*COLUMN($D:$T)))),"")} -> 10 | E7: {=IFERROR(INDEX(Inventaire!$C$6:U$40,MAX(IF((Inventaire!$C$6:$O$40=$B7)*(Inventaire!$G$6:$S$40>0),ROW($D$6:$D$40)-5,-1)),SUMPRODUCT(MAX((Inventaire!$C$6:$S$40=$B7)*COLUMN($E:$U)))),"")} | G7: 5 | H7: Armani mania | I7: {=IFERROR(INDEX(Inventaire!$V$6:AD$40,MAX(IF((Inventaire!V$6:AB$40=H7)*(Inventaire!X$6:AD$40>0),ROW(J$6:J$40)-5,-1)),SUMPRODUCT(MAX((Inventaire!V$6:AB$40=$H7)*COLUMN(V:AB)-19))),"")} | J7: {=IFERROR(INDEX(Inventaire!$V$6:$AF$40,MAX(IF((Inventaire!V$6:$AB$40=$H7)*(Inventaire!Y$6:$AE$40>0),ROW($J$6:$J$40)-5,-1)),SUMPRODUCT(MAX((Inventaire!$V$6:$AB$40=$H7)*COLUMN($W:$AC)-19))),"")} | K7: {=IFERROR(INDEX(Inventaire!$V$6:$AF$40,MAX(IF((Inventaire!$V$6:$AB$40=$H7)*(Inventaire!Z$6:$AF$40>0),ROW($J$6:$J$40)-5,-1)),SUMPRODUCT(MAX((Inventaire!$V$6:$AB$40=$H7)*COLUMN($X:$AD)-19))),"")} -> 5
A8: 6 | B8: Armani Elle | C8: {=IFERROR(INDEX(Inventaire!$C$6:S$40,MAX(IF((Inventaire!C$6:O$40=B8)*(Inventaire!E$6:Q$40>0),ROW(D$6:D$40)-5,-1)),SUMPRODUCT(MAX((Inventaire!C$6:S$40=$B8)*COLUMN(C:S)))),"")} | D8: {=IFERROR(INDEX(Inventaire!$C$6:T$40,MAX(IF((Inventaire!$C$6:$O$40=$B8)*(Inventaire!$F$6:$R$40>0),ROW($D$6:$D$40)-5,-1)),SUMPRODUCT(MAX((Inventaire!$C$6:$S$40=$B8)*COLUMN($D:$T)))),"")} -> 10 | E8: {=IFERROR(INDEX(Inventaire!$C$6:U$40,MAX(IF((Inventaire!$C$6:$O$40=$B8)*(Inventaire!$G$6:$S$40>0),ROW($D$6:$D$40)-5,-1)),SUMPRODUCT(MAX((Inventaire!$C$6:$S$40=$B8)*COLUMN($E:$U)))),"")} -> 3 | G8: 6 | H8: Azzaro Chrome | I8: {=IFERROR(INDEX(Inventaire!$V$6:AD$40,MAX(IF((Inventaire!V$6:AB$40=H8)*(Inventaire!X$6:AD$40>0),ROW(J$6:J$40)-5,-1)),SUMPRODUCT(MAX((Inventaire!V$6:AB$40=$H8)*COLUMN(V:AB)-19))),"")} | J8: {=IFERROR(INDEX(Inventaire!$V$6:$AF$40,MAX(IF((Inventaire!V$6:$AB$40=$H8)*(Inventaire!Y$6:$AE$40>0),ROW($J$6:$J$40)-5,-1)),SUMPRODUCT(MAX((Inventaire!$V$6:$AB$40=$H8)*COLUMN($W:$AC)-19))),"")} | K8: {=IFERROR(INDEX(Inventaire!$V$6:$AF$40,MAX(IF((Inventaire!$V$6:$AB$40=$H8)*(Inventaire!Z$6:$AF$40>0),ROW($J$6:$J$40)-5,-1)),SUMPRODUCT(MAX((Inventaire!$V$6:$AB$40=$H8)*COLUMN($X:$AD)-19))),"")}
A9: 7 | B9: Armani Si | C9: {=IFERROR(INDEX(Inventaire!$C$6:S$40,MAX(IF((Inventaire!C$6:O$40=B9)*(Inventaire!E$6:Q$40>0),ROW(D$6:D$40)-5,-1)),SUMPRODUCT(MAX((Inventaire!C$6:S$40=$B9)*COLUMN(C:S)))),"")} | D9: {=IFERROR(INDEX(Inventaire!$C$6:T$40,MAX(IF((Inventaire!$C$6:$O$40=$B9)*(Inventaire!$F$6:$R$40>0),ROW($D$6:$D$40)-5,-1)),SUMPRODUCT(MAX((Inventaire!$C$6:$S$40=$B9)*COLUMN($D:$T)))),"")} -> 10 | E9: {=IFERROR(INDEX(Inventaire!$C$6:U$40,MAX(IF((Inventaire!$C$6:$O$40=$B9)*(Inventaire!$G$6:$S$40>0),ROW($D$6:$D$40)-5,-1)),SUMPRODUCT(MAX((Inventaire!$C$6:$S$40=$B9)*COLUMN($E:$U)))),"")} | G9: 7 | H9: Boss | I9: {=IFERROR(INDEX(Inventaire!$V$6:AD$40,MAX(IF((Inventaire!V$6:AB$40=H9)*(Inventaire!X$6:AD$40>0),ROW(J$6:J$40)-5,-1)),SUMPRODUCT(MAX((Inventaire!V$6:AB$40=$H9)*COLUMN(V:AB)-19))),"")} -> 1 | J9: {=IFERROR(INDEX(Inventaire!$V$6:$AF$40,MAX(IF((Inventaire!V$6:$AB$40=$H9)*(Inventaire!Y$6:$AE$40>0),ROW($J$6:$J$40)-5,-1)),SUMPRODUCT(MAX((Inventaire!$V$6:$AB$40=$H9)*COLUMN($W:$AC)-19))),"")} | K9: {=IFERROR(INDEX(Inventaire!$V$6:$AF$40,MAX(IF((Inventaire!$V$6:$AB$40=$H9)*(Inventaire!Z$6:$AF$40>0),ROW($J$6:$J$40)-5,-1)),SUMPRODUCT(MAX((Inventaire!$V$6:$AB$40=$H9)*COLUMN($X:$AD)-19))),"")} -> 5
A10: 8 | B10: Armani Si intense | C10: {=IFERROR(INDEX(Inventaire!$C$6:S$40,MAX(IF((Inventaire!C$6:O$40=B10)*(Inventaire!E$6:Q$40>0),ROW(D$6:D$40)-5,-1)),SUMPRODUCT(MAX((Inventaire!C$6:S$40=$B10)*COLUMN(C:S)))),"")} | D10: {=IFERROR(INDEX(Inventaire!$C$6:T$40,MAX(IF((Inventaire!$C$6:$O$40=$B10)*(Inventaire!$F$6:$R$40>0),ROW($D$6:$D$40)-5,-1)),SUMPRODUCT(MAX((Inventaire!$C$6:$S$40=$B10)*COLUMN($D:$T)))),"")} -> 10 | E10: {=IFERROR(INDEX(Inventaire!$C$6:U$40,MAX(IF((Inventaire!$C$6:$O$40=$B10)*(Inventaire!$G$6:$S$40>0),ROW($D$6:$D$40)-5,-1)),SUMPRODUCT(MAX((Inventaire!$C$6:$S$40=$B10)*COLUMN($E:$U)))),"")} -> 1 | G10: 8 | H10: Boss bottled night | I10: {=IFERROR(INDEX(Inventaire!$V$6:AD$40,MAX(IF((Inventaire!V$6:AB$40=H10)*(Inventaire!X$6:AD$40>0),ROW(J$6:J$40)-5,-1)),SUMPRODUCT(MAX((Inventaire!V$6:AB$40=$H10)*COLUMN(V:AB)-19))),"")} | J10: {=IFERROR(INDEX(Inventaire!$V$6:$AF$40,MAX(IF((Inventaire!V$6:$AB$40=$H10)*(Inventaire!Y$6:$AE$40>0),ROW($J$6:$J$40)-5,-1)),SUMPRODUCT(MAX((Inventaire!$V$6:$AB$40=$H10)*COLUMN($W:$AC)-19))),"")} | K10: {=IFERROR(INDEX(Inventaire!$V$6:$AF$40,MAX(IF((Inventaire!$V$6:$AB$40=$H10)*(Inventaire!Z$6:$AF$40>0),ROW($J$6:$J$40)-5,-1)),SUMPRODUCT(MAX((Inventaire!$V$6:$AB$40=$H10)*COLUMN($X:$AD)-19))),"")}
A11: 9 | B11: Boss xx | C11: {=IFERROR(INDEX(Inventaire!$C$6:S$40,MAX(IF((Inventaire!C$6:O$40=B11)*(Inventaire!E$6:Q$40>0),ROW(D$6:D$40)-5,-1)),SUMPRODUCT(MAX((Inventaire!C$6:S$40=$B11)*COLUMN(C:S)))),"")} | D11: {=IFERROR(INDEX(Inventaire!$C$6:T$40,MAX(IF((Inventaire!$C$6:$O$40=$B11)*(Inventaire!$F$6:$R$40>0),ROW($D$6:$D$40)-5,-1)),SUMPRODUCT(MAX((Inventaire!$C$6:$S$40=$B11)*COLUMN($D:$T)))),"")} -> 10 | E11: {=IFERROR(INDEX(Inventaire!$C$6:U$40,MAX(IF((Inventaire!$C$6:$O$40=$B11)*(Inventaire!$G$6:$S$40>0),ROW($D$6:$D$40)-5,-1)),SUMPRODUCT(MAX((Inventaire!$C$6:$S$40=$B11)*COLUMN($E:$U)))),"")} | G11: 9 | H11: Boss in motion | I11: {=IFERROR(INDEX(Inventaire!$V$6:AD$40,MAX(IF((Inventaire!V$6:AB$40=H11)*(Inventaire!X$6:AD$40>0),ROW(J$6:J$40)-5,-1)),SUMPRODUCT(MAX((Inventaire!V$6:AB$40=$H11)*COLUMN(V:AB)-19))),"")} | J11: {=IFERROR(INDEX(Inventaire!$V$6:$AF$40,MAX(IF((Inventaire!V$6:$AB$40=$H11)*(Inventaire!Y$6:$AE$40>0),ROW($J$6:$J$40)-5,-1)),SUMPRODUCT(MAX((Inventaire!$V$6:$AB$40=$H11)*COLUMN($W:$AC)-19))),"")} -> 40 | K11: {=IFERROR(INDEX(Inventaire!$V$6:$AF$40,MAX(IF((Inventaire!$V$6:$AB$40=$H11)*(Inventaire!Z$6:$AF$40>0),ROW($J$6:$J$40)-5,-1)),SUMPRODUCT(MAX((Inventaire!$V$6:$AB$40=$H11)*COLUMN($X:$AD)-19))),"")} -> 30
A12: 10 | B12: Boss Women | C12: {=IFERROR(INDEX(Inventaire!$C$6:S$40,MAX(IF((Inventaire!C$6:O$40=B12)*(Inventaire!E$6:Q$40>0),ROW(D$6:D$40)-5,-1)),SUMPRODUCT(MAX((Inventaire!C$6:S$40=$B12)*COLUMN(C:S)))),"")} | D12: {=IFERROR(INDEX(Inventaire!$C$6:T$40,MAX(IF((Inventaire!$C$6:$O$40=$B12)*(Inventaire!$F$6:$R$40>0),ROW($D$6:$D$40)-5,-1)),SUMPRODUCT(MAX((Inventaire!$C$6:$S$40=$B12)*COLUMN($D:$T)))),"")} -> 10 | E12: {=IFERROR(INDEX(Inventaire!$C$6:U$40,MAX(IF((Inventaire!$C$6:$O$40=$B12)*(Inventaire!$G$6:$S$40>0),ROW($D$6:$D$40)-5,-1)),SUMPRODUCT(MAX((Inventaire!$C$6:$S$40=$B12)*COLUMN($E:$U)))),"")} -> 5 | G12: 10 | H12: Boss bottled sport | I12: {=IFERROR(INDEX(Inventaire!$V$6:AD$40,MAX(IF((Inventaire!V$6:AB$40=H12)*(Inventaire!X$6:AD$40>0),ROW(J$6:J$40)-5,-1)),SUMPRODUCT(MAX((Inventaire!V$6:AB$40=$H12)*COLUMN(V:AB)-19))),"")} | J12: {=IFERROR(INDEX(Inventaire!$V$6:$AF$40,MAX(IF((Inventaire!V$6:$AB$40=$H12)*(Inventaire!Y$6:$AE$40>0),ROW($J$6:$J$40)-5,-1)),SUMPRODUCT(MAX((Inventaire!$V$6:$AB$40=$H12)*COLUMN($W:$AC)-19))),"")} | K12: {=IFERROR(INDEX(Inventaire!$V$6:$AF$40,MAX(IF((Inventaire!$V$6:$AB$40=$H12)*(Inventaire!Z$6:$AF$40>0),ROW($J$6:$J$40)-5,-1)),SUMPRODUCT(MAX((Inventaire!$V$6:$AB$40=$H12)*COLUMN($X:$AD)-19))),"")}
A13: 11 | B13: Boss Femme | C13: {=IFERROR(INDEX(Inventaire!$C$6:S$40,MAX(IF((Inventaire!C$6:O$40=B13)*(Inventaire!E$6:Q$40>0),ROW(D$6:D$40)-5,-1)),SUMPRODUCT(MAX((Inventaire!C$6:S$40=$B13)*COLUMN(C:S)))),"")} | D13: {=IFERROR(INDEX(Inventaire!$C$6:T$40,MAX(IF((Inventaire!$C$6:$O$40=$B13)*(Inventaire!$F$6:$R$40>0),ROW($D$6:$D$40)-5,-1)),SUMPRODUCT(MAX((Inventaire!$C$6:$S$40=$B13)*COLUMN($D:$T)))),"")} -> 10 | E13: {=IFERROR(INDEX(Inventaire!$C$6:U$40,MAX(IF((Inventaire!$C$6:$O$40=$B13)*(Inventaire!$G$6:$S$40>0),ROW($D$6:$D$40)-5,-1)),SUMPRODUCT(MAX((Inventaire!$C$6:$S$40=$B13)*COLUMN($E:$U)))),"")} | G13: 11 | H13: Boss orange | I13: {=IFERROR(INDEX(Inventaire!$V$6:AD$40,MAX(IF((Inventaire!V$6:AB$40=H13)*(Inventaire!X$6:AD$40>0),ROW(J$6:J$40)-5,-1)),SUMPRODUCT(MAX((Inventaire!V$6:AB$40=$H13)*COLUMN(V:AB)-19))),"")} | J13: {=IFERROR(INDEX(Inventaire!$V$6:$AF$40,MAX(IF((Inventaire!V$6:$AB$40=$H13)*(Inventaire!Y$6:$AE$40>0),ROW($J$6:$J$40)-5,-1)),SUMPRODUCT(MAX((Inventaire!$V$6:$AB$40=$H13)*COLUMN($W:$AC)-19))),"")} | K13: {=IFERROR(INDEX(Inventaire!$V$6:$AF$40,MAX(IF((Inventaire!$V$6:$AB$40=$H13)*(Inventaire!Z$6:$AF$40>0),ROW($J$6:$J$40)-5,-1)),SUMPRODUCT(MAX((Inventaire!$V$6:$AB$40=$H13)*COLUMN($X:$AD)-19))),"")} -> 5
A14: 12 | B14: Boss nuit | C14: {=IFERROR(INDEX(Inventaire!$C$6:S$40,MAX(IF((Inventaire!C$6:O$40=B14)*(Inventaire!E$6:Q$40>0),ROW(D$6:D$40)-5,-1)),SUMPRODUCT(MAX((Inventaire!C$6:S$40=$B14)*COLUMN(C:S)))),"")} | D14: {=IFERROR(INDEX(Inventaire!$C$6:T$40,MAX(IF((Inventaire!$C$6:$O$40=$B14)*(Inventaire!$F$6:$R$40>0),ROW($D$6:$D$40)-5,-1)),SUMPRODUCT(MAX((Inventaire!$C$6:$S$40=$B14)*COLUMN($D:$T)))),"")} -> 10 | E14: {=IFERROR(INDEX(Inventaire!$C$6:U$40,MAX(IF((Inventaire!$C$6:$O$40=$B14)*(Inventaire!$G$6:$S$40>0),ROW($D$6:$D$40)-5,-1)),SUMPRODUCT(MAX((Inventaire!$C$6:$S$40=$B14)*COLUMN($E:$U)))),"")} -> 6 | G14: 12 | H14: Boss Hugo Men | I14: {=IFERROR(INDEX(Inventaire!$V$6:AD$40,MAX(IF((Inventaire!V$6:AB$40=H14)*(Inventaire!X$6:AD$40>0),ROW(J$6:J$40)-5,-1)),SUMPRODUCT(MAX((Inventaire!V$6:AB$40=$H14)*COLUMN(V:AB)-19))),"")} | J14: {=IFERROR(INDEX(Inventaire!$V$6:$AF$40,MAX(IF((Inventaire!V$6:$AB$40=$H14)*(Inventaire!Y$6:$AE$40>0),ROW($J$6:$J$40)-5,-1)),SUMPRODUCT(MAX((Inventaire!$V$6:$AB$40=$H14)*COLUMN($W:$AC)-19))),"")} | K14: {=IFERROR(INDEX(Inventaire!$V$6:$AF$40,MAX(IF((Inventaire!$V$6:$AB$40=$H14)*(Inventaire!Z$6:$AF$40>0),ROW($J$6:$J$40)-5,-1)),SUMPRODUCT(MAX((Inventaire!$V$6:$AB$40=$H14)*COLUMN($X:$AD)-19))),"")} -> 9
A15: 13 | B15: Boss intense | C15: {=IFERROR(INDEX(Inventaire!$C$6:S$40,MAX(IF((Inventaire!C$6:O$40=B15)*(Inventaire!E$6:Q$40>0),ROW(D$6:D$40)-5,-1)),SUMPRODUCT(MAX((Inventaire!C$6:S$40=$B15)*COLUMN(C:S)))),"")} | D15: {=IFERROR(INDEX(Inventaire!$C$6:T$40,MAX(IF((Inventaire!$C$6:$O$40=$B15)*(Inventaire!$F$6:$R$40>0),ROW($D$6:$D$40)-5,-1)),SUMPRODUCT(MAX((Inventaire!$C$6:$S$40=$B15)*COLUMN($D:$T)))),"")} -> 10 | E15: {=IFERROR(INDEX(Inventaire!$C$6:U$40,MAX(IF((Inventaire!$C$6:$O$40=$B15)*(Inventaire!$G$6:$S$40>0),ROW($D$6:$D$40)-5,-1)),SUMPRODUCT(MAX((Inventaire!$C$6:$S$40=$B15)*COLUMN($E:$U)))),"")} -> 6 | G15: 13 | H15: Boss Unlimited | I15: {=IFERROR(INDEX(Inventaire!$V$6:AD$40,MAX(IF((Inventaire!V$6:AB$40=H15)*(Inventaire!X$6:AD$40>0),ROW(J$6:J$40)-5,-1)),SUMPRODUCT(MAX((Inventaire!V$6:AB$40=$H15)*COLUMN(V:AB)-19))),"")} | J15: {=IFERROR(INDEX(Inventaire!$V$6:$AF$40,MAX(IF((Inventaire!V$6:$AB$40=$H15)*(Inventaire!Y$6:$AE$40>0),ROW($J$6:$J$40)-5,-1)),SUMPRODUCT(MAX((Inventaire!$V$6:$AB$40=$H15)*COLUMN($W:$AC)-19))),"")} | K15: {=IFERROR(INDEX(Inventaire!$V$6:$AF$40,MAX(IF((Inventaire!$V$6:$AB$40=$H15)*(Inventaire!Z$6:$AF$40>0),ROW($J$6:$J$40)-5,-1)),SUMPRODUCT(MAX((Inventaire!$V$6:$AB$40=$H15)*COLUMN($X:$AD)-19))),"")} -> 9
... A48: 46 | B48: D&G Light blue | C48: {=IFERROR(INDEX(Inventaire!$C$6:S$40,MAX(IF((Inventaire!C$6:O$40=B48)*(Inventaire!E$6:Q$40>0),ROW(D$6:D$40)-5,-1)),SUMPRODUCT(MAX((Inventaire!C$6:S$40=$B48)*COLUMN(C:S)))),"")} | D48: {=IFERROR(INDEX(Inventaire!$C$6:T$40,MAX(IF((Inventaire!$C$6:$O$40=$B48)*(Inventaire!$F$6:$R$40>0),ROW($D$6:$D$40)-5,-1)),SUMPRODUCT(MAX((Inventaire!$C$6:$S$40=$B48)*COLUMN($D:$T)))),"")} -> 12 | E48: {=IFERROR(INDEX(Inventaire!$C$6:U$40,MAX(IF((Inventaire!$C$6:$O$40=$B48)*(Inventaire!$G$6:$S$40>0),ROW($D$6:$D$40)-5,-1)),SUMPRODUCT(MAX((Inventaire!$C$6:$S$40=$B48)*COLUMN($E:$U)))),"")} | G48: 46 | H48: Versace Fraiche men | I48: {=IFERROR(INDEX(Inventaire!$V$6:AD$40,MAX(IF((Inventaire!V$6:AB$40=H48)*(Inventaire!X$6:AD$40>0),ROW(J$6:J$40)-5,-1)),SUMPRODUCT(MAX((Inventaire!V$6:AB$40=$H48)*COLUMN(V:AB)-19))),"")} -> 1 | J48: {=IFERROR(INDEX(Inventaire!$V$6:$AF$40,MAX(IF((Inventaire!V$6:$AB$40=$H48)*(Inventaire!Y$6:$AE$40>0),ROW($J$6:$J$40)-5,-1)),SUMPRODUCT(MAX((Inventaire!$V$6:$AB$40=$H48)*COLUMN($W:$AC)-19))),"")} | K48: {=IFERROR(INDEX(Inventaire!$V$6:$AF$40,MAX(IF((Inventaire!$V$6:$AB$40=$H48)*(Inventaire!Z$6:$AF$40>0),ROW($J$6:$J$40)-5,-1)),SUMPRODUCT(MAX((Inventaire!$V$6:$AB$40=$H48)*COLUMN($X:$AD)-19))),"")} -> 1
A49: 47 | B49: D&G pour femme | C49: {=IFERROR(INDEX(Inventaire!$C$6:S$40,MAX(IF((Inventaire!C$6:O$40=B49)*(Inventaire!E$6:Q$40>0),ROW(D$6:D$40)-5,-1)),SUMPRODUCT(MAX((Inventaire!C$6:S$40=$B49)*COLUMN(C:S)))),"")} | D49: {=IFERROR(INDEX(Inventaire!$C$6:T$40,MAX(IF((Inventaire!$C$6:$O$40=$B49)*(Inventaire!$F$6:$R$40>0),ROW($D$6:$D$40)-5,-1)),SUMPRODUCT(MAX((Inventaire!$C$6:$S$40=$B49)*COLUMN($D:$T)))),"")} -> 12 | E49: {=IFERROR(INDEX(Inventaire!$C$6:U$40,MAX(IF((Inventaire!$C$6:$O$40=$B49)*(Inventaire!$G$6:$S$40>0),ROW($D$6:$D$40)-5,-1)),SUMPRODUCT(MAX((Inventaire!$C$6:$S$40=$B49)*COLUMN($E:$U)))),"")} | G49: 47 | H49: Yves S-l La nuit de l Homme | I49: {=IF(H49="","",IFERROR(INDEX(Inventaire!$V$6:AD$40,MAX(IF((Inventaire!V$6:AB$40=H49)*(Inventaire!X$6:AD$40>0),ROW(J$6:J$40)-5,-1)),SUMPRODUCT(MAX((Inventaire!V$6:AB$40=$H49)*COLUMN(V:AB)-19))),""))} | J49: {=IF(H49="","",IFERROR(INDEX(Inventaire!$V$6:$AF$40,MAX(IF((Inventaire!V$6:$AB$40=$H49)*(Inventaire!Y$6:$AE$40>0),ROW($J$6:$J$40)-5,-1)),SUMPRODUCT(MAX((Inventaire!$V$6:$AB$40=$H49)*COLUMN($W:$AC)-19))),""))} | K49: {=IF(H49="","",IFERROR(INDEX(Inventaire!$V$6:$AF$40,MAX(IF((Inventaire!$V$6:$AB$40=$H49)*(Inventaire!Z$6:$AF$40>0),ROW($J$6:$J$40)-5,-1)),SUMPRODUCT(MAX((Inventaire!$V$6:$AB$40=$H49)*COLUMN($X:$AD)-19))),""))}
A50: 48 | B50: D&G Dolce | C50: {=IFERROR(INDEX(Inventaire!$C$6:S$40,MAX(IF((Inventaire!C$6:O$40=B50)*(Inventaire!E$6:Q$40>0),ROW(D$6:D$40)-5,-1)),SUMPRODUCT(MAX((Inventaire!C$6:S$40=$B50)*COLUMN(C:S)))),"")} | D50: {=IFERROR(INDEX(Inventaire!$C$6:T$40,MAX(IF((Inventaire!$C$6:$O$40=$B50)*(Inventaire!$F$6:$R$40>0),ROW($D$6:$D$40)-5,-1)),SUMPRODUCT(MAX((Inventaire!$C$6:$S$40=$B50)*COLUMN($D:$T)))),"")} -> 12 | E50: {=IFERROR(INDEX(Inventaire!$C$6:U$40,MAX(IF((Inventaire!$C$6:$O$40=$B50)*(Inventaire!$G$6:$S$40>0),ROW($D$6:$D$40)-5,-1)),SUMPRODUCT(MAX((Inventaire!$C$6:$S$40=$B50)*COLUMN($E:$U)))),"")} | G50: 48 | I50: {=IF(H50="","",IFERROR(INDEX(Inventaire!$V$6:AD$40,MAX(IF((Inventaire!V$6:AB$40=H50)*(Inventaire!X$6:AD$40>0),ROW(J$6:J$40)-5,-1)),SUMPRODUCT(MAX((Inventaire!V$6:AB$40=$H50)*COLUMN(V:AB)-19))),""))} | J50: {=IF(H50="","",IFERROR(INDEX(Inventaire!$V$6:$AF$40,MAX(IF((Inventaire!V$6:$AB$40=$H50)*(Inventaire!Y$6:$AE$40>0),ROW($J$6:$J$40)-5,-1)),SUMPRODUCT(MAX((Inventaire!$V$6:$AB$40=$H50)*COLUMN($W:$AC)-19))),""))} | K50: {=IF(H50="","",IFERROR(INDEX(Inventaire!$V$6:$AF$40,MAX(IF((Inventaire!$V$6:$AB$40=$H50)*(Inventaire!Z$6:$AF$40>0),ROW($J$6:$J$40)-5,-1)),SUMPRODUCT(MAX((Inventaire!$V$6:$AB$40=$H50)*COLUMN($X:$AD)-19))),""))}
A51: 49 | B51: D&G L imperatrice | C51: {=IFERROR(INDEX(Inventaire!$C$6:S$40,MAX(IF((Inventaire!C$6:O$40=B51)*(Inventaire!E$6:Q$40>0),ROW(D$6:D$40)-5,-1)),SUMPRODUCT(MAX((Inventaire!C$6:S$40=$B51)*COLUMN(C:S)))),"")} | D51: {=IFERROR(INDEX(Inventaire!$C$6:T$40,MAX(IF((Inventaire!$C$6:$O$40=$B51)*(Inventaire!$F$6:$R$40>0),ROW($D$6:$D$40)-5,-1)),SUMPRODUCT(MAX((Inventaire!$C$6:$S$40=$B51)*COLUMN($D:$T)))),"")} -> 12 | E51: {=IFERROR(INDEX(Inventaire!$C$6:U$40,MAX(IF((Inventaire!$C$6:$O$40=$B51)*(Inventaire!$G$6:$S$40>0),ROW($D$6:$D$40)-5,-1)),SUMPRODUCT(MAX((Inventaire!$C$6:$S$40=$B51)*COLUMN($E:$U)))),"")} | G51: 49 | I51: {=IF(H51="","",IFERROR(INDEX(Inventaire!$V$6:AD$40,MAX(IF((Inventaire!V$6:AB$40=H51)*(Inventaire!X$6:AD$40>0),ROW(J$6:J$40)-5,-1)),SUMPRODUCT(MAX((Inventaire!V$6:AB$40=$H51)*COLUMN(V:AB)-19))),""))} | J51: {=IF(H51="","",IFERROR(INDEX(Inventaire!$V$6:$AF$40,MAX(IF((Inventaire!V$6:$AB$40=$H51)*(Inventaire!Y$6:$AE$40>0),ROW($J$6:$J$40)-5,-1)),SUMPRODUCT(MAX((Inventaire!$V$6:$AB$40=$H51)*COLUMN($W:$AC)-19))),""))} | K51: {=IF(H51="","",IFERROR(INDEX(Inventaire!$V$6:$AF$40,MAX(IF((Inventaire!$V$6:$AB$40=$H51)*(Inventaire!Z$6:$AF$40>0),ROW($J$6:$J$40)-5,-1)),SUMPRODUCT(MAX((Inventaire!$V$6:$AB$40=$H51)*COLUMN($X:$AD)-19))),""))}
A52: 50 | B52: D&G The one Desire | C52: {=IFERROR(INDEX(Inventaire!$C$6:S$40,MAX(IF((Inventaire!C$6:O$40=B52)*(Inventaire!E$6:Q$40>0),ROW(D$6:D$40)-5,-1)),SUMPRODUCT(MAX((Inventaire!C$6:S$40=$B52)*COLUMN(C:S)))),"")} | D52: {=IFERROR(INDEX(Inventaire!$C$6:T$40,MAX(IF((Inventaire!$C$6:$O$40=$B52)*(Inventaire!$F$6:$R$40>0),ROW($D$6:$D$40)-5,-1)),SUMPRODUCT(MAX((Inventaire!$C$6:$S$40=$B52)*COLUMN($D:$T)))),"")} -> 12 | E52: {=IFERROR(INDEX(Inventaire!$C$6:U$40,MAX(IF((Inventaire!$C$6:$O$40=$B52)*(Inventaire!$G$6:$S$40>0),ROW($D$6:$D$40)-5,-1)),SUMPRODUCT(MAX((Inventaire!$C$6:$S$40=$B52)*COLUMN($E:$U)))),"")} | G52: 50 | I52: {=IF(H52="","",IFERROR(INDEX(Inventaire!$V$6:AD$40,MAX(IF((Inventaire!V$6:AB$40=H52)*(Inventaire!X$6:AD$40>0),ROW(J$6:J$40)-5,-1)),SUMPRODUCT(MAX((Inventaire!V$6:AB$40=$H52)*COLUMN(V:AB)-19))),""))} | J52: {=IF(H52="","",IFERROR(INDEX(Inventaire!$V$6:$AF$40,MAX(IF((Inventaire!V$6:$AB$40=$H52)*(Inventaire!Y$6:$AE$40>0),ROW($J$6:$J$40)-5,-1)),SUMPRODUCT(MAX((Inventaire!$V$6:$AB$40=$H52)*COLUMN($W:$AC)-19))),""))} | K52: {=IF(H52="","",IFERROR(INDEX(Inventaire!$V$6:$AF$40,MAX(IF((Inventaire!$V$6:$AB$40=$H52)*(Inventaire!Z$6:$AF$40>0),ROW($J$6:$J$40)-5,-1)),SUMPRODUCT(MAX((Inventaire!$V$6:$AB$40=$H52)*COLUMN($X:$AD)-19))),""))}
