Workbook

Sheet Liste
A1: Nom entité | B1: Date
A2: 3 | B2: 04/02/2020
A3: 3 | B3: 06/02/2020
A4: 4 | B4: 24/02/2020
A5: 4 | B5: 25/02/2020
A6: 5 | B6: 21/01/2020
A7: 1 | B7: 21/02/2020
A8: 1 | B8: 02/03/2020
A9: 1 | B9: 09/03/2020
A10: 1 | B10: 12/03/2020
A11: 2 | B11: 05/03/2020
A12: 8 | B12: 14/01/2020
A13: 8 | B13: 09/03/2020
... A16: 1 | B16: 21/04/2020

Sheet Recapitulatif
B2: Site | C2: Nombre d'ATA | D2: Date la plus ancienne | E2: Nombre de jours entre les deux dernières dates
B3: 1 | C3: =COUNTIF(Liste!$A$2:$A$16,B3) -> 6 | D3: {=IF(MIN(IF(Liste!$A$2:$A$16=$B3,Liste!$B$2:$B$16*1,""))=0,"",MIN(IF(Liste!$A$2:$A$16=B3,Liste!$B$2:$B$16*1,"")))} -> 43882 | E3: {=IF(ISERROR(SMALL(IF(Liste!$A$2:$A$16=$B3,Liste!$B$2:$B$16*1,""),$C3)-SMALL(IF(Liste!$A$2:$A$16=$B3,Liste!$B$2:$B$16*1,""),$C3-1)),"",SMALL(IF(Liste!$A$2:$A$16=$B3,Liste!$B$2:$B$16*1,""),$C3)-SMALL(IF(Liste!$A$2:$A$16=$B3,Liste!$B$2:$B$16*1,""),$C3-1))} -> 4
B4: 2 | C4: =COUNTIF(Liste!$A$2:$A$16,B4) -> 1 | D4: {=IF(MIN(IF(Liste!$A$2:$A$16=B4,Liste!$B$2:$B$16*1,""))=0,"",MIN(IF(Liste!$A$2:$A$16=B4,Liste!$B$2:$B$16*1,"")))} -> 43895 | E4: {=IF(ISERROR(SMALL(IF(Liste!$A$2:$A$16=$B4,Liste!$B$2:$B$16*1,""),$C4)-SMALL(IF(Liste!$A$2:$A$16=$B4,Liste!$B$2:$B$16*1,""),$C4-1)),"",SMALL(IF(Liste!$A$2:$A$16=$B4,Liste!$B$2:$B$16*1,""),$C4)-SMALL(IF(Liste!$A$2:$A$16=$B4,Liste!$B$2:$B$16*1,""),$C4-1))}
B5: 3 | C5: =COUNTIF(Liste!$A$2:$A$16,B5) -> 2 | D5: {=IF(MIN(IF(Liste!$A$2:$A$16=B5,Liste!$B$2:$B$16*1,""))=0,"",MIN(IF(Liste!$A$2:$A$16=B5,Liste!$B$2:$B$16*1,"")))} -> 43865 | E5: {=IF(ISERROR(SMALL(IF(Liste!$A$2:$A$16=$B5,Liste!$B$2:$B$16*1,""),$C5)-SMALL(IF(Liste!$A$2:$A$16=$B5,Liste!$B$2:$B$16*1,""),$C5-1)),"",SMALL(IF(Liste!$A$2:$A$16=$B5,Liste!$B$2:$B$16*1,""),$C5)-SMALL(IF(Liste!$A$2:$A$16=$B5,Liste!$B$2:$B$16*1,""),$C5-1))} -> 2
B6: 4 | C6: =COUNTIF(Liste!$A$2:$A$16,B6) -> 2 | D6: {=IF(MIN(IF(Liste!$A$2:$A$16=B6,Liste!$B$2:$B$16*1,""))=0,"",MIN(IF(Liste!$A$2:$A$16=B6,Liste!$B$2:$B$16*1,"")))} -> 43885 | E6: {=IF(ISERROR(SMALL(IF(Liste!$A$2:$A$16=$B6,Liste!$B$2:$B$16*1,""),$C6)-SMALL(IF(Liste!$A$2:$A$16=$B6,Liste!$B$2:$B$16*1,""),$C6-1)),"",SMALL(IF(Liste!$A$2:$A$16=$B6,Liste!$B$2:$B$16*1,""),$C6)-SMALL(IF(Liste!$A$2:$A$16=$B6,Liste!$B$2:$B$16*1,""),$C6-1))} -> 1
B7: 5 | C7: =COUNTIF(Liste!$A$2:$A$16,B7) -> 2 | D7: {=IF(MIN(IF(Liste!$A$2:$A$16=B7,Liste!$B$2:$B$16*1,""))=0,"",MIN(IF(Liste!$A$2:$A$16=B7,Liste!$B$2:$B$16*1,"")))} -> 43851 | E7: {=IF(ISERROR(SMALL(IF(Liste!$A$2:$A$16=$B7,Liste!$B$2:$B$16*1,""),$C7)-SMALL(IF(Liste!$A$2:$A$16=$B7,Liste!$B$2:$B$16*1,""),$C7-1)),"",SMALL(IF(Liste!$A$2:$A$16=$B7,Liste!$B$2:$B$16*1,""),$C7)-SMALL(IF(Liste!$A$2:$A$16=$B7,Liste!$B$2:$B$16*1,""),$C7-1))} -> 87
B8: 6 | C8: =COUNTIF(Liste!$A$2:$A$16,B8) -> 0 | D8: {=IF(MIN(IF(Liste!$A$2:$A$16=B8,Liste!$B$2:$B$16*1,""))=0,"",MIN(IF(Liste!$A$2:$A$16=B8,Liste!$B$2:$B$16*1,"")))} | E8: {=IF(ISERROR(SMALL(IF(Liste!$A$2:$A$16=$B8,Liste!$B$2:$B$16*1,""),$C8)-SMALL(IF(Liste!$A$2:$A$16=$B8,Liste!$B$2:$B$16*1,""),$C8-1)),"",SMALL(IF(Liste!$A$2:$A$16=$B8,Liste!$B$2:$B$16*1,""),$C8)-SMALL(IF(Liste!$A$2:$A$16=$B8,Liste!$B$2:$B$16*1,""),$C8-1))}
B9: 7 | C9: =COUNTIF(Liste!$A$2:$A$16,B9) -> 0 | D9: {=IF(MIN(IF(Liste!$A$2:$A$16=B9,Liste!$B$2:$B$16*1,""))=0,"",MIN(IF(Liste!$A$2:$A$16=B9,Liste!$B$2:$B$16*1,"")))} | E9: {=IF(ISERROR(SMALL(IF(Liste!$A$2:$A$16=$B9,Liste!$B$2:$B$16*1,""),$C9)-SMALL(IF(Liste!$A$2:$A$16=$B9,Liste!$B$2:$B$16*1,""),$C9-1)),"",SMALL(IF(Liste!$A$2:$A$16=$B9,Liste!$B$2:$B$16*1,""),$C9)-SMALL(IF(Liste!$A$2:$A$16=$B9,Liste!$B$2:$B$16*1,""),$C9-1))}
B10: 8 | C10: =COUNTIF(Liste!$A$2:$A$16,B10) -> 2 | D10: {=IF(MIN(IF(Liste!$A$2:$A$16=B10,Liste!$B$2:$B$16*1,""))=0,"",MIN(IF(Liste!$A$2:$A$16=B10,Liste!$B$2:$B$16*1,"")))} -> 43844 | E10: {=IF(ISERROR(SMALL(IF(Liste!$A$2:$A$16=$B10,Liste!$B$2:$B$16*1,""),$C10)-SMALL(IF(Liste!$A$2:$A$16=$B10,Liste!$B$2:$B$16*1,""),$C10-1)),"",SMALL(IF(Liste!$A$2:$A$16=$B10,Liste!$B$2:$B$16*1,""),$C10)-SMALL(IF(Liste!$A$2:$A$16=$B10,Liste!$B$2:$B$16*1,""),$C10-1))} -> 55
B11: 9 | C11: =COUNTIF(Liste!$A$2:$A$16,B11) -> 0 | D11: {=IF(MIN(IF(Liste!$A$2:$A$16=B11,Liste!$B$2:$B$16*1,""))=0,"",MIN(IF(Liste!$A$2:$A$16=B11,Liste!$B$2:$B$16*1,"")))} | E11: {=IF(ISERROR(SMALL(IF(Liste!$A$2:$A$16=$B11,Liste!$B$2:$B$16*1,""),$C11)-SMALL(IF(Liste!$A$2:$A$16=$B11,Liste!$B$2:$B$16*1,""),$C11-1)),"",SMALL(IF(Liste!$A$2:$A$16=$B11,Liste!$B$2:$B$16*1,""),$C11)-SMALL(IF(Liste!$A$2:$A$16=$B11,Liste!$B$2:$B$16*1,""),$C11-1))}
B12: 10 | C12: =COUNTIF(Liste!$A$2:$A$16,B12) -> 0 | D12: {=IF(MIN(IF(Liste!$A$2:$A$16=B12,Liste!$B$2:$B$16*1,""))=0,"",MIN(IF(Liste!$A$2:$A$16=B12,Liste!$B$2:$B$16*1,"")))} | E12: {=IF(ISERROR(SMALL(IF(Liste!$A$2:$A$16=$B12,Liste!$B$2:$B$16*1,""),$C12)-SMALL(IF(Liste!$A$2:$A$16=$B12,Liste!$B$2:$B$16*1,""),$C12-1)),"",SMALL(IF(Liste!$A$2:$A$16=$B12,Liste!$B$2:$B$16*1,""),$C12)-SMALL(IF(Liste!$A$2:$A$16=$B12,Liste!$B$2:$B$16*1,""),$C12-1))}
