Workbook

Sheet Sem 41
C1: PLANNING SEMAINE 41 | G1: 41 | I1: =NOW() -> 42636.674 | L1: Intérimaires | M1: =CountColour2($D$5:$M$22,$L$1)+CountColour2($D$31:$G$51,$L$1)+CountColour2(#REF!,$L$1)-COUNTIF($D$5:$M$51,"x") -> #NAME?
D2: ='[1]Sem 24'!D2 -> 60000 | E2: 3600 | F2: 4600 | G2: 0 | H2: 1500 | I2: 1800 | J2: 2900 | K2: 450 | L2: 500
A3: Besoin logistique/semaine | M3: 18
C4: EQUIPE | D4: LAMA | E4: LAMB | F4: LAMC | G4: Magasinier | H4: CP7 | I4: CP8 | J4: CP9 | K4: CP25 | L4: MSVE | M4: CE
B5: MATIN | C5: T | D5: =IFERROR(VLOOKUP(C5,effectif!$A$2:$K$5,2,FALSE),"") -> jean | E5: =IFERROR(VLOOKUP(C5,effectif!$A$2:$K$5,3,FALSE),"") -> 0 | F5: =IFERROR(VLOOKUP(C5,effectif!$A$2:$K$5,4,FALSE),"") -> eude | G5: =IFERROR(VLOOKUP(C5,effectif!$A$2:$K$5,5,FALSE),"") -> henry | H5: =IFERROR(VLOOKUP(C5,effectif!$A$2:$K$5,6,FALSE),"") -> marion | I5: =IFERROR(VLOOKUP(C5,effectif!$A$2:$K$5,7,FALSE),"") -> lolo | J5: =IFERROR(VLOOKUP(C5,effectif!$A$2:$K$5,8,FALSE),"") -> francis | K5: =IFERROR(VLOOKUP(C5,effectif!$A$2:$K$5,9,FALSE),"") -> mimi | L5: =IFERROR(VLOOKUP(C5,effectif!$A$2:$K$5,10,FALSE),"") -> 0 | M5: =IFERROR(VLOOKUP(C5,effectif!$A$2:$K$5,11,FALSE),"") -> max
A6: LUNDI | B6: APRES MIDI | D6: =IFERROR(VLOOKUP(C6,effectif!$A$2:$K$5,2,FALSE),"") | E6: =IFERROR(VLOOKUP(C6,effectif!$A$2:$K$5,3,FALSE),"") | F6: =IFERROR(VLOOKUP(C6,effectif!$A$2:$K$5,4,FALSE),"") | G6: =IFERROR(VLOOKUP(C6,effectif!$A$2:$K$5,5,FALSE),"") | H6: =IFERROR(VLOOKUP(C6,effectif!$A$2:$K$5,6,FALSE),"") | I6: =IFERROR(VLOOKUP(C6,effectif!$A$2:$K$5,7,FALSE),"") | J6: =IFERROR(VLOOKUP(C6,effectif!$A$2:$K$5,8,FALSE),"") | K6: =IFERROR(VLOOKUP(C6,effectif!$A$2:$K$5,9,FALSE),"") | L6: =IFERROR(VLOOKUP(C6,effectif!$A$2:$K$5,10,FALSE),"") | M6: =IFERROR(VLOOKUP(C6,effectif!$A$2:$K$5,11,FALSE),"")
A7: 42653 | B7: NUIT | D7: =IFERROR(VLOOKUP(C7,effectif!$A$2:$K$5,2,FALSE),"") | E7: =IFERROR(VLOOKUP(C7,effectif!$A$2:$K$5,3,FALSE),"") | F7: =IFERROR(VLOOKUP(C7,effectif!$A$2:$K$5,4,FALSE),"") | G7: =IFERROR(VLOOKUP(C7,effectif!$A$2:$K$5,5,FALSE),"") | H7: =IFERROR(VLOOKUP(C7,effectif!$A$2:$K$5,6,FALSE),"") | I7: =IFERROR(VLOOKUP(C7,effectif!$A$2:$K$5,7,FALSE),"") | J7: =IFERROR(VLOOKUP(C7,effectif!$A$2:$K$5,8,FALSE),"") | K7: =IFERROR(VLOOKUP(C7,effectif!$A$2:$K$5,9,FALSE),"") | L7: =IFERROR(VLOOKUP(C7,effectif!$A$2:$K$5,10,FALSE),"") | M7: =IFERROR(VLOOKUP(C7,effectif!$A$2:$K$5,11,FALSE),"")
B8: MATIN | D8: =IFERROR(VLOOKUP(C8,effectif!$A$2:$K$5,2,FALSE),"") | E8: =IFERROR(VLOOKUP(C8,effectif!$A$2:$K$5,3,FALSE),"") | F8: =IFERROR(VLOOKUP(C8,effectif!$A$2:$K$5,4,FALSE),"") | G8: =IFERROR(VLOOKUP(C8,effectif!$A$2:$K$5,5,FALSE),"") | H8: =IFERROR(VLOOKUP(C8,effectif!$A$2:$K$5,6,FALSE),"") | I8: =IFERROR(VLOOKUP(C8,effectif!$A$2:$K$5,7,FALSE),"") | J8: =IFERROR(VLOOKUP(C8,effectif!$A$2:$K$5,8,FALSE),"") | K8: =IFERROR(VLOOKUP(C8,effectif!$A$2:$K$5,9,FALSE),"") | L8: =IFERROR(VLOOKUP(C8,effectif!$A$2:$K$5,10,FALSE),"") | M8: =IFERROR(VLOOKUP(C8,effectif!$A$2:$K$5,11,FALSE),"")
A9: MARDI | B9: APRES MIDI | D9: =IFERROR(VLOOKUP(C9,effectif!$A$2:$K$5,2,FALSE),"") | E9: =IFERROR(VLOOKUP(C9,effectif!$A$2:$K$5,3,FALSE),"") | F9: =IFERROR(VLOOKUP(C9,effectif!$A$2:$K$5,4,FALSE),"") | G9: =IFERROR(VLOOKUP(C9,effectif!$A$2:$K$5,5,FALSE),"") | H9: =IFERROR(VLOOKUP(C9,effectif!$A$2:$K$5,6,FALSE),"") | I9: =IFERROR(VLOOKUP(C9,effectif!$A$2:$K$5,7,FALSE),"") | J9: =IFERROR(VLOOKUP(C9,effectif!$A$2:$K$5,8,FALSE),"") | K9: =IFERROR(VLOOKUP(C9,effectif!$A$2:$K$5,9,FALSE),"") | L9: =IFERROR(VLOOKUP(C9,effectif!$A$2:$K$5,10,FALSE),"") | M9: =IFERROR(VLOOKUP(C9,effectif!$A$2:$K$5,11,FALSE),"")
A10: =A7+1 -> 42654 | B10: NUIT | D10: =IFERROR(VLOOKUP(C10,effectif!$A$2:$K$5,2,FALSE),"") | E10: =IFERROR(VLOOKUP(C10,effectif!$A$2:$K$5,3,FALSE),"") | F10: =IFERROR(VLOOKUP(C10,effectif!$A$2:$K$5,4,FALSE),"") | G10: =IFERROR(VLOOKUP(C10,effectif!$A$2:$K$5,5,FALSE),"") | H10: =IFERROR(VLOOKUP(C10,effectif!$A$2:$K$5,6,FALSE),"") | I10: =IFERROR(VLOOKUP(C10,effectif!$A$2:$K$5,7,FALSE),"") | J10: =IFERROR(VLOOKUP(C10,effectif!$A$2:$K$5,8,FALSE),"") | K10: =IFERROR(VLOOKUP(C10,effectif!$A$2:$K$5,9,FALSE),"") | L10: =IFERROR(VLOOKUP(C10,effectif!$A$2:$K$5,10,FALSE),"") | M10: =IFERROR(VLOOKUP(C10,effectif!$A$2:$K$5,11,FALSE),"")
B11: MATIN | D11: =IFERROR(VLOOKUP(C11,effectif!$A$2:$K$5,2,FALSE),"") | E11: =IFERROR(VLOOKUP(C11,effectif!$A$2:$K$5,3,FALSE),"") | F11: =IFERROR(VLOOKUP(C11,effectif!$A$2:$K$5,4,FALSE),"") | G11: =IFERROR(VLOOKUP(C11,effectif!$A$2:$K$5,5,FALSE),"") | H11: =IFERROR(VLOOKUP(C11,effectif!$A$2:$K$5,6,FALSE),"") | I11: =IFERROR(VLOOKUP(C11,effectif!$A$2:$K$5,7,FALSE),"") | J11: =IFERROR(VLOOKUP(C11,effectif!$A$2:$K$5,8,FALSE),"") | K11: =IFERROR(VLOOKUP(C11,effectif!$A$2:$K$5,9,FALSE),"") | L11: =IFERROR(VLOOKUP(C11,effectif!$A$2:$K$5,10,FALSE),"") | M11: =IFERROR(VLOOKUP(C11,effectif!$A$2:$K$5,11,FALSE),"")
A12: MERCREDI | B12: APRES MIDI | C12: U | D12: =IFERROR(VLOOKUP(C12,effectif!$A$2:$K$5,2,FALSE),"") -> 0 | E12: =IFERROR(VLOOKUP(C12,effectif!$A$2:$K$5,3,FALSE),"") -> 0 | F12: =IFERROR(VLOOKUP(C12,effectif!$A$2:$K$5,4,FALSE),"") -> paul | G12: =IFERROR(VLOOKUP(C12,effectif!$A$2:$K$5,5,FALSE),"") -> suarez | H12: =IFERROR(VLOOKUP(C12,effectif!$A$2:$K$5,6,FALSE),"") -> momo | I12: =IFERROR(VLOOKUP(C12,effectif!$A$2:$K$5,7,FALSE),"") -> michel | J12: =IFERROR(VLOOKUP(C12,effectif!$A$2:$K$5,8,FALSE),"") -> 0 | K12: =IFERROR(VLOOKUP(C12,effectif!$A$2:$K$5,9,FALSE),"") -> hervé | L12: =IFERROR(VLOOKUP(C12,effectif!$A$2:$K$5,10,FALSE),"") -> alex | M12: =IFERROR(VLOOKUP(C12,effectif!$A$2:$K$5,11,FALSE),"") -> patryck
A13: =A10+1 -> 42655 | B13: NUIT | D13: =IFERROR(VLOOKUP(C13,effectif!$A$2:$K$5,2,FALSE),"") | E13: =IFERROR(VLOOKUP(C13,effectif!$A$2:$K$5,3,FALSE),"") | F13: =IFERROR(VLOOKUP(C13,effectif!$A$2:$K$5,4,FALSE),"") | G13: =IFERROR(VLOOKUP(C13,effectif!$A$2:$K$5,5,FALSE),"") | H13: =IFERROR(VLOOKUP(C13,effectif!$A$2:$K$5,6,FALSE),"") | I13: =IFERROR(VLOOKUP(C13,effectif!$A$2:$K$5,7,FALSE),"") | J13: =IFERROR(VLOOKUP(C13,effectif!$A$2:$K$5,8,FALSE),"") | K13: =IFERROR(VLOOKUP(C13,effectif!$A$2:$K$5,9,FALSE),"") | L13: =IFERROR(VLOOKUP(C13,effectif!$A$2:$K$5,10,FALSE),"") | M13: =IFERROR(VLOOKUP(C13,effectif!$A$2:$K$5,11,FALSE),"")
B14: MATIN | C14: U | D14: =IFERROR(VLOOKUP(C14,effectif!$A$2:$K$5,2,FALSE),"") -> 0 | E14: =IFERROR(VLOOKUP(C14,effectif!$A$2:$K$5,3,FALSE),"") -> 0 | F14: =IFERROR(VLOOKUP(C14,effectif!$A$2:$K$5,4,FALSE),"") -> paul | G14: =IFERROR(VLOOKUP(C14,effectif!$A$2:$K$5,5,FALSE),"") -> suarez | H14: =IFERROR(VLOOKUP(C14,effectif!$A$2:$K$5,6,FALSE),"") -> momo | I14: =IFERROR(VLOOKUP(C14,effectif!$A$2:$K$5,7,FALSE),"") -> michel | J14: =IFERROR(VLOOKUP(C14,effectif!$A$2:$K$5,8,FALSE),"") -> 0 | K14: =IFERROR(VLOOKUP(C14,effectif!$A$2:$K$5,9,FALSE),"") -> hervé | L14: =IFERROR(VLOOKUP(C14,effectif!$A$2:$K$5,10,FALSE),"") -> alex | M14: =IFERROR(VLOOKUP(C14,effectif!$A$2:$K$5,11,FALSE),"") -> patryck
A15: JEUDI | B15: APRES MIDI | D15: =IFERROR(VLOOKUP(C15,effectif!$A$2:$K$5,2,FALSE),"") | E15: =IFERROR(VLOOKUP(C15,effectif!$A$2:$K$5,3,FALSE),"") | F15: =IFERROR(VLOOKUP(C15,effectif!$A$2:$K$5,4,FALSE),"") | G15: =IFERROR(VLOOKUP(C15,effectif!$A$2:$K$5,5,FALSE),"") | H15: =IFERROR(VLOOKUP(C15,effectif!$A$2:$K$5,6,FALSE),"") | I15: =IFERROR(VLOOKUP(C15,effectif!$A$2:$K$5,7,FALSE),"") | J15: =IFERROR(VLOOKUP(C15,effectif!$A$2:$K$5,8,FALSE),"") | K15: =IFERROR(VLOOKUP(C15,effectif!$A$2:$K$5,9,FALSE),"") | L15: =IFERROR(VLOOKUP(C15,effectif!$A$2:$K$5,10,FALSE),"") | M15: =IFERROR(VLOOKUP(C15,effectif!$A$2:$K$5,11,FALSE),"")
A16: =A13+1 -> 42656 | B16: NUIT | C16: S | D16: =IFERROR(VLOOKUP(C16,effectif!$A$2:$K$5,2,FALSE),"") -> yves | E16: =IFERROR(VLOOKUP(C16,effectif!$A$2:$K$5,3,FALSE),"") -> bernard | F16: =IFERROR(VLOOKUP(C16,effectif!$A$2:$K$5,4,FALSE),"") -> fred | G16: =IFERROR(VLOOKUP(C16,effectif!$A$2:$K$5,5,FALSE),"") -> thierry | H16: =IFERROR(VLOOKUP(C16,effectif!$A$2:$K$5,6,FALSE),"") -> briac | I16: =IFERROR(VLOOKUP(C16,effectif!$A$2:$K$5,7,FALSE),"") -> chantal | J16: =IFERROR(VLOOKUP(C16,effectif!$A$2:$K$5,8,FALSE),"") -> francois | K16: =IFERROR(VLOOKUP(C16,effectif!$A$2:$K$5,9,FALSE),"") -> 0 | L16: =IFERROR(VLOOKUP(C16,effectif!$A$2:$K$5,10,FALSE),"") -> 0 | M16: =IFERROR(VLOOKUP(C16,effectif!$A$2:$K$5,11,FALSE),"") -> albé
B17: MATIN | D17: =IFERROR(VLOOKUP(C17,effectif!$A$2:$K$5,2,FALSE),"") | E17: =IFERROR(VLOOKUP(C17,effectif!$A$2:$K$5,3,FALSE),"") | F17: =IFERROR(VLOOKUP(C17,effectif!$A$2:$K$5,4,FALSE),"") | G17: =IFERROR(VLOOKUP(C17,effectif!$A$2:$K$5,5,FALSE),"") | H17: =IFERROR(VLOOKUP(C17,effectif!$A$2:$K$5,6,FALSE),"") | I17: =IFERROR(VLOOKUP(C17,effectif!$A$2:$K$5,7,FALSE),"") | J17: =IFERROR(VLOOKUP(C17,effectif!$A$2:$K$5,8,FALSE),"") | K17: =IFERROR(VLOOKUP(C17,effectif!$A$2:$K$5,9,FALSE),"") | L17: =IFERROR(VLOOKUP(C17,effectif!$A$2:$K$5,10,FALSE),"") | M17: =IFERROR(VLOOKUP(C17,effectif!$A$2:$K$5,11,FALSE),"")
A18: VENDREDI | B18: APRES MIDI | C18: R | D18: =IFERROR(VLOOKUP(C18,effectif!$A$2:$K$5,2,FALSE),"") -> 0 | E18: =IFERROR(VLOOKUP(C18,effectif!$A$2:$K$5,3,FALSE),"") -> rené | F18: =IFERROR(VLOOKUP(C18,effectif!$A$2:$K$5,4,FALSE),"") -> didier | G18: =IFERROR(VLOOKUP(C18,effectif!$A$2:$K$5,5,FALSE),"") -> jeanne | H18: =IFERROR(VLOOKUP(C18,effectif!$A$2:$K$5,6,FALSE),"") -> jack | I18: =IFERROR(VLOOKUP(C18,effectif!$A$2:$K$5,7,FALSE),"") -> denis | J18: =IFERROR(VLOOKUP(C18,effectif!$A$2:$K$5,8,FALSE),"") -> connan | K18: =IFERROR(VLOOKUP(C18,effectif!$A$2:$K$5,9,FALSE),"") -> erwan | L18: =IFERROR(VLOOKUP(C18,effectif!$A$2:$K$5,10,FALSE),"") -> 0 | M18: =IFERROR(VLOOKUP(C18,effectif!$A$2:$K$5,11,FALSE),"") -> kevin
A19: =A16+1 -> 42657 | B19: NUIT | D19: =IFERROR(VLOOKUP(C19,effectif!$A$2:$K$5,2,FALSE),"") | E19: =IFERROR(VLOOKUP(C19,effectif!$A$2:$K$5,3,FALSE),"") | F19: =IFERROR(VLOOKUP(C19,effectif!$A$2:$K$5,4,FALSE),"") | G19: =IFERROR(VLOOKUP(C19,effectif!$A$2:$K$5,5,FALSE),"") | H19: =IFERROR(VLOOKUP(C19,effectif!$A$2:$K$5,6,FALSE),"") | I19: =IFERROR(VLOOKUP(C19,effectif!$A$2:$K$5,7,FALSE),"") | J19: =IFERROR(VLOOKUP(C19,effectif!$A$2:$K$5,8,FALSE),"") | K19: =IFERROR(VLOOKUP(C19,effectif!$A$2:$K$5,9,FALSE),"") | L19: =IFERROR(VLOOKUP(C19,effectif!$A$2:$K$5,10,FALSE),"") | M19: =IFERROR(VLOOKUP(C19,effectif!$A$2:$K$5,11,FALSE),"")
B20: MATIN | D20: =IFERROR(VLOOKUP(C20,effectif!$A$2:$K$5,2,FALSE),"") | E20: =IFERROR(VLOOKUP(C20,effectif!$A$2:$K$5,3,FALSE),"") | F20: =IFERROR(VLOOKUP(C20,effectif!$A$2:$K$5,4,FALSE),"") | G20: =IFERROR(VLOOKUP(C20,effectif!$A$2:$K$5,5,FALSE),"") | H20: =IFERROR(VLOOKUP(C20,effectif!$A$2:$K$5,6,FALSE),"") | I20: =IFERROR(VLOOKUP(C20,effectif!$A$2:$K$5,7,FALSE),"") | J20: =IFERROR(VLOOKUP(C20,effectif!$A$2:$K$5,8,FALSE),"") | K20: =IFERROR(VLOOKUP(C20,effectif!$A$2:$K$5,9,FALSE),"") | L20: =IFERROR(VLOOKUP(C20,effectif!$A$2:$K$5,10,FALSE),"") | M20: =IFERROR(VLOOKUP(C20,effectif!$A$2:$K$5,11,FALSE),"")
A21: SAMEDI | B21: APRES MIDI | D21: =IFERROR(VLOOKUP(C21,effectif!$A$2:$K$5,2,FALSE),"") | E21: =IFERROR(VLOOKUP(C21,effectif!$A$2:$K$5,3,FALSE),"") | F21: =IFERROR(VLOOKUP(C21,effectif!$A$2:$K$5,4,FALSE),"") | G21: =IFERROR(VLOOKUP(C21,effectif!$A$2:$K$5,5,FALSE),"") | H21: =IFERROR(VLOOKUP(C21,effectif!$A$2:$K$5,6,FALSE),"") | I21: =IFERROR(VLOOKUP(C21,effectif!$A$2:$K$5,7,FALSE),"") | J21: =IFERROR(VLOOKUP(C21,effectif!$A$2:$K$5,8,FALSE),"") | K21: =IFERROR(VLOOKUP(C21,effectif!$A$2:$K$5,9,FALSE),"") | L21: =IFERROR(VLOOKUP(C21,effectif!$A$2:$K$5,10,FALSE),"") | M21: =IFERROR(VLOOKUP(C21,effectif!$A$2:$K$5,11,FALSE),"")
A22: =A19+1 -> 42658 | B22: NUIT | D22: =IFERROR(VLOOKUP(C22,effectif!$A$2:$K$5,2,FALSE),"") | E22: =IFERROR(VLOOKUP(C22,effectif!$A$2:$K$5,3,FALSE),"") | F22: =IFERROR(VLOOKUP(C22,effectif!$A$2:$K$5,4,FALSE),"") | G22: =IFERROR(VLOOKUP(C22,effectif!$A$2:$K$5,5,FALSE),"") | H22: =IFERROR(VLOOKUP(C22,effectif!$A$2:$K$5,6,FALSE),"") | I22: =IFERROR(VLOOKUP(C22,effectif!$A$2:$K$5,7,FALSE),"") | J22: =IFERROR(VLOOKUP(C22,effectif!$A$2:$K$5,8,FALSE),"") | K22: =IFERROR(VLOOKUP(C22,effectif!$A$2:$K$5,9,FALSE),"") | L22: =IFERROR(VLOOKUP(C22,effectif!$A$2:$K$5,10,FALSE),"") | M22: =IFERROR(VLOOKUP(C22,effectif!$A$2:$K$5,11,FALSE),"")
A23: NBR de quarts travaillés/semaine | D23: =COUNTIF(D5:D22,ISNUMBER(D5:D22)) -> 0 | E23: =COUNTA(E5:E22) -> 18 | F23: =COUNTA(F5:F22) -> 18 | G23: =COUNTA(G5:G22) -> 18 | H23: =COUNTA(H5:H22) -> 18 | I23: =COUNTA(I5:I22) -> 18 | J23: =COUNTA(J5:J22) -> 18 | K23: =COUNTA(K5:K22) -> 18 | L23: =COUNTA(L5:L22) -> 18 | M23: =COUNTA(M5:M22) -> 18
C24: Quart complets (sans x) | D24: =COUNTA(D5:D22)-COUNTIF(D$5:D$22,"x") -> 18 | E24: =COUNTA(E5:E22)-COUNTIF(E$5:E$22,"x") -> 18 | F24: =COUNTA(F5:F22)-COUNTIF(F$5:F$22,"x") -> 18 | G24: =COUNTA(G5:G22)-COUNTIF(G$5:G$22,"x") -> 18 | H24: =COUNTA(H5:H22)-COUNTIF(H$5:H$22,"x") -> 18 | I24: =COUNTA(I5:I22)-COUNTIF(I$5:I$22,"x") -> 18 | J24: =COUNTA(J5:J22)-COUNTIF(J$5:J$22,"x") -> 18 | K24: =COUNTA(K5:K22)-COUNTIF(K$5:K$22,"x") -> 18 | ... M24: =COUNTA(M5:M22)-COUNTIF(M$5:M$22,"x") -> 18
C25: Tonnagecomplete (sans x) | D25: =D24*D2 -> 1080000 | E25: =E24*E2 -> 64800 | F25: =F24*F2 -> 82800 | G25: =G24*G2 -> 0 | H25: =H24*H2 -> 27000 | I25: =I24*I2 -> 32400 | J25: =J24*J2 -> 52200 | K25: =K24*K2 -> 8100 | L25: =L24*L2 -> 9000
A26: Resultat attendu | D26: 2 | E26: 2 | F26: 5 | G26: 5 | H26: 5 | I26: 5 | J26: 3 | K26: 4 | L26: 2 | M26: 5
C27: tulipe | D27: =COUNTIF(D5:D22,"><") -> 2 | E27: =COUNTIF(E5:E22,"><") -> 2 | F27: =COUNTIF(F5:F22,"><") -> 5 | G27: =COUNTIF(G5:G22,"><") -> 5 | H27: =COUNTIF(H5:H22,"><") -> 5 | I27: =COUNTIF(I5:I22,"><") -> 5 | J27: =COUNTIF(J5:J22,"><") -> 3 | K27: =COUNTIF(K5:K22,"><") -> 4 | ... M27: =COUNTIF(M5:M22,"><") -> 5

Sheet effectif
B1: LAM 01 | C1: LAM 02 | D1: LAM 03 | E1: MAG | F1: CP7 | G1: CP8 | H1: CP9 | I1: CP25 | J1: MSV | K1: CE
A2: T | B2: jean | D2: eude | E2: henry | F2: marion | G2: lolo | H2: francis | I2: mimi | K2: max
A3: S | B3: yves | C3: bernard | D3: fred | E3: thierry | F3: briac | G3: chantal | H3: francois | K3: albé
A4: U | D4: paul | E4: suarez | F4: momo | G4: michel | I4: hervé | J4: alex | K4: patryck
A5: R | C5: rené | D5: didier | E5: jeanne | F5: jack | G5: denis | H5: connan | I5: erwan | K5: kevin
