Workbook
Name tablo1: Appréciations!$L$3:$L$6
Name tablo2: Appréciations!$M$4:$M$6

Sheet Notes
A4: Note 1 | B4: Note 2 | C4: Note 3 | D4: Note 4
A5: 11.5 | B5: 15 | C5: 18 | D5: 12

Sheet Appréciations
L1: tulipe
L2: petit tablo kivabien
L3: 0 | M3: passable
A4: Appréciation 1 | B4: Appréciation 2 | C4: Appréciation 3 | D4: Appréciation 4 | L4: 12.001 | M4: passable
A5: =IF(Notes!A5="","",INDEX(tablo2,MATCH(Notes!A5,tablo1,1))) -> passable | B5: =IF(Notes!B5="","",INDEX(tablo2,MATCH(Notes!B5,tablo1,1))) -> A.bien | C5: =IF(Notes!C5="","",INDEX(tablo2,MATCH(Notes!C5,tablo1,1))) -> Très Bien | D5: =IF(Notes!D5="","",INDEX(tablo2,MATCH(Notes!D5,tablo1,1))) -> passable | L5: 15.001 | M5: A.bien
A6: =IF(Notes!A6="","",INDEX(tablo2,MATCH(Notes!A6,tablo1,1))) | B6: =IF(Notes!B6="","",INDEX(tablo2,MATCH(Notes!B6,tablo1,1))) | C6: =IF(Notes!C6="","",INDEX(tablo2,MATCH(Notes!C6,tablo1,1))) | D6: =IF(Notes!D6="","",INDEX(tablo2,MATCH(Notes!D6,tablo1,1))) | L6: 200 | M6: Très Bien
A7: =IF(Notes!A7="","",INDEX(tablo2,MATCH(Notes!A7,tablo1,1))) | B7: =IF(Notes!B7="","",INDEX(tablo2,MATCH(Notes!B7,tablo1,1))) | C7: =IF(Notes!C7="","",INDEX(tablo2,MATCH(Notes!C7,tablo1,1))) | D7: =IF(Notes!D7="","",INDEX(tablo2,MATCH(Notes!D7,tablo1,1))) | F7: - Note<12 "Passable"
A8: =IF(Notes!A8="","",INDEX(tablo2,MATCH(Notes!A8,tablo1,1))) | B8: =IF(Notes!B8="","",INDEX(tablo2,MATCH(Notes!B8,tablo1,1))) | C8: =IF(Notes!C8="","",INDEX(tablo2,MATCH(Notes!C8,tablo1,1))) | D8: =IF(Notes!D8="","",INDEX(tablo2,MATCH(Notes!D8,tablo1,1))) | F8: - Note >=12 et <=15 "A.Bien"
A9: =IF(Notes!A9="","",INDEX(tablo2,MATCH(Notes!A9,tablo1,1))) | B9: =IF(Notes!B9="","",INDEX(tablo2,MATCH(Notes!B9,tablo1,1))) | C9: =IF(Notes!C9="","",INDEX(tablo2,MATCH(Notes!C9,tablo1,1))) | D9: =IF(Notes!D9="","",INDEX(tablo2,MATCH(Notes!D9,tablo1,1))) | F9: - Note >15 "Très Bien"
A10: =IF(Notes!A10="","",INDEX(tablo2,MATCH(Notes!A10,tablo1,1))) | B10: =IF(Notes!B10="","",INDEX(tablo2,MATCH(Notes!B10,tablo1,1))) | C10: =IF(Notes!C10="","",INDEX(tablo2,MATCH(Notes!C10,tablo1,1))) | D10: =IF(Notes!D10="","",INDEX(tablo2,MATCH(Notes!D10,tablo1,1)))
A11: =IF(Notes!A11="","",INDEX(tablo2,MATCH(Notes!A11,tablo1,1))) | B11: =IF(Notes!B11="","",INDEX(tablo2,MATCH(Notes!B11,tablo1,1))) | C11: =IF(Notes!C11="","",INDEX(tablo2,MATCH(Notes!C11,tablo1,1))) | D11: =IF(Notes!D11="","",INDEX(tablo2,MATCH(Notes!D11,tablo1,1)))
A12: =IF(Notes!A12="","",INDEX(tablo2,MATCH(Notes!A12,tablo1,1))) | B12: =IF(Notes!B12="","",INDEX(tablo2,MATCH(Notes!B12,tablo1,1))) | C12: =IF(Notes!C12="","",INDEX(tablo2,MATCH(Notes!C12,tablo1,1))) | D12: =IF(Notes!D12="","",INDEX(tablo2,MATCH(Notes!D12,tablo1,1)))
A13: =IF(Notes!A13="","",INDEX(tablo2,MATCH(Notes!A13,tablo1,1))) | B13: =IF(Notes!B13="","",INDEX(tablo2,MATCH(Notes!B13,tablo1,1))) | C13: =IF(Notes!C13="","",INDEX(tablo2,MATCH(Notes!C13,tablo1,1))) | D13: =IF(Notes!D13="","",INDEX(tablo2,MATCH(Notes!D13,tablo1,1)))
