Workbook
Name bdd: Validées!$K$8:$Y$17
Name nom: Validées!$F$8:$F$17

Sheet Validées
E7: Matricule | F7: Nom | G7: Prénom | H7: Debut Absence | I7: Fin Absence | J7: Type Absence
F8: nom1 | H8: 42739 | I8: 42748 | J8: PAYÉ | K8: =MIN(ROW($A$1)*$H8) -> 42739 | L8: =IF((ROW($A$1)*$H8+COLUMN(A:A))>$I8,"",(ROW($A$1)*$H8)+COLUMN(A:A)) -> 42740 | M8: =IF((ROW($A$1)*$H8+COLUMN(B:B))>$I8,"",(ROW($A$1)*$H8)+COLUMN(B:B)) -> 42741 | N8: =IF((ROW($A$1)*$H8+COLUMN(C:C))>$I8,"",(ROW($A$1)*$H8)+COLUMN(C:C)) -> 42742 | O8: =IF((ROW($A$1)*$H8+COLUMN(D:D))>$I8,"",(ROW($A$1)*$H8)+COLUMN(D:D)) -> 42743 | P8: =IF((ROW($A$1)*$H8+COLUMN(E:E))>$I8,"",(ROW($A$1)*$H8)+COLUMN(E:E)) -> 42744 | Q8: =IF((ROW($A$1)*$H8+COLUMN(F:F))>$I8,"",(ROW($A$1)*$H8)+COLUMN(F:F)) -> 42745 | R8: =IF((ROW($A$1)*$H8+COLUMN(G:G))>$I8,"",(ROW($A$1)*$H8)+COLUMN(G:G)) -> 42746 | S8: =IF((ROW($A$1)*$H8+COLUMN(H:H))>$I8,"",(ROW($A$1)*$H8)+COLUMN(H:H)) -> 42747 | T8: =IF((ROW($A$1)*$H8+COLUMN(I:I))>$I8,"",(ROW($A$1)*$H8)+COLUMN(I:I)) -> 42748 | U8: =IF((ROW($A$1)*$H8+COLUMN(J:J))>$I8,"",(ROW($A$1)*$H8)+COLUMN(J:J)) | V8: =IF((ROW($A$1)*$H8+COLUMN(K:K))>$I8,"",(ROW($A$1)*$H8)+COLUMN(K:K)) | W8: =IF((ROW($A$1)*$H8+COLUMN(L:L))>$I8,"",(ROW($A$1)*$H8)+COLUMN(L:L)) | X8: =IF((ROW($A$1)*$H8+COLUMN(M:M))>$I8,"",(ROW($A$1)*$H8)+COLUMN(M:M)) | Y8: =IF((ROW($A$1)*$H8+COLUMN(N:N))>$I8,"",(ROW($A$1)*$H8)+COLUMN(N:N))
F9: nom2 | H9: 42740 | I9: 42750 | K9: =MIN(ROW($A$1)*$H9) -> 42740 | L9: =IF((ROW($A$1)*$H9+COLUMN(A:A))>$I9,"",(ROW($A$1)*$H9)+COLUMN(A:A)) -> 42741 | M9: =IF((ROW($A$1)*$H9+COLUMN(B:B))>$I9,"",(ROW($A$1)*$H9)+COLUMN(B:B)) -> 42742 | N9: =IF((ROW($A$1)*$H9+COLUMN(C:C))>$I9,"",(ROW($A$1)*$H9)+COLUMN(C:C)) -> 42743 | O9: =IF((ROW($A$1)*$H9+COLUMN(D:D))>$I9,"",(ROW($A$1)*$H9)+COLUMN(D:D)) -> 42744 | P9: =IF((ROW($A$1)*$H9+COLUMN(E:E))>$I9,"",(ROW($A$1)*$H9)+COLUMN(E:E)) -> 42745 | Q9: =IF((ROW($A$1)*$H9+COLUMN(F:F))>$I9,"",(ROW($A$1)*$H9)+COLUMN(F:F)) -> 42746 | R9: =IF((ROW($A$1)*$H9+COLUMN(G:G))>$I9,"",(ROW($A$1)*$H9)+COLUMN(G:G)) -> 42747 | S9: =IF((ROW($A$1)*$H9+COLUMN(H:H))>$I9,"",(ROW($A$1)*$H9)+COLUMN(H:H)) -> 42748 | T9: =IF((ROW($A$1)*$H9+COLUMN(I:I))>$I9,"",(ROW($A$1)*$H9)+COLUMN(I:I)) -> 42749 | U9: =IF((ROW($A$1)*$H9+COLUMN(J:J))>$I9,"",(ROW($A$1)*$H9)+COLUMN(J:J)) -> 42750 | V9: =IF((ROW($A$1)*$H9+COLUMN(K:K))>$I9,"",(ROW($A$1)*$H9)+COLUMN(K:K)) | W9: =IF((ROW($A$1)*$H9+COLUMN(L:L))>$I9,"",(ROW($A$1)*$H9)+COLUMN(L:L)) | X9: =IF((ROW($A$1)*$H9+COLUMN(M:M))>$I9,"",(ROW($A$1)*$H9)+COLUMN(M:M)) | Y9: =IF((ROW($A$1)*$H9+COLUMN(N:N))>$I9,"",(ROW($A$1)*$H9)+COLUMN(N:N))
F10: nom3 | H10: 42741 | I10: 42745 | J10: PAYÉ | K10: =MIN(ROW($A$1)*$H10) -> 42741 | L10: =IF((ROW($A$1)*$H10+COLUMN(A:A))>$I10,"",(ROW($A$1)*$H10)+COLUMN(A:A)) -> 42742 | M10: =IF((ROW($A$1)*$H10+COLUMN(B:B))>$I10,"",(ROW($A$1)*$H10)+COLUMN(B:B)) -> 42743 | N10: =IF((ROW($A$1)*$H10+COLUMN(C:C))>$I10,"",(ROW($A$1)*$H10)+COLUMN(C:C)) -> 42744 | O10: =IF((ROW($A$1)*$H10+COLUMN(D:D))>$I10,"",(ROW($A$1)*$H10)+COLUMN(D:D)) -> 42745 | P10: =IF((ROW($A$1)*$H10+COLUMN(E:E))>$I10,"",(ROW($A$1)*$H10)+COLUMN(E:E)) | Q10: =IF((ROW($A$1)*$H10+COLUMN(F:F))>$I10,"",(ROW($A$1)*$H10)+COLUMN(F:F)) | R10: =IF((ROW($A$1)*$H10+COLUMN(G:G))>$I10,"",(ROW($A$1)*$H10)+COLUMN(G:G)) | S10: =IF((ROW($A$1)*$H10+COLUMN(H:H))>$I10,"",(ROW($A$1)*$H10)+COLUMN(H:H)) | T10: =IF((ROW($A$1)*$H10+COLUMN(I:I))>$I10,"",(ROW($A$1)*$H10)+COLUMN(I:I)) | U10: =IF((ROW($A$1)*$H10+COLUMN(J:J))>$I10,"",(ROW($A$1)*$H10)+COLUMN(J:J)) | V10: =IF((ROW($A$1)*$H10+COLUMN(K:K))>$I10,"",(ROW($A$1)*$H10)+COLUMN(K:K)) | W10: =IF((ROW($A$1)*$H10+COLUMN(L:L))>$I10,"",(ROW($A$1)*$H10)+COLUMN(L:L)) | X10: =IF((ROW($A$1)*$H10+COLUMN(M:M))>$I10,"",(ROW($A$1)*$H10)+COLUMN(M:M)) | Y10: =IF((ROW($A$1)*$H10+COLUMN(N:N))>$I10,"",(ROW($A$1)*$H10)+COLUMN(N:N))
F11: nom1 | H11: 42751 | I11: 42752 | J11: SANS SOLDE | K11: =MIN(ROW($A$1)*$H11) -> 42751 | L11: =IF((ROW($A$1)*$H11+COLUMN(A:A))>$I11,"",(ROW($A$1)*$H11)+COLUMN(A:A)) -> 42752 | M11: =IF((ROW($A$1)*$H11+COLUMN(B:B))>$I11,"",(ROW($A$1)*$H11)+COLUMN(B:B)) | N11: =IF((ROW($A$1)*$H11+COLUMN(C:C))>$I11,"",(ROW($A$1)*$H11)+COLUMN(C:C)) | O11: =IF((ROW($A$1)*$H11+COLUMN(D:D))>$I11,"",(ROW($A$1)*$H11)+COLUMN(D:D)) | P11: =IF((ROW($A$1)*$H11+COLUMN(E:E))>$I11,"",(ROW($A$1)*$H11)+COLUMN(E:E)) | Q11: =IF((ROW($A$1)*$H11+COLUMN(F:F))>$I11,"",(ROW($A$1)*$H11)+COLUMN(F:F)) | R11: =IF((ROW($A$1)*$H11+COLUMN(G:G))>$I11,"",(ROW($A$1)*$H11)+COLUMN(G:G)) | S11: =IF((ROW($A$1)*$H11+COLUMN(H:H))>$I11,"",(ROW($A$1)*$H11)+COLUMN(H:H)) | T11: =IF((ROW($A$1)*$H11+COLUMN(I:I))>$I11,"",(ROW($A$1)*$H11)+COLUMN(I:I)) | U11: =IF((ROW($A$1)*$H11+COLUMN(J:J))>$I11,"",(ROW($A$1)*$H11)+COLUMN(J:J)) | V11: =IF((ROW($A$1)*$H11+COLUMN(K:K))>$I11,"",(ROW($A$1)*$H11)+COLUMN(K:K)) | W11: =IF((ROW($A$1)*$H11+COLUMN(L:L))>$I11,"",(ROW($A$1)*$H11)+COLUMN(L:L)) | X11: =IF((ROW($A$1)*$H11+COLUMN(M:M))>$I11,"",(ROW($A$1)*$H11)+COLUMN(M:M)) | Y11: =IF((ROW($A$1)*$H11+COLUMN(N:N))>$I11,"",(ROW($A$1)*$H11)+COLUMN(N:N))
F12: nom5 | H12: 42742 | I12: 42745 | J12: PAYÉ | K12: =MIN(ROW($A$1)*$H12) -> 42742 | L12: =IF((ROW($A$1)*$H12+COLUMN(A:A))>$I12,"",(ROW($A$1)*$H12)+COLUMN(A:A)) -> 42743 | M12: =IF((ROW($A$1)*$H12+COLUMN(B:B))>$I12,"",(ROW($A$1)*$H12)+COLUMN(B:B)) -> 42744 | N12: =IF((ROW($A$1)*$H12+COLUMN(C:C))>$I12,"",(ROW($A$1)*$H12)+COLUMN(C:C)) -> 42745 | O12: =IF((ROW($A$1)*$H12+COLUMN(D:D))>$I12,"",(ROW($A$1)*$H12)+COLUMN(D:D)) | P12: =IF((ROW($A$1)*$H12+COLUMN(E:E))>$I12,"",(ROW($A$1)*$H12)+COLUMN(E:E)) | Q12: =IF((ROW($A$1)*$H12+COLUMN(F:F))>$I12,"",(ROW($A$1)*$H12)+COLUMN(F:F)) | R12: =IF((ROW($A$1)*$H12+COLUMN(G:G))>$I12,"",(ROW($A$1)*$H12)+COLUMN(G:G)) | S12: =IF((ROW($A$1)*$H12+COLUMN(H:H))>$I12,"",(ROW($A$1)*$H12)+COLUMN(H:H)) | T12: =IF((ROW($A$1)*$H12+COLUMN(I:I))>$I12,"",(ROW($A$1)*$H12)+COLUMN(I:I)) | U12: =IF((ROW($A$1)*$H12+COLUMN(J:J))>$I12,"",(ROW($A$1)*$H12)+COLUMN(J:J)) | V12: =IF((ROW($A$1)*$H12+COLUMN(K:K))>$I12,"",(ROW($A$1)*$H12)+COLUMN(K:K)) | W12: =IF((ROW($A$1)*$H12+COLUMN(L:L))>$I12,"",(ROW($A$1)*$H12)+COLUMN(L:L)) | X12: =IF((ROW($A$1)*$H12+COLUMN(M:M))>$I12,"",(ROW($A$1)*$H12)+COLUMN(M:M)) | Y12: =IF((ROW($A$1)*$H12+COLUMN(N:N))>$I12,"",(ROW($A$1)*$H12)+COLUMN(N:N))
F13: nom6 | H13: 42743 | I13: 42750 | J13: PAYÉ | K13: =MIN(ROW($A$1)*$H13) -> 42743 | L13: =IF((ROW($A$1)*$H13+COLUMN(A:A))>$I13,"",(ROW($A$1)*$H13)+COLUMN(A:A)) -> 42744 | M13: =IF((ROW($A$1)*$H13+COLUMN(B:B))>$I13,"",(ROW($A$1)*$H13)+COLUMN(B:B)) -> 42745 | N13: =IF((ROW($A$1)*$H13+COLUMN(C:C))>$I13,"",(ROW($A$1)*$H13)+COLUMN(C:C)) -> 42746 | O13: =IF((ROW($A$1)*$H13+COLUMN(D:D))>$I13,"",(ROW($A$1)*$H13)+COLUMN(D:D)) -> 42747 | P13: =IF((ROW($A$1)*$H13+COLUMN(E:E))>$I13,"",(ROW($A$1)*$H13)+COLUMN(E:E)) -> 42748 | Q13: =IF((ROW($A$1)*$H13+COLUMN(F:F))>$I13,"",(ROW($A$1)*$H13)+COLUMN(F:F)) -> 42749 | R13: =IF((ROW($A$1)*$H13+COLUMN(G:G))>$I13,"",(ROW($A$1)*$H13)+COLUMN(G:G)) -> 42750 | S13: =IF((ROW($A$1)*$H13+COLUMN(H:H))>$I13,"",(ROW($A$1)*$H13)+COLUMN(H:H)) | T13: =IF((ROW($A$1)*$H13+COLUMN(I:I))>$I13,"",(ROW($A$1)*$H13)+COLUMN(I:I)) | U13: =IF((ROW($A$1)*$H13+COLUMN(J:J))>$I13,"",(ROW($A$1)*$H13)+COLUMN(J:J)) | V13: =IF((ROW($A$1)*$H13+COLUMN(K:K))>$I13,"",(ROW($A$1)*$H13)+COLUMN(K:K)) | W13: =IF((ROW($A$1)*$H13+COLUMN(L:L))>$I13,"",(ROW($A$1)*$H13)+COLUMN(L:L)) | X13: =IF((ROW($A$1)*$H13+COLUMN(M:M))>$I13,"",(ROW($A$1)*$H13)+COLUMN(M:M)) | Y13: =IF((ROW($A$1)*$H13+COLUMN(N:N))>$I13,"",(ROW($A$1)*$H13)+COLUMN(N:N))
F14: nom7 | H14: 42744 | I14: 42747 | J14: MARIAGE | K14: =MIN(ROW($A$1)*$H14) -> 42744 | L14: =IF((ROW($A$1)*$H14+COLUMN(A:A))>$I14,"",(ROW($A$1)*$H14)+COLUMN(A:A)) -> 42745 | M14: =IF((ROW($A$1)*$H14+COLUMN(B:B))>$I14,"",(ROW($A$1)*$H14)+COLUMN(B:B)) -> 42746 | N14: =IF((ROW($A$1)*$H14+COLUMN(C:C))>$I14,"",(ROW($A$1)*$H14)+COLUMN(C:C)) -> 42747 | O14: =IF((ROW($A$1)*$H14+COLUMN(D:D))>$I14,"",(ROW($A$1)*$H14)+COLUMN(D:D)) | P14: =IF((ROW($A$1)*$H14+COLUMN(E:E))>$I14,"",(ROW($A$1)*$H14)+COLUMN(E:E)) | Q14: =IF((ROW($A$1)*$H14+COLUMN(F:F))>$I14,"",(ROW($A$1)*$H14)+COLUMN(F:F)) | R14: =IF((ROW($A$1)*$H14+COLUMN(G:G))>$I14,"",(ROW($A$1)*$H14)+COLUMN(G:G)) | S14: =IF((ROW($A$1)*$H14+COLUMN(H:H))>$I14,"",(ROW($A$1)*$H14)+COLUMN(H:H)) | T14: =IF((ROW($A$1)*$H14+COLUMN(I:I))>$I14,"",(ROW($A$1)*$H14)+COLUMN(I:I)) | U14: =IF((ROW($A$1)*$H14+COLUMN(J:J))>$I14,"",(ROW($A$1)*$H14)+COLUMN(J:J)) | V14: =IF((ROW($A$1)*$H14+COLUMN(K:K))>$I14,"",(ROW($A$1)*$H14)+COLUMN(K:K)) | W14: =IF((ROW($A$1)*$H14+COLUMN(L:L))>$I14,"",(ROW($A$1)*$H14)+COLUMN(L:L)) | X14: =IF((ROW($A$1)*$H14+COLUMN(M:M))>$I14,"",(ROW($A$1)*$H14)+COLUMN(M:M)) | Y14: =IF((ROW($A$1)*$H14+COLUMN(N:N))>$I14,"",(ROW($A$1)*$H14)+COLUMN(N:N))
F15: nom8 | H15: 42744 | I15: 42751 | J15: PAYÉ | K15: =MIN(ROW($A$1)*$H15) -> 42744 | L15: =IF((ROW($A$1)*$H15+COLUMN(A:A))>$I15,"",(ROW($A$1)*$H15)+COLUMN(A:A)) -> 42745 | M15: =IF((ROW($A$1)*$H15+COLUMN(B:B))>$I15,"",(ROW($A$1)*$H15)+COLUMN(B:B)) -> 42746 | N15: =IF((ROW($A$1)*$H15+COLUMN(C:C))>$I15,"",(ROW($A$1)*$H15)+COLUMN(C:C)) -> 42747 | O15: =IF((ROW($A$1)*$H15+COLUMN(D:D))>$I15,"",(ROW($A$1)*$H15)+COLUMN(D:D)) -> 42748 | P15: =IF((ROW($A$1)*$H15+COLUMN(E:E))>$I15,"",(ROW($A$1)*$H15)+COLUMN(E:E)) -> 42749 | Q15: =IF((ROW($A$1)*$H15+COLUMN(F:F))>$I15,"",(ROW($A$1)*$H15)+COLUMN(F:F)) -> 42750 | R15: =IF((ROW($A$1)*$H15+COLUMN(G:G))>$I15,"",(ROW($A$1)*$H15)+COLUMN(G:G)) -> 42751 | S15: =IF((ROW($A$1)*$H15+COLUMN(H:H))>$I15,"",(ROW($A$1)*$H15)+COLUMN(H:H)) | T15: =IF((ROW($A$1)*$H15+COLUMN(I:I))>$I15,"",(ROW($A$1)*$H15)+COLUMN(I:I)) | U15: =IF((ROW($A$1)*$H15+COLUMN(J:J))>$I15,"",(ROW($A$1)*$H15)+COLUMN(J:J)) | V15: =IF((ROW($A$1)*$H15+COLUMN(K:K))>$I15,"",(ROW($A$1)*$H15)+COLUMN(K:K)) | W15: =IF((ROW($A$1)*$H15+COLUMN(L:L))>$I15,"",(ROW($A$1)*$H15)+COLUMN(L:L)) | X15: =IF((ROW($A$1)*$H15+COLUMN(M:M))>$I15,"",(ROW($A$1)*$H15)+COLUMN(M:M)) | Y15: =IF((ROW($A$1)*$H15+COLUMN(N:N))>$I15,"",(ROW($A$1)*$H15)+COLUMN(N:N))
F16: nom9 | H16: 42744 | I16: 42750 | J16: PAYÉ | K16: =MIN(ROW($A$1)*$H16) -> 42744 | L16: =IF((ROW($A$1)*$H16+COLUMN(A:A))>$I16,"",(ROW($A$1)*$H16)+COLUMN(A:A)) -> 42745 | M16: =IF((ROW($A$1)*$H16+COLUMN(B:B))>$I16,"",(ROW($A$1)*$H16)+COLUMN(B:B)) -> 42746 | N16: =IF((ROW($A$1)*$H16+COLUMN(C:C))>$I16,"",(ROW($A$1)*$H16)+COLUMN(C:C)) -> 42747 | O16: =IF((ROW($A$1)*$H16+COLUMN(D:D))>$I16,"",(ROW($A$1)*$H16)+COLUMN(D:D)) -> 42748 | P16: =IF((ROW($A$1)*$H16+COLUMN(E:E))>$I16,"",(ROW($A$1)*$H16)+COLUMN(E:E)) -> 42749 | Q16: =IF((ROW($A$1)*$H16+COLUMN(F:F))>$I16,"",(ROW($A$1)*$H16)+COLUMN(F:F)) -> 42750 | R16: =IF((ROW($A$1)*$H16+COLUMN(G:G))>$I16,"",(ROW($A$1)*$H16)+COLUMN(G:G)) | S16: =IF((ROW($A$1)*$H16+COLUMN(H:H))>$I16,"",(ROW($A$1)*$H16)+COLUMN(H:H)) | T16: =IF((ROW($A$1)*$H16+COLUMN(I:I))>$I16,"",(ROW($A$1)*$H16)+COLUMN(I:I)) | U16: =IF((ROW($A$1)*$H16+COLUMN(J:J))>$I16,"",(ROW($A$1)*$H16)+COLUMN(J:J)) | V16: =IF((ROW($A$1)*$H16+COLUMN(K:K))>$I16,"",(ROW($A$1)*$H16)+COLUMN(K:K)) | W16: =IF((ROW($A$1)*$H16+COLUMN(L:L))>$I16,"",(ROW($A$1)*$H16)+COLUMN(L:L)) | X16: =IF((ROW($A$1)*$H16+COLUMN(M:M))>$I16,"",(ROW($A$1)*$H16)+COLUMN(M:M)) | Y16: =IF((ROW($A$1)*$H16+COLUMN(N:N))>$I16,"",(ROW($A$1)*$H16)+COLUMN(N:N))
F17: nom10 | H17: 42744 | I17: 42786 | J17: SANS SOLDE | K17: =MIN(ROW($A$1)*$H17) -> 42744 | L17: =IF((ROW($A$1)*$H17+COLUMN(A:A))>$I17,"",(ROW($A$1)*$H17)+COLUMN(A:A)) -> 42745 | M17: =IF((ROW($A$1)*$H17+COLUMN(B:B))>$I17,"",(ROW($A$1)*$H17)+COLUMN(B:B)) -> 42746 | N17: =IF((ROW($A$1)*$H17+COLUMN(C:C))>$I17,"",(ROW($A$1)*$H17)+COLUMN(C:C)) -> 42747 | O17: =IF((ROW($A$1)*$H17+COLUMN(D:D))>$I17,"",(ROW($A$1)*$H17)+COLUMN(D:D)) -> 42748 | P17: =IF((ROW($A$1)*$H17+COLUMN(E:E))>$I17,"",(ROW($A$1)*$H17)+COLUMN(E:E)) -> 42749 | Q17: =IF((ROW($A$1)*$H17+COLUMN(F:F))>$I17,"",(ROW($A$1)*$H17)+COLUMN(F:F)) -> 42750 | R17: =IF((ROW($A$1)*$H17+COLUMN(G:G))>$I17,"",(ROW($A$1)*$H17)+COLUMN(G:G)) -> 42751 | S17: =IF((ROW($A$1)*$H17+COLUMN(H:H))>$I17,"",(ROW($A$1)*$H17)+COLUMN(H:H)) -> 42752 | T17: =IF((ROW($A$1)*$H17+COLUMN(I:I))>$I17,"",(ROW($A$1)*$H17)+COLUMN(I:I)) -> 42753 | U17: =IF((ROW($A$1)*$H17+COLUMN(J:J))>$I17,"",(ROW($A$1)*$H17)+COLUMN(J:J)) -> 42754 | V17: =IF((ROW($A$1)*$H17+COLUMN(K:K))>$I17,"",(ROW($A$1)*$H17)+COLUMN(K:K)) -> 42755 | W17: =IF((ROW($A$1)*$H17+COLUMN(L:L))>$I17,"",(ROW($A$1)*$H17)+COLUMN(L:L)) -> 42756 | X17: =IF((ROW($A$1)*$H17+COLUMN(M:M))>$I17,"",(ROW($A$1)*$H17)+COLUMN(M:M)) -> 42757 | Y17: =IF((ROW($A$1)*$H17+COLUMN(N:N))>$I17,"",(ROW($A$1)*$H17)+COLUMN(N:N)) -> 42758
L18: =IF((ROW($A$1)*$H18+COLUMN(A:A))>$I18,"",(ROW($A$1)*$H18)+COLUMN(A:A)) | M18: =IF((ROW($A$1)*$H18+COLUMN(B:B))>$I18,"",(ROW($A$1)*$H18)+COLUMN(B:B)) | N18: =IF((ROW($A$1)*$H18+COLUMN(C:C))>$I18,"",(ROW($A$1)*$H18)+COLUMN(C:C)) | O18: =IF((ROW($A$1)*$H18+COLUMN(D:D))>$I18,"",(ROW($A$1)*$H18)+COLUMN(D:D)) | P18: =IF((ROW($A$1)*$H18+COLUMN(E:E))>$I18,"",(ROW($A$1)*$H18)+COLUMN(E:E)) | Q18: =IF((ROW($A$1)*$H18+COLUMN(F:F))>$I18,"",(ROW($A$1)*$H18)+COLUMN(F:F)) | R18: =IF((ROW($A$1)*$H18+COLUMN(G:G))>$I18,"",(ROW($A$1)*$H18)+COLUMN(G:G)) | S18: =IF((ROW($A$1)*$H18+COLUMN(H:H))>$I18,"",(ROW($A$1)*$H18)+COLUMN(H:H)) | T18: =IF((ROW($A$1)*$H18+COLUMN(I:I))>$I18,"",(ROW($A$1)*$H18)+COLUMN(I:I)) | U18: =IF((ROW($A$1)*$H18+COLUMN(J:J))>$I18,"",(ROW($A$1)*$H18)+COLUMN(J:J)) | V18: =IF((ROW($A$1)*$H18+COLUMN(K:K))>$I18,"",(ROW($A$1)*$H18)+COLUMN(K:K)) | W18: =IF((ROW($A$1)*$H18+COLUMN(L:L))>$I18,"",(ROW($A$1)*$H18)+COLUMN(L:L)) | X18: =IF((ROW($A$1)*$H18+COLUMN(M:M))>$I18,"",(ROW($A$1)*$H18)+COLUMN(M:M)) | Y18: =IF((ROW($A$1)*$H18+COLUMN(N:N))>$I18,"",(ROW($A$1)*$H18)+COLUMN(N:N))
L19: =IF((ROW($A$1)*$H19+COLUMN(A:A))>$I19,"",(ROW($A$1)*$H19)+COLUMN(A:A)) | M19: =IF((ROW($A$1)*$H19+COLUMN(B:B))>$I19,"",(ROW($A$1)*$H19)+COLUMN(B:B)) | N19: =IF((ROW($A$1)*$H19+COLUMN(C:C))>$I19,"",(ROW($A$1)*$H19)+COLUMN(C:C)) | O19: =IF((ROW($A$1)*$H19+COLUMN(D:D))>$I19,"",(ROW($A$1)*$H19)+COLUMN(D:D)) | P19: =IF((ROW($A$1)*$H19+COLUMN(E:E))>$I19,"",(ROW($A$1)*$H19)+COLUMN(E:E)) | Q19: =IF((ROW($A$1)*$H19+COLUMN(F:F))>$I19,"",(ROW($A$1)*$H19)+COLUMN(F:F)) | R19: =IF((ROW($A$1)*$H19+COLUMN(G:G))>$I19,"",(ROW($A$1)*$H19)+COLUMN(G:G)) | S19: =IF((ROW($A$1)*$H19+COLUMN(H:H))>$I19,"",(ROW($A$1)*$H19)+COLUMN(H:H)) | T19: =IF((ROW($A$1)*$H19+COLUMN(I:I))>$I19,"",(ROW($A$1)*$H19)+COLUMN(I:I)) | U19: =IF((ROW($A$1)*$H19+COLUMN(J:J))>$I19,"",(ROW($A$1)*$H19)+COLUMN(J:J)) | V19: =IF((ROW($A$1)*$H19+COLUMN(K:K))>$I19,"",(ROW($A$1)*$H19)+COLUMN(K:K)) | W19: =IF((ROW($A$1)*$H19+COLUMN(L:L))>$I19,"",(ROW($A$1)*$H19)+COLUMN(L:L)) | X19: =IF((ROW($A$1)*$H19+COLUMN(M:M))>$I19,"",(ROW($A$1)*$H19)+COLUMN(M:M)) | Y19: =IF((ROW($A$1)*$H19+COLUMN(N:N))>$I19,"",(ROW($A$1)*$H19)+COLUMN(N:N))

Sheet Congés
C1: PAYÉ | D1: SANS SOLDE | E1: MARIAGE
A3: Matricule | B3: Nom | C3: Prénom | D3: 42736 | E3: 42737 | F3: 42738 | G3: 42739 | H3: 42740 | I3: 42741 | J3: 42742 | K3: 42743 | L3: 42744 | M3: 42745 | N3: 42746 | O3: 42747 | P3: 42748 | Q3: 42749 | R3: 42750 | S3: 42751 | T3: 42752 | U3: 42753 | V3: 42754
B4: {=IFERROR(INDEX(Validées!F$8:F$17,SMALL(IF(FREQUENCY(IFERROR(MATCH(IF((Validées!J$8:J$17=C$1)+(Validées!J$8:J$17=D$1)+(Validées!J$8:J$17=E$1)>0,Validées!F$8:F$17,0),Validées!F$8:F$17,0),""),ROW(Validées!F$8:F$17)-7)>0,ROW(Validées!F$8:F$17)-7),ROW(A1))),"")} -> nom1 | D4: {=IFERROR(IF(MAX(IF(nom=$B4,IF(bdd=D$3,ROW(nom)-7)))=0,"",INDEX(Validées!$J$8:$J$17,MAX(IF(nom=$B4,IF(bdd=D$3,ROW(nom)-7))))),"")} | E4: {=IFERROR(IF(MAX(IF(nom=$B4,IF(bdd=E$3,ROW(nom)-7)))=0,"",INDEX(Validées!$J$8:$J$17,MAX(IF(nom=$B4,IF(bdd=E$3,ROW(nom)-7))))),"")} | F4: {=IFERROR(IF(MAX(IF(nom=$B4,IF(bdd=F$3,ROW(nom)-7)))=0,"",INDEX(Validées!$J$8:$J$17,MAX(IF(nom=$B4,IF(bdd=F$3,ROW(nom)-7))))),"")} | G4: {=IFERROR(IF(MAX(IF(nom=$B4,IF(bdd=G$3,ROW(nom)-7)))=0,"",INDEX(Validées!$J$8:$J$17,MAX(IF(nom=$B4,IF(bdd=G$3,ROW(nom)-7))))),"")} -> PAYÉ | H4: {=IFERROR(IF(MAX(IF(nom=$B4,IF(bdd=H$3,ROW(nom)-7)))=0,"",INDEX(Validées!$J$8:$J$17,MAX(IF(nom=$B4,IF(bdd=H$3,ROW(nom)-7))))),"")} -> PAYÉ | I4: {=IFERROR(IF(MAX(IF(nom=$B4,IF(bdd=I$3,ROW(nom)-7)))=0,"",INDEX(Validées!$J$8:$J$17,MAX(IF(nom=$B4,IF(bdd=I$3,ROW(nom)-7))))),"")} -> PAYÉ | J4: {=IFERROR(IF(MAX(IF(nom=$B4,IF(bdd=J$3,ROW(nom)-7)))=0,"",INDEX(Validées!$J$8:$J$17,MAX(IF(nom=$B4,IF(bdd=J$3,ROW(nom)-7))))),"")} -> PAYÉ | K4: {=IFERROR(IF(MAX(IF(nom=$B4,IF(bdd=K$3,ROW(nom)-7)))=0,"",INDEX(Validées!$J$8:$J$17,MAX(IF(nom=$B4,IF(bdd=K$3,ROW(nom)-7))))),"")} -> PAYÉ | ... V4: {=IFERROR(IF(MAX(IF(nom=$B4,IF(bdd=V$3,ROW(nom)-7)))=0,"",INDEX(Validées!$J$8:$J$17,MAX(IF(nom=$B4,IF(bdd=V$3,ROW(nom)-7))))),"")}
B5: {=IFERROR(INDEX(Validées!F$8:F$17,SMALL(IF(FREQUENCY(IFERROR(MATCH(IF((Validées!J$8:J$17=C$1)+(Validées!J$8:J$17=D$1)+(Validées!J$8:J$17=E$1)>0,Validées!F$8:F$17,0),Validées!F$8:F$17,0),""),ROW(Validées!F$8:F$17)-7)>0,ROW(Validées!F$8:F$17)-7),ROW(A2))),"")} -> nom3 | D5: {=IFERROR(IF(MAX(IF(nom=$B5,IF(bdd=D$3,ROW(nom)-7)))=0,"",INDEX(Validées!$J$8:$J$17,MAX(IF(nom=$B5,IF(bdd=D$3,ROW(nom)-7))))),"")} | E5: {=IFERROR(IF(MAX(IF(nom=$B5,IF(bdd=E$3,ROW(nom)-7)))=0,"",INDEX(Validées!$J$8:$J$17,MAX(IF(nom=$B5,IF(bdd=E$3,ROW(nom)-7))))),"")} | F5: {=IFERROR(IF(MAX(IF(nom=$B5,IF(bdd=F$3,ROW(nom)-7)))=0,"",INDEX(Validées!$J$8:$J$17,MAX(IF(nom=$B5,IF(bdd=F$3,ROW(nom)-7))))),"")} | G5: {=IFERROR(IF(MAX(IF(nom=$B5,IF(bdd=G$3,ROW(nom)-7)))=0,"",INDEX(Validées!$J$8:$J$17,MAX(IF(nom=$B5,IF(bdd=G$3,ROW(nom)-7))))),"")} | H5: {=IFERROR(IF(MAX(IF(nom=$B5,IF(bdd=H$3,ROW(nom)-7)))=0,"",INDEX(Validées!$J$8:$J$17,MAX(IF(nom=$B5,IF(bdd=H$3,ROW(nom)-7))))),"")} | I5: {=IFERROR(IF(MAX(IF(nom=$B5,IF(bdd=I$3,ROW(nom)-7)))=0,"",INDEX(Validées!$J$8:$J$17,MAX(IF(nom=$B5,IF(bdd=I$3,ROW(nom)-7))))),"")} -> PAYÉ | J5: {=IFERROR(IF(MAX(IF(nom=$B5,IF(bdd=J$3,ROW(nom)-7)))=0,"",INDEX(Validées!$J$8:$J$17,MAX(IF(nom=$B5,IF(bdd=J$3,ROW(nom)-7))))),"")} -> PAYÉ | K5: {=IFERROR(IF(MAX(IF(nom=$B5,IF(bdd=K$3,ROW(nom)-7)))=0,"",INDEX(Validées!$J$8:$J$17,MAX(IF(nom=$B5,IF(bdd=K$3,ROW(nom)-7))))),"")} -> PAYÉ | ... V5: {=IFERROR(IF(MAX(IF(nom=$B5,IF(bdd=V$3,ROW(nom)-7)))=0,"",INDEX(Validées!$J$8:$J$17,MAX(IF(nom=$B5,IF(bdd=V$3,ROW(nom)-7))))),"")}
B6: {=IFERROR(INDEX(Validées!F$8:F$17,SMALL(IF(FREQUENCY(IFERROR(MATCH(IF((Validées!J$8:J$17=C$1)+(Validées!J$8:J$17=D$1)+(Validées!J$8:J$17=E$1)>0,Validées!F$8:F$17,0),Validées!F$8:F$17,0),""),ROW(Validées!F$8:F$17)-7)>0,ROW(Validées!F$8:F$17)-7),ROW(A3))),"")} -> nom5 | D6: {=IFERROR(IF(MAX(IF(nom=$B6,IF(bdd=D$3,ROW(nom)-7)))=0,"",INDEX(Validées!$J$8:$J$17,MAX(IF(nom=$B6,IF(bdd=D$3,ROW(nom)-7))))),"")} | E6: {=IFERROR(IF(MAX(IF(nom=$B6,IF(bdd=E$3,ROW(nom)-7)))=0,"",INDEX(Validées!$J$8:$J$17,MAX(IF(nom=$B6,IF(bdd=E$3,ROW(nom)-7))))),"")} | F6: {=IFERROR(IF(MAX(IF(nom=$B6,IF(bdd=F$3,ROW(nom)-7)))=0,"",INDEX(Validées!$J$8:$J$17,MAX(IF(nom=$B6,IF(bdd=F$3,ROW(nom)-7))))),"")} | G6: {=IFERROR(IF(MAX(IF(nom=$B6,IF(bdd=G$3,ROW(nom)-7)))=0,"",INDEX(Validées!$J$8:$J$17,MAX(IF(nom=$B6,IF(bdd=G$3,ROW(nom)-7))))),"")} | H6: {=IFERROR(IF(MAX(IF(nom=$B6,IF(bdd=H$3,ROW(nom)-7)))=0,"",INDEX(Validées!$J$8:$J$17,MAX(IF(nom=$B6,IF(bdd=H$3,ROW(nom)-7))))),"")} | I6: {=IFERROR(IF(MAX(IF(nom=$B6,IF(bdd=I$3,ROW(nom)-7)))=0,"",INDEX(Validées!$J$8:$J$17,MAX(IF(nom=$B6,IF(bdd=I$3,ROW(nom)-7))))),"")} | J6: {=IFERROR(IF(MAX(IF(nom=$B6,IF(bdd=J$3,ROW(nom)-7)))=0,"",INDEX(Validées!$J$8:$J$17,MAX(IF(nom=$B6,IF(bdd=J$3,ROW(nom)-7))))),"")} -> PAYÉ | K6: {=IFERROR(IF(MAX(IF(nom=$B6,IF(bdd=K$3,ROW(nom)-7)))=0,"",INDEX(Validées!$J$8:$J$17,MAX(IF(nom=$B6,IF(bdd=K$3,ROW(nom)-7))))),"")} -> PAYÉ | ... V6: {=IFERROR(IF(MAX(IF(nom=$B6,IF(bdd=V$3,ROW(nom)-7)))=0,"",INDEX(Validées!$J$8:$J$17,MAX(IF(nom=$B6,IF(bdd=V$3,ROW(nom)-7))))),"")}
B7: {=IFERROR(INDEX(Validées!F$8:F$17,SMALL(IF(FREQUENCY(IFERROR(MATCH(IF((Validées!J$8:J$17=C$1)+(Validées!J$8:J$17=D$1)+(Validées!J$8:J$17=E$1)>0,Validées!F$8:F$17,0),Validées!F$8:F$17,0),""),ROW(Validées!F$8:F$17)-7)>0,ROW(Validées!F$8:F$17)-7),ROW(A4))),"")} -> nom6 | D7: {=IFERROR(IF(MAX(IF(nom=$B7,IF(bdd=D$3,ROW(nom)-7)))=0,"",INDEX(Validées!$J$8:$J$17,MAX(IF(nom=$B7,IF(bdd=D$3,ROW(nom)-7))))),"")} | E7: {=IFERROR(IF(MAX(IF(nom=$B7,IF(bdd=E$3,ROW(nom)-7)))=0,"",INDEX(Validées!$J$8:$J$17,MAX(IF(nom=$B7,IF(bdd=E$3,ROW(nom)-7))))),"")} | F7: {=IFERROR(IF(MAX(IF(nom=$B7,IF(bdd=F$3,ROW(nom)-7)))=0,"",INDEX(Validées!$J$8:$J$17,MAX(IF(nom=$B7,IF(bdd=F$3,ROW(nom)-7))))),"")} | G7: {=IFERROR(IF(MAX(IF(nom=$B7,IF(bdd=G$3,ROW(nom)-7)))=0,"",INDEX(Validées!$J$8:$J$17,MAX(IF(nom=$B7,IF(bdd=G$3,ROW(nom)-7))))),"")} | H7: {=IFERROR(IF(MAX(IF(nom=$B7,IF(bdd=H$3,ROW(nom)-7)))=0,"",INDEX(Validées!$J$8:$J$17,MAX(IF(nom=$B7,IF(bdd=H$3,ROW(nom)-7))))),"")} | I7: {=IFERROR(IF(MAX(IF(nom=$B7,IF(bdd=I$3,ROW(nom)-7)))=0,"",INDEX(Validées!$J$8:$J$17,MAX(IF(nom=$B7,IF(bdd=I$3,ROW(nom)-7))))),"")} | J7: {=IFERROR(IF(MAX(IF(nom=$B7,IF(bdd=J$3,ROW(nom)-7)))=0,"",INDEX(Validées!$J$8:$J$17,MAX(IF(nom=$B7,IF(bdd=J$3,ROW(nom)-7))))),"")} | K7: {=IFERROR(IF(MAX(IF(nom=$B7,IF(bdd=K$3,ROW(nom)-7)))=0,"",INDEX(Validées!$J$8:$J$17,MAX(IF(nom=$B7,IF(bdd=K$3,ROW(nom)-7))))),"")} -> PAYÉ | ... V7: {=IFERROR(IF(MAX(IF(nom=$B7,IF(bdd=V$3,ROW(nom)-7)))=0,"",INDEX(Validées!$J$8:$J$17,MAX(IF(nom=$B7,IF(bdd=V$3,ROW(nom)-7))))),"")}
B8: {=IFERROR(INDEX(Validées!F$8:F$17,SMALL(IF(FREQUENCY(IFERROR(MATCH(IF((Validées!J$8:J$17=C$1)+(Validées!J$8:J$17=D$1)+(Validées!J$8:J$17=E$1)>0,Validées!F$8:F$17,0),Validées!F$8:F$17,0),""),ROW(Validées!F$8:F$17)-7)>0,ROW(Validées!F$8:F$17)-7),ROW(A5))),"")} -> nom7 | D8: {=IFERROR(IF(MAX(IF(nom=$B8,IF(bdd=D$3,ROW(nom)-7)))=0,"",INDEX(Validées!$J$8:$J$17,MAX(IF(nom=$B8,IF(bdd=D$3,ROW(nom)-7))))),"")} | E8: {=IFERROR(IF(MAX(IF(nom=$B8,IF(bdd=E$3,ROW(nom)-7)))=0,"",INDEX(Validées!$J$8:$J$17,MAX(IF(nom=$B8,IF(bdd=E$3,ROW(nom)-7))))),"")} | F8: {=IFERROR(IF(MAX(IF(nom=$B8,IF(bdd=F$3,ROW(nom)-7)))=0,"",INDEX(Validées!$J$8:$J$17,MAX(IF(nom=$B8,IF(bdd=F$3,ROW(nom)-7))))),"")} | G8: {=IFERROR(IF(MAX(IF(nom=$B8,IF(bdd=G$3,ROW(nom)-7)))=0,"",INDEX(Validées!$J$8:$J$17,MAX(IF(nom=$B8,IF(bdd=G$3,ROW(nom)-7))))),"")} | H8: {=IFERROR(IF(MAX(IF(nom=$B8,IF(bdd=H$3,ROW(nom)-7)))=0,"",INDEX(Validées!$J$8:$J$17,MAX(IF(nom=$B8,IF(bdd=H$3,ROW(nom)-7))))),"")} | I8: {=IFERROR(IF(MAX(IF(nom=$B8,IF(bdd=I$3,ROW(nom)-7)))=0,"",INDEX(Validées!$J$8:$J$17,MAX(IF(nom=$B8,IF(bdd=I$3,ROW(nom)-7))))),"")} | J8: {=IFERROR(IF(MAX(IF(nom=$B8,IF(bdd=J$3,ROW(nom)-7)))=0,"",INDEX(Validées!$J$8:$J$17,MAX(IF(nom=$B8,IF(bdd=J$3,ROW(nom)-7))))),"")} | K8: {=IFERROR(IF(MAX(IF(nom=$B8,IF(bdd=K$3,ROW(nom)-7)))=0,"",INDEX(Validées!$J$8:$J$17,MAX(IF(nom=$B8,IF(bdd=K$3,ROW(nom)-7))))),"")} | ... V8: {=IFERROR(IF(MAX(IF(nom=$B8,IF(bdd=V$3,ROW(nom)-7)))=0,"",INDEX(Validées!$J$8:$J$17,MAX(IF(nom=$B8,IF(bdd=V$3,ROW(nom)-7))))),"")}
B9: {=IFERROR(INDEX(Validées!F$8:F$17,SMALL(IF(FREQUENCY(IFERROR(MATCH(IF((Validées!J$8:J$17=C$1)+(Validées!J$8:J$17=D$1)+(Validées!J$8:J$17=E$1)>0,Validées!F$8:F$17,0),Validées!F$8:F$17,0),""),ROW(Validées!F$8:F$17)-7)>0,ROW(Validées!F$8:F$17)-7),ROW(A6))),"")} -> nom8 | D9: {=IFERROR(IF(MAX(IF(nom=$B9,IF(bdd=D$3,ROW(nom)-7)))=0,"",INDEX(Validées!$J$8:$J$17,MAX(IF(nom=$B9,IF(bdd=D$3,ROW(nom)-7))))),"")} | E9: {=IFERROR(IF(MAX(IF(nom=$B9,IF(bdd=E$3,ROW(nom)-7)))=0,"",INDEX(Validées!$J$8:$J$17,MAX(IF(nom=$B9,IF(bdd=E$3,ROW(nom)-7))))),"")} | F9: {=IFERROR(IF(MAX(IF(nom=$B9,IF(bdd=F$3,ROW(nom)-7)))=0,"",INDEX(Validées!$J$8:$J$17,MAX(IF(nom=$B9,IF(bdd=F$3,ROW(nom)-7))))),"")} | G9: {=IFERROR(IF(MAX(IF(nom=$B9,IF(bdd=G$3,ROW(nom)-7)))=0,"",INDEX(Validées!$J$8:$J$17,MAX(IF(nom=$B9,IF(bdd=G$3,ROW(nom)-7))))),"")} | H9: {=IFERROR(IF(MAX(IF(nom=$B9,IF(bdd=H$3,ROW(nom)-7)))=0,"",INDEX(Validées!$J$8:$J$17,MAX(IF(nom=$B9,IF(bdd=H$3,ROW(nom)-7))))),"")} | I9: {=IFERROR(IF(MAX(IF(nom=$B9,IF(bdd=I$3,ROW(nom)-7)))=0,"",INDEX(Validées!$J$8:$J$17,MAX(IF(nom=$B9,IF(bdd=I$3,ROW(nom)-7))))),"")} | J9: {=IFERROR(IF(MAX(IF(nom=$B9,IF(bdd=J$3,ROW(nom)-7)))=0,"",INDEX(Validées!$J$8:$J$17,MAX(IF(nom=$B9,IF(bdd=J$3,ROW(nom)-7))))),"")} | K9: {=IFERROR(IF(MAX(IF(nom=$B9,IF(bdd=K$3,ROW(nom)-7)))=0,"",INDEX(Validées!$J$8:$J$17,MAX(IF(nom=$B9,IF(bdd=K$3,ROW(nom)-7))))),"")} | ... V9: {=IFERROR(IF(MAX(IF(nom=$B9,IF(bdd=V$3,ROW(nom)-7)))=0,"",INDEX(Validées!$J$8:$J$17,MAX(IF(nom=$B9,IF(bdd=V$3,ROW(nom)-7))))),"")}
B10: {=IFERROR(INDEX(Validées!F$8:F$17,SMALL(IF(FREQUENCY(IFERROR(MATCH(IF((Validées!J$8:J$17=C$1)+(Validées!J$8:J$17=D$1)+(Validées!J$8:J$17=E$1)>0,Validées!F$8:F$17,0),Validées!F$8:F$17,0),""),ROW(Validées!F$8:F$17)-7)>0,ROW(Validées!F$8:F$17)-7),ROW(A7))),"")} -> nom9 | D10: {=IFERROR(IF(MAX(IF(nom=$B10,IF(bdd=D$3,ROW(nom)-7)))=0,"",INDEX(Validées!$J$8:$J$17,MAX(IF(nom=$B10,IF(bdd=D$3,ROW(nom)-7))))),"")} | E10: {=IFERROR(IF(MAX(IF(nom=$B10,IF(bdd=E$3,ROW(nom)-7)))=0,"",INDEX(Validées!$J$8:$J$17,MAX(IF(nom=$B10,IF(bdd=E$3,ROW(nom)-7))))),"")} | F10: {=IFERROR(IF(MAX(IF(nom=$B10,IF(bdd=F$3,ROW(nom)-7)))=0,"",INDEX(Validées!$J$8:$J$17,MAX(IF(nom=$B10,IF(bdd=F$3,ROW(nom)-7))))),"")} | G10: {=IFERROR(IF(MAX(IF(nom=$B10,IF(bdd=G$3,ROW(nom)-7)))=0,"",INDEX(Validées!$J$8:$J$17,MAX(IF(nom=$B10,IF(bdd=G$3,ROW(nom)-7))))),"")} | H10: {=IFERROR(IF(MAX(IF(nom=$B10,IF(bdd=H$3,ROW(nom)-7)))=0,"",INDEX(Validées!$J$8:$J$17,MAX(IF(nom=$B10,IF(bdd=H$3,ROW(nom)-7))))),"")} | I10: {=IFERROR(IF(MAX(IF(nom=$B10,IF(bdd=I$3,ROW(nom)-7)))=0,"",INDEX(Validées!$J$8:$J$17,MAX(IF(nom=$B10,IF(bdd=I$3,ROW(nom)-7))))),"")} | J10: {=IFERROR(IF(MAX(IF(nom=$B10,IF(bdd=J$3,ROW(nom)-7)))=0,"",INDEX(Validées!$J$8:$J$17,MAX(IF(nom=$B10,IF(bdd=J$3,ROW(nom)-7))))),"")} | K10: {=IFERROR(IF(MAX(IF(nom=$B10,IF(bdd=K$3,ROW(nom)-7)))=0,"",INDEX(Validées!$J$8:$J$17,MAX(IF(nom=$B10,IF(bdd=K$3,ROW(nom)-7))))),"")} | ... V10: {=IFERROR(IF(MAX(IF(nom=$B10,IF(bdd=V$3,ROW(nom)-7)))=0,"",INDEX(Validées!$J$8:$J$17,MAX(IF(nom=$B10,IF(bdd=V$3,ROW(nom)-7))))),"")}
B11: {=IFERROR(INDEX(Validées!F$8:F$17,SMALL(IF(FREQUENCY(IFERROR(MATCH(IF((Validées!J$8:J$17=C$1)+(Validées!J$8:J$17=D$1)+(Validées!J$8:J$17=E$1)>0,Validées!F$8:F$17,0),Validées!F$8:F$17,0),""),ROW(Validées!F$8:F$17)-7)>0,ROW(Validées!F$8:F$17)-7),ROW(A8))),"")} -> nom10 | D11: {=IFERROR(IF(MAX(IF(nom=$B11,IF(bdd=D$3,ROW(nom)-7)))=0,"",INDEX(Validées!$J$8:$J$17,MAX(IF(nom=$B11,IF(bdd=D$3,ROW(nom)-7))))),"")} | E11: {=IFERROR(IF(MAX(IF(nom=$B11,IF(bdd=E$3,ROW(nom)-7)))=0,"",INDEX(Validées!$J$8:$J$17,MAX(IF(nom=$B11,IF(bdd=E$3,ROW(nom)-7))))),"")} | F11: {=IFERROR(IF(MAX(IF(nom=$B11,IF(bdd=F$3,ROW(nom)-7)))=0,"",INDEX(Validées!$J$8:$J$17,MAX(IF(nom=$B11,IF(bdd=F$3,ROW(nom)-7))))),"")} | G11: {=IFERROR(IF(MAX(IF(nom=$B11,IF(bdd=G$3,ROW(nom)-7)))=0,"",INDEX(Validées!$J$8:$J$17,MAX(IF(nom=$B11,IF(bdd=G$3,ROW(nom)-7))))),"")} | H11: {=IFERROR(IF(MAX(IF(nom=$B11,IF(bdd=H$3,ROW(nom)-7)))=0,"",INDEX(Validées!$J$8:$J$17,MAX(IF(nom=$B11,IF(bdd=H$3,ROW(nom)-7))))),"")} | I11: {=IFERROR(IF(MAX(IF(nom=$B11,IF(bdd=I$3,ROW(nom)-7)))=0,"",INDEX(Validées!$J$8:$J$17,MAX(IF(nom=$B11,IF(bdd=I$3,ROW(nom)-7))))),"")} | J11: {=IFERROR(IF(MAX(IF(nom=$B11,IF(bdd=J$3,ROW(nom)-7)))=0,"",INDEX(Validées!$J$8:$J$17,MAX(IF(nom=$B11,IF(bdd=J$3,ROW(nom)-7))))),"")} | K11: {=IFERROR(IF(MAX(IF(nom=$B11,IF(bdd=K$3,ROW(nom)-7)))=0,"",INDEX(Validées!$J$8:$J$17,MAX(IF(nom=$B11,IF(bdd=K$3,ROW(nom)-7))))),"")} | ... V11: {=IFERROR(IF(MAX(IF(nom=$B11,IF(bdd=V$3,ROW(nom)-7)))=0,"",INDEX(Validées!$J$8:$J$17,MAX(IF(nom=$B11,IF(bdd=V$3,ROW(nom)-7))))),"")} -> SANS SOLDE
B12: {=IFERROR(INDEX(Validées!F$8:F$17,SMALL(IF(FREQUENCY(IFERROR(MATCH(IF((Validées!J$8:J$17=C$1)+(Validées!J$8:J$17=D$1)+(Validées!J$8:J$17=E$1)>0,Validées!F$8:F$17,0),Validées!F$8:F$17,0),""),ROW(Validées!F$8:F$17)-7)>0,ROW(Validées!F$8:F$17)-7),ROW(A9))),"")} | D12: {=IFERROR(IF(MAX(IF(nom=$B12,IF(bdd=D$3,ROW(nom)-7)))=0,"",INDEX(Validées!$J$8:$J$17,MAX(IF(nom=$B12,IF(bdd=D$3,ROW(nom)-7))))),"")} | E12: {=IFERROR(IF(MAX(IF(nom=$B12,IF(bdd=E$3,ROW(nom)-7)))=0,"",INDEX(Validées!$J$8:$J$17,MAX(IF(nom=$B12,IF(bdd=E$3,ROW(nom)-7))))),"")} | F12: {=IFERROR(IF(MAX(IF(nom=$B12,IF(bdd=F$3,ROW(nom)-7)))=0,"",INDEX(Validées!$J$8:$J$17,MAX(IF(nom=$B12,IF(bdd=F$3,ROW(nom)-7))))),"")} | G12: {=IFERROR(IF(MAX(IF(nom=$B12,IF(bdd=G$3,ROW(nom)-7)))=0,"",INDEX(Validées!$J$8:$J$17,MAX(IF(nom=$B12,IF(bdd=G$3,ROW(nom)-7))))),"")} | H12: {=IFERROR(IF(MAX(IF(nom=$B12,IF(bdd=H$3,ROW(nom)-7)))=0,"",INDEX(Validées!$J$8:$J$17,MAX(IF(nom=$B12,IF(bdd=H$3,ROW(nom)-7))))),"")} | I12: {=IFERROR(IF(MAX(IF(nom=$B12,IF(bdd=I$3,ROW(nom)-7)))=0,"",INDEX(Validées!$J$8:$J$17,MAX(IF(nom=$B12,IF(bdd=I$3,ROW(nom)-7))))),"")} | J12: {=IFERROR(IF(MAX(IF(nom=$B12,IF(bdd=J$3,ROW(nom)-7)))=0,"",INDEX(Validées!$J$8:$J$17,MAX(IF(nom=$B12,IF(bdd=J$3,ROW(nom)-7))))),"")} | K12: {=IFERROR(IF(MAX(IF(nom=$B12,IF(bdd=K$3,ROW(nom)-7)))=0,"",INDEX(Validées!$J$8:$J$17,MAX(IF(nom=$B12,IF(bdd=K$3,ROW(nom)-7))))),"")} | ... V12: {=IFERROR(IF(MAX(IF(nom=$B12,IF(bdd=V$3,ROW(nom)-7)))=0,"",INDEX(Validées!$J$8:$J$17,MAX(IF(nom=$B12,IF(bdd=V$3,ROW(nom)-7))))),"")}
B13: {=IFERROR(INDEX(Validées!F$8:F$17,SMALL(IF(FREQUENCY(IFERROR(MATCH(IF((Validées!J$8:J$17=C$1)+(Validées!J$8:J$17=D$1)+(Validées!J$8:J$17=E$1)>0,Validées!F$8:F$17,0),Validées!F$8:F$17,0),""),ROW(Validées!F$8:F$17)-7)>0,ROW(Validées!F$8:F$17)-7),ROW(A10))),"")} | D13: {=IFERROR(IF(MAX(IF(nom=$B13,IF(bdd=D$3,ROW(nom)-7)))=0,"",INDEX(Validées!$J$8:$J$17,MAX(IF(nom=$B13,IF(bdd=D$3,ROW(nom)-7))))),"")} | E13: {=IFERROR(IF(MAX(IF(nom=$B13,IF(bdd=E$3,ROW(nom)-7)))=0,"",INDEX(Validées!$J$8:$J$17,MAX(IF(nom=$B13,IF(bdd=E$3,ROW(nom)-7))))),"")} | F13: {=IFERROR(IF(MAX(IF(nom=$B13,IF(bdd=F$3,ROW(nom)-7)))=0,"",INDEX(Validées!$J$8:$J$17,MAX(IF(nom=$B13,IF(bdd=F$3,ROW(nom)-7))))),"")} | G13: {=IFERROR(IF(MAX(IF(nom=$B13,IF(bdd=G$3,ROW(nom)-7)))=0,"",INDEX(Validées!$J$8:$J$17,MAX(IF(nom=$B13,IF(bdd=G$3,ROW(nom)-7))))),"")} | H13: {=IFERROR(IF(MAX(IF(nom=$B13,IF(bdd=H$3,ROW(nom)-7)))=0,"",INDEX(Validées!$J$8:$J$17,MAX(IF(nom=$B13,IF(bdd=H$3,ROW(nom)-7))))),"")} | I13: {=IFERROR(IF(MAX(IF(nom=$B13,IF(bdd=I$3,ROW(nom)-7)))=0,"",INDEX(Validées!$J$8:$J$17,MAX(IF(nom=$B13,IF(bdd=I$3,ROW(nom)-7))))),"")} | J13: {=IFERROR(IF(MAX(IF(nom=$B13,IF(bdd=J$3,ROW(nom)-7)))=0,"",INDEX(Validées!$J$8:$J$17,MAX(IF(nom=$B13,IF(bdd=J$3,ROW(nom)-7))))),"")} | K13: {=IFERROR(IF(MAX(IF(nom=$B13,IF(bdd=K$3,ROW(nom)-7)))=0,"",INDEX(Validées!$J$8:$J$17,MAX(IF(nom=$B13,IF(bdd=K$3,ROW(nom)-7))))),"")} | ... V13: {=IFERROR(IF(MAX(IF(nom=$B13,IF(bdd=V$3,ROW(nom)-7)))=0,"",INDEX(Validées!$J$8:$J$17,MAX(IF(nom=$B13,IF(bdd=V$3,ROW(nom)-7))))),"")}
F18: les noms eligibles sont triés sans double
F19: les libelles sont repertoriés
