Workbook

Sheet Feuil1
A1: N° | B1: MSN | C1: OACI | D1: Event Date | E1: ATA | F1: Title | G1: Topic | H1: Sub-Topic | I1: Vérrification | J1: tulipe
A2: 1 | B2: XXX1 | C2: AAA | D2: 43039 | E2: 21 | F2: Not Important | G2: Not Important | H2: Not Important | I2: FALSE | J2: {=IF(B2="","",IF(ISERROR(MATCH(B2&C2&E2,Feuil2!B$2:B$1010&Feuil2!C$2:C$1010&Feuil2!E$2:E$1010,0)),"","OK"))} | L2: foction matricielle à valider
A3: 2 | B3: XXX2 | C3: AAA | D3: 43039 | E3: 23 | F3: Not Important | G3: Not Important | H3: Not Important | I3: FALSE | J3: {=IF(B3="","",IF(ISERROR(MATCH(B3&C3&E3,Feuil2!B$2:B$1010&Feuil2!C$2:C$1010&Feuil2!E$2:E$1010,0)),"","OK"))} | L3: avec les 3 touches en simultané
A4: 3 | B4: XXX3 | C4: AAA | D4: 43039 | E4: 66 | F4: Not Important | G4: Not Important | H4: Not Important | I4: TRUE | J4: {=IF(B4="","",IF(ISERROR(MATCH(B4&C4&E4,Feuil2!B$2:B$1010&Feuil2!C$2:C$1010&Feuil2!E$2:E$1010,0)),"","OK"))} -> OK | L4: Ctrl Maj Entrée
A5: 4 | B5: XXX4 | C5: AAZ | D5: 43039 | E5: 83 | F5: Not Important | G5: Not Important | H5: Not Important | I5: TRUE | J5: {=IF(B5="","",IF(ISERROR(MATCH(B5&C5&E5,Feuil2!B$2:B$1010&Feuil2!C$2:C$1010&Feuil2!E$2:E$1010,0)),"","OK"))} -> OK
A6: 5 | B6: XXX5 | C6: AAZ | D6: 43039 | E6: 21 | F6: Not Important | G6: Not Important | H6: Not Important | I6: TRUE | J6: {=IF(B6="","",IF(ISERROR(MATCH(B6&C6&E6,Feuil2!B$2:B$1010&Feuil2!C$2:C$1010&Feuil2!E$2:E$1010,0)),"","OK"))} -> OK
A7: 6 | B7: XXX6 | C7: DDE | D7: 43020 | E7: 13 | F7: Not Important | G7: Not Important | H7: Not Important | I7: TRUE | J7: {=IF(B7="","",IF(ISERROR(MATCH(B7&C7&E7,Feuil2!B$2:B$1010&Feuil2!C$2:C$1010&Feuil2!E$2:E$1010,0)),"","OK"))} -> OK
A8: 7 | B8: XXX7 | C8: AAA | D8: 43020 | E8: 18 | F8: Not Important | G8: Not Important | H8: Not Important | I8: FALSE | J8: {=IF(B8="","",IF(ISERROR(MATCH(B8&C8&E8,Feuil2!B$2:B$1010&Feuil2!C$2:C$1010&Feuil2!E$2:E$1010,0)),"","OK"))}
A9: 8 | B9: XXX8 | C9: AAZ | D9: 43020 | E9: 93 | F9: Not Important | G9: Not Important | H9: Not Important | I9: FALSE | J9: {=IF(B9="","",IF(ISERROR(MATCH(B9&C9&E9,Feuil2!B$2:B$1010&Feuil2!C$2:C$1010&Feuil2!E$2:E$1010,0)),"","OK"))}
A10: 9 | B10: XXX9 | C10: AAZ | D10: 43020 | E10: 21 | F10: Not Important | G10: Not Important | H10: Not Important | I10: FALSE | J10: {=IF(B10="","",IF(ISERROR(MATCH(B10&C10&E10,Feuil2!B$2:B$1010&Feuil2!C$2:C$1010&Feuil2!E$2:E$1010,0)),"","OK"))}
A11: 10 | B11: XXX10 | C11: DDE | D11: 43020 | E11: 23 | F11: Not Important | G11: Not Important | H11: Not Important | I11: FALSE | J11: {=IF(B11="","",IF(ISERROR(MATCH(B11&C11&E11,Feuil2!B$2:B$1010&Feuil2!C$2:C$1010&Feuil2!E$2:E$1010,0)),"","OK"))}
A12: 11 | B12: XXX11 | C12: AAA | D12: 43019 | E12: 66 | F12: Not Important | G12: Not Important | H12: Not Important | I12: FALSE | J12: {=IF(B12="","",IF(ISERROR(MATCH(B12&C12&E12,Feuil2!B$2:B$1010&Feuil2!C$2:C$1010&Feuil2!E$2:E$1010,0)),"","OK"))}
A13: 12 | B13: XXX12 | C13: AAA | D13: 43019 | E13: 83 | F13: Not Important | G13: Not Important | H13: Not Important | I13: FALSE | J13: {=IF(B13="","",IF(ISERROR(MATCH(B13&C13&E13,Feuil2!B$2:B$1010&Feuil2!C$2:C$1010&Feuil2!E$2:E$1010,0)),"","OK"))}
A14: 13 | B14: XXX13 | C14: AAZ | D14: 43019 | E14: 21 | F14: Not Important | G14: Not Important | H14: Not Important | I14: FALSE | J14: {=IF(B14="","",IF(ISERROR(MATCH(B14&C14&E14,Feuil2!B$2:B$1010&Feuil2!C$2:C$1010&Feuil2!E$2:E$1010,0)),"","OK"))}
A15: 14 | B15: XXX14 | C15: AAZ | D15: 43019 | E15: 13 | F15: Not Important | G15: Not Important | H15: Not Important | I15: FALSE | J15: {=IF(B15="","",IF(ISERROR(MATCH(B15&C15&E15,Feuil2!B$2:B$1010&Feuil2!C$2:C$1010&Feuil2!E$2:E$1010,0)),"","OK"))}
A16: 15 | B16: XXX15 | C16: DDE | D16: 43019 | E16: 21 | F16: Not Important | G16: Not Important | H16: Not Important | I16: FALSE | J16: {=IF(B16="","",IF(ISERROR(MATCH(B16&C16&E16,Feuil2!B$2:B$1010&Feuil2!C$2:C$1010&Feuil2!E$2:E$1010,0)),"","OK"))}
... A21: 20 | B21: XXX20 | C21: DDE | D21: 43009 | E21: 13 | F21: Not Important | G21: Not Important | H21: Not Important | I21: FALSE | J21: {=IF(B21="","",IF(ISERROR(MATCH(B21&C21&E21,Feuil2!B$2:B$1010&Feuil2!C$2:C$1010&Feuil2!E$2:E$1010,0)),"","OK"))}
J22: {=IF(B22="","",IF(ISERROR(MATCH(B22&C22&E22,Feuil2!B$2:B$1010&Feuil2!C$2:C$1010&Feuil2!E$2:E$1010,0)),"","OK"))}
J23: {=IF(B23="","",IF(ISERROR(MATCH(B23&C23&E23,Feuil2!B$2:B$1010&Feuil2!C$2:C$1010&Feuil2!E$2:E$1010,0)),"","OK"))}
J24: {=IF(B24="","",IF(ISERROR(MATCH(B24&C24&E24,Feuil2!B$2:B$1010&Feuil2!C$2:C$1010&Feuil2!E$2:E$1010,0)),"","OK"))}
J25: {=IF(B25="","",IF(ISERROR(MATCH(B25&C25&E25,Feuil2!B$2:B$1010&Feuil2!C$2:C$1010&Feuil2!E$2:E$1010,0)),"","OK"))}
J26: {=IF(B26="","",IF(ISERROR(MATCH(B26&C26&E26,Feuil2!B$2:B$1010&Feuil2!C$2:C$1010&Feuil2!E$2:E$1010,0)),"","OK"))}
J27: {=IF(B27="","",IF(ISERROR(MATCH(B27&C27&E27,Feuil2!B$2:B$1010&Feuil2!C$2:C$1010&Feuil2!E$2:E$1010,0)),"","OK"))}
J28: {=IF(B28="","",IF(ISERROR(MATCH(B28&C28&E28,Feuil2!B$2:B$1010&Feuil2!C$2:C$1010&Feuil2!E$2:E$1010,0)),"","OK"))}
J29: {=IF(B29="","",IF(ISERROR(MATCH(B29&C29&E29,Feuil2!B$2:B$1010&Feuil2!C$2:C$1010&Feuil2!E$2:E$1010,0)),"","OK"))}
J30: {=IF(B30="","",IF(ISERROR(MATCH(B30&C30&E30,Feuil2!B$2:B$1010&Feuil2!C$2:C$1010&Feuil2!E$2:E$1010,0)),"","OK"))}
J31: {=IF(B31="","",IF(ISERROR(MATCH(B31&C31&E31,Feuil2!B$2:B$1010&Feuil2!C$2:C$1010&Feuil2!E$2:E$1010,0)),"","OK"))}
J32: {=IF(B32="","",IF(ISERROR(MATCH(B32&C32&E32,Feuil2!B$2:B$1010&Feuil2!C$2:C$1010&Feuil2!E$2:E$1010,0)),"","OK"))}
J33: {=IF(B33="","",IF(ISERROR(MATCH(B33&C33&E33,Feuil2!B$2:B$1010&Feuil2!C$2:C$1010&Feuil2!E$2:E$1010,0)),"","OK"))}
... J420: {=IF(B420="","",IF(ISERROR(MATCH(B420&C420&E420,Feuil2!B$2:B$1010&Feuil2!C$2:C$1010&Feuil2!E$2:E$1010,0)),"","OK"))}

Sheet Feuil2
A1: N° | B1: MSN | C1: OACI | D1: Event Date | E1: ATA | F1: Title | G1: Topic | H1: Sub-Topic | I1: Vérrification
A2: 1 | B2: XXX51 | C2: AAZ | D2: 42830 | E2: 38 | F2: Not Important | G2: Not Important | H2: Not Important | I2: FALSE
A3: 2 | B3: XXX52 | C3: AAZ | D3: 42835 | E3: 32 | F3: Not Important | G3: Not Important | H3: Not Important | I3: FALSE
A4: 3 | B4: XXX53 | C4: DDE | D4: 42841 | E4: 32 | F4: Not Important | G4: Not Important | H4: Not Important | I4: FALSE
A5: 4 | B5: XXX54 | C5: AAA | D5: 42837 | E5: 32 | F5: Not Important | G5: Not Important | H5: Not Important | I5: FALSE
A6: 5 | B6: XXX55 | C6: AAA | D6: 42839 | E6: 21 | F6: Not Important | G6: Not Important | H6: Not Important | I6: FALSE
A7: 6 | B7: XXX56 | C7: AAZ | D7: 42845 | E7: 32 | F7: Not Important | G7: Not Important | H7: Not Important | I7: FALSE
A8: 7 | B8: XXX57 | C8: AAZ | D8: 42848 | E8: 57 | F8: Not Important | G8: Not Important | H8: Not Important | I8: FALSE
A9: 8 | B9: XXX58 | C9: DDE | D9: 42852 | E9: 28 | F9: Not Important | G9: Not Important | H9: Not Important | I9: FALSE
A10: 9 | B10: XXX59 | C10: AAA | D10: 42853 | E10: 34 | F10: Not Important | G10: Not Important | H10: Not Important | I10: FALSE
A11: 10 | B11: XXX3 | C11: AAA | D11: 42860 | E11: 66 | F11: Not Important | G11: Not Important | H11: Not Important | I11: TRUE
A12: 11 | B12: XXX4 | C12: AAZ | D12: 42863 | E12: 83 | F12: Not Important | G12: Not Important | H12: Not Important | I12: TRUE
A13: 12 | B13: XXX5 | C13: AAZ | D13: 42877 | E13: 21 | F13: Not Important | G13: Not Important | H13: Not Important | I13: TRUE
... A101: 100 | B101: XXX134 | C101: AAZ | D101: 42947 | E101: 32 | F101: Not Important | G101: Not Important | H101: Not Important | I101: FALSE

Sheet Feuil3
