Workbook
Name choix: #REF!
Name choix: #REF!
Name choix2: [1]modele!$C$2
Name liste_ope: [1]modele!$Q$2:$Q$17
Name salon: '[1]MODELE 2'!$D$1
Name test: [1]modele!#REF!
Name test: [1]modele!#REF!

Sheet WS LYON
B1: Budget prévisionnel 2019 PROVENCE COTE D'AZUR EVENTS | F1: =RIGHT(CELL("nomfichier",A1),LEN(CELL("nomfichier",A1))-FIND("]",CELL("nomfichier",A1))) -> WS LYON | G1: WSL
B4: 60 - Achats | C4: =SUM(C5:C8) -> 1.75 | G4: =SUM(G5:G37) -> 0
A5: =LEFT(B5,3)*1 -> 604 | B5: 604 - Etudes et prestations diverses | C5: =SUMPRODUCT(('Recap dep rec'!$D$3:$D$29='WS LYON'!$A5)*('Recap dep rec'!$E$1:$W$1='WS LYON'!$F$1)*('Recap dep rec'!$E$3:$W$29)) -> 0 | D5: =C5/$C$57 -> 0
A6: =LEFT(B6,3)*1 -> 605 | B6: 605 - Achats de matériels, équipements | C6: =SUMPRODUCT(('Recap dep rec'!$D$3:$D$29='WS LYON'!$A6)*('Recap dep rec'!$E$1:$W$1='WS LYON'!$F$1)*('Recap dep rec'!$E$3:$W$29)) -> 0 | D6: =C6/$C$57 -> 0
A7: =LEFT(B7,3)*1 -> 606 | B7: 606 - Achats .. fournitures | C7: =SUMPRODUCT(('Recap dep rec'!$D$3:$D$29='WS LYON'!$A7)*('Recap dep rec'!$E$1:$W$1='WS LYON'!$F$1)*('Recap dep rec'!$E$3:$W$29)) -> 1.75 | D7: =C7/$C$57 -> 0.0006373696
A8: =LEFT(B8,3)*1 -> 607 | B8: 607 - Achats de marchandises | C8: =SUMPRODUCT(('Recap dep rec'!$D$3:$D$29='WS LYON'!$A8)*('Recap dep rec'!$E$1:$W$1='WS LYON'!$F$1)*('Recap dep rec'!$E$3:$W$29)) -> 0 | D8: =C8/$C$57 -> 0
A9: =LEFT(B9,3) | C9: =SUMPRODUCT(('Recap dep rec'!$D$3:$D$29='WS LYON'!$A9)*('Recap dep rec'!$E$1:$W$1='WS LYON'!$F$1)*('Recap dep rec'!$E$3:$W$29)) -> 0
A10: =LEFT(B10,3) | C10: =SUMPRODUCT(('Recap dep rec'!$D$3:$D$29='WS LYON'!$A10)*('Recap dep rec'!$E$1:$W$1='WS LYON'!$F$1)*('Recap dep rec'!$E$3:$W$29)) -> 0
B11: 61 - Services extérieurs | C11: =SUM(C12:C20) -> 17.534643
A12: =LEFT(B12,3)*1 -> 611 | B12: 611 - Sous traitance générale | C12: =SUMPRODUCT(('Recap dep rec'!$D$3:$D$29='WS LYON'!$A12)*('Recap dep rec'!$E$1:$W$1='WS LYON'!$F$1)*('Recap dep rec'!$E$3:$W$29)) -> 0 | D12: =C12/$C$57 -> 0
A13: =LEFT(B13,3)*1 -> 613 | B13: 613 - Locations | C13: =SUMPRODUCT(('Recap dep rec'!$D$3:$D$29='WS LYON'!$A13)*('Recap dep rec'!$E$1:$W$1='WS LYON'!$F$1)*('Recap dep rec'!$E$3:$W$29)) -> 12.505357 | D13: =C13/$C$57 -> 0.0045545912
A14: =LEFT(B14,3)*1 -> 614 | B14: 614 - charges locatives | C14: =SUMPRODUCT(('Recap dep rec'!$D$3:$D$29='WS LYON'!$A14)*('Recap dep rec'!$E$1:$W$1='WS LYON'!$F$1)*('Recap dep rec'!$E$3:$W$29)) -> 1.8142857 | D14: =C14/$C$57 -> 0.00066078318
A15: =LEFT(B15,3)*1 -> 615 | B15: 615 - Entretien Reparation et Maintenance | C15: =SUMPRODUCT(('Recap dep rec'!$D$3:$D$29='WS LYON'!$A15)*('Recap dep rec'!$E$1:$W$1='WS LYON'!$F$1)*('Recap dep rec'!$E$3:$W$29)) -> 1.4535714 | D15: =C15/$C$57 -> 0.000529407
A16: =LEFT(B16,3)*1 -> 616 | B16: 616 - Assurance | C16: =SUMPRODUCT(('Recap dep rec'!$D$3:$D$29='WS LYON'!$A16)*('Recap dep rec'!$E$1:$W$1='WS LYON'!$F$1)*('Recap dep rec'!$E$3:$W$29)) -> 0.65428571 | D16: =C16/$C$57 -> 0.00023829819
A17: =LEFT(B17,3)*1 -> 617 | B17: 617 - Etudes et recherche | C17: =SUMPRODUCT(('Recap dep rec'!$D$3:$D$29='WS LYON'!$A17)*('Recap dep rec'!$E$1:$W$1='WS LYON'!$F$1)*('Recap dep rec'!$E$3:$W$29)) -> 0 | D17: =C17/$C$57 -> 0
A18: =LEFT(B18,3)*1 -> 618 | B18: 618 - Divers | C18: =SUMPRODUCT(('Recap dep rec'!$D$3:$D$29='WS LYON'!$A18)*('Recap dep rec'!$E$1:$W$1='WS LYON'!$F$1)*('Recap dep rec'!$E$3:$W$29)) -> 1.1071429 | D18: =C18/$C$57 -> 0.00040323383
A19: =LEFT(B19,3)
A20: =LEFT(B20,3)
B21: 62 - Autres services extérieurs | C21: =SUM(C22:C28) -> 35.375
A22: =LEFT(B22,3)*1 -> 622 | B22: 622 - Rémunérations d'intermédiaires et honoraires | C22: =SUMPRODUCT(('Recap dep rec'!$D$3:$D$29='WS LYON'!$A22)*('Recap dep rec'!$E$1:$W$1='WS LYON'!$F$1)*('Recap dep rec'!$E$3:$W$29)) -> 10.589286 | D22: =C22/$C$57 -> 0.0038567365
A23: =LEFT(B23,3)*1 -> 623 | B23: 623 - Publicité, public., relations publiques | C23: =SUMPRODUCT(('Recap dep rec'!$D$3:$D$29='WS LYON'!$A23)*('Recap dep rec'!$E$1:$W$1='WS LYON'!$F$1)*('Recap dep rec'!$E$3:$W$29)) -> 4.75 | D23: =C23/$C$57 -> 0.0017300032
A24: =LEFT(B24,3)*1 -> 624 | B24: 624 - Transport / achats | C24: =SUMPRODUCT(('Recap dep rec'!$D$3:$D$29='WS LYON'!$A24)*('Recap dep rec'!$E$1:$W$1='WS LYON'!$F$1)*('Recap dep rec'!$E$3:$W$29)) -> 0.035714286 | D24: =C24/$C$57 -> 1.3007543e-05
A25: =LEFT(B25,3)*1 -> 625 | B25: 625 - Déplacements, missions et réceptions | C25: =SUMPRODUCT(('Recap dep rec'!$D$3:$D$29='WS LYON'!$A25)*('Recap dep rec'!$E$1:$W$1='WS LYON'!$F$1)*('Recap dep rec'!$E$3:$W$29)) -> 15.178571 | D25: =C25/$C$57 -> 0.0055282058
A26: =LEFT(B26,3)*1 -> 626 | B26: 626 - Frais postaux et frais de télécom. | C26: =SUMPRODUCT(('Recap dep rec'!$D$3:$D$29='WS LYON'!$A26)*('Recap dep rec'!$E$1:$W$1='WS LYON'!$F$1)*('Recap dep rec'!$E$3:$W$29)) -> 1.9285714 | D26: =C26/$C$57 -> 0.00070240732
A27: =LEFT(B27,3)*1 -> 627 | B27: 627 - frais tenue compte banque | C27: =SUMPRODUCT(('Recap dep rec'!$D$3:$D$29='WS LYON'!$A27)*('Recap dep rec'!$E$1:$W$1='WS LYON'!$F$1)*('Recap dep rec'!$E$3:$W$29)) -> 0.89285714 | D27: =C27/$C$57 -> 0.00032518857
A28: =LEFT(B28,3)*1 -> 628 | B28: 628 - Adhésion association | C28: =SUMPRODUCT(('Recap dep rec'!$D$3:$D$29='WS LYON'!$A28)*('Recap dep rec'!$E$1:$W$1='WS LYON'!$F$1)*('Recap dep rec'!$E$3:$W$29)) -> 2 | D28: =C28/$C$57 -> 0.0007284224
A29: =LEFT(B29,3)
B30: 63 - impôts et taxes | C30: =SUM(C31:C32) -> 0
A31: =LEFT(B31,3)*1 -> 631 | B31: 631 - Taxes | C31: =SUMPRODUCT(('Recap dep rec'!$D$3:$D$29='WS LYON'!$A31)*('Recap dep rec'!$E$1:$W$1='WS LYON'!$F$1)*('Recap dep rec'!$E$3:$W$29)) -> 0 | D31: =C31/$C$57 -> 0
A32: =LEFT(B32,3)*1 -> 635 | B32: 635- Impôts et taxes | C32: =SUMPRODUCT(('Recap dep rec'!$D$3:$D$29='WS LYON'!$A32)*('Recap dep rec'!$E$1:$W$1='WS LYON'!$F$1)*('Recap dep rec'!$E$3:$W$29)) -> 0 | D32: =C32/$C$57 -> 0
B34: 64 - Charges de personnel | C34: =SUM(C35:C36) -> 2689
A35: =LEFT(B35,3)*1 -> 641 | B35: 641 - Rémunérations de personnel | C35: =SUMPRODUCT(('Recap dep rec'!$D$3:$D$29='WS LYON'!$A35)*('Recap dep rec'!$E$1:$W$1='WS LYON'!$F$1)*('Recap dep rec'!$E$3:$W$29)) -> 2689 | D35: =C35/$C$57 -> 0.97936392
A36: =LEFT(B36,3)*1 -> 645 | B36: 645 - Charges sociales | C36: =SUMPRODUCT(('Recap dep rec'!$D$3:$D$29='WS LYON'!$A36)*('Recap dep rec'!$E$1:$W$1='WS LYON'!$F$1)*('Recap dep rec'!$E$3:$W$29)) -> 0 | D36: =C36/$C$57 -> 0
A37: =LEFT(B37,3)
B38: 65 - charges de gestion courante | C38: =SUM(C39:C40) -> 0
A39: 650 | B39: 65 - Autres charges de gestion courante | C39: =SUMPRODUCT(('Recap dep rec'!$D$3:$D$29='WS LYON'!$A39)*('Recap dep rec'!$E$1:$W$1='WS LYON'!$F$1)*('Recap dep rec'!$E$3:$W$29)) -> 0 | D39: =C39/$C$57 -> 0
A40: =LEFT(B40,3)
A41: =LEFT(B41,3)
B42: 66- Charges financières | C42: =SUM(C43:C44) -> 2
A43: =LEFT(B43,3)*1 -> 661 | B43: 661 - Charges d'intérêts | C43: =SUMPRODUCT(('Recap dep rec'!$D$3:$D$29='WS LYON'!$A43)*('Recap dep rec'!$E$1:$W$1='WS LYON'!$F$1)*('Recap dep rec'!$E$3:$W$29)) -> 0 | D43: =C43/$C$57 -> 0
...

Sheet Recap dep rec
C1: Total BP 2019 | E1: Gouvernance | F1: Ecosysteme | G1: Actions | H1: Mice Place Méditerranée | I1: Workshop Berlin | J1: SBE | K1: DEV. INTERNATIONNAL | L1: ws lyon | M1: Heavent Meeting | N1: Imex | O1: Workshop Europe | P1: Eductour 1 & 2 | Q1: Workshop Paris Été + Déj. Asso | R1: Evènement Sacandinavie | S1: Démarchage Europe | T1: MP2 | U1: IBTM | V1: Workshop Paris hiver + Déj. Asso | W1: CGE | AD1: vérif
B2: DEPENSES | E2: GOUV | F2: ECO | G2: ACT | H2: MPM | I2: WSB | J2: SBE | K2: DEVINT | L2: WSL | M2: HM | N2: imex | O2: WSE | P2: EDUC | Q2: WSP1 | R2: ES | S2: DE | T2: MP2 | U2: IBTM | V2: WSP2 | W2: CGE
A3: 604 | B3: Etudes et prestations diverses | C3: 0 | D3: 604 | E3: 0 | F3: 0 | G3: 0 | H3: 0 | I3: 0 | J3: 0 | K3: 0 | L3: 0 | M3: 0 | N3: 0 | O3: 0 | P3: 0 | Q3: 0 | R3: 0 | S3: 0 | T3: 0 | U3: 0 | V3: 0 | W3: 0 | AD3: 0
A4: 605 | B4: Achats de matériels, équipements | C4: 0 | D4: 605 | E4: 0 | F4: 0 | G4: 0 | H4: 0 | I4: 0 | J4: 0 | K4: 0 | L4: 0 | M4: 0 | N4: 0 | O4: 0 | P4: 0 | Q4: 0 | R4: 0 | S4: 0 | T4: 0 | U4: 0 | V4: 0 | W4: 0 | AD4: 0
A5: 606 | B5: Achats .. fournitures | C5: 4900 | D5: 606 | E5: 651 | F5: 889 | G5: 3360 | H5: 42 | I5: 42 | J5: 91 | K5: 140 | L5: 1.75 | M5: 182 | N5: 112 | O5: 154 | P5: 224 | Q5: 259 | R5: 77 | S5: 378 | T5: 49 | U5: 49 | V5: 119 | W5: 1407 | AD5: 0
A6: 607 | B6: Achats de marchandises | C6: 0 | D6: 607 | E6: 0 | F6: 0 | G6: 0 | H6: 0 | I6: 0 | J6: 0 | K6: 0 | L6: 0 | M6: 0 | N6: 0 | O6: 0 | P6: 0 | Q6: 0 | R6: 0 | S6: 0 | T6: 0 | U6: 0 | V6: 0 | W6: 0 | AD6: 0
A7: 611 | B7: Sous traitance générale | C7: 0 | D7: 611 | E7: 0 | F7: 0 | G7: 0 | H7: 0 | I7: 0 | J7: 0 | K7: 0 | L7: 0 | M7: 0 | N7: 0 | O7: 0 | P7: 0 | Q7: 0 | R7: 0 | S7: 0 | T7: 0 | U7: 0 | V7: 0 | W7: 0 | AD7: 0
A8: 613 | B8: Locations bureaux | C8: 35015 | D8: 613 | E8: 4651.9929 | F8: 6352.7214 | G8: 24010.286 | H8: 300.12857 | I8: 300.12857 | J8: 650.27857 | K8: 1000.4286 | L8: 12.505357 | M8: 1300.5571 | N8: 800.34286 | O8: 1100.4714 | P8: 1600.6857 | Q8: 1850.7929 | R8: 550.23571 | S8: 2701.1571 | T8: 350.15 | U8: 350.15 | V8: 850.36429 | W8: 10054.307 | AD8: -3.6379788e-12
A9: 614 | B9: 614 - charges sur loyer | C9: 5080 | D9: 614 | E9: 674.91429 | F9: 921.65714 | G9: 3483.4286 | H9: 43.542857 | I9: 43.542857 | J9: 94.342857 | K9: 145.14286 | L9: 1.8142857 | M9: 188.68571 | N9: 116.11429 | O9: 159.65714 | P9: 232.22857 | Q9: 268.51429 | R9: 79.828571 | S9: 391.88571 | T9: 50.8 | U9: 50.8 | V9: 123.37143 | W9: 1458.6857 | AD9: 4.5474735e-13
A10: 615 | B10: 615 - Entretien Reparation et Maintenance | C10: 4070 | D10: 615 | E10: 540.72857 | F10: 738.41429 | G10: 2790.8571 | H10: 34.885714 | I10: 34.885714 | J10: 75.585714 | K10: 116.28571 | L10: 1.4535714 | M10: 151.17143 | N10: 93.028571 | O10: 127.91429 | P10: 186.05714 | Q10: 215.12857 | R10: 63.957143 | S10: 313.97143 | T10: 40.7 | U10: 40.7 | V10: 98.842857 | W10: 1168.6714
A11: 616 | B11: 616 - Assurance | C11: 1832 | D11: 616 | E11: 243.39429 | F11: 332.37714 | G11: 1256.2286 | H11: 15.702857 | I11: 15.702857 | J11: 34.022857 | K11: 52.342857 | L11: 0.65428571 | M11: 68.045714 | N11: 41.874286 | O11: 57.577143 | P11: 83.748571 | Q11: 96.834286 | R11: 28.788571 | S11: 141.32571 | T11: 18.32 | U11: 18.32 | V11: 44.491429 | W11: 526.04571 | AD11: 0
A12: 617 | B12: 617 - Etudes et recherche | C12: 0 | D12: 617 | E12: 0 | F12: 0 | G12: 0 | H12: 0 | I12: 0 | J12: 0 | K12: 0 | L12: 0 | M12: 0 | N12: 0 | O12: 0 | P12: 0 | Q12: 0 | R12: 0 | S12: 0 | T12: 0 | U12: 0 | V12: 0 | W12: 0 | AD12: 0
A13: 618 | B13: Divers | C13: 3100 | D13: 618 | E13: 411.85714 | F13: 562.42857 | G13: 2125.7143 | H13: 26.571429 | I13: 26.571429 | J13: 57.571429 | K13: 88.571429 | L13: 1.1071429 | M13: 115.14286 | N13: 70.857143 | O13: 97.428571 | P13: 141.71429 | Q13: 163.85714 | R13: 48.714286 | S13: 239.14286 | T13: 31 | U13: 31 | V13: 75.285714 | W13: 890.14286 | AD13: 0
A14: 621 | B14: Personnel extérieur | C14: 0 | D14: 621 | E14: 0 | F14: 0 | G14: 0 | H14: 0 | I14: 0 | J14: 0 | K14: 0 | L14: 0 | M14: 0 | N14: 0 | O14: 0 | P14: 0 | Q14: 0 | R14: 0 | S14: 0 | T14: 0 | U14: 0 | V14: 0 | W14: 0 | AD14: 0
A15: 622 | B15: Rémunérations d'intermédiaires | C15: 29650 | D15: 622 | E15: 3939.2143 | F15: 5379.3571 | G15: 20331.429 | H15: 254.14286 | I15: 254.14286 | J15: 550.64286 | K15: 847.14286 | L15: 10.589286 | M15: 1101.2857 | N15: 677.71429 | O15: 931.85714 | P15: 1355.4286 | Q15: 1567.2143 | R15: 465.92857 | S15: 2287.2857 | T15: 296.5 | U15: 296.5 | V15: 720.07143 | W15: 8513.7857 | AD15: 0
A16: 623 | B16: Publicité, public., relations publiques | C16: 13300 | D16: 623 | E16: 1767 | F16: 2413 | G16: 9120 | H16: 114 | I16: 114 | J16: 247 | K16: 380 | L16: 4.75 | M16: 494 | N16: 304 | O16: 418 | P16: 608 | Q16: 703 | R16: 209 | S16: 1026 | T16: 133 | U16: 133 | V16: 323 | W16: 3819 | AD16: 0
A17: 624 | B17: 624 - transport sur achats | C17: 100 | D17: 624 | E17: 13.285714 | F17: 18.142857 | G17: 68.571429 | H17: 0.85714286 | I17: 0.85714286 | J17: 1.8571429 | K17: 2.8571429 | L17: 0.035714286 | M17: 3.7142857 | N17: 2.2857143 | O17: 3.1428571 | P17: 4.5714286 | Q17: 5.2857143 | R17: 1.5714286 | S17: 7.7142857 | T17: 1 | U17: 1 | V17: 2.4285714 | W17: 28.714286
A18: 625 | B18: 625 - Déplacements, missions et réceptions | C18: 42500 | D18: 625 | E18: 5646.4286 | F18: 7710.7143 | G18: 29142.857 | H18: 364.28571 | I18: 364.28571 | J18: 789.28571 | K18: 1214.2857 | L18: 15.178571 | M18: 1578.5714 | N18: 971.42857 | O18: 1335.7143 | P18: 1942.8571 | Q18: 2246.4286 | R18: 667.85714 | S18: 3278.5714 | T18: 425 | U18: 425 | V18: 1032.1429 | W18: 12203.571 | AD18: -3.6379788e-12
A19: 626 | B19: 626 - Frais postaux et frais de télécom. | C19: 5400 | D19: 626 | E19: 717.42857 | F19: 979.71429 | G19: 3702.8571 | H19: 46.285714 | I19: 46.285714 | J19: 100.28571 | K19: 154.28571 | L19: 1.9285714 | M19: 200.57143 | N19: 123.42857 | O19: 169.71429 | P19: 246.85714 | Q19: 285.42857 | R19: 84.857143 | S19: 416.57143 | T19: 54 | U19: 54 | V19: 131.14286 | W19: 1550.5714 | AD19: -4.5474735e-13
A20: 627 | B20: 627-Frais Bancaires | C20: 2500 | D20: 627 | E20: 332.14286 | F20: 453.57143 | G20: 1714.2857 | H20: 21.428571 | I20: 21.428571 | J20: 46.428571 | K20: 71.428571 | L20: 0.89285714 | M20: 92.857143 | N20: 57.142857 | O20: 78.571429 | P20: 114.28571 | Q20: 132.14286 | R20: 39.285714 | S20: 192.85714 | T20: 25 | U20: 25 | V20: 60.714286 | W20: 717.85714 | AD20: 2.2737368e-13
A21: 628 | B21: 628 - Adhésion association | C21: 5600 | D21: 628 | E21: 744 | F21: 1016 | G21: 3840 | H21: 48 | I21: 48 | J21: 104 | K21: 160 | L21: 2 | M21: 208 | N21: 128 | O21: 176 | P21: 256 | Q21: 296 | R21: 88 | S21: 432 | T21: 56 | U21: 56 | V21: 136 | W21: 1608 | AD21: 0
A22: 631 | B22: Taxes | C22: 0 | D22: 631 | E22: 0 | F22: 0 | G22: 0 | H22: 0 | I22: 0 | J22: 0 | K22: 0 | L22: 0 | M22: 0 | N22: 0 | O22: 0 | P22: 0 | Q22: 0 | R22: 0 | S22: 0 | T22: 0 | U22: 0 | V22: 0 | W22: 0 | AD22: 0
A23: 635 | B23: Impots et taxes | C23: 0 | D23: 635 | E23: 0 | F23: 0 | G23: 0 | H23: 0 | I23: 0 | J23: 0 | K23: 0 | L23: 0 | M23: 0 | N23: 0 | O23: 0 | P23: 0 | Q23: 0 | R23: 0 | S23: 0 | T23: 0 | U23: 0 | V23: 0 | W23: 0 | AD23: 0
A24: 641 | B24: 641 - Rémunérations de personnel | C24: 416994.57 | D24: 641 | E24: 62438 | F24: 70328 | G24: 284228.57 | H24: 3085 | I24: 3085 | J24: 6593 | K24: 10810 | L24: 2689 | M24: 13131 | N24: 7481 | O24: 11002 | P24: 17078 | Q24: 5583 | R24: 14362 | S24: 25800 | T24: 3237 | U24: 3264 | V24: 9157 | W24: 145377 | AD24: 0
A25: 645 | B25: 645 - Charges sociales | C25: 0 | D25: 645 | E25: 0 | F25: 0 | G25: 0 | H25: 0 | I25: 0 | J25: 0 | K25: 0 | L25: 0 | M25: 0 | N25: 0 | O25: 0 | P25: 0 | Q25: 0 | R25: 0 | S25: 0 | T25: 0 | U25: 0 | V25: 0 | W25: 0 | AD25: 0
A26: 650 | B26: 65 - Autres charges de gestion courante | C26: 0 | D26: 650 | E26: 0 | F26: 0 | G26: 0 | H26: 0 | I26: 0 | J26: 0 | K26: 0 | L26: 0 | M26: 0 | N26: 0 | O26: 0 | P26: 0 | Q26: 0 | R26: 0 | S26: 0 | T26: 0 | U26: 0 | V26: 0 | W26: 0 | AD26: 0
A27: 661 | B27: 661 - Charges d'intérêts | C27: 0 | D27: 661 | E27: 0 | F27: 0 | G27: 0 | H27: 0 | I27: 0 | J27: 0 | K27: 0 | L27: 0 | M27: 0 | N27: 0 | O27: 0 | P27: 0 | Q27: 0 | R27: 0 | S27: 0 | T27: 0 | U27: 0 | V27: 0 | W27: 0 | AD27: 0
A28: 666 | B28: Ecart de change | C28: 50 | D28: 666 | E28: 6.6428571 | F28: 9.0714286 | G28: 34.285714 | H28: 0.42857143 | I28: 0.42857143 | J28: 0.92857143 | K28: 1.4285714 | L28: 2 | M28: 1.8571429 | N28: 1.1428571 | O28: 1.5714286 | P28: 2.2857143 | Q28: 2.6428571 | R28: 0.78571429 | S28: 3.8571429 | T28: 0.5 | U28: 0.5 | V28: 1.2142857 | W28: 14.357143 | AD28: 7.1054274e-15
A29: 678 | B29: CHARGES EXCEPTIONNELLES | D29: 678
A30: 86 | B30: Bénévolat | C30: 0 | E30: 0 | F30: 0 | G30: 0 | H30: 0 | I30: 0 | J30: 0 | K30: 0 | L30: 0 | M30: 0 | N30: 0 | O30: 0 | P30: 0 | Q30: 0 | R30: 0 | S30: 0 | T30: 0 | U30: 0 | V30: 0 | W30: 0 | AD30: 0
B32: Total dépenses | C32: 570091.57 | E32: 82778.03 | F32: 98104.17 | G32: 389209.37 | H32: 4397.26 | I32: 4397.26 | J32: 9436.23 | K32: 15184.2 | L32: 2743.6775 | M32: 18817.46 | N32: 10980.36 | O32: 15813.62 | P32: 24076.72 | Q32: 13675.27 | R32: 16767.81 | S32: 37610.34 | T32: 4767.97 | U32: 4794.97 | V32: 12875.07 | W32: 189337.71 | X32: 0 | Y32: 0 | Z32: 0 | AA32: 0 | AB32: 0 | AC32: 0 | AD32: -1.7462298e-10
B33: Ecart | C33: 0 | E33: 0 | F33: 0 | G33: 0 | H33: 0 | I33: 0 | J33: 0 | K33: 0 | L33: 0 | M33: 0 | N33: 0 | O33: 0 | P33: 0 | Q33: 0 | R33: 0 | S33: 0 | T33: 0 | U33: 0 | V33: 0 | X33: 0 | Z33: 0 | AD33: 0
B35: RESSOURCES
B36: Cotisations | C36: 213371.69 | E36: 20000 | F36: 85217 | G36: 9356 | I36: 1000 | M36: 1000 | N36: 3056 | T36: 800 | W36: 3000 | X36: 500 | Y36: 93599 | Z36: 5200 | AA36: 5200 | AD36: -0.31
B37: Cotisation Eductour | C37: 17860 | G37: 17860 | O37: 17860 | AD37: 0
B38: Prestations de services | C38: 502026.55 | F38: 5021.2 | G38: 476997.35 | H38: 24393.6 | I38: 15250 | J38: 19000 | K38: 108656.25 | M38: 65075 | N38: 21250 | P38: 17550 | Q38: 27000 | R38: 16900 | S38: 46312.5 | T38: 4500 | U38: 66310 | V38: 15900 | W38: 13000 | X38: 15900 | Y38: 20008 | Z38: 0 | AD38: 0
B39: Autres | C39: 50000 | G39: 0 | Y39: 50000 | AD39: 0
B40: Sous total fonds privés | C40: 783258.24 | E40: 20000 | F40: 90238.2 | G40: 504213.35 | H40: 24393.6 | I40: 16250 | J40: 19000 | K40: 108656.25 | M40: 66075 | N40: 24306 | O40: 17860 | P40: 17550 | Q40: 27000 | R40: 16900 | S40: 46312.5 | T40: 5300 | U40: 66310 | V40: 15900 | W40: 16000 | X40: 16400 | Y40: 163607 | Z40: 5200 | AA40: 5200 | AD40: -0.31
B41: région PACA | C41: 559853 | E41: 77298 | F41: 90328 | G41: -121281.1 | H41: -19996.34 | I41: -11852.74 | J41: -9563.77 | K41: -93472.05 | M41: -47257.54 | N41: -13325.64 | O41: -2046.38 | P41: 6526.72 | Q41: -13324.73 | R41: -132.19 | S41: -8702.16 | T41: -532.03 | U41: -61515.03 | V41: -3024.93 | W41: 173337.71 | X41: -16400 | Y41: 160000 | Z41: 0 | AD41: 353508.1
B42: CG84 | C42: 3500 | E42: 3500 | G42: 0 | AD42: 0
...
