Workbook
Name cola: OFFSET('BD1'!$A$2,,,MATCH(9^9,'BD1'!$A:$A))

Sheet BD1
B1: =Recherche!F4 -> s | C1: Matériel | D1: Nom | E1: Tél | F1: région | G1: Ville | H1: Prêt du matériel | I1: Consultant
A2: =IFERROR(SUMPRODUCT(--(SEARCH(B$1,C2))),"") -> 1 | C2: Spécifique | D2: M. tata | E2: 04.00000000 | F2: Rhône | G2: St Priest | H2: Oui | I2: BA
A3: =IFERROR(SUMPRODUCT(--(SEARCH(B$1,C3))),"") -> 1 | C3: Système de convoyage | D3: M. BEU | E3: 04.00000001 | F3: Région parisienne | G3: Vigny | H3: Oui | I3: BA
A4: =IFERROR(SUMPRODUCT(--(SEARCH(B$1,C4))),"") -> 1 | C4: Système de manutention | D4: Mme LIO | E4: 04.00000002 | F4: Rhône | G4: Lyon | H4: Oui | I4: BA
A5: =IFERROR(SUMPRODUCT(--(SEARCH(B$1,C5))),"") -> 1 | C5: Système de convoyage/ hydraulique | D5: M. MOULIN | E5: 04.00000003 | F5: Rhône | G5: Lyon | H5: Oui | I5: BA
A6: =IFERROR(SUMPRODUCT(--(SEARCH(B$1,C6))),"") -> 8 | C6: Machines outils textile / couture | D6: M. LERIN | E6: 04.00000004 | F6: Loire | G6: Parigny | H6: Oui | I6: POJ
A7: =IFERROR(SUMPRODUCT(--(SEARCH(B$1,C7))),"") -> 5 | C7: Tapis antifatigue | D7: Mme. BRU | E7: 04.00000005 | F7: Autre | G7: Shiltighem | H7: Non | I7: POJ
A8: =IFERROR(SUMPRODUCT(--(SEARCH(B$1,C8))),"") -> 11 | C8: Equipements et fournitures fromagerie | D8: M. TOTO | E8: 04.00000006 | F8: Rhône | G8: Villefranche sur Saône | H8: Non | I8: POJ
A9: =IFERROR(SUMPRODUCT(--(SEARCH(B$1,C9))),"") | C9: Machine et matériel d'élevage | D9: M. CORGIER | E9: 04.00000007 | F9: Rhône | G9: Savigny | H9: Oui | I9: POJ
A10: =IFERROR(SUMPRODUCT(--(SEARCH(B$1,C10))),"") -> 24 | C10: Petit matériel pour cuisine | D10: Mme RUBIS | E10: 04.00000008 | F10: Région parisienne | G10: Argenteuil | H10: Non | I10: POJ
A11: =IFERROR(SUMPRODUCT(--(SEARCH(B$1,C11))),"") -> 1 | C11: système de convoyage | D11: M. ENDIER | E11: 04.00000009 | F11: Loire | G11: Saint germin Laval | H11: Oui | I11: GAR
A12: =IFERROR(SUMPRODUCT(--(SEARCH(B$1,C12))),"") -> 5 | C12: Accessibilité sièges et plates formes | D12: M. GOUN | E12: 04.00000010 | F12: Savoie | G12: Aix les bains | H12: Oui | I12: POJ
A13: =IFERROR(SUMPRODUCT(--(SEARCH(B$1,C13))),"") -> 4 | C13: blisses | D13: M. IANO | E13: 04.00000011 | F13: Isère | G13: Grenoble | H13: Oui | I13: POJ
A14: =IFERROR(SUMPRODUCT(--(SEARCH(B$1,C14))),"") -> 9 | C14: Brouettes électriques et autres solutions | D14: M. SONI | E14: 04.00000012 | F14: Rhône | G14: Vaux en velin | H14: Oui | I14: POJ
A15: =IFERROR(SUMPRODUCT(--(SEARCH(B$1,C15))),"") | C15: ere
A16: =IFERROR(SUMPRODUCT(--(SEARCH(B$1,C16))),"") | C16: tulipe1
A17: =IFERROR(SUMPRODUCT(--(SEARCH(B$1,C17))),"") | C17: tulipe2
A18: =IFERROR(SUMPRODUCT(--(SEARCH(B$1,C18))),"") | C18: tulipe3
A19: =IFERROR(SUMPRODUCT(--(SEARCH(B$1,C19))),"") | C19: tulipe4
A20: =IFERROR(SUMPRODUCT(--(SEARCH(B$1,C20))),"") | C20: tulipe5
A21: =IFERROR(SUMPRODUCT(--(SEARCH(B$1,C21))),"") | C21: tulipe6
A22: =IFERROR(SUMPRODUCT(--(SEARCH(B$1,C22))),"") | C22: tulipe7
A23: =IFERROR(SUMPRODUCT(--(SEARCH(B$1,C23))),"") | C23: tulipe8
A24: =IFERROR(SUMPRODUCT(--(SEARCH(B$1,C24))),"") | C24: tulipe9
A25: =IFERROR(SUMPRODUCT(--(SEARCH(B$1,C25))),"") | C25: tulipe10
A26: =IFERROR(SUMPRODUCT(--(SEARCH(B$1,C26))),"") | C26: tulipe11
... A60: =IFERROR(SUMPRODUCT(--(SEARCH(B$1,C60))),"") | C60: tulipe45
A61: =IFERROR(SUMPRODUCT(--(SEARCH(B$1,C61))),"") -> 1 | C61: solution facile | D61: 1 | E61: 2 | F61: 3 | G61: 4
A62: =IFERROR(SUMPRODUCT(--(SEARCH(B$1,C62))),"")
A63: =IFERROR(SUMPRODUCT(--(SEARCH(B$1,C63))),"")
A64: =IFERROR(SUMPRODUCT(--(SEARCH(B$1,C64))),"")
A65: =IFERROR(SUMPRODUCT(--(SEARCH(B$1,C65))),"")
A66: =IFERROR(SUMPRODUCT(--(SEARCH(B$1,C66))),"")
A67: =IFERROR(SUMPRODUCT(--(SEARCH(B$1,C67))),"")
A68: =IFERROR(SUMPRODUCT(--(SEARCH(B$1,C68))),"") -> 1 | C68: solutionfacile 2 | D68: 3 | E68: merci | F68: ok | G68: top
A69: =IFERROR(SUMPRODUCT(--(SEARCH(B$1,C69))),"")
A70: =IFERROR(SUMPRODUCT(--(SEARCH(B$1,C70))),"")
A71: =IFERROR(SUMPRODUCT(--(SEARCH(B$1,C71))),"")
A72: =IFERROR(SUMPRODUCT(--(SEARCH(B$1,C72))),"")
A73: =IFERROR(SUMPRODUCT(--(SEARCH(B$1,C73))),"")
A74: =IFERROR(SUMPRODUCT(--(SEARCH(B$1,C74))),"")
A75: =IFERROR(SUMPRODUCT(--(SEARCH(B$1,C75))),"")
A76: =IFERROR(SUMPRODUCT(--(SEARCH(B$1,C76))),"")
A77: =IFERROR(SUMPRODUCT(--(SEARCH(B$1,C77))),"")
A78: =IFERROR(SUMPRODUCT(--(SEARCH(B$1,C78))),"")
A79: =IFERROR(SUMPRODUCT(--(SEARCH(B$1,C79))),"")
A80: =IFERROR(SUMPRODUCT(--(SEARCH(B$1,C80))),"")
... A99: =IFERROR(SUMPRODUCT(--(SEARCH(B$1,C99))),"")
A100: =IFERROR(SUMPRODUCT(--(SEARCH(B$1,C100))),"") -> 1 | C100: solution facile 3 | D100: j'aime bien | E100: test ok
A101: =IFERROR(SUMPRODUCT(--(SEARCH(B$1,C101))),"")
A102: =IFERROR(SUMPRODUCT(--(SEARCH(B$1,C102))),"")
A103: =IFERROR(SUMPRODUCT(--(SEARCH(B$1,C103))),"")
A104: =IFERROR(SUMPRODUCT(--(SEARCH(B$1,C104))),"")
A105: =IFERROR(SUMPRODUCT(--(SEARCH(B$1,C105))),"")
A106: =IFERROR(SUMPRODUCT(--(SEARCH(B$1,C106))),"")
A107: =IFERROR(SUMPRODUCT(--(SEARCH(B$1,C107))),"")
A108: =IFERROR(SUMPRODUCT(--(SEARCH(B$1,C108))),"")
A109: =IFERROR(SUMPRODUCT(--(SEARCH(B$1,C109))),"")
A110: =IFERROR(SUMPRODUCT(--(SEARCH(B$1,C110))),"")
A111: =IFERROR(SUMPRODUCT(--(SEARCH(B$1,C111))),"")
A112: =IFERROR(SUMPRODUCT(--(SEARCH(B$1,C112))),"")
... A600: =IFERROR(SUMPRODUCT(--(SEARCH(B$1,C600))),"")

Sheet Recherche
E2: tu saisis la 1ere lettre de ce que tu cherches
D4: Matériel à rechercher | F4: s | J4: rechercher
F6: =COUNTIF(cola,1) -> 8
D8: Matériel | E8: Nom | F8: Tél | G8: région | H8: Ville | I8: Prêt du matériel | J8: Prêt du matériel
D9: {=IFERROR(IF(ROW($A1)>$F$6,"",INDEX('BD1'!C$2:C$1400,SMALL(IF(cola=1,ROW(cola)-1),ROW($A1)))),"no ref")} -> Spécifique | E9: {=IFERROR(IF(ROW($A1)>$F$6,"",INDEX('BD1'!D$2:D$1400,SMALL(IF(cola=1,ROW(cola)-1),ROW($A1)))),"no ref")} -> M. tata | F9: {=IFERROR(IF(ROW($A1)>$F$6,"",INDEX('BD1'!E$2:E$1400,SMALL(IF(cola=1,ROW(cola)-1),ROW($A1)))),"no ref")} -> 04.00000000 | G9: {=IFERROR(IF(ROW($A1)>$F$6,"",INDEX('BD1'!F$2:F$1400,SMALL(IF(cola=1,ROW(cola)-1),ROW($A1)))),"no ref")} -> Rhône | H9: {=IFERROR(IF(ROW($A1)>$F$6,"",INDEX('BD1'!G$2:G$1400,SMALL(IF(cola=1,ROW(cola)-1),ROW($A1)))),"no ref")} -> St Priest | I9: {=IFERROR(IF(ROW($A1)>$F$6,"",INDEX('BD1'!H$2:H$1400,SMALL(IF(cola=1,ROW(cola)-1),ROW($A1)))),"no ref")} -> Oui | J9: {=IFERROR(IF(ROW($A1)>$F$6,"",INDEX('BD1'!I$2:I$1400,SMALL(IF(cola=1,ROW(cola)-1),ROW($A1)))),"no ref")} -> BA
D10: {=IFERROR(IF(ROW($A2)>$F$6,"",INDEX('BD1'!C$2:C$1400,SMALL(IF(cola=1,ROW(cola)-1),ROW($A2)))),"no ref")} -> Système de convoyage | E10: {=IFERROR(IF(ROW($A2)>$F$6,"",INDEX('BD1'!D$2:D$1400,SMALL(IF(cola=1,ROW(cola)-1),ROW($A2)))),"no ref")} -> M. BEU | F10: {=IFERROR(IF(ROW($A2)>$F$6,"",INDEX('BD1'!E$2:E$1400,SMALL(IF(cola=1,ROW(cola)-1),ROW($A2)))),"no ref")} -> 04.00000001 | G10: {=IFERROR(IF(ROW($A2)>$F$6,"",INDEX('BD1'!F$2:F$1400,SMALL(IF(cola=1,ROW(cola)-1),ROW($A2)))),"no ref")} -> Région parisienne | H10: {=IFERROR(IF(ROW($A2)>$F$6,"",INDEX('BD1'!G$2:G$1400,SMALL(IF(cola=1,ROW(cola)-1),ROW($A2)))),"no ref")} -> Vigny | I10: {=IFERROR(IF(ROW($A2)>$F$6,"",INDEX('BD1'!H$2:H$1400,SMALL(IF(cola=1,ROW(cola)-1),ROW($A2)))),"no ref")} -> Oui | J10: {=IFERROR(IF(ROW($A2)>$F$6,"",INDEX('BD1'!I$2:I$1400,SMALL(IF(cola=1,ROW(cola)-1),ROW($A2)))),"no ref")} -> BA
D11: {=IFERROR(IF(ROW($A3)>$F$6,"",INDEX('BD1'!C$2:C$1400,SMALL(IF(cola=1,ROW(cola)-1),ROW($A3)))),"no ref")} -> Système de manutention | E11: {=IFERROR(IF(ROW($A3)>$F$6,"",INDEX('BD1'!D$2:D$1400,SMALL(IF(cola=1,ROW(cola)-1),ROW($A3)))),"no ref")} -> Mme LIO | F11: {=IFERROR(IF(ROW($A3)>$F$6,"",INDEX('BD1'!E$2:E$1400,SMALL(IF(cola=1,ROW(cola)-1),ROW($A3)))),"no ref")} -> 04.00000002 | G11: {=IFERROR(IF(ROW($A3)>$F$6,"",INDEX('BD1'!F$2:F$1400,SMALL(IF(cola=1,ROW(cola)-1),ROW($A3)))),"no ref")} -> Rhône | H11: {=IFERROR(IF(ROW($A3)>$F$6,"",INDEX('BD1'!G$2:G$1400,SMALL(IF(cola=1,ROW(cola)-1),ROW($A3)))),"no ref")} -> Lyon | I11: {=IFERROR(IF(ROW($A3)>$F$6,"",INDEX('BD1'!H$2:H$1400,SMALL(IF(cola=1,ROW(cola)-1),ROW($A3)))),"no ref")} -> Oui | J11: {=IFERROR(IF(ROW($A3)>$F$6,"",INDEX('BD1'!I$2:I$1400,SMALL(IF(cola=1,ROW(cola)-1),ROW($A3)))),"no ref")} -> BA
D12: {=IFERROR(IF(ROW($A4)>$F$6,"",INDEX('BD1'!C$2:C$1400,SMALL(IF(cola=1,ROW(cola)-1),ROW($A4)))),"no ref")} -> Système de convoyage/ hydraulique | E12: {=IFERROR(IF(ROW($A4)>$F$6,"",INDEX('BD1'!D$2:D$1400,SMALL(IF(cola=1,ROW(cola)-1),ROW($A4)))),"no ref")} -> M. MOULIN | F12: {=IFERROR(IF(ROW($A4)>$F$6,"",INDEX('BD1'!E$2:E$1400,SMALL(IF(cola=1,ROW(cola)-1),ROW($A4)))),"no ref")} -> 04.00000003 | G12: {=IFERROR(IF(ROW($A4)>$F$6,"",INDEX('BD1'!F$2:F$1400,SMALL(IF(cola=1,ROW(cola)-1),ROW($A4)))),"no ref")} -> Rhône | H12: {=IFERROR(IF(ROW($A4)>$F$6,"",INDEX('BD1'!G$2:G$1400,SMALL(IF(cola=1,ROW(cola)-1),ROW($A4)))),"no ref")} -> Lyon | I12: {=IFERROR(IF(ROW($A4)>$F$6,"",INDEX('BD1'!H$2:H$1400,SMALL(IF(cola=1,ROW(cola)-1),ROW($A4)))),"no ref")} -> Oui | J12: {=IFERROR(IF(ROW($A4)>$F$6,"",INDEX('BD1'!I$2:I$1400,SMALL(IF(cola=1,ROW(cola)-1),ROW($A4)))),"no ref")} -> BA
D13: {=IFERROR(IF(ROW($A5)>$F$6,"",INDEX('BD1'!C$2:C$1400,SMALL(IF(cola=1,ROW(cola)-1),ROW($A5)))),"no ref")} -> système de convoyage | E13: {=IFERROR(IF(ROW($A5)>$F$6,"",INDEX('BD1'!D$2:D$1400,SMALL(IF(cola=1,ROW(cola)-1),ROW($A5)))),"no ref")} -> M. ENDIER | F13: {=IFERROR(IF(ROW($A5)>$F$6,"",INDEX('BD1'!E$2:E$1400,SMALL(IF(cola=1,ROW(cola)-1),ROW($A5)))),"no ref")} -> 04.00000009 | G13: {=IFERROR(IF(ROW($A5)>$F$6,"",INDEX('BD1'!F$2:F$1400,SMALL(IF(cola=1,ROW(cola)-1),ROW($A5)))),"no ref")} -> Loire | H13: {=IFERROR(IF(ROW($A5)>$F$6,"",INDEX('BD1'!G$2:G$1400,SMALL(IF(cola=1,ROW(cola)-1),ROW($A5)))),"no ref")} -> Saint germin Laval | I13: {=IFERROR(IF(ROW($A5)>$F$6,"",INDEX('BD1'!H$2:H$1400,SMALL(IF(cola=1,ROW(cola)-1),ROW($A5)))),"no ref")} -> Oui | J13: {=IFERROR(IF(ROW($A5)>$F$6,"",INDEX('BD1'!I$2:I$1400,SMALL(IF(cola=1,ROW(cola)-1),ROW($A5)))),"no ref")} -> GAR
D14: {=IFERROR(IF(ROW($A6)>$F$6,"",INDEX('BD1'!C$2:C$1400,SMALL(IF(cola=1,ROW(cola)-1),ROW($A6)))),"no ref")} -> solution facile | E14: {=IFERROR(IF(ROW($A6)>$F$6,"",INDEX('BD1'!D$2:D$1400,SMALL(IF(cola=1,ROW(cola)-1),ROW($A6)))),"no ref")} -> 1 | F14: {=IFERROR(IF(ROW($A6)>$F$6,"",INDEX('BD1'!E$2:E$1400,SMALL(IF(cola=1,ROW(cola)-1),ROW($A6)))),"no ref")} -> 2 | G14: {=IFERROR(IF(ROW($A6)>$F$6,"",INDEX('BD1'!F$2:F$1400,SMALL(IF(cola=1,ROW(cola)-1),ROW($A6)))),"no ref")} -> 3 | H14: {=IFERROR(IF(ROW($A6)>$F$6,"",INDEX('BD1'!G$2:G$1400,SMALL(IF(cola=1,ROW(cola)-1),ROW($A6)))),"no ref")} -> 4 | I14: {=IFERROR(IF(ROW($A6)>$F$6,"",INDEX('BD1'!H$2:H$1400,SMALL(IF(cola=1,ROW(cola)-1),ROW($A6)))),"no ref")} -> 0 | J14: {=IFERROR(IF(ROW($A6)>$F$6,"",INDEX('BD1'!I$2:I$1400,SMALL(IF(cola=1,ROW(cola)-1),ROW($A6)))),"no ref")} -> 0
D15: {=IFERROR(IF(ROW($A7)>$F$6,"",INDEX('BD1'!C$2:C$1400,SMALL(IF(cola=1,ROW(cola)-1),ROW($A7)))),"no ref")} -> solutionfacile 2 | E15: {=IFERROR(IF(ROW($A7)>$F$6,"",INDEX('BD1'!D$2:D$1400,SMALL(IF(cola=1,ROW(cola)-1),ROW($A7)))),"no ref")} -> 3 | F15: {=IFERROR(IF(ROW($A7)>$F$6,"",INDEX('BD1'!E$2:E$1400,SMALL(IF(cola=1,ROW(cola)-1),ROW($A7)))),"no ref")} -> merci | G15: {=IFERROR(IF(ROW($A7)>$F$6,"",INDEX('BD1'!F$2:F$1400,SMALL(IF(cola=1,ROW(cola)-1),ROW($A7)))),"no ref")} -> ok | H15: {=IFERROR(IF(ROW($A7)>$F$6,"",INDEX('BD1'!G$2:G$1400,SMALL(IF(cola=1,ROW(cola)-1),ROW($A7)))),"no ref")} -> top | I15: {=IFERROR(IF(ROW($A7)>$F$6,"",INDEX('BD1'!H$2:H$1400,SMALL(IF(cola=1,ROW(cola)-1),ROW($A7)))),"no ref")} -> 0 | J15: {=IFERROR(IF(ROW($A7)>$F$6,"",INDEX('BD1'!I$2:I$1400,SMALL(IF(cola=1,ROW(cola)-1),ROW($A7)))),"no ref")} -> 0
D16: {=IFERROR(IF(ROW($A8)>$F$6,"",INDEX('BD1'!C$2:C$1400,SMALL(IF(cola=1,ROW(cola)-1),ROW($A8)))),"no ref")} -> solution facile 3 | E16: {=IFERROR(IF(ROW($A8)>$F$6,"",INDEX('BD1'!D$2:D$1400,SMALL(IF(cola=1,ROW(cola)-1),ROW($A8)))),"no ref")} -> j'aime bien | F16: {=IFERROR(IF(ROW($A8)>$F$6,"",INDEX('BD1'!E$2:E$1400,SMALL(IF(cola=1,ROW(cola)-1),ROW($A8)))),"no ref")} -> test ok | G16: {=IFERROR(IF(ROW($A8)>$F$6,"",INDEX('BD1'!F$2:F$1400,SMALL(IF(cola=1,ROW(cola)-1),ROW($A8)))),"no ref")} -> 0 | H16: {=IFERROR(IF(ROW($A8)>$F$6,"",INDEX('BD1'!G$2:G$1400,SMALL(IF(cola=1,ROW(cola)-1),ROW($A8)))),"no ref")} -> 0 | I16: {=IFERROR(IF(ROW($A8)>$F$6,"",INDEX('BD1'!H$2:H$1400,SMALL(IF(cola=1,ROW(cola)-1),ROW($A8)))),"no ref")} -> 0 | J16: {=IFERROR(IF(ROW($A8)>$F$6,"",INDEX('BD1'!I$2:I$1400,SMALL(IF(cola=1,ROW(cola)-1),ROW($A8)))),"no ref")} -> 0
D17: {=IFERROR(IF(ROW($A9)>$F$6,"",INDEX('BD1'!C$2:C$1400,SMALL(IF(cola=1,ROW(cola)-1),ROW($A9)))),"no ref")} | E17: {=IFERROR(IF(ROW($A9)>$F$6,"",INDEX('BD1'!D$2:D$1400,SMALL(IF(cola=1,ROW(cola)-1),ROW($A9)))),"no ref")} | F17: {=IFERROR(IF(ROW($A9)>$F$6,"",INDEX('BD1'!E$2:E$1400,SMALL(IF(cola=1,ROW(cola)-1),ROW($A9)))),"no ref")} | G17: {=IFERROR(IF(ROW($A9)>$F$6,"",INDEX('BD1'!F$2:F$1400,SMALL(IF(cola=1,ROW(cola)-1),ROW($A9)))),"no ref")} | H17: {=IFERROR(IF(ROW($A9)>$F$6,"",INDEX('BD1'!G$2:G$1400,SMALL(IF(cola=1,ROW(cola)-1),ROW($A9)))),"no ref")} | I17: {=IFERROR(IF(ROW($A9)>$F$6,"",INDEX('BD1'!H$2:H$1400,SMALL(IF(cola=1,ROW(cola)-1),ROW($A9)))),"no ref")} | J17: {=IFERROR(IF(ROW($A9)>$F$6,"",INDEX('BD1'!I$2:I$1400,SMALL(IF(cola=1,ROW(cola)-1),ROW($A9)))),"no ref")}
D18: {=IFERROR(IF(ROW($A10)>$F$6,"",INDEX('BD1'!C$2:C$1400,SMALL(IF(cola=1,ROW(cola)-1),ROW($A10)))),"no ref")} | E18: {=IFERROR(IF(ROW($A10)>$F$6,"",INDEX('BD1'!D$2:D$1400,SMALL(IF(cola=1,ROW(cola)-1),ROW($A10)))),"no ref")} | F18: {=IFERROR(IF(ROW($A10)>$F$6,"",INDEX('BD1'!E$2:E$1400,SMALL(IF(cola=1,ROW(cola)-1),ROW($A10)))),"no ref")} | G18: {=IFERROR(IF(ROW($A10)>$F$6,"",INDEX('BD1'!F$2:F$1400,SMALL(IF(cola=1,ROW(cola)-1),ROW($A10)))),"no ref")} | H18: {=IFERROR(IF(ROW($A10)>$F$6,"",INDEX('BD1'!G$2:G$1400,SMALL(IF(cola=1,ROW(cola)-1),ROW($A10)))),"no ref")} | I18: {=IFERROR(IF(ROW($A10)>$F$6,"",INDEX('BD1'!H$2:H$1400,SMALL(IF(cola=1,ROW(cola)-1),ROW($A10)))),"no ref")} | J18: {=IFERROR(IF(ROW($A10)>$F$6,"",INDEX('BD1'!I$2:I$1400,SMALL(IF(cola=1,ROW(cola)-1),ROW($A10)))),"no ref")}
D19: {=IFERROR(IF(ROW($A11)>$F$6,"",INDEX('BD1'!C$2:C$1400,SMALL(IF(cola=1,ROW(cola)-1),ROW($A11)))),"no ref")} | E19: {=IFERROR(IF(ROW($A11)>$F$6,"",INDEX('BD1'!D$2:D$1400,SMALL(IF(cola=1,ROW(cola)-1),ROW($A11)))),"no ref")} | F19: {=IFERROR(IF(ROW($A11)>$F$6,"",INDEX('BD1'!E$2:E$1400,SMALL(IF(cola=1,ROW(cola)-1),ROW($A11)))),"no ref")} | G19: {=IFERROR(IF(ROW($A11)>$F$6,"",INDEX('BD1'!F$2:F$1400,SMALL(IF(cola=1,ROW(cola)-1),ROW($A11)))),"no ref")} | H19: {=IFERROR(IF(ROW($A11)>$F$6,"",INDEX('BD1'!G$2:G$1400,SMALL(IF(cola=1,ROW(cola)-1),ROW($A11)))),"no ref")} | I19: {=IFERROR(IF(ROW($A11)>$F$6,"",INDEX('BD1'!H$2:H$1400,SMALL(IF(cola=1,ROW(cola)-1),ROW($A11)))),"no ref")} | J19: {=IFERROR(IF(ROW($A11)>$F$6,"",INDEX('BD1'!I$2:I$1400,SMALL(IF(cola=1,ROW(cola)-1),ROW($A11)))),"no ref")}
D20: {=IFERROR(IF(ROW($A12)>$F$6,"",INDEX('BD1'!C$2:C$1400,SMALL(IF(cola=1,ROW(cola)-1),ROW($A12)))),"no ref")} | E20: {=IFERROR(IF(ROW($A12)>$F$6,"",INDEX('BD1'!D$2:D$1400,SMALL(IF(cola=1,ROW(cola)-1),ROW($A12)))),"no ref")} | F20: {=IFERROR(IF(ROW($A12)>$F$6,"",INDEX('BD1'!E$2:E$1400,SMALL(IF(cola=1,ROW(cola)-1),ROW($A12)))),"no ref")} | G20: {=IFERROR(IF(ROW($A12)>$F$6,"",INDEX('BD1'!F$2:F$1400,SMALL(IF(cola=1,ROW(cola)-1),ROW($A12)))),"no ref")} | H20: {=IFERROR(IF(ROW($A12)>$F$6,"",INDEX('BD1'!G$2:G$1400,SMALL(IF(cola=1,ROW(cola)-1),ROW($A12)))),"no ref")} | I20: {=IFERROR(IF(ROW($A12)>$F$6,"",INDEX('BD1'!H$2:H$1400,SMALL(IF(cola=1,ROW(cola)-1),ROW($A12)))),"no ref")} | J20: {=IFERROR(IF(ROW($A12)>$F$6,"",INDEX('BD1'!I$2:I$1400,SMALL(IF(cola=1,ROW(cola)-1),ROW($A12)))),"no ref")}
... D23: {=IFERROR(IF(ROW($A15)>$F$6,"",INDEX('BD1'!C$2:C$1400,SMALL(IF(cola=1,ROW(cola)-1),ROW($A15)))),"no ref")} | E23: {=IFERROR(IF(ROW($A15)>$F$6,"",INDEX('BD1'!D$2:D$1400,SMALL(IF(cola=1,ROW(cola)-1),ROW($A15)))),"no ref")} | F23: {=IFERROR(IF(ROW($A15)>$F$6,"",INDEX('BD1'!E$2:E$1400,SMALL(IF(cola=1,ROW(cola)-1),ROW($A15)))),"no ref")} | G23: {=IFERROR(IF(ROW($A15)>$F$6,"",INDEX('BD1'!F$2:F$1400,SMALL(IF(cola=1,ROW(cola)-1),ROW($A15)))),"no ref")} | H23: {=IFERROR(IF(ROW($A15)>$F$6,"",INDEX('BD1'!G$2:G$1400,SMALL(IF(cola=1,ROW(cola)-1),ROW($A15)))),"no ref")} | I23: {=IFERROR(IF(ROW($A15)>$F$6,"",INDEX('BD1'!H$2:H$1400,SMALL(IF(cola=1,ROW(cola)-1),ROW($A15)))),"no ref")} | J23: {=IFERROR(IF(ROW($A15)>$F$6,"",INDEX('BD1'!I$2:I$1400,SMALL(IF(cola=1,ROW(cola)-1),ROW($A15)))),"no ref")}

Sheet Feuil3
