Workbook
Name date: OFFSET(BDD!$A$2,,,COUNT(BDD!$A:$A))
Name index: OFFSET(date,,5,)
Name montant: OFFSET(BDD!$C$2:$E$2,,,ROWS(date))
Name nom: OFFSET(date,,1,)
Name quoi: BDD!$C$1:$E$1

Sheet BDD
A1: date | B1: nom | C1: CB | D1: chèque | E1: espèces | F1: index
A2: 42036 | B2: tt | C2: 10 | F2: =SUMPRODUCT((MONTH(A2)='Journal CB'!C$2)*(C$1:E$1='Journal CB'!D$2)*(BDD!C2:E2>0)) -> 0
A3: 42037 | B3: aa | D3: 50 | F3: =SUMPRODUCT((MONTH(A3)='Journal CB'!C$2)*(C$1:E$1='Journal CB'!D$2)*(BDD!C3:E3>0)) -> 0
A4: 42038 | B4: cc | C4: 20 | F4: =SUMPRODUCT((MONTH(A4)='Journal CB'!C$2)*(C$1:E$1='Journal CB'!D$2)*(BDD!C4:E4>0)) -> 0
A5: 42064 | B5: bb | E5: 40 | F5: =SUMPRODUCT((MONTH(A5)='Journal CB'!C$2)*(C$1:E$1='Journal CB'!D$2)*(BDD!C5:E5>0)) -> 0
A6: 42065 | B6: aa | C6: 30 | F6: =SUMPRODUCT((MONTH(A6)='Journal CB'!C$2)*(C$1:E$1='Journal CB'!D$2)*(BDD!C6:E6>0)) -> 0
A7: 42066 | B7: ee | D7: 10 | F7: =SUMPRODUCT((MONTH(A7)='Journal CB'!C$2)*(C$1:E$1='Journal CB'!D$2)*(BDD!C7:E7>0)) -> 1
A8: 42095 | B8: rr | C8: 20 | F8: =SUMPRODUCT((MONTH(A8)='Journal CB'!C$2)*(C$1:E$1='Journal CB'!D$2)*(BDD!C8:E8>0)) -> 0
A9: 42096 | B9: tt | D9: 20 | F9: =SUMPRODUCT((MONTH(A9)='Journal CB'!C$2)*(C$1:E$1='Journal CB'!D$2)*(BDD!C9:E9>0)) -> 0
A10: 42097 | B10: yy | E10: 30 | F10: =SUMPRODUCT((MONTH(A10)='Journal CB'!C$2)*(C$1:E$1='Journal CB'!D$2)*(BDD!C10:E10>0)) -> 0
A11: 42098 | B11: aa | C11: 10 | F11: =SUMPRODUCT((MONTH(A11)='Journal CB'!C$2)*(C$1:E$1='Journal CB'!D$2)*(BDD!C11:E11>0)) -> 0

Sheet Journal CB
D1: choix (cb….. | F1: ="rappel du montant sorti du mois "&TEXT("01/"&C2,"mmmm") -> rappel du montant sorti du mois mars
B2: mois | C2: 3 | D2: Chèque | F2: =SUMPRODUCT((MONTH(date)=C2)*(montant)) -> 80
H4: voir dans gestionnaire pour les noms utilisés
A5: date | B5: nom | C5: montant
A6: {=IFERROR(INDEX(date,SMALL(IF((MONTH(date)=$C$2)*(index>0),ROW(date)-1,""),ROW($A1))),"")} -> 42066 | B6: {=IFERROR(INDEX(nom,SMALL(IF((MONTH(date)=$C$2)*(index>0),ROW(date)-1,""),ROW($A1))),"")} -> ee | C6: =SUMPRODUCT((MONTH(date)=$C$2)*(nom=$B6)*(quoi=$D$2)*(montant)) -> 10
A7: {=IFERROR(INDEX(date,SMALL(IF((MONTH(date)=$C$2)*(index>0),ROW(date)-1,""),ROW($A2))),"")} | B7: {=IFERROR(INDEX(nom,SMALL(IF((MONTH(date)=$C$2)*(index>0),ROW(date)-1,""),ROW($A2))),"")} | C7: =SUMPRODUCT((MONTH(date)=$C$2)*(nom=$B7)*(quoi=$D$2)*(montant)) -> 0
A8: {=IFERROR(INDEX(date,SMALL(IF((MONTH(date)=$C$2)*(index>0),ROW(date)-1,""),ROW($A3))),"")} | B8: {=IFERROR(INDEX(nom,SMALL(IF((MONTH(date)=$C$2)*(index>0),ROW(date)-1,""),ROW($A3))),"")} | C8: =SUMPRODUCT((MONTH(date)=$C$2)*(nom=$B8)*(quoi=$D$2)*(montant)) -> 0
A9: {=IFERROR(INDEX(date,SMALL(IF((MONTH(date)=$C$2)*(index>0),ROW(date)-1,""),ROW($A4))),"")} | B9: {=IFERROR(INDEX(nom,SMALL(IF((MONTH(date)=$C$2)*(index>0),ROW(date)-1,""),ROW($A4))),"")} | C9: =SUMPRODUCT((MONTH(date)=$C$2)*(nom=$B9)*(quoi=$D$2)*(montant)) -> 0
A10: {=IFERROR(INDEX(date,SMALL(IF((MONTH(date)=$C$2)*(index>0),ROW(date)-1,""),ROW($A5))),"")} | B10: {=IFERROR(INDEX(nom,SMALL(IF((MONTH(date)=$C$2)*(index>0),ROW(date)-1,""),ROW($A5))),"")} | C10: =SUMPRODUCT((MONTH(date)=$C$2)*(nom=$B10)*(quoi=$D$2)*(montant)) -> 0 | F10: du facile | G10: 1 choix du mois
A11: {=IFERROR(INDEX(date,SMALL(IF((MONTH(date)=$C$2)*(index>0),ROW(date)-1,""),ROW($A6))),"")} | B11: {=IFERROR(INDEX(nom,SMALL(IF((MONTH(date)=$C$2)*(index>0),ROW(date)-1,""),ROW($A6))),"")} | C11: =SUMPRODUCT((MONTH(date)=$C$2)*(nom=$B11)*(quoi=$D$2)*(montant)) -> 0 | G11: 2) choix du mode de paiement
F13: tout est dynamique et automatisé
