Workbook

Sheet Feuil1
A1: mois année | B1: 12014 | C1: 12015 | D1: 12016 | E1: 22014 | F1: 22015 | G1: 22016 | H1: 32014 | K1: mois année | L1: 32014 | M1: liste déroulante
A2: fournisseur 1 | B2: =10 -> 10 | C2: =Feuil1!$B2+10 -> 20 | D2: =Feuil1!$C2+10 -> 30 | E2: =Feuil1!$D2+10 -> 40 | F2: =Feuil1!$E2+10 -> 50 | G2: =Feuil1!$F2+10 -> 60 | H2: =Feuil1!$G2+10 -> 70 | K2: fournisseur 1 | L2: {=OFFSET($A$1,1,MATCH(L1,B1:H1,0),3)} -> 70
A3: fournisseur 2 | B3: =B2*10 -> 100 | C3: =C2*10 -> 200 | D3: =D2*10 -> 300 | E3: =E2*10 -> 400 | F3: =F2*10 -> 500 | G3: =G2*10 -> 600 | H3: =H2*10 -> 700 | K3: fournisseur 2 | L3: 700
A4: fournisseur 3 | B4: =B3*10 -> 1000 | C4: =C3*10 -> 2000 | D4: =D3*10 -> 3000 | E4: =E3*10 -> 4000 | F4: =F3*10 -> 5000 | G4: =G3*10 -> 6000 | H4: =H3*10 -> 7000 | K4: fournisseur 3 | L4: 7000
G9: methode
G10: 1) selectionner une plge
G11: 2)saisir la formule | I11: remplacer le 3 par le nb de fournisseurs
G12: 3) valider avec les touches Ctrl Maj Entrée en simultané
