Workbook
Name datas: #REF!

Sheet Feuil1 
A2: N° | B2: ETAT DE PRESENCE | C2: SUJET LONG | D2: Stagiaire
A3: 1 | B3: présent | C3: MCO1 - STANDARD AC | D3: AHOGNIS JEAN-BAPTISTE
A4: 2 | B4: convoqué | C4: MCO2 COMPLEX ORDER | D4: AHOGNIS JEAN-BAPTISTE
A5: 3 | B5: présent | C5: MODULE NAVIGATION OUTIL | D5: AHOGNIS JEAN-BAPTISTE
A6: 4 | B6: présent | C6: MCO1 - STANDARD AC | D6: AMMAER CORINNE
A7: 5 | B7: convoqué | C7: MCO2 COMPLEX ORDER | D7: AMMAER CORINNE
A8: 6 | B8: présent | C8: MODULE NAVIGATION OUTIL | D8: AMMAER CORINNE
A9: 7 | B9: présent | C9: MCO1 - STANDARD AC | D9: AYDIN ISABELLE
A10: 8 | B10: présent | C10: MCO2 COMPLEX ORDER | D10: AYDIN ISABELLE
A11: 9 | B11: présent | C11: MODULE NAVIGATION OUTIL | D11: AYDIN ISABELLE
A12: 10 | B12: présent | C12: MCO1 - STANDARD AC | D12: BALCONNET MATHILDE
A13: 11 | B13: convoqué | C13: MCO2 COMPLEX ORDER | D13: BALCONNET MATHILDE
A14: 12 | B14: présent | C14: MODULE NAVIGATION OUTIL | D14: BALCONNET MATHILDE
... A117: 115 | B117: convoqué | C117: MCO2 COMPLEX ORDER | D117: XLAUMOTTE PASCALE

Sheet Feuil2
B2: Stagiaire | C2: MCO1 - STANDARD AC | D2: MCO2 COMPLEX ORDER | E2: MODULE NAVIGATION OUTIL
B3: AHOGNIS JEAN-BAPTISTE | C3: {=IFERROR(INDEX('Feuil1 '!$B$3:$B$117,MATCH(1,('Feuil1 '!$D$3:$D$117=$B3)*('Feuil1 '!$C$3:$C$117=C$2),0)),"")} -> présent | D3: {=IFERROR(INDEX('Feuil1 '!$B$3:$B$117,MATCH(1,('Feuil1 '!$D$3:$D$117=$B3)*('Feuil1 '!$C$3:$C$117=D$2),0)),"")} -> convoqué | E3: {=IFERROR(INDEX('Feuil1 '!$B$3:$B$117,MATCH(1,('Feuil1 '!$D$3:$D$117=$B3)*('Feuil1 '!$C$3:$C$117=E$2),0)),"")} -> présent
B4: AMMAER CORINNE | C4: {=IFERROR(INDEX('Feuil1 '!$B$3:$B$117,MATCH(1,('Feuil1 '!$D$3:$D$117=$B4)*('Feuil1 '!$C$3:$C$117=C$2),0)),"")} -> présent | D4: {=IFERROR(INDEX('Feuil1 '!$B$3:$B$117,MATCH(1,('Feuil1 '!$D$3:$D$117=$B4)*('Feuil1 '!$C$3:$C$117=D$2),0)),"")} -> convoqué | E4: {=IFERROR(INDEX('Feuil1 '!$B$3:$B$117,MATCH(1,('Feuil1 '!$D$3:$D$117=$B4)*('Feuil1 '!$C$3:$C$117=E$2),0)),"")} -> présent
B5: AYDIN ISABELLE | C5: {=IFERROR(INDEX('Feuil1 '!$B$3:$B$117,MATCH(1,('Feuil1 '!$D$3:$D$117=$B5)*('Feuil1 '!$C$3:$C$117=C$2),0)),"")} -> présent | D5: {=IFERROR(INDEX('Feuil1 '!$B$3:$B$117,MATCH(1,('Feuil1 '!$D$3:$D$117=$B5)*('Feuil1 '!$C$3:$C$117=D$2),0)),"")} -> présent | E5: {=IFERROR(INDEX('Feuil1 '!$B$3:$B$117,MATCH(1,('Feuil1 '!$D$3:$D$117=$B5)*('Feuil1 '!$C$3:$C$117=E$2),0)),"")} -> présent
B6: BALCONNET MATHILDE | C6: {=IFERROR(INDEX('Feuil1 '!$B$3:$B$117,MATCH(1,('Feuil1 '!$D$3:$D$117=$B6)*('Feuil1 '!$C$3:$C$117=C$2),0)),"")} -> présent | D6: {=IFERROR(INDEX('Feuil1 '!$B$3:$B$117,MATCH(1,('Feuil1 '!$D$3:$D$117=$B6)*('Feuil1 '!$C$3:$C$117=D$2),0)),"")} -> convoqué | E6: {=IFERROR(INDEX('Feuil1 '!$B$3:$B$117,MATCH(1,('Feuil1 '!$D$3:$D$117=$B6)*('Feuil1 '!$C$3:$C$117=E$2),0)),"")} -> présent
B7: BALLARD PATRICIA | C7: {=IFERROR(INDEX('Feuil1 '!$B$3:$B$117,MATCH(1,('Feuil1 '!$D$3:$D$117=$B7)*('Feuil1 '!$C$3:$C$117=C$2),0)),"")} | D7: {=IFERROR(INDEX('Feuil1 '!$B$3:$B$117,MATCH(1,('Feuil1 '!$D$3:$D$117=$B7)*('Feuil1 '!$C$3:$C$117=D$2),0)),"")} -> convoqué | E7: {=IFERROR(INDEX('Feuil1 '!$B$3:$B$117,MATCH(1,('Feuil1 '!$D$3:$D$117=$B7)*('Feuil1 '!$C$3:$C$117=E$2),0)),"")} -> présent
B8: BANDOUA MADELEINE | C8: {=IFERROR(INDEX('Feuil1 '!$B$3:$B$117,MATCH(1,('Feuil1 '!$D$3:$D$117=$B8)*('Feuil1 '!$C$3:$C$117=C$2),0)),"")} -> absent | D8: {=IFERROR(INDEX('Feuil1 '!$B$3:$B$117,MATCH(1,('Feuil1 '!$D$3:$D$117=$B8)*('Feuil1 '!$C$3:$C$117=D$2),0)),"")} -> absent | E8: {=IFERROR(INDEX('Feuil1 '!$B$3:$B$117,MATCH(1,('Feuil1 '!$D$3:$D$117=$B8)*('Feuil1 '!$C$3:$C$117=E$2),0)),"")} -> absent
B9: BARST ANNE-LAURE | C9: {=IFERROR(INDEX('Feuil1 '!$B$3:$B$117,MATCH(1,('Feuil1 '!$D$3:$D$117=$B9)*('Feuil1 '!$C$3:$C$117=C$2),0)),"")} -> présent | D9: {=IFERROR(INDEX('Feuil1 '!$B$3:$B$117,MATCH(1,('Feuil1 '!$D$3:$D$117=$B9)*('Feuil1 '!$C$3:$C$117=D$2),0)),"")} -> convoqué | E9: {=IFERROR(INDEX('Feuil1 '!$B$3:$B$117,MATCH(1,('Feuil1 '!$D$3:$D$117=$B9)*('Feuil1 '!$C$3:$C$117=E$2),0)),"")} -> présent
B10: BAUGET SANDRINE | C10: {=IFERROR(INDEX('Feuil1 '!$B$3:$B$117,MATCH(1,('Feuil1 '!$D$3:$D$117=$B10)*('Feuil1 '!$C$3:$C$117=C$2),0)),"")} -> absent | D10: {=IFERROR(INDEX('Feuil1 '!$B$3:$B$117,MATCH(1,('Feuil1 '!$D$3:$D$117=$B10)*('Feuil1 '!$C$3:$C$117=D$2),0)),"")} -> convoqué | E10: {=IFERROR(INDEX('Feuil1 '!$B$3:$B$117,MATCH(1,('Feuil1 '!$D$3:$D$117=$B10)*('Feuil1 '!$C$3:$C$117=E$2),0)),"")} -> présent
B11: BECUD CECILE | C11: {=IFERROR(INDEX('Feuil1 '!$B$3:$B$117,MATCH(1,('Feuil1 '!$D$3:$D$117=$B11)*('Feuil1 '!$C$3:$C$117=C$2),0)),"")} -> présent | D11: {=IFERROR(INDEX('Feuil1 '!$B$3:$B$117,MATCH(1,('Feuil1 '!$D$3:$D$117=$B11)*('Feuil1 '!$C$3:$C$117=D$2),0)),"")} -> présent | E11: {=IFERROR(INDEX('Feuil1 '!$B$3:$B$117,MATCH(1,('Feuil1 '!$D$3:$D$117=$B11)*('Feuil1 '!$C$3:$C$117=E$2),0)),"")} -> présent
B12: BELMADAI SALIMA | C12: {=IFERROR(INDEX('Feuil1 '!$B$3:$B$117,MATCH(1,('Feuil1 '!$D$3:$D$117=$B12)*('Feuil1 '!$C$3:$C$117=C$2),0)),"")} -> présent | D12: {=IFERROR(INDEX('Feuil1 '!$B$3:$B$117,MATCH(1,('Feuil1 '!$D$3:$D$117=$B12)*('Feuil1 '!$C$3:$C$117=D$2),0)),"")} -> convoqué | E12: {=IFERROR(INDEX('Feuil1 '!$B$3:$B$117,MATCH(1,('Feuil1 '!$D$3:$D$117=$B12)*('Feuil1 '!$C$3:$C$117=E$2),0)),"")} -> présent
B13: BENHADJA CORINNE | C13: {=IFERROR(INDEX('Feuil1 '!$B$3:$B$117,MATCH(1,('Feuil1 '!$D$3:$D$117=$B13)*('Feuil1 '!$C$3:$C$117=C$2),0)),"")} -> présent | D13: {=IFERROR(INDEX('Feuil1 '!$B$3:$B$117,MATCH(1,('Feuil1 '!$D$3:$D$117=$B13)*('Feuil1 '!$C$3:$C$117=D$2),0)),"")} -> convoqué | E13: {=IFERROR(INDEX('Feuil1 '!$B$3:$B$117,MATCH(1,('Feuil1 '!$D$3:$D$117=$B13)*('Feuil1 '!$C$3:$C$117=E$2),0)),"")} -> présent
B14: BENZAKA DOMINIQUE | C14: {=IFERROR(INDEX('Feuil1 '!$B$3:$B$117,MATCH(1,('Feuil1 '!$D$3:$D$117=$B14)*('Feuil1 '!$C$3:$C$117=C$2),0)),"")} -> présent | D14: {=IFERROR(INDEX('Feuil1 '!$B$3:$B$117,MATCH(1,('Feuil1 '!$D$3:$D$117=$B14)*('Feuil1 '!$C$3:$C$117=D$2),0)),"")} -> convoqué | E14: {=IFERROR(INDEX('Feuil1 '!$B$3:$B$117,MATCH(1,('Feuil1 '!$D$3:$D$117=$B14)*('Feuil1 '!$C$3:$C$117=E$2),0)),"")} -> présent
... B43: XLAUMOTTE PASCALE | C43: {=IFERROR(INDEX('Feuil1 '!$B$3:$B$117,MATCH(1,('Feuil1 '!$D$3:$D$117=$B43)*('Feuil1 '!$C$3:$C$117=C$2),0)),"")} -> présent | D43: {=IFERROR(INDEX('Feuil1 '!$B$3:$B$117,MATCH(1,('Feuil1 '!$D$3:$D$117=$B43)*('Feuil1 '!$C$3:$C$117=D$2),0)),"")} -> convoqué | E43: {=IFERROR(INDEX('Feuil1 '!$B$3:$B$117,MATCH(1,('Feuil1 '!$D$3:$D$117=$B43)*('Feuil1 '!$C$3:$C$117=E$2),0)),"")}

Sheet Feuil1
