Workbook
Name appareils: OFFSET(departement,,2,)
Name departement: OFFSET(APP!$A$2,,,COUNT(APP!$A:$A))
Name semaine: OFFSET(departement,,1,)

Sheet APP
A1: DEPT | B1: SEMAINE | C1: NBR D'APPAREIL
A2: 75 | B2: 2 | C2: 62
A3: 62 | B3: 2 | C3: 26
A4: 59 | B4: 2 | C4: 42
A5: 13 | B5: 2 | C5: 18
A6: 83 | B6: 2 | C6: 52
A7: 13 | B7: 2 | C7: 62
A8: 13 | B8: 24 | C8: 25
A9: 62 | B9: 2 | C9: 63
A10: 62 | B10: 24 | C10: 58
A11: 59 | B11: 2 | C11: 62
A12: 59 | B12: 24 | C12: 63
A13: 75 | B13: 2 | C13: 62
... A37: 83 | B37: 50 | C37: 62

Sheet RECAP
B1: {=IFERROR(OFFSET(APP!$B$1,MATCH(0,COUNTIF($A$1:A$1,semaine),0),),"")} -> 2 | C1: {=IFERROR(OFFSET(APP!$B$1,MATCH(0,COUNTIF($A$1:B$1,semaine),0),),"")} -> 24 | D1: {=IFERROR(OFFSET(APP!$B$1,MATCH(0,COUNTIF($A$1:C$1,semaine),0),),"")} -> 50 | E1: {=IFERROR(OFFSET(APP!$B$1,MATCH(0,COUNTIF($A$1:D$1,semaine),0),),"")} | F1: {=IFERROR(OFFSET(APP!$B$1,MATCH(0,COUNTIF($A$1:E$1,semaine),0),),"")} | G1: {=IFERROR(OFFSET(APP!$B$1,MATCH(0,COUNTIF($A$1:F$1,semaine),0),),"")} | H1: {=IFERROR(OFFSET(APP!$B$1,MATCH(0,COUNTIF($A$1:G$1,semaine),0),),"")} | I1: {=IFERROR(OFFSET(APP!$B$1,MATCH(0,COUNTIF($A$1:H$1,semaine),0),),"")} | ... R1: {=IFERROR(OFFSET(APP!$B$1,MATCH(0,COUNTIF($A$1:Q$1,semaine),0),),"")}
A2: {=IFERROR(OFFSET(APP!A$1,MATCH(0,COUNTIF(A$1:A1,departement),0),),"")} -> 75 | B2: =SUMPRODUCT((departement=$A2)*(semaine=B$1)*(appareils)) -> 124 | C2: =SUMPRODUCT((departement=$A2)*(semaine=C$1)*(appareils)) -> 95 | D2: =SUMPRODUCT((departement=$A2)*(semaine=D$1)*(appareils)) -> 91 | E2: =SUMPRODUCT((departement=$A2)*(semaine=E$1)*(appareils)) -> 0 | F2: =SUMPRODUCT((departement=$A2)*(semaine=F$1)*(appareils)) -> 0 | G2: =SUMPRODUCT((departement=$A2)*(semaine=G$1)*(appareils)) -> 0 | H2: =SUMPRODUCT((departement=$A2)*(semaine=H$1)*(appareils)) -> 0 | I2: =SUMPRODUCT((departement=$A2)*(semaine=I$1)*(appareils)) -> 0 | ... R2: =SUMPRODUCT((departement=$A2)*(semaine=R$1)*(appareils)) -> 0
A3: {=IFERROR(OFFSET(APP!A$1,MATCH(0,COUNTIF(A$1:A2,departement),0),),"")} -> 62 | B3: =SUMPRODUCT((departement=$A3)*(semaine=B$1)*(appareils)) -> 89 | C3: =SUMPRODUCT((departement=$A3)*(semaine=C$1)*(appareils)) -> 131 | D3: =SUMPRODUCT((departement=$A3)*(semaine=D$1)*(appareils)) -> 80 | E3: =SUMPRODUCT((departement=$A3)*(semaine=E$1)*(appareils)) -> 0 | F3: =SUMPRODUCT((departement=$A3)*(semaine=F$1)*(appareils)) -> 0 | G3: =SUMPRODUCT((departement=$A3)*(semaine=G$1)*(appareils)) -> 0 | H3: =SUMPRODUCT((departement=$A3)*(semaine=H$1)*(appareils)) -> 0 | I3: =SUMPRODUCT((departement=$A3)*(semaine=I$1)*(appareils)) -> 0 | ... R3: =SUMPRODUCT((departement=$A3)*(semaine=R$1)*(appareils)) -> 0
A4: {=IFERROR(OFFSET(APP!A$1,MATCH(0,COUNTIF(A$1:A3,departement),0),),"")} -> 59 | B4: =SUMPRODUCT((departement=$A4)*(semaine=B$1)*(appareils)) -> 104 | C4: =SUMPRODUCT((departement=$A4)*(semaine=C$1)*(appareils)) -> 136 | D4: =SUMPRODUCT((departement=$A4)*(semaine=D$1)*(appareils)) -> 105 | E4: =SUMPRODUCT((departement=$A4)*(semaine=E$1)*(appareils)) -> 0 | F4: =SUMPRODUCT((departement=$A4)*(semaine=F$1)*(appareils)) -> 0 | G4: =SUMPRODUCT((departement=$A4)*(semaine=G$1)*(appareils)) -> 0 | H4: =SUMPRODUCT((departement=$A4)*(semaine=H$1)*(appareils)) -> 0 | I4: =SUMPRODUCT((departement=$A4)*(semaine=I$1)*(appareils)) -> 0 | ... R4: =SUMPRODUCT((departement=$A4)*(semaine=R$1)*(appareils)) -> 0
A5: {=IFERROR(OFFSET(APP!A$1,MATCH(0,COUNTIF(A$1:A4,departement),0),),"")} -> 13 | B5: =SUMPRODUCT((departement=$A5)*(semaine=B$1)*(appareils)) -> 80 | C5: =SUMPRODUCT((departement=$A5)*(semaine=C$1)*(appareils)) -> 63 | D5: =SUMPRODUCT((departement=$A5)*(semaine=D$1)*(appareils)) -> 90 | E5: =SUMPRODUCT((departement=$A5)*(semaine=E$1)*(appareils)) -> 0 | F5: =SUMPRODUCT((departement=$A5)*(semaine=F$1)*(appareils)) -> 0 | G5: =SUMPRODUCT((departement=$A5)*(semaine=G$1)*(appareils)) -> 0 | H5: =SUMPRODUCT((departement=$A5)*(semaine=H$1)*(appareils)) -> 0 | I5: =SUMPRODUCT((departement=$A5)*(semaine=I$1)*(appareils)) -> 0 | ... R5: =SUMPRODUCT((departement=$A5)*(semaine=R$1)*(appareils)) -> 0
A6: {=IFERROR(OFFSET(APP!A$1,MATCH(0,COUNTIF(A$1:A5,departement),0),),"")} -> 83 | B6: =SUMPRODUCT((departement=$A6)*(semaine=B$1)*(appareils)) -> 87 | C6: =SUMPRODUCT((departement=$A6)*(semaine=C$1)*(appareils)) -> 45 | D6: =SUMPRODUCT((departement=$A6)*(semaine=D$1)*(appareils)) -> 116 | E6: =SUMPRODUCT((departement=$A6)*(semaine=E$1)*(appareils)) -> 0 | F6: =SUMPRODUCT((departement=$A6)*(semaine=F$1)*(appareils)) -> 0 | G6: =SUMPRODUCT((departement=$A6)*(semaine=G$1)*(appareils)) -> 0 | H6: =SUMPRODUCT((departement=$A6)*(semaine=H$1)*(appareils)) -> 0 | I6: =SUMPRODUCT((departement=$A6)*(semaine=I$1)*(appareils)) -> 0 | ... R6: =SUMPRODUCT((departement=$A6)*(semaine=R$1)*(appareils)) -> 0
A7: {=IFERROR(OFFSET(APP!A$1,MATCH(0,COUNTIF(A$1:A6,departement),0),),"")} -> 69 | B7: =SUMPRODUCT((departement=$A7)*(semaine=B$1)*(appareils)) -> 140 | C7: =SUMPRODUCT((departement=$A7)*(semaine=C$1)*(appareils)) -> 82 | D7: =SUMPRODUCT((departement=$A7)*(semaine=D$1)*(appareils)) -> 70 | E7: =SUMPRODUCT((departement=$A7)*(semaine=E$1)*(appareils)) -> 0 | F7: =SUMPRODUCT((departement=$A7)*(semaine=F$1)*(appareils)) -> 0 | G7: =SUMPRODUCT((departement=$A7)*(semaine=G$1)*(appareils)) -> 0 | H7: =SUMPRODUCT((departement=$A7)*(semaine=H$1)*(appareils)) -> 0 | I7: =SUMPRODUCT((departement=$A7)*(semaine=I$1)*(appareils)) -> 0 | ... R7: =SUMPRODUCT((departement=$A7)*(semaine=R$1)*(appareils)) -> 0
A8: {=IFERROR(OFFSET(APP!A$1,MATCH(0,COUNTIF(A$1:A7,departement),0),),"")} | B8: =SUMPRODUCT((departement=$A8)*(semaine=B$1)*(appareils)) -> 0 | C8: =SUMPRODUCT((departement=$A8)*(semaine=C$1)*(appareils)) -> 0 | D8: =SUMPRODUCT((departement=$A8)*(semaine=D$1)*(appareils)) -> 0 | E8: =SUMPRODUCT((departement=$A8)*(semaine=E$1)*(appareils)) -> 0 | F8: =SUMPRODUCT((departement=$A8)*(semaine=F$1)*(appareils)) -> 0 | G8: =SUMPRODUCT((departement=$A8)*(semaine=G$1)*(appareils)) -> 0 | H8: =SUMPRODUCT((departement=$A8)*(semaine=H$1)*(appareils)) -> 0 | I8: =SUMPRODUCT((departement=$A8)*(semaine=I$1)*(appareils)) -> 0 | ... R8: =SUMPRODUCT((departement=$A8)*(semaine=R$1)*(appareils)) -> 0
A9: {=IFERROR(OFFSET(APP!A$1,MATCH(0,COUNTIF(A$1:A8,departement),0),),"")} | B9: =SUMPRODUCT((departement=$A9)*(semaine=B$1)*(appareils)) -> 0 | C9: =SUMPRODUCT((departement=$A9)*(semaine=C$1)*(appareils)) -> 0 | D9: =SUMPRODUCT((departement=$A9)*(semaine=D$1)*(appareils)) -> 0 | E9: =SUMPRODUCT((departement=$A9)*(semaine=E$1)*(appareils)) -> 0 | F9: =SUMPRODUCT((departement=$A9)*(semaine=F$1)*(appareils)) -> 0 | G9: =SUMPRODUCT((departement=$A9)*(semaine=G$1)*(appareils)) -> 0 | H9: =SUMPRODUCT((departement=$A9)*(semaine=H$1)*(appareils)) -> 0 | I9: =SUMPRODUCT((departement=$A9)*(semaine=I$1)*(appareils)) -> 0 | ... R9: =SUMPRODUCT((departement=$A9)*(semaine=R$1)*(appareils)) -> 0
A10: {=IFERROR(OFFSET(APP!A$1,MATCH(0,COUNTIF(A$1:A9,departement),0),),"")} | B10: =SUMPRODUCT((departement=$A10)*(semaine=B$1)*(appareils)) -> 0 | C10: =SUMPRODUCT((departement=$A10)*(semaine=C$1)*(appareils)) -> 0 | D10: =SUMPRODUCT((departement=$A10)*(semaine=D$1)*(appareils)) -> 0 | E10: =SUMPRODUCT((departement=$A10)*(semaine=E$1)*(appareils)) -> 0 | F10: =SUMPRODUCT((departement=$A10)*(semaine=F$1)*(appareils)) -> 0 | G10: =SUMPRODUCT((departement=$A10)*(semaine=G$1)*(appareils)) -> 0 | H10: =SUMPRODUCT((departement=$A10)*(semaine=H$1)*(appareils)) -> 0 | I10: =SUMPRODUCT((departement=$A10)*(semaine=I$1)*(appareils)) -> 0 | ... R10: =SUMPRODUCT((departement=$A10)*(semaine=R$1)*(appareils)) -> 0
A11: {=IFERROR(OFFSET(APP!A$1,MATCH(0,COUNTIF(A$1:A10,departement),0),),"")} | B11: =SUMPRODUCT((departement=$A11)*(semaine=B$1)*(appareils)) -> 0 | C11: =SUMPRODUCT((departement=$A11)*(semaine=C$1)*(appareils)) -> 0 | D11: =SUMPRODUCT((departement=$A11)*(semaine=D$1)*(appareils)) -> 0 | E11: =SUMPRODUCT((departement=$A11)*(semaine=E$1)*(appareils)) -> 0 | F11: =SUMPRODUCT((departement=$A11)*(semaine=F$1)*(appareils)) -> 0 | G11: =SUMPRODUCT((departement=$A11)*(semaine=G$1)*(appareils)) -> 0 | H11: =SUMPRODUCT((departement=$A11)*(semaine=H$1)*(appareils)) -> 0 | I11: =SUMPRODUCT((departement=$A11)*(semaine=I$1)*(appareils)) -> 0 | ... R11: =SUMPRODUCT((departement=$A11)*(semaine=R$1)*(appareils)) -> 0
A12: {=IFERROR(OFFSET(APP!A$1,MATCH(0,COUNTIF(A$1:A11,departement),0),),"")} | B12: =SUMPRODUCT((departement=$A12)*(semaine=B$1)*(appareils)) -> 0 | C12: =SUMPRODUCT((departement=$A12)*(semaine=C$1)*(appareils)) -> 0 | D12: =SUMPRODUCT((departement=$A12)*(semaine=D$1)*(appareils)) -> 0 | E12: =SUMPRODUCT((departement=$A12)*(semaine=E$1)*(appareils)) -> 0 | F12: =SUMPRODUCT((departement=$A12)*(semaine=F$1)*(appareils)) -> 0 | G12: =SUMPRODUCT((departement=$A12)*(semaine=G$1)*(appareils)) -> 0 | H12: =SUMPRODUCT((departement=$A12)*(semaine=H$1)*(appareils)) -> 0 | I12: =SUMPRODUCT((departement=$A12)*(semaine=I$1)*(appareils)) -> 0 | ... R12: =SUMPRODUCT((departement=$A12)*(semaine=R$1)*(appareils)) -> 0
A13: {=IFERROR(OFFSET(APP!A$1,MATCH(0,COUNTIF(A$1:A12,departement),0),),"")} | B13: =SUMPRODUCT((departement=$A13)*(semaine=B$1)*(appareils)) -> 0 | C13: =SUMPRODUCT((departement=$A13)*(semaine=C$1)*(appareils)) -> 0 | D13: =SUMPRODUCT((departement=$A13)*(semaine=D$1)*(appareils)) -> 0 | E13: =SUMPRODUCT((departement=$A13)*(semaine=E$1)*(appareils)) -> 0 | F13: =SUMPRODUCT((departement=$A13)*(semaine=F$1)*(appareils)) -> 0 | G13: =SUMPRODUCT((departement=$A13)*(semaine=G$1)*(appareils)) -> 0 | H13: =SUMPRODUCT((departement=$A13)*(semaine=H$1)*(appareils)) -> 0 | I13: =SUMPRODUCT((departement=$A13)*(semaine=I$1)*(appareils)) -> 0 | ... R13: =SUMPRODUCT((departement=$A13)*(semaine=R$1)*(appareils)) -> 0
... A23: {=IFERROR(OFFSET(APP!A$1,MATCH(0,COUNTIF(A$1:A22,departement),0),),"")} | B23: =SUMPRODUCT((departement=$A23)*(semaine=B$1)*(appareils)) -> 0 | C23: =SUMPRODUCT((departement=$A23)*(semaine=C$1)*(appareils)) -> 0 | D23: =SUMPRODUCT((departement=$A23)*(semaine=D$1)*(appareils)) -> 0 | E23: =SUMPRODUCT((departement=$A23)*(semaine=E$1)*(appareils)) -> 0 | F23: =SUMPRODUCT((departement=$A23)*(semaine=F$1)*(appareils)) -> 0 | G23: =SUMPRODUCT((departement=$A23)*(semaine=G$1)*(appareils)) -> 0 | H23: =SUMPRODUCT((departement=$A23)*(semaine=H$1)*(appareils)) -> 0 | I23: =SUMPRODUCT((departement=$A23)*(semaine=I$1)*(appareils)) -> 0 | ... R23: =SUMPRODUCT((departement=$A23)*(semaine=R$1)*(appareils)) -> 0

Sheet Feuil3
