Workbook
Name base: OFFSET(param!$D$1:$N$1,,,ROWS(commande))
Name codecom: OFFSET(commande,,2,)
Name colaa: param!$AA$1:$AA$60
Name commande: OFFSET(Feuil1!$A$2,,,COUNTIF(Feuil1!$A:$A,"><")-1)
Name ecart: param!$AB$1

Sheet Feuil1
A1: Commande | B1: Quantité | C1: Code barre | E1: résultats souhaité | F1: resultat tulipe
A2: vin blanc | B2: 4 | C2: =VLOOKUP(A2,param!A$1:B$4,2,FALSE) -> 48065684 | E2: =C$2 -> 48065684 | F2: =IF(ROW(A1)>COUNT(colaa),"",INDEX(commande,MATCH(LARGE(colaa,ROW(A1)),codecom,0))&REPT(" ",ecart+LEN(INDEX(commande,MATCH(LARGE(colaa,ROW(A1)),codecom,0))))&IF(ROW(A1)>COUNT(colaa),"",LARGE(colaa,ROW(A1)))) -> vin blanc 48065684
A3: rouge | B3: 3 | C3: =VLOOKUP(Feuil1!A3,param!A1:B4,2,FALSE) -> 28165464 | E3: =C$2 -> 48065684 | F3: =IF(ROW(A2)>COUNT(colaa),"",INDEX(commande,MATCH(LARGE(colaa,ROW(A2)),codecom,0))&REPT(" ",ecart+LEN(INDEX(commande,MATCH(LARGE(colaa,ROW(A2)),codecom,0))))&IF(ROW(A2)>COUNT(colaa),"",LARGE(colaa,ROW(A2)))) -> vin blanc 48065684
A4: champagne | B4: 7 | C4: =VLOOKUP(A4,param!A$1:B$4,2,FALSE) -> 26879415 | E4: =C$2 -> 48065684 | F4: =IF(ROW(A3)>COUNT(colaa),"",INDEX(commande,MATCH(LARGE(colaa,ROW(A3)),codecom,0))&REPT(" ",ecart+LEN(INDEX(commande,MATCH(LARGE(colaa,ROW(A3)),codecom,0))))&IF(ROW(A3)>COUNT(colaa),"",LARGE(colaa,ROW(A3)))) -> vin blanc 48065684
C5: =VLOOKUP(A5,param!A$1:B$4,2,FALSE) -> #N/A | E5: =C$2 -> 48065684 | F5: =IF(ROW(A4)>COUNT(colaa),"",INDEX(commande,MATCH(LARGE(colaa,ROW(A4)),codecom,0))&REPT(" ",ecart+LEN(INDEX(commande,MATCH(LARGE(colaa,ROW(A4)),codecom,0))))&IF(ROW(A4)>COUNT(colaa),"",LARGE(colaa,ROW(A4)))) -> vin blanc 48065684
C6: =VLOOKUP(A6,param!A$1:B$4,2,FALSE) -> #N/A | E6: =C$3 -> 28165464 | F6: =IF(ROW(A5)>COUNT(colaa),"",INDEX(commande,MATCH(LARGE(colaa,ROW(A5)),codecom,0))&REPT(" ",ecart+LEN(INDEX(commande,MATCH(LARGE(colaa,ROW(A5)),codecom,0))))&IF(ROW(A5)>COUNT(colaa),"",LARGE(colaa,ROW(A5)))) -> rouge 28165464
C7: =VLOOKUP(A7,param!A$1:B$4,2,FALSE) -> #N/A | E7: =C$3 -> 28165464 | F7: =IF(ROW(A6)>COUNT(colaa),"",INDEX(commande,MATCH(LARGE(colaa,ROW(A6)),codecom,0))&REPT(" ",ecart+LEN(INDEX(commande,MATCH(LARGE(colaa,ROW(A6)),codecom,0))))&IF(ROW(A6)>COUNT(colaa),"",LARGE(colaa,ROW(A6)))) -> rouge 28165464
C8: =VLOOKUP(A8,param!A$1:B$4,2,FALSE) -> #N/A | E8: =C$3 -> 28165464 | F8: =IF(ROW(A7)>COUNT(colaa),"",INDEX(commande,MATCH(LARGE(colaa,ROW(A7)),codecom,0))&REPT(" ",ecart+LEN(INDEX(commande,MATCH(LARGE(colaa,ROW(A7)),codecom,0))))&IF(ROW(A7)>COUNT(colaa),"",LARGE(colaa,ROW(A7)))) -> rouge 28165464 | J8: calcul +dictionnary dans feuille param
C9: =VLOOKUP(A9,param!A$1:B$4,2,FALSE) -> #N/A | E9: =C$4 -> 26879415 | F9: =IF(ROW(A8)>COUNT(colaa),"",INDEX(commande,MATCH(LARGE(colaa,ROW(A8)),codecom,0))&REPT(" ",ecart+LEN(INDEX(commande,MATCH(LARGE(colaa,ROW(A8)),codecom,0))))&IF(ROW(A8)>COUNT(colaa),"",LARGE(colaa,ROW(A8)))) -> champagne 26879415
C10: =VLOOKUP(A10,param!A$1:B$4,2,FALSE) -> #N/A | E10: =C$4 -> 26879415 | F10: =IF(ROW(A9)>COUNT(colaa),"",INDEX(commande,MATCH(LARGE(colaa,ROW(A9)),codecom,0))&REPT(" ",ecart+LEN(INDEX(commande,MATCH(LARGE(colaa,ROW(A9)),codecom,0))))&IF(ROW(A9)>COUNT(colaa),"",LARGE(colaa,ROW(A9)))) -> champagne 26879415
C11: =VLOOKUP(A11,param!A$1:B$4,2,FALSE) -> #N/A | E11: =C$4 -> 26879415 | F11: =IF(ROW(A10)>COUNT(colaa),"",INDEX(commande,MATCH(LARGE(colaa,ROW(A10)),codecom,0))&REPT(" ",ecart+LEN(INDEX(commande,MATCH(LARGE(colaa,ROW(A10)),codecom,0))))&IF(ROW(A10)>COUNT(colaa),"",LARGE(colaa,ROW(A10)))) -> champagne 26879415
C12: =VLOOKUP(A12,param!A$1:B$4,2,FALSE) -> #N/A | E12: =C$4 -> 26879415 | F12: =IF(ROW(A11)>COUNT(colaa),"",INDEX(commande,MATCH(LARGE(colaa,ROW(A11)),codecom,0))&REPT(" ",ecart+LEN(INDEX(commande,MATCH(LARGE(colaa,ROW(A11)),codecom,0))))&IF(ROW(A11)>COUNT(colaa),"",LARGE(colaa,ROW(A11)))) -> champagne 26879415
C13: =VLOOKUP(A13,param!A$1:B$4,2,FALSE) -> #N/A | E13: =C$4 -> 26879415 | F13: =IF(ROW(A12)>COUNT(colaa),"",INDEX(commande,MATCH(LARGE(colaa,ROW(A12)),codecom,0))&REPT(" ",ecart+LEN(INDEX(commande,MATCH(LARGE(colaa,ROW(A12)),codecom,0))))&IF(ROW(A12)>COUNT(colaa),"",LARGE(colaa,ROW(A12)))) -> champagne 26879415
C14: =VLOOKUP(A14,param!A$1:B$4,2,FALSE) -> #N/A | E14: =C$4 -> 26879415 | F14: =IF(ROW(A13)>COUNT(colaa),"",INDEX(commande,MATCH(LARGE(colaa,ROW(A13)),codecom,0))&REPT(" ",ecart+LEN(INDEX(commande,MATCH(LARGE(colaa,ROW(A13)),codecom,0))))&IF(ROW(A13)>COUNT(colaa),"",LARGE(colaa,ROW(A13)))) -> champagne 26879415
C15: =VLOOKUP(A15,param!A$1:B$4,2,FALSE) -> #N/A | E15: =C$4 -> 26879415 | F15: =IF(ROW(A14)>COUNT(colaa),"",INDEX(commande,MATCH(LARGE(colaa,ROW(A14)),codecom,0))&REPT(" ",ecart+LEN(INDEX(commande,MATCH(LARGE(colaa,ROW(A14)),codecom,0))))&IF(ROW(A14)>COUNT(colaa),"",LARGE(colaa,ROW(A14)))) -> champagne 26879415
C16: =VLOOKUP(A16,param!A$1:B$4,2,FALSE) -> #N/A | F16: =IF(ROW(A15)>COUNT(colaa),"",INDEX(commande,MATCH(LARGE(colaa,ROW(A15)),codecom,0))&" "&IF(ROW(A15)>COUNT(colaa),"",LARGE(colaa,ROW(A15))))
F17: =IF(ROW(A16)>COUNT(colaa),"",INDEX(commande,MATCH(LARGE(colaa,ROW(A16)),codecom,0))&" "&IF(ROW(A16)>COUNT(colaa),"",LARGE(colaa,ROW(A16))))
F18: =IF(ROW(A17)>COUNT(colaa),"",INDEX(commande,MATCH(LARGE(colaa,ROW(A17)),codecom,0))&" "&IF(ROW(A17)>COUNT(colaa),"",LARGE(colaa,ROW(A17))))
F19: =IF(ROW(A18)>COUNT(colaa),"",INDEX(commande,MATCH(LARGE(colaa,ROW(A18)),codecom,0))&" "&IF(ROW(A18)>COUNT(colaa),"",LARGE(colaa,ROW(A18))))
F20: =IF(ROW(A19)>COUNT(colaa),"",INDEX(commande,MATCH(LARGE(colaa,ROW(A19)),codecom,0))&" "&IF(ROW(A19)>COUNT(colaa),"",LARGE(colaa,ROW(A19))))
F21: =IF(ROW(A20)>COUNT(colaa),"",INDEX(commande,MATCH(LARGE(colaa,ROW(A20)),codecom,0))&" "&IF(ROW(A20)>COUNT(colaa),"",LARGE(colaa,ROW(A20))))
F22: =IF(ROW(A21)>COUNT(colaa),"",INDEX(commande,MATCH(LARGE(colaa,ROW(A21)),codecom,0))&" "&IF(ROW(A21)>COUNT(colaa),"",LARGE(colaa,ROW(A21))))
F23: =IF(ROW(A22)>COUNT(colaa),"",INDEX(commande,MATCH(LARGE(colaa,ROW(A22)),codecom,0))&" "&IF(ROW(A22)>COUNT(colaa),"",LARGE(colaa,ROW(A22))))
F24: =IF(ROW(A23)>COUNT(colaa),"",INDEX(commande,MATCH(LARGE(colaa,ROW(A23)),codecom,0))&" "&IF(ROW(A23)>COUNT(colaa),"",LARGE(colaa,ROW(A23))))
F25: =IF(ROW(A24)>COUNT(colaa),"",INDEX(commande,MATCH(LARGE(colaa,ROW(A24)),codecom,0))&" "&IF(ROW(A24)>COUNT(colaa),"",LARGE(colaa,ROW(A24))))
F26: =IF(ROW(A25)>COUNT(colaa),"",INDEX(commande,MATCH(LARGE(colaa,ROW(A25)),codecom,0))&" "&IF(ROW(A25)>COUNT(colaa),"",LARGE(colaa,ROW(A25))))
F27: =IF(ROW(A26)>COUNT(colaa),"",INDEX(commande,MATCH(LARGE(colaa,ROW(A26)),codecom,0))&" "&IF(ROW(A26)>COUNT(colaa),"",LARGE(colaa,ROW(A26))))
F28: =IF(ROW(A27)>COUNT(colaa),"",INDEX(commande,MATCH(LARGE(colaa,ROW(A27)),codecom,0))&" "&IF(ROW(A27)>COUNT(colaa),"",LARGE(colaa,ROW(A27))))
... F33: =IF(ROW(A32)>COUNT(colaa),"",INDEX(commande,MATCH(LARGE(colaa,ROW(A32)),codecom,0))&" "&IF(ROW(A32)>COUNT(colaa),"",LARGE(colaa,ROW(A32))))

Sheet param
A1: vin blanc | B1: 48065684 | D1: =IFERROR(IF(COLUMN(A:A)<=MIN(COLUMN(A:A),Feuil1!$B2),Feuil1!$C2,0),"") -> 48065684 | E1: =IFERROR(IF(COLUMN(B:B)<=MIN(COLUMN(B:B),Feuil1!$B2),Feuil1!$C2,0),"") -> 48065684 | F1: =IFERROR(IF(COLUMN(C:C)<=MIN(COLUMN(C:C),Feuil1!$B2),Feuil1!$C2,0),"") -> 48065684 | G1: =IFERROR(IF(COLUMN(D:D)<=MIN(COLUMN(D:D),Feuil1!$B2),Feuil1!$C2,0),"") -> 48065684 | H1: =IFERROR(IF(COLUMN(E:E)<=MIN(COLUMN(E:E),Feuil1!$B2),Feuil1!$C2,0),"") -> 0 | I1: =IFERROR(IF(COLUMN(F:F)<=MIN(COLUMN(F:F),Feuil1!$B2),Feuil1!$C2,0),"") -> 0 | J1: =IFERROR(IF(COLUMN(G:G)<=MIN(COLUMN(G:G),Feuil1!$B2),Feuil1!$C2,0),"") -> 0 | K1: =IFERROR(IF(COLUMN(H:H)<=MIN(COLUMN(H:H),Feuil1!$B2),Feuil1!$C2,0),"") -> 0 | L1: =IFERROR(IF(COLUMN(I:I)<=MIN(COLUMN(I:I),Feuil1!$B2),Feuil1!$C2,0),"") -> 0 | M1: =IFERROR(IF(COLUMN(J:J)<=MIN(COLUMN(J:J),Feuil1!$B2),Feuil1!$C2,0),"") -> 0 | N1: =IFERROR(IF(COLUMN(K:K)<=MIN(COLUMN(K:K),Feuil1!$B2),Feuil1!$C2,0),"") -> 0 | AA1: {=IFERROR(INDEX(base,MOD(SMALL(IF(base>0,(COLUMN(base)-3)*10^5+ROW(base)),ROW($A1)),10^5),INT(SMALL(IF(base>0,(COLUMN(base)-3)*10^5+ROW(base)),ROW(A1))/100000)),"")} -> 48065684 | AB1: {=MAX(LEN(commande))} -> 9
A2: rouge | B2: 28165464 | D2: =IFERROR(IF(COLUMN(A:A)<=MIN(COLUMN(A:A),Feuil1!$B3),Feuil1!$C3,0),"") -> 28165464 | E2: =IFERROR(IF(COLUMN(B:B)<=MIN(COLUMN(B:B),Feuil1!$B3),Feuil1!$C3,0),"") -> 28165464 | F2: =IFERROR(IF(COLUMN(C:C)<=MIN(COLUMN(C:C),Feuil1!$B3),Feuil1!$C3,0),"") -> 28165464 | G2: =IFERROR(IF(COLUMN(D:D)<=MIN(COLUMN(D:D),Feuil1!$B3),Feuil1!$C3,0),"") -> 0 | H2: =IFERROR(IF(COLUMN(E:E)<=MIN(COLUMN(E:E),Feuil1!$B3),Feuil1!$C3,0),"") -> 0 | I2: =IFERROR(IF(COLUMN(F:F)<=MIN(COLUMN(F:F),Feuil1!$B3),Feuil1!$C3,0),"") -> 0 | J2: =IFERROR(IF(COLUMN(G:G)<=MIN(COLUMN(G:G),Feuil1!$B3),Feuil1!$C3,0),"") -> 0 | K2: =IFERROR(IF(COLUMN(H:H)<=MIN(COLUMN(H:H),Feuil1!$B3),Feuil1!$C3,0),"") -> 0 | L2: =IFERROR(IF(COLUMN(I:I)<=MIN(COLUMN(I:I),Feuil1!$B3),Feuil1!$C3,0),"") -> 0 | M2: =IFERROR(IF(COLUMN(J:J)<=MIN(COLUMN(J:J),Feuil1!$B3),Feuil1!$C3,0),"") -> 0 | N2: =IFERROR(IF(COLUMN(K:K)<=MIN(COLUMN(K:K),Feuil1!$B3),Feuil1!$C3,0),"") -> 0 | AA2: {=IFERROR(INDEX(base,MOD(SMALL(IF(base>0,(COLUMN(base)-3)*10^5+ROW(base)),ROW($A2)),10^5),INT(SMALL(IF(base>0,(COLUMN(base)-3)*10^5+ROW(base)),ROW(A2))/100000)),"")} -> 28165464
A3: rosé | B3: 56840687 | D3: =IFERROR(IF(COLUMN(A:A)<=MIN(COLUMN(A:A),Feuil1!$B4),Feuil1!$C4,0),"") -> 26879415 | E3: =IFERROR(IF(COLUMN(B:B)<=MIN(COLUMN(B:B),Feuil1!$B4),Feuil1!$C4,0),"") -> 26879415 | F3: =IFERROR(IF(COLUMN(C:C)<=MIN(COLUMN(C:C),Feuil1!$B4),Feuil1!$C4,0),"") -> 26879415 | G3: =IFERROR(IF(COLUMN(D:D)<=MIN(COLUMN(D:D),Feuil1!$B4),Feuil1!$C4,0),"") -> 26879415 | H3: =IFERROR(IF(COLUMN(E:E)<=MIN(COLUMN(E:E),Feuil1!$B4),Feuil1!$C4,0),"") -> 26879415 | I3: =IFERROR(IF(COLUMN(F:F)<=MIN(COLUMN(F:F),Feuil1!$B4),Feuil1!$C4,0),"") -> 26879415 | J3: =IFERROR(IF(COLUMN(G:G)<=MIN(COLUMN(G:G),Feuil1!$B4),Feuil1!$C4,0),"") -> 26879415 | K3: =IFERROR(IF(COLUMN(H:H)<=MIN(COLUMN(H:H),Feuil1!$B4),Feuil1!$C4,0),"") -> 0 | L3: =IFERROR(IF(COLUMN(I:I)<=MIN(COLUMN(I:I),Feuil1!$B4),Feuil1!$C4,0),"") -> 0 | M3: =IFERROR(IF(COLUMN(J:J)<=MIN(COLUMN(J:J),Feuil1!$B4),Feuil1!$C4,0),"") -> 0 | N3: =IFERROR(IF(COLUMN(K:K)<=MIN(COLUMN(K:K),Feuil1!$B4),Feuil1!$C4,0),"") -> 0 | AA3: {=IFERROR(INDEX(base,MOD(SMALL(IF(base>0,(COLUMN(base)-3)*10^5+ROW(base)),ROW($A3)),10^5),INT(SMALL(IF(base>0,(COLUMN(base)-3)*10^5+ROW(base)),ROW(A3))/100000)),"")} -> 26879415
A4: champagne | B4: 26879415 | D4: =IFERROR(IF(COLUMN(A:A)<=MIN(COLUMN(A:A),Feuil1!$B5),Feuil1!$C5,0),"") | E4: =IFERROR(IF(COLUMN(B:B)<=MIN(COLUMN(B:B),Feuil1!$B5),Feuil1!$C5,0),"") | F4: =IFERROR(IF(COLUMN(C:C)<=MIN(COLUMN(C:C),Feuil1!$B5),Feuil1!$C5,0),"") | G4: =IFERROR(IF(COLUMN(D:D)<=MIN(COLUMN(D:D),Feuil1!$B5),Feuil1!$C5,0),"") | H4: =IFERROR(IF(COLUMN(E:E)<=MIN(COLUMN(E:E),Feuil1!$B5),Feuil1!$C5,0),"") | I4: =IFERROR(IF(COLUMN(F:F)<=MIN(COLUMN(F:F),Feuil1!$B5),Feuil1!$C5,0),"") | J4: =IFERROR(IF(COLUMN(G:G)<=MIN(COLUMN(G:G),Feuil1!$B5),Feuil1!$C5,0),"") | K4: =IFERROR(IF(COLUMN(H:H)<=MIN(COLUMN(H:H),Feuil1!$B5),Feuil1!$C5,0),"") | L4: =IFERROR(IF(COLUMN(I:I)<=MIN(COLUMN(I:I),Feuil1!$B5),Feuil1!$C5,0),"") | M4: =IFERROR(IF(COLUMN(J:J)<=MIN(COLUMN(J:J),Feuil1!$B5),Feuil1!$C5,0),"") | N4: =IFERROR(IF(COLUMN(K:K)<=MIN(COLUMN(K:K),Feuil1!$B5),Feuil1!$C5,0),"") | AA4: {=IFERROR(INDEX(base,MOD(SMALL(IF(base>0,(COLUMN(base)-3)*10^5+ROW(base)),ROW($A4)),10^5),INT(SMALL(IF(base>0,(COLUMN(base)-3)*10^5+ROW(base)),ROW(A4))/100000)),"")} -> 48065684
D5: =IFERROR(IF(COLUMN(A:A)<=MIN(COLUMN(A:A),Feuil1!$B6),Feuil1!$C6,0),"") | E5: =IFERROR(IF(COLUMN(B:B)<=MIN(COLUMN(B:B),Feuil1!$B6),Feuil1!$C6,0),"") | F5: =IFERROR(IF(COLUMN(C:C)<=MIN(COLUMN(C:C),Feuil1!$B6),Feuil1!$C6,0),"") | G5: =IFERROR(IF(COLUMN(D:D)<=MIN(COLUMN(D:D),Feuil1!$B6),Feuil1!$C6,0),"") | H5: =IFERROR(IF(COLUMN(E:E)<=MIN(COLUMN(E:E),Feuil1!$B6),Feuil1!$C6,0),"") | I5: =IFERROR(IF(COLUMN(F:F)<=MIN(COLUMN(F:F),Feuil1!$B6),Feuil1!$C6,0),"") | J5: =IFERROR(IF(COLUMN(G:G)<=MIN(COLUMN(G:G),Feuil1!$B6),Feuil1!$C6,0),"") | K5: =IFERROR(IF(COLUMN(H:H)<=MIN(COLUMN(H:H),Feuil1!$B6),Feuil1!$C6,0),"") | L5: =IFERROR(IF(COLUMN(I:I)<=MIN(COLUMN(I:I),Feuil1!$B6),Feuil1!$C6,0),"") | M5: =IFERROR(IF(COLUMN(J:J)<=MIN(COLUMN(J:J),Feuil1!$B6),Feuil1!$C6,0),"") | N5: =IFERROR(IF(COLUMN(K:K)<=MIN(COLUMN(K:K),Feuil1!$B6),Feuil1!$C6,0),"") | AA5: {=IFERROR(INDEX(base,MOD(SMALL(IF(base>0,(COLUMN(base)-3)*10^5+ROW(base)),ROW($A5)),10^5),INT(SMALL(IF(base>0,(COLUMN(base)-3)*10^5+ROW(base)),ROW(A5))/100000)),"")} -> 28165464
D6: =IFERROR(IF(COLUMN(A:A)<=MIN(COLUMN(A:A),Feuil1!$B7),Feuil1!$C7,0),"") | E6: =IFERROR(IF(COLUMN(B:B)<=MIN(COLUMN(B:B),Feuil1!$B7),Feuil1!$C7,0),"") | F6: =IFERROR(IF(COLUMN(C:C)<=MIN(COLUMN(C:C),Feuil1!$B7),Feuil1!$C7,0),"") | G6: =IFERROR(IF(COLUMN(D:D)<=MIN(COLUMN(D:D),Feuil1!$B7),Feuil1!$C7,0),"") | H6: =IFERROR(IF(COLUMN(E:E)<=MIN(COLUMN(E:E),Feuil1!$B7),Feuil1!$C7,0),"") | I6: =IFERROR(IF(COLUMN(F:F)<=MIN(COLUMN(F:F),Feuil1!$B7),Feuil1!$C7,0),"") | J6: =IFERROR(IF(COLUMN(G:G)<=MIN(COLUMN(G:G),Feuil1!$B7),Feuil1!$C7,0),"") | K6: =IFERROR(IF(COLUMN(H:H)<=MIN(COLUMN(H:H),Feuil1!$B7),Feuil1!$C7,0),"") | L6: =IFERROR(IF(COLUMN(I:I)<=MIN(COLUMN(I:I),Feuil1!$B7),Feuil1!$C7,0),"") | M6: =IFERROR(IF(COLUMN(J:J)<=MIN(COLUMN(J:J),Feuil1!$B7),Feuil1!$C7,0),"") | N6: =IFERROR(IF(COLUMN(K:K)<=MIN(COLUMN(K:K),Feuil1!$B7),Feuil1!$C7,0),"") | AA6: {=IFERROR(INDEX(base,MOD(SMALL(IF(base>0,(COLUMN(base)-3)*10^5+ROW(base)),ROW($A6)),10^5),INT(SMALL(IF(base>0,(COLUMN(base)-3)*10^5+ROW(base)),ROW(A6))/100000)),"")} -> 26879415
D7: =IFERROR(IF(COLUMN(A:A)<=MIN(COLUMN(A:A),Feuil1!$B8),Feuil1!$C8,0),"") | E7: =IFERROR(IF(COLUMN(B:B)<=MIN(COLUMN(B:B),Feuil1!$B8),Feuil1!$C8,0),"") | F7: =IFERROR(IF(COLUMN(C:C)<=MIN(COLUMN(C:C),Feuil1!$B8),Feuil1!$C8,0),"") | G7: =IFERROR(IF(COLUMN(D:D)<=MIN(COLUMN(D:D),Feuil1!$B8),Feuil1!$C8,0),"") | H7: =IFERROR(IF(COLUMN(E:E)<=MIN(COLUMN(E:E),Feuil1!$B8),Feuil1!$C8,0),"") | I7: =IFERROR(IF(COLUMN(F:F)<=MIN(COLUMN(F:F),Feuil1!$B8),Feuil1!$C8,0),"") | J7: =IFERROR(IF(COLUMN(G:G)<=MIN(COLUMN(G:G),Feuil1!$B8),Feuil1!$C8,0),"") | K7: =IFERROR(IF(COLUMN(H:H)<=MIN(COLUMN(H:H),Feuil1!$B8),Feuil1!$C8,0),"") | L7: =IFERROR(IF(COLUMN(I:I)<=MIN(COLUMN(I:I),Feuil1!$B8),Feuil1!$C8,0),"") | M7: =IFERROR(IF(COLUMN(J:J)<=MIN(COLUMN(J:J),Feuil1!$B8),Feuil1!$C8,0),"") | N7: =IFERROR(IF(COLUMN(K:K)<=MIN(COLUMN(K:K),Feuil1!$B8),Feuil1!$C8,0),"") | AA7: {=IFERROR(INDEX(base,MOD(SMALL(IF(base>0,(COLUMN(base)-3)*10^5+ROW(base)),ROW($A7)),10^5),INT(SMALL(IF(base>0,(COLUMN(base)-3)*10^5+ROW(base)),ROW(A7))/100000)),"")} -> 48065684
D8: =IFERROR(IF(COLUMN(A:A)<=MIN(COLUMN(A:A),Feuil1!$B9),Feuil1!$C9,0),"") | E8: =IFERROR(IF(COLUMN(B:B)<=MIN(COLUMN(B:B),Feuil1!$B9),Feuil1!$C9,0),"") | F8: =IFERROR(IF(COLUMN(C:C)<=MIN(COLUMN(C:C),Feuil1!$B9),Feuil1!$C9,0),"") | G8: =IFERROR(IF(COLUMN(D:D)<=MIN(COLUMN(D:D),Feuil1!$B9),Feuil1!$C9,0),"") | H8: =IFERROR(IF(COLUMN(E:E)<=MIN(COLUMN(E:E),Feuil1!$B9),Feuil1!$C9,0),"") | I8: =IFERROR(IF(COLUMN(F:F)<=MIN(COLUMN(F:F),Feuil1!$B9),Feuil1!$C9,0),"") | J8: =IFERROR(IF(COLUMN(G:G)<=MIN(COLUMN(G:G),Feuil1!$B9),Feuil1!$C9,0),"") | K8: =IFERROR(IF(COLUMN(H:H)<=MIN(COLUMN(H:H),Feuil1!$B9),Feuil1!$C9,0),"") | L8: =IFERROR(IF(COLUMN(I:I)<=MIN(COLUMN(I:I),Feuil1!$B9),Feuil1!$C9,0),"") | M8: =IFERROR(IF(COLUMN(J:J)<=MIN(COLUMN(J:J),Feuil1!$B9),Feuil1!$C9,0),"") | N8: =IFERROR(IF(COLUMN(K:K)<=MIN(COLUMN(K:K),Feuil1!$B9),Feuil1!$C9,0),"") | AA8: {=IFERROR(INDEX(base,MOD(SMALL(IF(base>0,(COLUMN(base)-3)*10^5+ROW(base)),ROW($A8)),10^5),INT(SMALL(IF(base>0,(COLUMN(base)-3)*10^5+ROW(base)),ROW(A8))/100000)),"")} -> 28165464
D9: =IFERROR(IF(COLUMN(A:A)<=MIN(COLUMN(A:A),Feuil1!$B10),Feuil1!$C10,0),"") | E9: =IFERROR(IF(COLUMN(B:B)<=MIN(COLUMN(B:B),Feuil1!$B10),Feuil1!$C10,0),"") | F9: =IFERROR(IF(COLUMN(C:C)<=MIN(COLUMN(C:C),Feuil1!$B10),Feuil1!$C10,0),"") | G9: =IFERROR(IF(COLUMN(D:D)<=MIN(COLUMN(D:D),Feuil1!$B10),Feuil1!$C10,0),"") | H9: =IFERROR(IF(COLUMN(E:E)<=MIN(COLUMN(E:E),Feuil1!$B10),Feuil1!$C10,0),"") | I9: =IFERROR(IF(COLUMN(F:F)<=MIN(COLUMN(F:F),Feuil1!$B10),Feuil1!$C10,0),"") | J9: =IFERROR(IF(COLUMN(G:G)<=MIN(COLUMN(G:G),Feuil1!$B10),Feuil1!$C10,0),"") | K9: =IFERROR(IF(COLUMN(H:H)<=MIN(COLUMN(H:H),Feuil1!$B10),Feuil1!$C10,0),"") | L9: =IFERROR(IF(COLUMN(I:I)<=MIN(COLUMN(I:I),Feuil1!$B10),Feuil1!$C10,0),"") | M9: =IFERROR(IF(COLUMN(J:J)<=MIN(COLUMN(J:J),Feuil1!$B10),Feuil1!$C10,0),"") | N9: =IFERROR(IF(COLUMN(K:K)<=MIN(COLUMN(K:K),Feuil1!$B10),Feuil1!$C10,0),"") | AA9: {=IFERROR(INDEX(base,MOD(SMALL(IF(base>0,(COLUMN(base)-3)*10^5+ROW(base)),ROW($A9)),10^5),INT(SMALL(IF(base>0,(COLUMN(base)-3)*10^5+ROW(base)),ROW(A9))/100000)),"")} -> 26879415
D10: =IFERROR(IF(COLUMN(A:A)<=MIN(COLUMN(A:A),Feuil1!$B11),Feuil1!$C11,0),"") | E10: =IFERROR(IF(COLUMN(B:B)<=MIN(COLUMN(B:B),Feuil1!$B11),Feuil1!$C11,0),"") | F10: =IFERROR(IF(COLUMN(C:C)<=MIN(COLUMN(C:C),Feuil1!$B11),Feuil1!$C11,0),"") | G10: =IFERROR(IF(COLUMN(D:D)<=MIN(COLUMN(D:D),Feuil1!$B11),Feuil1!$C11,0),"") | H10: =IFERROR(IF(COLUMN(E:E)<=MIN(COLUMN(E:E),Feuil1!$B11),Feuil1!$C11,0),"") | I10: =IFERROR(IF(COLUMN(F:F)<=MIN(COLUMN(F:F),Feuil1!$B11),Feuil1!$C11,0),"") | J10: =IFERROR(IF(COLUMN(G:G)<=MIN(COLUMN(G:G),Feuil1!$B11),Feuil1!$C11,0),"") | K10: =IFERROR(IF(COLUMN(H:H)<=MIN(COLUMN(H:H),Feuil1!$B11),Feuil1!$C11,0),"") | L10: =IFERROR(IF(COLUMN(I:I)<=MIN(COLUMN(I:I),Feuil1!$B11),Feuil1!$C11,0),"") | M10: =IFERROR(IF(COLUMN(J:J)<=MIN(COLUMN(J:J),Feuil1!$B11),Feuil1!$C11,0),"") | N10: =IFERROR(IF(COLUMN(K:K)<=MIN(COLUMN(K:K),Feuil1!$B11),Feuil1!$C11,0),"") | AA10: {=IFERROR(INDEX(base,MOD(SMALL(IF(base>0,(COLUMN(base)-3)*10^5+ROW(base)),ROW($A10)),10^5),INT(SMALL(IF(base>0,(COLUMN(base)-3)*10^5+ROW(base)),ROW(A10))/100000)),"")} -> 48065684
D11: =IFERROR(IF(COLUMN(A:A)<=MIN(COLUMN(A:A),Feuil1!$B12),Feuil1!$C12,0),"") | E11: =IFERROR(IF(COLUMN(B:B)<=MIN(COLUMN(B:B),Feuil1!$B12),Feuil1!$C12,0),"") | F11: =IFERROR(IF(COLUMN(C:C)<=MIN(COLUMN(C:C),Feuil1!$B12),Feuil1!$C12,0),"") | G11: =IFERROR(IF(COLUMN(D:D)<=MIN(COLUMN(D:D),Feuil1!$B12),Feuil1!$C12,0),"") | H11: =IFERROR(IF(COLUMN(E:E)<=MIN(COLUMN(E:E),Feuil1!$B12),Feuil1!$C12,0),"") | I11: =IFERROR(IF(COLUMN(F:F)<=MIN(COLUMN(F:F),Feuil1!$B12),Feuil1!$C12,0),"") | J11: =IFERROR(IF(COLUMN(G:G)<=MIN(COLUMN(G:G),Feuil1!$B12),Feuil1!$C12,0),"") | K11: =IFERROR(IF(COLUMN(H:H)<=MIN(COLUMN(H:H),Feuil1!$B12),Feuil1!$C12,0),"") | L11: =IFERROR(IF(COLUMN(I:I)<=MIN(COLUMN(I:I),Feuil1!$B12),Feuil1!$C12,0),"") | M11: =IFERROR(IF(COLUMN(J:J)<=MIN(COLUMN(J:J),Feuil1!$B12),Feuil1!$C12,0),"") | N11: =IFERROR(IF(COLUMN(K:K)<=MIN(COLUMN(K:K),Feuil1!$B12),Feuil1!$C12,0),"") | AA11: {=IFERROR(INDEX(base,MOD(SMALL(IF(base>0,(COLUMN(base)-3)*10^5+ROW(base)),ROW($A11)),10^5),INT(SMALL(IF(base>0,(COLUMN(base)-3)*10^5+ROW(base)),ROW(A11))/100000)),"")} -> 26879415
D12: =IFERROR(IF(COLUMN(A:A)<=MIN(COLUMN(A:A),Feuil1!$B13),Feuil1!$C13,0),"") | E12: =IFERROR(IF(COLUMN(B:B)<=MIN(COLUMN(B:B),Feuil1!$B13),Feuil1!$C13,0),"") | F12: =IFERROR(IF(COLUMN(C:C)<=MIN(COLUMN(C:C),Feuil1!$B13),Feuil1!$C13,0),"") | G12: =IFERROR(IF(COLUMN(D:D)<=MIN(COLUMN(D:D),Feuil1!$B13),Feuil1!$C13,0),"") | H12: =IFERROR(IF(COLUMN(E:E)<=MIN(COLUMN(E:E),Feuil1!$B13),Feuil1!$C13,0),"") | I12: =IFERROR(IF(COLUMN(F:F)<=MIN(COLUMN(F:F),Feuil1!$B13),Feuil1!$C13,0),"") | J12: =IFERROR(IF(COLUMN(G:G)<=MIN(COLUMN(G:G),Feuil1!$B13),Feuil1!$C13,0),"") | K12: =IFERROR(IF(COLUMN(H:H)<=MIN(COLUMN(H:H),Feuil1!$B13),Feuil1!$C13,0),"") | L12: =IFERROR(IF(COLUMN(I:I)<=MIN(COLUMN(I:I),Feuil1!$B13),Feuil1!$C13,0),"") | M12: =IFERROR(IF(COLUMN(J:J)<=MIN(COLUMN(J:J),Feuil1!$B13),Feuil1!$C13,0),"") | N12: =IFERROR(IF(COLUMN(K:K)<=MIN(COLUMN(K:K),Feuil1!$B13),Feuil1!$C13,0),"") | AA12: {=IFERROR(INDEX(base,MOD(SMALL(IF(base>0,(COLUMN(base)-3)*10^5+ROW(base)),ROW($A12)),10^5),INT(SMALL(IF(base>0,(COLUMN(base)-3)*10^5+ROW(base)),ROW(A12))/100000)),"")} -> 26879415
D13: =IFERROR(IF(COLUMN(A:A)<=MIN(COLUMN(A:A),Feuil1!$B14),Feuil1!$C14,0),"") | E13: =IFERROR(IF(COLUMN(B:B)<=MIN(COLUMN(B:B),Feuil1!$B14),Feuil1!$C14,0),"") | F13: =IFERROR(IF(COLUMN(C:C)<=MIN(COLUMN(C:C),Feuil1!$B14),Feuil1!$C14,0),"") | G13: =IFERROR(IF(COLUMN(D:D)<=MIN(COLUMN(D:D),Feuil1!$B14),Feuil1!$C14,0),"") | H13: =IFERROR(IF(COLUMN(E:E)<=MIN(COLUMN(E:E),Feuil1!$B14),Feuil1!$C14,0),"") | I13: =IFERROR(IF(COLUMN(F:F)<=MIN(COLUMN(F:F),Feuil1!$B14),Feuil1!$C14,0),"") | J13: =IFERROR(IF(COLUMN(G:G)<=MIN(COLUMN(G:G),Feuil1!$B14),Feuil1!$C14,0),"") | K13: =IFERROR(IF(COLUMN(H:H)<=MIN(COLUMN(H:H),Feuil1!$B14),Feuil1!$C14,0),"") | L13: =IFERROR(IF(COLUMN(I:I)<=MIN(COLUMN(I:I),Feuil1!$B14),Feuil1!$C14,0),"") | M13: =IFERROR(IF(COLUMN(J:J)<=MIN(COLUMN(J:J),Feuil1!$B14),Feuil1!$C14,0),"") | N13: =IFERROR(IF(COLUMN(K:K)<=MIN(COLUMN(K:K),Feuil1!$B14),Feuil1!$C14,0),"") | AA13: {=IFERROR(INDEX(base,MOD(SMALL(IF(base>0,(COLUMN(base)-3)*10^5+ROW(base)),ROW($A13)),10^5),INT(SMALL(IF(base>0,(COLUMN(base)-3)*10^5+ROW(base)),ROW(A13))/100000)),"")} -> 26879415
D14: =IFERROR(IF(COLUMN(A:A)<=MIN(COLUMN(A:A),Feuil1!$B15),Feuil1!$C15,0),"") | E14: =IFERROR(IF(COLUMN(B:B)<=MIN(COLUMN(B:B),Feuil1!$B15),Feuil1!$C15,0),"") | F14: =IFERROR(IF(COLUMN(C:C)<=MIN(COLUMN(C:C),Feuil1!$B15),Feuil1!$C15,0),"") | G14: =IFERROR(IF(COLUMN(D:D)<=MIN(COLUMN(D:D),Feuil1!$B15),Feuil1!$C15,0),"") | H14: =IFERROR(IF(COLUMN(E:E)<=MIN(COLUMN(E:E),Feuil1!$B15),Feuil1!$C15,0),"") | I14: =IFERROR(IF(COLUMN(F:F)<=MIN(COLUMN(F:F),Feuil1!$B15),Feuil1!$C15,0),"") | J14: =IFERROR(IF(COLUMN(G:G)<=MIN(COLUMN(G:G),Feuil1!$B15),Feuil1!$C15,0),"") | K14: =IFERROR(IF(COLUMN(H:H)<=MIN(COLUMN(H:H),Feuil1!$B15),Feuil1!$C15,0),"") | L14: =IFERROR(IF(COLUMN(I:I)<=MIN(COLUMN(I:I),Feuil1!$B15),Feuil1!$C15,0),"") | M14: =IFERROR(IF(COLUMN(J:J)<=MIN(COLUMN(J:J),Feuil1!$B15),Feuil1!$C15,0),"") | N14: =IFERROR(IF(COLUMN(K:K)<=MIN(COLUMN(K:K),Feuil1!$B15),Feuil1!$C15,0),"") | AA14: {=IFERROR(INDEX(base,MOD(SMALL(IF(base>0,(COLUMN(base)-3)*10^5+ROW(base)),ROW($A14)),10^5),INT(SMALL(IF(base>0,(COLUMN(base)-3)*10^5+ROW(base)),ROW(A14))/100000)),"")} -> 26879415
D15: =IFERROR(IF(COLUMN(A:A)<=MIN(COLUMN(A:A),Feuil1!$B16),Feuil1!$C16,0),"") | E15: =IFERROR(IF(COLUMN(B:B)<=MIN(COLUMN(B:B),Feuil1!$B16),Feuil1!$C16,0),"") | F15: =IFERROR(IF(COLUMN(C:C)<=MIN(COLUMN(C:C),Feuil1!$B16),Feuil1!$C16,0),"") | G15: =IFERROR(IF(COLUMN(D:D)<=MIN(COLUMN(D:D),Feuil1!$B16),Feuil1!$C16,0),"") | H15: =IFERROR(IF(COLUMN(E:E)<=MIN(COLUMN(E:E),Feuil1!$B16),Feuil1!$C16,0),"") | I15: =IFERROR(IF(COLUMN(F:F)<=MIN(COLUMN(F:F),Feuil1!$B16),Feuil1!$C16,0),"") | J15: =IFERROR(IF(COLUMN(G:G)<=MIN(COLUMN(G:G),Feuil1!$B16),Feuil1!$C16,0),"") | K15: =IFERROR(IF(COLUMN(H:H)<=MIN(COLUMN(H:H),Feuil1!$B16),Feuil1!$C16,0),"") | L15: =IFERROR(IF(COLUMN(I:I)<=MIN(COLUMN(I:I),Feuil1!$B16),Feuil1!$C16,0),"") | M15: =IFERROR(IF(COLUMN(J:J)<=MIN(COLUMN(J:J),Feuil1!$B16),Feuil1!$C16,0),"") | N15: =IFERROR(IF(COLUMN(K:K)<=MIN(COLUMN(K:K),Feuil1!$B16),Feuil1!$C16,0),"") | AA15: {=IFERROR(INDEX(base,MOD(SMALL(IF(base>0,(COLUMN(base)-3)*10^5+ROW(base)),ROW($A15)),10^5),INT(SMALL(IF(base>0,(COLUMN(base)-3)*10^5+ROW(base)),ROW(A15))/100000)),"")}
D16: =IFERROR(IF(COLUMN(A:A)<=MIN(COLUMN(A:A),Feuil1!$B17),Feuil1!$C17,0),"") -> 0 | E16: =IFERROR(IF(COLUMN(B:B)<=MIN(COLUMN(B:B),Feuil1!$B17),Feuil1!$C17,0),"") -> 0 | F16: =IFERROR(IF(COLUMN(C:C)<=MIN(COLUMN(C:C),Feuil1!$B17),Feuil1!$C17,0),"") -> 0 | G16: =IFERROR(IF(COLUMN(D:D)<=MIN(COLUMN(D:D),Feuil1!$B17),Feuil1!$C17,0),"") -> 0 | H16: =IFERROR(IF(COLUMN(E:E)<=MIN(COLUMN(E:E),Feuil1!$B17),Feuil1!$C17,0),"") -> 0 | I16: =IFERROR(IF(COLUMN(F:F)<=MIN(COLUMN(F:F),Feuil1!$B17),Feuil1!$C17,0),"") -> 0 | J16: =IFERROR(IF(COLUMN(G:G)<=MIN(COLUMN(G:G),Feuil1!$B17),Feuil1!$C17,0),"") -> 0 | K16: =IFERROR(IF(COLUMN(H:H)<=MIN(COLUMN(H:H),Feuil1!$B17),Feuil1!$C17,0),"") -> 0 | L16: =IFERROR(IF(COLUMN(I:I)<=MIN(COLUMN(I:I),Feuil1!$B17),Feuil1!$C17,0),"") -> 0 | M16: =IFERROR(IF(COLUMN(J:J)<=MIN(COLUMN(J:J),Feuil1!$B17),Feuil1!$C17,0),"") -> 0 | N16: =IFERROR(IF(COLUMN(K:K)<=MIN(COLUMN(K:K),Feuil1!$B17),Feuil1!$C17,0),"") -> 0 | AA16: {=IFERROR(INDEX(base,MOD(SMALL(IF(base>0,(COLUMN(base)-3)*10^5+ROW(base)),ROW($A16)),10^5),INT(SMALL(IF(base>0,(COLUMN(base)-3)*10^5+ROW(base)),ROW(A16))/100000)),"")}
... D19: =IFERROR(IF(COLUMN(A:A)<=MIN(COLUMN(A:A),Feuil1!$B20),Feuil1!$C20,0),"") -> 0 | E19: =IFERROR(IF(COLUMN(B:B)<=MIN(COLUMN(B:B),Feuil1!$B20),Feuil1!$C20,0),"") -> 0 | F19: =IFERROR(IF(COLUMN(C:C)<=MIN(COLUMN(C:C),Feuil1!$B20),Feuil1!$C20,0),"") -> 0 | G19: =IFERROR(IF(COLUMN(D:D)<=MIN(COLUMN(D:D),Feuil1!$B20),Feuil1!$C20,0),"") -> 0 | H19: =IFERROR(IF(COLUMN(E:E)<=MIN(COLUMN(E:E),Feuil1!$B20),Feuil1!$C20,0),"") -> 0 | I19: =IFERROR(IF(COLUMN(F:F)<=MIN(COLUMN(F:F),Feuil1!$B20),Feuil1!$C20,0),"") -> 0 | J19: =IFERROR(IF(COLUMN(G:G)<=MIN(COLUMN(G:G),Feuil1!$B20),Feuil1!$C20,0),"") -> 0 | K19: =IFERROR(IF(COLUMN(H:H)<=MIN(COLUMN(H:H),Feuil1!$B20),Feuil1!$C20,0),"") -> 0 | L19: =IFERROR(IF(COLUMN(I:I)<=MIN(COLUMN(I:I),Feuil1!$B20),Feuil1!$C20,0),"") -> 0 | M19: =IFERROR(IF(COLUMN(J:J)<=MIN(COLUMN(J:J),Feuil1!$B20),Feuil1!$C20,0),"") -> 0 | N19: =IFERROR(IF(COLUMN(K:K)<=MIN(COLUMN(K:K),Feuil1!$B20),Feuil1!$C20,0),"") -> 0 | AA19: {=IFERROR(INDEX(base,MOD(SMALL(IF(base>0,(COLUMN(base)-3)*10^5+ROW(base)),ROW($A19)),10^5),INT(SMALL(IF(base>0,(COLUMN(base)-3)*10^5+ROW(base)),ROW(A19))/100000)),"")}
AA20: {=IFERROR(INDEX(base,MOD(SMALL(IF(base>0,(COLUMN(base)-3)*10^5+ROW(base)),ROW($A20)),10^5),INT(SMALL(IF(base>0,(COLUMN(base)-3)*10^5+ROW(base)),ROW(A20))/100000)),"")}
AA21: {=IFERROR(INDEX(base,MOD(SMALL(IF(base>0,(COLUMN(base)-3)*10^5+ROW(base)),ROW($A21)),10^5),INT(SMALL(IF(base>0,(COLUMN(base)-3)*10^5+ROW(base)),ROW(A21))/100000)),"")}
AA22: {=IFERROR(INDEX(base,MOD(SMALL(IF(base>0,(COLUMN(base)-3)*10^5+ROW(base)),ROW($A22)),10^5),INT(SMALL(IF(base>0,(COLUMN(base)-3)*10^5+ROW(base)),ROW(A22))/100000)),"")}
AA23: {=IFERROR(INDEX(base,MOD(SMALL(IF(base>0,(COLUMN(base)-3)*10^5+ROW(base)),ROW($A23)),10^5),INT(SMALL(IF(base>0,(COLUMN(base)-3)*10^5+ROW(base)),ROW(A23))/100000)),"")}
AA24: {=IFERROR(INDEX(base,MOD(SMALL(IF(base>0,(COLUMN(base)-3)*10^5+ROW(base)),ROW($A24)),10^5),INT(SMALL(IF(base>0,(COLUMN(base)-3)*10^5+ROW(base)),ROW(A24))/100000)),"")}
AA25: {=IFERROR(INDEX(base,MOD(SMALL(IF(base>0,(COLUMN(base)-3)*10^5+ROW(base)),ROW($A25)),10^5),INT(SMALL(IF(base>0,(COLUMN(base)-3)*10^5+ROW(base)),ROW(A25))/100000)),"")}
AA26: {=IFERROR(INDEX(base,MOD(SMALL(IF(base>0,(COLUMN(base)-3)*10^5+ROW(base)),ROW($A26)),10^5),INT(SMALL(IF(base>0,(COLUMN(base)-3)*10^5+ROW(base)),ROW(A26))/100000)),"")}
AA27: {=IFERROR(INDEX(base,MOD(SMALL(IF(base>0,(COLUMN(base)-3)*10^5+ROW(base)),ROW($A27)),10^5),INT(SMALL(IF(base>0,(COLUMN(base)-3)*10^5+ROW(base)),ROW(A27))/100000)),"")}
AA28: {=IFERROR(INDEX(base,MOD(SMALL(IF(base>0,(COLUMN(base)-3)*10^5+ROW(base)),ROW($A28)),10^5),INT(SMALL(IF(base>0,(COLUMN(base)-3)*10^5+ROW(base)),ROW(A28))/100000)),"")}
AA29: {=IFERROR(INDEX(base,MOD(SMALL(IF(base>0,(COLUMN(base)-3)*10^5+ROW(base)),ROW($A29)),10^5),INT(SMALL(IF(base>0,(COLUMN(base)-3)*10^5+ROW(base)),ROW(A29))/100000)),"")}
AA30: {=IFERROR(INDEX(base,MOD(SMALL(IF(base>0,(COLUMN(base)-3)*10^5+ROW(base)),ROW($A30)),10^5),INT(SMALL(IF(base>0,(COLUMN(base)-3)*10^5+ROW(base)),ROW(A30))/100000)),"")}
AA31: {=IFERROR(INDEX(base,MOD(SMALL(IF(base>0,(COLUMN(base)-3)*10^5+ROW(base)),ROW($A31)),10^5),INT(SMALL(IF(base>0,(COLUMN(base)-3)*10^5+ROW(base)),ROW(A31))/100000)),"")}
... AA60: {=IFERROR(INDEX(base,MOD(SMALL(IF(base>0,(COLUMN(base)-3)*10^5+ROW(base)),ROW($A60)),10^5),INT(SMALL(IF(base>0,(COLUMN(base)-3)*10^5+ROW(base)),ROW(A60))/100000)),"")}
