Workbook

Sheet Feuil1
A1: Référence | B1: Document1 | C1: Document2 | D1: Document3 | E1: Document4 | F1: Document5 | G1: Document6 | H1: Document7 | I1: Document8
A2: PS1 | B2: DOC32_02_68_A | C2: DOC32_02_69_A | D2: DOC32_02_70_A | E2: DOC32_02_71_A | F2: DOC32_02_72_A | G2: DOC32_02_73_A | H2: DOC32_02_74_A | I2: DOC32_02_75_A
A3: PS2 | B3: DOC32_02_68_B | C3: DOC32_02_69_B | D3: DOC32_02_70_B | E3: DOC32_02_71_B | F3: DOC32_02_72_B | G3: DOC32_02_73_B | H3: DOC32_02_74_B | I3: DOC32_02_75_B
A4: PS3 | B4: DOC_32_02_68_A | C4: DOC_32_02_69_A | D4: DOC_32_02_70_A | E4: DOC_32_02_71_A | F4: DOC_32_02_72_A | G4: DOC_32_02_73_A | H4: DOC_32_02_74_A | I4: DOC_32_02_75_A
A5: PS4 | B5: DOC_32_02_68_B | C5: DOC_32_02_69_B | D5: DOC_32_02_70_B | E5: DOC_32_02_71_B | F5: DOC_32_02_72_B | G5: DOC_32_02_73_B | H5: DOC_32_02_74_B | I5: DOC_32_02_75_B
A6: PS5 | B6: DOC 32_02_68_A | C6: DOC 32_02_69_A | D6: DOC 32_02_70_A | E6: DOC 32_02_71_A | F6: DOC 32_02_72_A | G6: DOC 32_02_73_A | H6: DOC 32_02_74_A | I6: DOC 32_02_75_A
A7: PS6 | B7: DOC 32_02_68_B | C7: DOC 32_02_69_B | D7: DOC 32_02_70_B | E7: DOC 32_02_71_B | F7: DOC 32_02_72_B | G7: DOC 32_02_73_B | H7: DOC 32_02_74_B | I7: DOC 32_02_75_B
A8: PS7 | B8: DOC32_02_70_A
A9: PS8 | B9: DOC32_02_70_B
A10: PS9 | B10: DOC_32_02_70_A | C10: DOC_32_02_71_A | D10: DOC32_02_68_B
A11: PS10 | B11: DOC_32_02_70_B | C11: DOC_32_02_71_B | D11: DOC_32_02_68_A | E11: DOC_32_02_69_B
A12: PS11 | B12: DOC 32_02_70_A | C12: DOC 32_02_71_A
A13: PS12 | B13: DOC 32_02_70_B | C13: DOC 32_02_71_B
A14: PS13 | B14: DOC32_02_74_A
A15: PS14 | B15: DOC32_02_74_B
A16: PS15 | B16: DOC_32_02_74_A
A17: PS16 | B17: DOC_32_02_74_B
A18: PS17 | B18: DOC 32_02_74_A
A19: PS18 | B19: DOC 32_02_74_B

Sheet Feuil2
A1: 32_02_68 | B1: {=IFERROR(INDEX(Feuil1!$A$2:$A$19,LARGE(IF(IFERROR(SEARCH($A1,Feuil1!$B$2:$I$19),0)>0,ROW(Feuil1!$B$2:$I$19)-1),COLUMN(A:A))),"")} -> PS10 | C1: {=IFERROR(INDEX(Feuil1!$A$2:$A$19,LARGE(IF(IFERROR(SEARCH($A1,Feuil1!$B$2:$I$19),0)>0,ROW(Feuil1!$B$2:$I$19)-1),COLUMN(B:B))),"")} -> PS9 | D1: {=IFERROR(INDEX(Feuil1!$A$2:$A$19,LARGE(IF(IFERROR(SEARCH($A1,Feuil1!$B$2:$I$19),0)>0,ROW(Feuil1!$B$2:$I$19)-1),COLUMN(C:C))),"")} -> PS6 | E1: {=IFERROR(INDEX(Feuil1!$A$2:$A$19,LARGE(IF(IFERROR(SEARCH($A1,Feuil1!$B$2:$I$19),0)>0,ROW(Feuil1!$B$2:$I$19)-1),COLUMN(D:D))),"")} -> PS5 | F1: {=IFERROR(INDEX(Feuil1!$A$2:$A$19,LARGE(IF(IFERROR(SEARCH($A1,Feuil1!$B$2:$I$19),0)>0,ROW(Feuil1!$B$2:$I$19)-1),COLUMN(E:E))),"")} -> PS4 | G1: {=IFERROR(INDEX(Feuil1!$A$2:$A$19,LARGE(IF(IFERROR(SEARCH($A1,Feuil1!$B$2:$I$19),0)>0,ROW(Feuil1!$B$2:$I$19)-1),COLUMN(F:F))),"")} -> PS3 | H1: {=IFERROR(INDEX(Feuil1!$A$2:$A$19,LARGE(IF(IFERROR(SEARCH($A1,Feuil1!$B$2:$I$19),0)>0,ROW(Feuil1!$B$2:$I$19)-1),COLUMN(G:G))),"")} -> PS2 | I1: {=IFERROR(INDEX(Feuil1!$A$2:$A$19,LARGE(IF(IFERROR(SEARCH($A1,Feuil1!$B$2:$I$19),0)>0,ROW(Feuil1!$B$2:$I$19)-1),COLUMN(H:H))),"")} -> PS1 | J1: {=IFERROR(INDEX(Feuil1!$A$2:$A$19,LARGE(IF(IFERROR(SEARCH($A1,Feuil1!$B$2:$I$19),0)>0,ROW(Feuil1!$B$2:$I$19)-1),COLUMN(I:I))),"")} | K1: {=IFERROR(INDEX(Feuil1!$A$2:$A$19,LARGE(IF(IFERROR(SEARCH($A1,Feuil1!$B$2:$I$19),0)>0,ROW(Feuil1!$B$2:$I$19)-1),COLUMN(J:J))),"")} | L1: {=IFERROR(INDEX(Feuil1!$A$2:$A$19,LARGE(IF(IFERROR(SEARCH($A1,Feuil1!$B$2:$I$19),0)>0,ROW(Feuil1!$B$2:$I$19)-1),COLUMN(K:K))),"")} | M1: {=IFERROR(INDEX(Feuil1!$A$2:$A$19,LARGE(IF(IFERROR(SEARCH($A1,Feuil1!$B$2:$I$19),0)>0,ROW(Feuil1!$B$2:$I$19)-1),COLUMN(L:L))),"")}
A2: 32_02_70 | B2: {=IFERROR(INDEX(Feuil1!$A$2:$A$19,LARGE(IF(IFERROR(SEARCH($A2,Feuil1!$B$2:$I$19),0)>0,ROW(Feuil1!$B$2:$I$19)-1),COLUMN(A:A))),"")} -> PS12 | C2: {=IFERROR(INDEX(Feuil1!$A$2:$A$19,LARGE(IF(IFERROR(SEARCH($A2,Feuil1!$B$2:$I$19),0)>0,ROW(Feuil1!$B$2:$I$19)-1),COLUMN(B:B))),"")} -> PS11 | D2: {=IFERROR(INDEX(Feuil1!$A$2:$A$19,LARGE(IF(IFERROR(SEARCH($A2,Feuil1!$B$2:$I$19),0)>0,ROW(Feuil1!$B$2:$I$19)-1),COLUMN(C:C))),"")} -> PS10 | E2: {=IFERROR(INDEX(Feuil1!$A$2:$A$19,LARGE(IF(IFERROR(SEARCH($A2,Feuil1!$B$2:$I$19),0)>0,ROW(Feuil1!$B$2:$I$19)-1),COLUMN(D:D))),"")} -> PS9 | F2: {=IFERROR(INDEX(Feuil1!$A$2:$A$19,LARGE(IF(IFERROR(SEARCH($A2,Feuil1!$B$2:$I$19),0)>0,ROW(Feuil1!$B$2:$I$19)-1),COLUMN(E:E))),"")} -> PS8 | G2: {=IFERROR(INDEX(Feuil1!$A$2:$A$19,LARGE(IF(IFERROR(SEARCH($A2,Feuil1!$B$2:$I$19),0)>0,ROW(Feuil1!$B$2:$I$19)-1),COLUMN(F:F))),"")} -> PS7 | H2: {=IFERROR(INDEX(Feuil1!$A$2:$A$19,LARGE(IF(IFERROR(SEARCH($A2,Feuil1!$B$2:$I$19),0)>0,ROW(Feuil1!$B$2:$I$19)-1),COLUMN(G:G))),"")} -> PS6 | I2: {=IFERROR(INDEX(Feuil1!$A$2:$A$19,LARGE(IF(IFERROR(SEARCH($A2,Feuil1!$B$2:$I$19),0)>0,ROW(Feuil1!$B$2:$I$19)-1),COLUMN(H:H))),"")} -> PS5 | J2: {=IFERROR(INDEX(Feuil1!$A$2:$A$19,LARGE(IF(IFERROR(SEARCH($A2,Feuil1!$B$2:$I$19),0)>0,ROW(Feuil1!$B$2:$I$19)-1),COLUMN(I:I))),"")} -> PS4 | K2: {=IFERROR(INDEX(Feuil1!$A$2:$A$19,LARGE(IF(IFERROR(SEARCH($A2,Feuil1!$B$2:$I$19),0)>0,ROW(Feuil1!$B$2:$I$19)-1),COLUMN(J:J))),"")} -> PS3 | L2: {=IFERROR(INDEX(Feuil1!$A$2:$A$19,LARGE(IF(IFERROR(SEARCH($A2,Feuil1!$B$2:$I$19),0)>0,ROW(Feuil1!$B$2:$I$19)-1),COLUMN(K:K))),"")} -> PS2 | M2: {=IFERROR(INDEX(Feuil1!$A$2:$A$19,LARGE(IF(IFERROR(SEARCH($A2,Feuil1!$B$2:$I$19),0)>0,ROW(Feuil1!$B$2:$I$19)-1),COLUMN(L:L))),"")} -> PS1
A3: 32_02_71 | B3: {=IFERROR(INDEX(Feuil1!$A$2:$A$19,LARGE(IF(IFERROR(SEARCH($A3,Feuil1!$B$2:$I$19),0)>0,ROW(Feuil1!$B$2:$I$19)-1),COLUMN(A:A))),"")} -> PS12 | C3: {=IFERROR(INDEX(Feuil1!$A$2:$A$19,LARGE(IF(IFERROR(SEARCH($A3,Feuil1!$B$2:$I$19),0)>0,ROW(Feuil1!$B$2:$I$19)-1),COLUMN(B:B))),"")} -> PS11 | D3: {=IFERROR(INDEX(Feuil1!$A$2:$A$19,LARGE(IF(IFERROR(SEARCH($A3,Feuil1!$B$2:$I$19),0)>0,ROW(Feuil1!$B$2:$I$19)-1),COLUMN(C:C))),"")} -> PS10 | E3: {=IFERROR(INDEX(Feuil1!$A$2:$A$19,LARGE(IF(IFERROR(SEARCH($A3,Feuil1!$B$2:$I$19),0)>0,ROW(Feuil1!$B$2:$I$19)-1),COLUMN(D:D))),"")} -> PS9 | F3: {=IFERROR(INDEX(Feuil1!$A$2:$A$19,LARGE(IF(IFERROR(SEARCH($A3,Feuil1!$B$2:$I$19),0)>0,ROW(Feuil1!$B$2:$I$19)-1),COLUMN(E:E))),"")} -> PS6 | G3: {=IFERROR(INDEX(Feuil1!$A$2:$A$19,LARGE(IF(IFERROR(SEARCH($A3,Feuil1!$B$2:$I$19),0)>0,ROW(Feuil1!$B$2:$I$19)-1),COLUMN(F:F))),"")} -> PS5 | H3: {=IFERROR(INDEX(Feuil1!$A$2:$A$19,LARGE(IF(IFERROR(SEARCH($A3,Feuil1!$B$2:$I$19),0)>0,ROW(Feuil1!$B$2:$I$19)-1),COLUMN(G:G))),"")} -> PS4 | I3: {=IFERROR(INDEX(Feuil1!$A$2:$A$19,LARGE(IF(IFERROR(SEARCH($A3,Feuil1!$B$2:$I$19),0)>0,ROW(Feuil1!$B$2:$I$19)-1),COLUMN(H:H))),"")} -> PS3 | J3: {=IFERROR(INDEX(Feuil1!$A$2:$A$19,LARGE(IF(IFERROR(SEARCH($A3,Feuil1!$B$2:$I$19),0)>0,ROW(Feuil1!$B$2:$I$19)-1),COLUMN(I:I))),"")} -> PS2 | K3: {=IFERROR(INDEX(Feuil1!$A$2:$A$19,LARGE(IF(IFERROR(SEARCH($A3,Feuil1!$B$2:$I$19),0)>0,ROW(Feuil1!$B$2:$I$19)-1),COLUMN(J:J))),"")} -> PS1 | L3: {=IFERROR(INDEX(Feuil1!$A$2:$A$19,LARGE(IF(IFERROR(SEARCH($A3,Feuil1!$B$2:$I$19),0)>0,ROW(Feuil1!$B$2:$I$19)-1),COLUMN(K:K))),"")} | M3: {=IFERROR(INDEX(Feuil1!$A$2:$A$19,LARGE(IF(IFERROR(SEARCH($A3,Feuil1!$B$2:$I$19),0)>0,ROW(Feuil1!$B$2:$I$19)-1),COLUMN(L:L))),"")}
A4: 32_02_73 | B4: {=IFERROR(INDEX(Feuil1!$A$2:$A$19,LARGE(IF(IFERROR(SEARCH($A4,Feuil1!$B$2:$I$19),0)>0,ROW(Feuil1!$B$2:$I$19)-1),COLUMN(A:A))),"")} -> PS6 | C4: {=IFERROR(INDEX(Feuil1!$A$2:$A$19,LARGE(IF(IFERROR(SEARCH($A4,Feuil1!$B$2:$I$19),0)>0,ROW(Feuil1!$B$2:$I$19)-1),COLUMN(B:B))),"")} -> PS5 | D4: {=IFERROR(INDEX(Feuil1!$A$2:$A$19,LARGE(IF(IFERROR(SEARCH($A4,Feuil1!$B$2:$I$19),0)>0,ROW(Feuil1!$B$2:$I$19)-1),COLUMN(C:C))),"")} -> PS4 | E4: {=IFERROR(INDEX(Feuil1!$A$2:$A$19,LARGE(IF(IFERROR(SEARCH($A4,Feuil1!$B$2:$I$19),0)>0,ROW(Feuil1!$B$2:$I$19)-1),COLUMN(D:D))),"")} -> PS3 | F4: {=IFERROR(INDEX(Feuil1!$A$2:$A$19,LARGE(IF(IFERROR(SEARCH($A4,Feuil1!$B$2:$I$19),0)>0,ROW(Feuil1!$B$2:$I$19)-1),COLUMN(E:E))),"")} -> PS2 | G4: {=IFERROR(INDEX(Feuil1!$A$2:$A$19,LARGE(IF(IFERROR(SEARCH($A4,Feuil1!$B$2:$I$19),0)>0,ROW(Feuil1!$B$2:$I$19)-1),COLUMN(F:F))),"")} -> PS1 | H4: {=IFERROR(INDEX(Feuil1!$A$2:$A$19,LARGE(IF(IFERROR(SEARCH($A4,Feuil1!$B$2:$I$19),0)>0,ROW(Feuil1!$B$2:$I$19)-1),COLUMN(G:G))),"")} | I4: {=IFERROR(INDEX(Feuil1!$A$2:$A$19,LARGE(IF(IFERROR(SEARCH($A4,Feuil1!$B$2:$I$19),0)>0,ROW(Feuil1!$B$2:$I$19)-1),COLUMN(H:H))),"")} | J4: {=IFERROR(INDEX(Feuil1!$A$2:$A$19,LARGE(IF(IFERROR(SEARCH($A4,Feuil1!$B$2:$I$19),0)>0,ROW(Feuil1!$B$2:$I$19)-1),COLUMN(I:I))),"")} | K4: {=IFERROR(INDEX(Feuil1!$A$2:$A$19,LARGE(IF(IFERROR(SEARCH($A4,Feuil1!$B$2:$I$19),0)>0,ROW(Feuil1!$B$2:$I$19)-1),COLUMN(J:J))),"")} | L4: {=IFERROR(INDEX(Feuil1!$A$2:$A$19,LARGE(IF(IFERROR(SEARCH($A4,Feuil1!$B$2:$I$19),0)>0,ROW(Feuil1!$B$2:$I$19)-1),COLUMN(K:K))),"")} | M4: {=IFERROR(INDEX(Feuil1!$A$2:$A$19,LARGE(IF(IFERROR(SEARCH($A4,Feuil1!$B$2:$I$19),0)>0,ROW(Feuil1!$B$2:$I$19)-1),COLUMN(L:L))),"")}
A5: 32_02_75 | B5: {=IFERROR(INDEX(Feuil1!$A$2:$A$19,LARGE(IF(IFERROR(SEARCH($A5,Feuil1!$B$2:$I$19),0)>0,ROW(Feuil1!$B$2:$I$19)-1),COLUMN(A:A))),"")} -> PS6 | C5: {=IFERROR(INDEX(Feuil1!$A$2:$A$19,LARGE(IF(IFERROR(SEARCH($A5,Feuil1!$B$2:$I$19),0)>0,ROW(Feuil1!$B$2:$I$19)-1),COLUMN(B:B))),"")} -> PS5 | D5: {=IFERROR(INDEX(Feuil1!$A$2:$A$19,LARGE(IF(IFERROR(SEARCH($A5,Feuil1!$B$2:$I$19),0)>0,ROW(Feuil1!$B$2:$I$19)-1),COLUMN(C:C))),"")} -> PS4 | E5: {=IFERROR(INDEX(Feuil1!$A$2:$A$19,LARGE(IF(IFERROR(SEARCH($A5,Feuil1!$B$2:$I$19),0)>0,ROW(Feuil1!$B$2:$I$19)-1),COLUMN(D:D))),"")} -> PS3 | F5: {=IFERROR(INDEX(Feuil1!$A$2:$A$19,LARGE(IF(IFERROR(SEARCH($A5,Feuil1!$B$2:$I$19),0)>0,ROW(Feuil1!$B$2:$I$19)-1),COLUMN(E:E))),"")} -> PS2 | G5: {=IFERROR(INDEX(Feuil1!$A$2:$A$19,LARGE(IF(IFERROR(SEARCH($A5,Feuil1!$B$2:$I$19),0)>0,ROW(Feuil1!$B$2:$I$19)-1),COLUMN(F:F))),"")} -> PS1 | H5: {=IFERROR(INDEX(Feuil1!$A$2:$A$19,LARGE(IF(IFERROR(SEARCH($A5,Feuil1!$B$2:$I$19),0)>0,ROW(Feuil1!$B$2:$I$19)-1),COLUMN(G:G))),"")} | I5: {=IFERROR(INDEX(Feuil1!$A$2:$A$19,LARGE(IF(IFERROR(SEARCH($A5,Feuil1!$B$2:$I$19),0)>0,ROW(Feuil1!$B$2:$I$19)-1),COLUMN(H:H))),"")} | J5: {=IFERROR(INDEX(Feuil1!$A$2:$A$19,LARGE(IF(IFERROR(SEARCH($A5,Feuil1!$B$2:$I$19),0)>0,ROW(Feuil1!$B$2:$I$19)-1),COLUMN(I:I))),"")} | K5: {=IFERROR(INDEX(Feuil1!$A$2:$A$19,LARGE(IF(IFERROR(SEARCH($A5,Feuil1!$B$2:$I$19),0)>0,ROW(Feuil1!$B$2:$I$19)-1),COLUMN(J:J))),"")} | L5: {=IFERROR(INDEX(Feuil1!$A$2:$A$19,LARGE(IF(IFERROR(SEARCH($A5,Feuil1!$B$2:$I$19),0)>0,ROW(Feuil1!$B$2:$I$19)-1),COLUMN(K:K))),"")} | M5: {=IFERROR(INDEX(Feuil1!$A$2:$A$19,LARGE(IF(IFERROR(SEARCH($A5,Feuil1!$B$2:$I$19),0)>0,ROW(Feuil1!$B$2:$I$19)-1),COLUMN(L:L))),"")}

Sheet Feuil3
