Workbook
Name Liste: '[1]Informations personnelles'!$C$3:$I$1003

Sheet Informations Personnelles
J1: Substituts
J2: No. | K2: Noms
J3: 3000 | K3: Maurice Chartrand
J4: 3001 | K4: Micheline Landriault
J5: 3002 | K5: Jeannine Rossini
J6: 3003 | K6: Gilles Thériault
J7: 3004 | K7: André Malo
J8: 3005 | K8: Denis Sabourin
J9: 3006 | K9: Patrick Champagne
J10: 3007 | K10: Francine Chaloux
J11: 3008 | K11: Luc Carrier
J12: 3009 | K12: Julienne Gaudreau
J13: 3010 | K13: Gaétan Martin
J14: 3011 | K14: Roland Gariépy
J15: 3012 | K15: Jacques Charlebois
J16: 3013
J17: 3014
J18: 3015
J19: 3016
J20: 3017
J21: 3018
J22: 3019
J23: 3020
J24: 3021
J25: 3022
J26: 3023
J27: 3024
... J503: 3500

Sheet Données
S1: ='Informations Personnelles'!G1 -> 0 | T1: Moyenne | U1: Total saison | V1: Total saison
Q2: No. | R2: Nos. | S2: Substututs | T2: Cumulative | U2: Quilles | V2: Parties
Q3: ='Informations Personnelles'!J3 -> 3000 | R3: ='Informations Personnelles'!J3 -> 3000 | S3: ='Informations Personnelles'!K3 -> Maurice Chartrand | T3: =ROUNDDOWN(U3/V3,0) -> 133 | U3: 400 | V3: 3
Q4: ='Informations Personnelles'!J4 -> 3001 | R4: ='Informations Personnelles'!J4 -> 3001 | S4: ='Informations Personnelles'!K4 -> Micheline Landriault | T4: =ROUNDDOWN(U4/V4,0) -> 125 | U4: 750 | V4: 6
Q5: ='Informations Personnelles'!J5 -> 3002 | R5: ='Informations Personnelles'!J5 -> 3002 | S5: ='Informations Personnelles'!K5 -> Jeannine Rossini | T5: =ROUNDDOWN(U5/V5,0) -> 166 | U5: 2000 | V5: 12
Q6: ='Informations Personnelles'!J6 -> 3003 | R6: ='Informations Personnelles'!J6 -> 3003 | S6: ='Informations Personnelles'!K6 -> Gilles Thériault | T6: =ROUNDDOWN(U6/V6,0) -> 172 | U6: 1550 | V6: 9
Q7: ='Informations Personnelles'!J7 -> 3004 | R7: ='Informations Personnelles'!J7 -> 3004 | S7: ='Informations Personnelles'!K7 -> André Malo | T7: =ROUNDDOWN(U7/V7,0) -> 183 | U7: 550 | V7: 3
Q8: ='Informations Personnelles'!J8 -> 3005 | R8: ='Informations Personnelles'!J8 -> 3005 | S8: ='Informations Personnelles'!K8 -> Denis Sabourin | T8: =ROUNDDOWN(U8/V8,0) -> 125 | U8: 1875 | V8: 15
Q9: ='Informations Personnelles'!J9 -> 3006 | R9: ='Informations Personnelles'!J9 -> 3006 | S9: ='Informations Personnelles'!K9 -> Patrick Champagne | T9: =ROUNDDOWN(U9/V9,0) -> 188 | U9: 1700 | V9: 9
Q10: ='Informations Personnelles'!J10 -> 3007 | R10: ='Informations Personnelles'!J10 -> 3007 | S10: ='Informations Personnelles'!K10 -> Francine Chaloux | T10: =ROUNDDOWN(U10/V10,0) -> 211 | U10: 3800 | V10: 18
Q11: ='Informations Personnelles'!J11 -> 3008 | R11: ='Informations Personnelles'!J11 -> 3008 | S11: ='Informations Personnelles'!K11 -> Luc Carrier | T11: =ROUNDDOWN(U11/V11,0) -> 195 | U11: 4100 | V11: 21
Q12: ='Informations Personnelles'!J12 -> 3009 | R12: ='Informations Personnelles'!J12 -> 3009 | S12: ='Informations Personnelles'!K12 -> Julienne Gaudreau | T12: =ROUNDDOWN(U12/V12,0) -> 200 | U12: 600 | V12: 3
Q13: ='Informations Personnelles'!J13 -> 3010 | R13: ='Informations Personnelles'!J13 -> 3010 | S13: ='Informations Personnelles'!K13 -> Gaétan Martin | T13: =ROUNDDOWN(U13/V13,0) -> 204 | U13: 4900 | V13: 24
Q14: ='Informations Personnelles'!J14 -> 3011 | R14: ='Informations Personnelles'!J14 -> 3011 | S14: ='Informations Personnelles'!K14 -> Roland Gariépy | T14: =ROUNDDOWN(U14/V14,0) -> #DIV/0!
Q15: ='Informations Personnelles'!J15 -> 3012 | R15: ='Informations Personnelles'!J15 -> 3012 | S15: ='Informations Personnelles'!K15 -> Jacques Charlebois | T15: =ROUNDDOWN(U15/V15,0) -> #DIV/0!
Q16: ='Informations Personnelles'!J16 -> 3013 | R16: ='Informations Personnelles'!J16 -> 3013 | S16: Pierrette Venne | T16: =ROUNDDOWN(U16/V16,0) -> #DIV/0!
Q17: ='Informations Personnelles'!J17 -> 3014 | R17: ='Informations Personnelles'!J17 -> 3014 | S17: Claire Lessard | T17: =ROUNDDOWN(U17/V17,0) -> #DIV/0!
Q18: ='Informations Personnelles'!J18 -> 3015 | R18: ='Informations Personnelles'!J18 -> 3015 | S18: Michel Taillon | T18: =ROUNDDOWN(U18/V18,0) -> #DIV/0!
Q19: ='Informations Personnelles'!J19 -> 3016 | R19: ='Informations Personnelles'!J19 -> 3016 | S19: Louise Robillard | T19: =ROUNDDOWN(U19/V19,0) -> #DIV/0!
Q20: ='Informations Personnelles'!J20 -> 3017 | R20: ='Informations Personnelles'!J20 -> 3017 | S20: Émile Beauchesne | T20: =ROUNDDOWN(U20/V20,0) -> #DIV/0!
Q21: ='Informations Personnelles'!J21 -> 3018 | R21: ='Informations Personnelles'!J21 -> 3018 | S21: Martine Gagné | T21: =ROUNDDOWN(U21/V21,0) -> #DIV/0!
Q22: ='Informations Personnelles'!J22 -> 3019 | R22: ='Informations Personnelles'!J22 -> 3019 | S22: Jean-Pierre Lapointe | T22: =ROUNDDOWN(U22/V22,0) -> #DIV/0!
Q23: ='Informations Personnelles'!J23 -> 3020 | R23: ='Informations Personnelles'!J23 -> 3020 | S23: Louisette Croteau | T23: =ROUNDDOWN(U23/V23,0) -> #DIV/0!
Q24: ='Informations Personnelles'!J24 -> 3021 | R24: ='Informations Personnelles'!J24 -> 3021 | S24: Claude Baril | T24: =ROUNDDOWN(U24/V24,0) -> #DIV/0!
Q25: ='Informations Personnelles'!J25 -> 3022 | R25: ='Informations Personnelles'!J25 -> 3022 | S25: Yves Chapdelaine | T25: =ROUNDDOWN(U25/V25,0) -> #DIV/0!
Q26: ='Informations Personnelles'!J26 -> 3023 | R26: ='Informations Personnelles'!J26 -> 3023 | S26: Louise Sarrazin | T26: =ROUNDDOWN(U26/V26,0) -> #DIV/0!
Q27: ='Informations Personnelles'!J27 -> 3024 | R27: ='Informations Personnelles'!J27 -> 3024 | S27: Réal Nolet | T27: =ROUNDDOWN(U27/V27,0) -> #DIV/0!
... Q29: ='Informations Personnelles'!J29 -> 3026 | R29: ='Informations Personnelles'!J29 -> 3026 | S29: Nicole Sarrazin | T29: =ROUNDDOWN(U29/V29,0) -> #DIV/0!
Q30: ='Informations Personnelles'!J30 -> 3027 | R30: ='Informations Personnelles'!J30 -> 3027 | S30: ='Informations Personnelles'!K30 -> 0 | T30: =ROUNDDOWN(U30/V30,0) -> #DIV/0!
Q31: ='Informations Personnelles'!J31 -> 3028 | R31: ='Informations Personnelles'!J31 -> 3028 | S31: ='Informations Personnelles'!K31 -> 0 | T31: =ROUNDDOWN(U31/V31,0) -> #DIV/0!
Q32: ='Informations Personnelles'!J32 -> 3029 | R32: ='Informations Personnelles'!J32 -> 3029 | S32: ='Informations Personnelles'!K32 -> 0 | T32: =ROUNDDOWN(U32/V32,0) -> #DIV/0!
Q33: ='Informations Personnelles'!J33 -> 3030 | R33: ='Informations Personnelles'!J33 -> 3030 | S33: ='Informations Personnelles'!K33 -> 0 | T33: =ROUNDDOWN(U33/V33,0) -> #DIV/0!
Q34: ='Informations Personnelles'!J34 -> 3031 | R34: ='Informations Personnelles'!J34 -> 3031 | S34: ='Informations Personnelles'!K34 -> 0 | T34: =ROUNDDOWN(U34/V34,0) -> #DIV/0!
Q35: ='Informations Personnelles'!J35 -> 3032 | R35: ='Informations Personnelles'!J35 -> 3032 | S35: ='Informations Personnelles'!K35 -> 0 | T35: =ROUNDDOWN(U35/V35,0) -> #DIV/0!
Q36: ='Informations Personnelles'!J36 -> 3033 | R36: ='Informations Personnelles'!J36 -> 3033 | S36: ='Informations Personnelles'!K36 -> 0 | T36: =ROUNDDOWN(U36/V36,0) -> #DIV/0!
Q37: ='Informations Personnelles'!J37 -> 3034 | R37: ='Informations Personnelles'!J37 -> 3034 | S37: ='Informations Personnelles'!K37 -> 0 | T37: =ROUNDDOWN(U37/V37,0) -> #DIV/0!
Q38: ='Informations Personnelles'!J38 -> 3035 | R38: ='Informations Personnelles'!J38 -> 3035 | S38: ='Informations Personnelles'!K38 -> 0 | T38: =ROUNDDOWN(U38/V38,0) -> #DIV/0!
Q39: ='Informations Personnelles'!J39 -> 3036 | R39: ='Informations Personnelles'!J39 -> 3036 | S39: ='Informations Personnelles'!K39 -> 0 | T39: =ROUNDDOWN(U39/V39,0) -> #DIV/0!
Q40: ='Informations Personnelles'!J40 -> 3037 | R40: ='Informations Personnelles'!J40 -> 3037 | S40: ='Informations Personnelles'!K40 -> 0 | T40: =ROUNDDOWN(U40/V40,0) -> #DIV/0!
Q41: ='Informations Personnelles'!J41 -> 3038 | R41: ='Informations Personnelles'!J41 -> 3038 | S41: ='Informations Personnelles'!K41 -> 0 | T41: =ROUNDDOWN(U41/V41,0) -> #DIV/0!
...

Sheet Sem.01
CE212: NOMS DES SUBSTITUTS | CF212: Moy. | CG212: Quilles | CH212: Parties | CI212: ANNIVERSAIRES | CM212: NOMS DES SUBSTITUTS | CQ212: Moy. | CR212: Quilles | CS212: Parties
CE213: {=INDEX(Données!S$3:S$31,MATCH(LARGE(Données!$V$3:$V$31+ROW($V$3:$V$31)/10000,ROW($A1)),Données!$V$3:$V$31+ROW(Données!$V$3:$V$31)/10000,0))} -> Gaétan Martin | CF213: {=INDEX(Données!T$3:T$31,MATCH(LARGE(Données!$V$3:$V$31+ROW($V$3:$V$31)/10000,ROW($A1)),Données!$V$3:$V$31+ROW(Données!$V$3:$V$31)/10000,0))} -> 204 | CG213: {=INDEX(Données!U$3:U$31,MATCH(LARGE(Données!$V$3:$V$31+ROW($V$3:$V$31)/10000,ROW($A1)),Données!$V$3:$V$31+ROW(Données!$V$3:$V$31)/10000,0))} -> 4900 | CH213: =LARGE(Données!$V$3:$V$503,1) -> 24 | CS213: =LARGE(Données!$V$3:$V$503,11) -> 3
CE214: {=INDEX(Données!S$3:S$31,MATCH(LARGE(Données!$V$3:$V$31+ROW($V$3:$V$31)/10000,ROW($A2)),Données!$V$3:$V$31+ROW(Données!$V$3:$V$31)/10000,0))} -> Luc Carrier | CF214: {=INDEX(Données!T$3:T$31,MATCH(LARGE(Données!$V$3:$V$31+ROW($V$3:$V$31)/10000,ROW($A2)),Données!$V$3:$V$31+ROW(Données!$V$3:$V$31)/10000,0))} -> 195 | CG214: {=INDEX(Données!U$3:U$31,MATCH(LARGE(Données!$V$3:$V$31+ROW($V$3:$V$31)/10000,ROW($A2)),Données!$V$3:$V$31+ROW(Données!$V$3:$V$31)/10000,0))} -> 4100 | CH214: =LARGE(Données!$V$3:$V$503,2) -> 21 | CS214: =LARGE(Données!$V$3:$V$503,12) -> #NUM!
CE215: {=INDEX(Données!S$3:S$31,MATCH(LARGE(Données!$V$3:$V$31+ROW($V$3:$V$31)/10000,ROW($A3)),Données!$V$3:$V$31+ROW(Données!$V$3:$V$31)/10000,0))} -> Francine Chaloux | CF215: {=INDEX(Données!T$3:T$31,MATCH(LARGE(Données!$V$3:$V$31+ROW($V$3:$V$31)/10000,ROW($A3)),Données!$V$3:$V$31+ROW(Données!$V$3:$V$31)/10000,0))} -> 211 | CG215: {=INDEX(Données!U$3:U$31,MATCH(LARGE(Données!$V$3:$V$31+ROW($V$3:$V$31)/10000,ROW($A3)),Données!$V$3:$V$31+ROW(Données!$V$3:$V$31)/10000,0))} -> 3800 | CH215: =LARGE(Données!$V$3:$V$503,3) -> 18 | CS215: =LARGE(Données!$V$3:$V$503,13) -> #NUM!
CE216: {=INDEX(Données!S$3:S$31,MATCH(LARGE(Données!$V$3:$V$31+ROW($V$3:$V$31)/10000,ROW($A4)),Données!$V$3:$V$31+ROW(Données!$V$3:$V$31)/10000,0))} -> Denis Sabourin | CF216: {=INDEX(Données!T$3:T$31,MATCH(LARGE(Données!$V$3:$V$31+ROW($V$3:$V$31)/10000,ROW($A4)),Données!$V$3:$V$31+ROW(Données!$V$3:$V$31)/10000,0))} -> 125 | CG216: {=INDEX(Données!U$3:U$31,MATCH(LARGE(Données!$V$3:$V$31+ROW($V$3:$V$31)/10000,ROW($A4)),Données!$V$3:$V$31+ROW(Données!$V$3:$V$31)/10000,0))} -> 1875 | CH216: =LARGE(Données!$V$3:$V$503,4) -> 15 | CS216: =LARGE(Données!$V$3:$V$503,14) -> #NUM!
CE217: {=INDEX(Données!S$3:S$31,MATCH(LARGE(Données!$V$3:$V$31+ROW($V$3:$V$31)/10000,ROW($A5)),Données!$V$3:$V$31+ROW(Données!$V$3:$V$31)/10000,0))} -> Jeannine Rossini | CF217: {=INDEX(Données!T$3:T$31,MATCH(LARGE(Données!$V$3:$V$31+ROW($V$3:$V$31)/10000,ROW($A5)),Données!$V$3:$V$31+ROW(Données!$V$3:$V$31)/10000,0))} -> 166 | CG217: {=INDEX(Données!U$3:U$31,MATCH(LARGE(Données!$V$3:$V$31+ROW($V$3:$V$31)/10000,ROW($A5)),Données!$V$3:$V$31+ROW(Données!$V$3:$V$31)/10000,0))} -> 2000 | CH217: =LARGE(Données!$V$3:$V$503,5) -> 12 | CS217: =LARGE(Données!$V$3:$V$503,15) -> #NUM!
CE218: {=INDEX(Données!S$3:S$31,MATCH(LARGE(Données!$V$3:$V$31+ROW($V$3:$V$31)/10000,ROW($A6)),Données!$V$3:$V$31+ROW(Données!$V$3:$V$31)/10000,0))} -> Patrick Champagne | CF218: {=INDEX(Données!T$3:T$31,MATCH(LARGE(Données!$V$3:$V$31+ROW($V$3:$V$31)/10000,ROW($A6)),Données!$V$3:$V$31+ROW(Données!$V$3:$V$31)/10000,0))} -> 188 | CG218: {=INDEX(Données!U$3:U$31,MATCH(LARGE(Données!$V$3:$V$31+ROW($V$3:$V$31)/10000,ROW($A6)),Données!$V$3:$V$31+ROW(Données!$V$3:$V$31)/10000,0))} -> 1700 | CH218: =LARGE(Données!$V$3:$V$503,6) -> 9 | CS218: =LARGE(Données!$V$3:$V$503,16) -> #NUM!
CE219: {=INDEX(Données!S$3:S$31,MATCH(LARGE(Données!$V$3:$V$31+ROW($V$3:$V$31)/10000,ROW($A7)),Données!$V$3:$V$31+ROW(Données!$V$3:$V$31)/10000,0))} -> Gilles Thériault | CF219: {=INDEX(Données!T$3:T$31,MATCH(LARGE(Données!$V$3:$V$31+ROW($V$3:$V$31)/10000,ROW($A7)),Données!$V$3:$V$31+ROW(Données!$V$3:$V$31)/10000,0))} -> 172 | CG219: {=INDEX(Données!U$3:U$31,MATCH(LARGE(Données!$V$3:$V$31+ROW($V$3:$V$31)/10000,ROW($A7)),Données!$V$3:$V$31+ROW(Données!$V$3:$V$31)/10000,0))} -> 1550 | CH219: =LARGE(Données!$V$3:$V$503,7) -> 9 | CS219: =LARGE(Données!$V$3:$V$503,17) -> #NUM!
CE220: {=INDEX(Données!S$3:S$31,MATCH(LARGE(Données!$V$3:$V$31+ROW($V$3:$V$31)/10000,ROW($A8)),Données!$V$3:$V$31+ROW(Données!$V$3:$V$31)/10000,0))} -> Micheline Landriault | CF220: {=INDEX(Données!T$3:T$31,MATCH(LARGE(Données!$V$3:$V$31+ROW($V$3:$V$31)/10000,ROW($A8)),Données!$V$3:$V$31+ROW(Données!$V$3:$V$31)/10000,0))} -> 125 | CG220: {=INDEX(Données!U$3:U$31,MATCH(LARGE(Données!$V$3:$V$31+ROW($V$3:$V$31)/10000,ROW($A8)),Données!$V$3:$V$31+ROW(Données!$V$3:$V$31)/10000,0))} -> 750 | CH220: =LARGE(Données!$V$3:$V$503,8) -> 6 | CS220: =LARGE(Données!$V$3:$V$503,18) -> #NUM!
CE221: {=INDEX(Données!S$3:S$31,MATCH(LARGE(Données!$V$3:$V$31+ROW($V$3:$V$31)/10000,ROW($A9)),Données!$V$3:$V$31+ROW(Données!$V$3:$V$31)/10000,0))} -> Julienne Gaudreau | CF221: {=INDEX(Données!T$3:T$31,MATCH(LARGE(Données!$V$3:$V$31+ROW($V$3:$V$31)/10000,ROW($A9)),Données!$V$3:$V$31+ROW(Données!$V$3:$V$31)/10000,0))} -> 200 | CG221: {=INDEX(Données!U$3:U$31,MATCH(LARGE(Données!$V$3:$V$31+ROW($V$3:$V$31)/10000,ROW($A9)),Données!$V$3:$V$31+ROW(Données!$V$3:$V$31)/10000,0))} -> 600 | CH221: =LARGE(Données!$V$3:$V$503,9) -> 3 | CS221: =LARGE(Données!$V$3:$V$503,19) -> #NUM!
CE222: {=INDEX(Données!S$3:S$31,MATCH(LARGE(Données!$V$3:$V$31+ROW($V$3:$V$31)/10000,ROW($A10)),Données!$V$3:$V$31+ROW(Données!$V$3:$V$31)/10000,0))} -> André Malo | CF222: {=INDEX(Données!T$3:T$31,MATCH(LARGE(Données!$V$3:$V$31+ROW($V$3:$V$31)/10000,ROW($A10)),Données!$V$3:$V$31+ROW(Données!$V$3:$V$31)/10000,0))} -> 183 | CG222: {=INDEX(Données!U$3:U$31,MATCH(LARGE(Données!$V$3:$V$31+ROW($V$3:$V$31)/10000,ROW($A10)),Données!$V$3:$V$31+ROW(Données!$V$3:$V$31)/10000,0))} -> 550 | CH222: =LARGE(Données!$V$3:$V$503,10) -> 3 | CS222: =LARGE(Données!$V$3:$V$503,20) -> #NUM!

Sheet Sem.02
CE212: NOMS DES SUBSTITUTS | CF212: Moy. | CG212: Quilles | CH212: Parties | CI212: ANNIVERSAIRES | CM212: NOMS DES SUBSTITUTS | CQ212: Moy. | CR212: Quilles | CS212: Parties
CH213: =LARGE(Données!$V$3:$V$503,1) -> 24 | CS213: =LARGE(Données!$V$3:$V$503,11) -> 3
CH214: =LARGE(Données!$V$3:$V$503,2) -> 21 | CS214: =LARGE(Données!$V$3:$V$503,12) -> #NUM!
CH215: =LARGE(Données!$V$3:$V$503,3) -> 18 | CS215: =LARGE(Données!$V$3:$V$503,13) -> #NUM!
CH216: =LARGE(Données!$V$3:$V$503,4) -> 15 | CS216: =LARGE(Données!$V$3:$V$503,14) -> #NUM!
CH217: =LARGE(Données!$V$3:$V$503,5) -> 12 | CS217: =LARGE(Données!$V$3:$V$503,15) -> #NUM!
CH218: =LARGE(Données!$V$3:$V$503,6) -> 9 | CS218: =LARGE(Données!$V$3:$V$503,16) -> #NUM!
CH219: =LARGE(Données!$V$3:$V$503,7) -> 9 | CS219: =LARGE(Données!$V$3:$V$503,17) -> #NUM!
CH220: =LARGE(Données!$V$3:$V$503,8) -> 6 | CS220: =LARGE(Données!$V$3:$V$503,18) -> #NUM!
CH221: =LARGE(Données!$V$3:$V$503,9) -> 3 | CS221: =LARGE(Données!$V$3:$V$503,19) -> #NUM!
CH222: =LARGE(Données!$V$3:$V$503,10) -> 3 | CS222: =LARGE(Données!$V$3:$V$503,20) -> #NUM!

Sheet Sem.03
CE212: NOMS DES SUBSTITUTS | CF212: Moy. | CG212: Quilles | CH212: Parties | CI212: ANNIVERSAIRES | CM212: NOMS DES SUBSTITUTS | CQ212: Moy. | CR212: Quilles | CS212: Parties
CH213: =LARGE(Données!$V$3:$V$503,1) -> 24 | CS213: =LARGE(Données!$V$3:$V$503,11) -> 3
CH214: =LARGE(Données!$V$3:$V$503,2) -> 21 | CS214: =LARGE(Données!$V$3:$V$503,12) -> #NUM!
CH215: =LARGE(Données!$V$3:$V$503,3) -> 18 | CS215: =LARGE(Données!$V$3:$V$503,13) -> #NUM!
CH216: =LARGE(Données!$V$3:$V$503,4) -> 15 | CS216: =LARGE(Données!$V$3:$V$503,14) -> #NUM!
CH217: =LARGE(Données!$V$3:$V$503,5) -> 12 | CS217: =LARGE(Données!$V$3:$V$503,15) -> #NUM!
CH218: =LARGE(Données!$V$3:$V$503,6) -> 9 | CS218: =LARGE(Données!$V$3:$V$503,16) -> #NUM!
CH219: =LARGE(Données!$V$3:$V$503,7) -> 9 | CS219: =LARGE(Données!$V$3:$V$503,17) -> #NUM!
CH220: =LARGE(Données!$V$3:$V$503,8) -> 6 | CS220: =LARGE(Données!$V$3:$V$503,18) -> #NUM!
CH221: =LARGE(Données!$V$3:$V$503,9) -> 3 | CS221: =LARGE(Données!$V$3:$V$503,19) -> #NUM!
CH222: =LARGE(Données!$V$3:$V$503,10) -> 3 | CS222: =LARGE(Données!$V$3:$V$503,20) -> #NUM!
