Workbook

Sheet Feuil1
B1: Column1 | C1: Column2 | G1: Column1 | H1: Column2 | J1: tulipe
B2: =INDEX(Table1[],MATCH(Feuil1!$C2,Table1[Column2],0),1) -> dessert | C2: pomme | G2: entrées | H2: carottes rapées | J2: {=IFERROR(INDEX(B$2:B$17,MATCH(SMALL(COUNTIF(B$2:B$17,"<"&B$2:B$17),ROW(A1)),COUNTIF(B$2:B$17,"<"&B$2:B$17),0)),"")} -> dessert | K2: {=IF(J2="","",INDEX(C$2:C$17,SMALL(IF(B$2:B$17=J2,ROW(B$2:B$17)-1,""),COUNTIF(J$2:J2,J2))))} -> pomme
B3: =INDEX(Table1[],MATCH(Feuil1!$C3,Table1[Column2],0),1) -> dessert | C3: poire | G3: entrées | H3: œufs mayonnaise | J3: {=IFERROR(INDEX(B$2:B$17,MATCH(SMALL(COUNTIF(B$2:B$17,"<"&B$2:B$17),ROW(A2)),COUNTIF(B$2:B$17,"<"&B$2:B$17),0)),"")} -> dessert | K3: {=IF(J3="","",INDEX(C$2:C$17,SMALL(IF(B$2:B$17=J3,ROW(B$2:B$17)-1,""),COUNTIF(J$2:J3,J3))))} -> poire
B4: =INDEX(Table1[],MATCH(Feuil1!$C4,Table1[Column2],0),1) -> viande | C4: bœuf | G4: entrées | H4: terrine de porc | J4: {=IFERROR(INDEX(B$2:B$17,MATCH(SMALL(COUNTIF(B$2:B$17,"<"&B$2:B$17),ROW(A3)),COUNTIF(B$2:B$17,"<"&B$2:B$17),0)),"")} -> dessert | K4: {=IF(J4="","",INDEX(C$2:C$17,SMALL(IF(B$2:B$17=J4,ROW(B$2:B$17)-1,""),COUNTIF(J$2:J4,J4))))} -> gâteau
B5: =INDEX(Table1[],MATCH(Feuil1!$C5,Table1[Column2],0),1) -> viande | C5: mouton | G5: viande | H5: jambon blanc | J5: {=IFERROR(INDEX(B$2:B$17,MATCH(SMALL(COUNTIF(B$2:B$17,"<"&B$2:B$17),ROW(A4)),COUNTIF(B$2:B$17,"<"&B$2:B$17),0)),"")} -> dessert | K5: {=IF(J5="","",INDEX(C$2:C$17,SMALL(IF(B$2:B$17=J5,ROW(B$2:B$17)-1,""),COUNTIF(J$2:J5,J5))))} -> cerise
B6: =INDEX(Table1[],MATCH(Feuil1!$C6,Table1[Column2],0),1) -> dessert | C6: gâteau | G6: viande | H6: bœuf | J6: {=IFERROR(INDEX(B$2:B$17,MATCH(SMALL(COUNTIF(B$2:B$17,"<"&B$2:B$17),ROW(A5)),COUNTIF(B$2:B$17,"<"&B$2:B$17),0)),"")} -> dessert | K6: {=IF(J6="","",INDEX(C$2:C$17,SMALL(IF(B$2:B$17=J6,ROW(B$2:B$17)-1,""),COUNTIF(J$2:J6,J6))))} -> framboise
B7: =INDEX(Table1[],MATCH(Feuil1!$C7,Table1[Column2],0),1) -> dessert | C7: cerise | G7: viande | H7: mouton | J7: {=IFERROR(INDEX(B$2:B$17,MATCH(SMALL(COUNTIF(B$2:B$17,"<"&B$2:B$17),ROW(A6)),COUNTIF(B$2:B$17,"<"&B$2:B$17),0)),"")} -> dessert | K7: {=IF(J7="","",INDEX(C$2:C$17,SMALL(IF(B$2:B$17=J7,ROW(B$2:B$17)-1,""),COUNTIF(J$2:J7,J7))))} -> noix de coco
B8: =INDEX(Table1[],MATCH(Feuil1!$C8,Table1[Column2],0),1) -> dessert | C8: framboise | G8: légume | H8: haricots verts | J8: {=IFERROR(INDEX(B$2:B$17,MATCH(SMALL(COUNTIF(B$2:B$17,"<"&B$2:B$17),ROW(A7)),COUNTIF(B$2:B$17,"<"&B$2:B$17),0)),"")} -> dessert | K8: {=IF(J8="","",INDEX(C$2:C$17,SMALL(IF(B$2:B$17=J8,ROW(B$2:B$17)-1,""),COUNTIF(J$2:J8,J8))))} -> glace à la vanille
B9: =INDEX(Table1[],MATCH(Feuil1!$C9,Table1[Column2],0),1) -> dessert | C9: noix de coco | G9: légume | H9: lentilles | J9: {=IFERROR(INDEX(B$2:B$17,MATCH(SMALL(COUNTIF(B$2:B$17,"<"&B$2:B$17),ROW(A8)),COUNTIF(B$2:B$17,"<"&B$2:B$17),0)),"")} -> entrées | K9: {=IF(J9="","",INDEX(C$2:C$17,SMALL(IF(B$2:B$17=J9,ROW(B$2:B$17)-1,""),COUNTIF(J$2:J9,J9))))} -> carottes rapées
B10: =INDEX(Table1[],MATCH(Feuil1!$C10,Table1[Column2],0),1) -> légume | C10: haricots verts | G10: légume | H10: purée de pommes de terre | J10: {=IFERROR(INDEX(B$2:B$17,MATCH(SMALL(COUNTIF(B$2:B$17,"<"&B$2:B$17),ROW(A9)),COUNTIF(B$2:B$17,"<"&B$2:B$17),0)),"")} -> entrées | K10: {=IF(J10="","",INDEX(C$2:C$17,SMALL(IF(B$2:B$17=J10,ROW(B$2:B$17)-1,""),COUNTIF(J$2:J10,J10))))} -> œufs mayonnaise
B11: =INDEX(Table1[],MATCH(Feuil1!$C11,Table1[Column2],0),1) -> légume | C11: lentilles | G11: dessert | H11: pomme | J11: {=IFERROR(INDEX(B$2:B$17,MATCH(SMALL(COUNTIF(B$2:B$17,"<"&B$2:B$17),ROW(A10)),COUNTIF(B$2:B$17,"<"&B$2:B$17),0)),"")} -> entrées | K11: {=IF(J11="","",INDEX(C$2:C$17,SMALL(IF(B$2:B$17=J11,ROW(B$2:B$17)-1,""),COUNTIF(J$2:J11,J11))))} -> terrine de porc
B12: =INDEX(Table1[],MATCH(Feuil1!$C12,Table1[Column2],0),1) -> viande | C12: jambon blanc | G12: dessert | H12: poire | J12: {=IFERROR(INDEX(B$2:B$17,MATCH(SMALL(COUNTIF(B$2:B$17,"<"&B$2:B$17),ROW(A11)),COUNTIF(B$2:B$17,"<"&B$2:B$17),0)),"")} -> légume | K12: {=IF(J12="","",INDEX(C$2:C$17,SMALL(IF(B$2:B$17=J12,ROW(B$2:B$17)-1,""),COUNTIF(J$2:J12,J12))))} -> haricots verts
B13: =INDEX(Table1[],MATCH(Feuil1!$C13,Table1[Column2],0),1) -> légume | C13: purée de pommes de terre | G13: dessert | H13: gâteau | J13: {=IFERROR(INDEX(B$2:B$17,MATCH(SMALL(COUNTIF(B$2:B$17,"<"&B$2:B$17),ROW(A12)),COUNTIF(B$2:B$17,"<"&B$2:B$17),0)),"")} -> légume | K13: {=IF(J13="","",INDEX(C$2:C$17,SMALL(IF(B$2:B$17=J13,ROW(B$2:B$17)-1,""),COUNTIF(J$2:J13,J13))))} -> lentilles
... B17: =INDEX(Table1[],MATCH(Feuil1!$C17,Table1[Column2],0),1) -> entrées | C17: terrine de porc | G17: dessert | H17: glace à la vanille | J17: {=IFERROR(INDEX(B$2:B$17,MATCH(SMALL(COUNTIF(B$2:B$17,"<"&B$2:B$17),ROW(A16)),COUNTIF(B$2:B$17,"<"&B$2:B$17),0)),"")} -> viande | K17: {=IF(J17="","",INDEX(C$2:C$17,SMALL(IF(B$2:B$17=J17,ROW(B$2:B$17)-1,""),COUNTIF(J$2:J17,J17))))} -> jambon blanc
J18: {=IFERROR(INDEX(B$2:B$17,MATCH(SMALL(COUNTIF(B$2:B$17,"<"&B$2:B$17),ROW(A17)),COUNTIF(B$2:B$17,"<"&B$2:B$17),0)),"")} | K18: {=IF(J18="","",INDEX(C$2:C$17,SMALL(IF(B$2:B$17=J18,ROW(B$2:B$17)-1,""),COUNTIF(J$2:J18,J18))))}
J19: {=IFERROR(INDEX(B$2:B$17,MATCH(SMALL(COUNTIF(B$2:B$17,"<"&B$2:B$17),ROW(A18)),COUNTIF(B$2:B$17,"<"&B$2:B$17),0)),"")} | K19: {=IF(J19="","",INDEX(C$2:C$17,SMALL(IF(B$2:B$17=J19,ROW(B$2:B$17)-1,""),COUNTIF(J$2:J19,J19))))}
J20: {=IFERROR(INDEX(B$2:B$17,MATCH(SMALL(COUNTIF(B$2:B$17,"<"&B$2:B$17),ROW(A19)),COUNTIF(B$2:B$17,"<"&B$2:B$17),0)),"")} | K20: {=IF(J20="","",INDEX(C$2:C$17,SMALL(IF(B$2:B$17=J20,ROW(B$2:B$17)-1,""),COUNTIF(J$2:J20,J20))))}
J21: {=IFERROR(INDEX(B$2:B$17,MATCH(SMALL(COUNTIF(B$2:B$17,"<"&B$2:B$17),ROW(A20)),COUNTIF(B$2:B$17,"<"&B$2:B$17),0)),"")} | K21: {=IF(J21="","",INDEX(C$2:C$17,SMALL(IF(B$2:B$17=J21,ROW(B$2:B$17)-1,""),COUNTIF(J$2:J21,J21))))}
J22: {=IFERROR(INDEX(B$2:B$17,MATCH(SMALL(COUNTIF(B$2:B$17,"<"&B$2:B$17),ROW(A21)),COUNTIF(B$2:B$17,"<"&B$2:B$17),0)),"")} | K22: {=IF(J22="","",INDEX(C$2:C$17,SMALL(IF(B$2:B$17=J22,ROW(B$2:B$17)-1,""),COUNTIF(J$2:J22,J22))))}
J23: {=IFERROR(INDEX(B$2:B$17,MATCH(SMALL(COUNTIF(B$2:B$17,"<"&B$2:B$17),ROW(A22)),COUNTIF(B$2:B$17,"<"&B$2:B$17),0)),"")} | K23: {=IF(J23="","",INDEX(C$2:C$17,SMALL(IF(B$2:B$17=J23,ROW(B$2:B$17)-1,""),COUNTIF(J$2:J23,J23))))}
