Workbook

Sheet accueil
A1: Référence | B1: Entrée | C1: Sortie | E1: Type d'action | F1: Quantité | G1: Quantité restante | H1: Statut
A2: ZA1 | B2: =IFERROR(IF(AND(E2="Entree",entrepot!A2<>""),entrepot!A2,IF(E2="Sortie","")),"") -> A1 | C2: =IFERROR(IF(E2="sortie",INDEX(B:B,MATCH(A2,A:A,0)),""),"") | D2: =IFERROR(A2,"") -> ZA1 | E2: Entree | G2: =IF(E2="Entree",F2,IF(E2="Sortie",IFERROR(INDEX(entrepot!A2:A19,MATCH(accueil!B2,entrepot!B2:B19,0)),""),"")) -> 0 | H2: =IF(E2="Entree","Occupé","Libre") -> Occupé
A3: ZA2 | B3: =IFERROR(IF(AND(E3="Entree",entrepot!A3<>""),entrepot!A3,IF(E3="Sortie","")),"") -> A2 | C3: =IFERROR(IF(E3="sortie",INDEX(B:B,MATCH(A3,A:A,0)),""),"") | D3: =IFERROR(A3,"") -> ZA2 | E3: Entree | H3: =IF(E3="Entree","Occupé","Libre") -> Occupé | K3: {=IFERROR(INDEX(entrepot!$A$1:$A$19, MIN(IF(entrepot!$A$1:$A$19=entrepot!A2, ROW(entrepot!$A$1:$A$19)-ROW(entrepot!$A$1)+1, ""))), "")} -> A1 | O3: Entree
A4: ZA3 | B4: =IFERROR(IF(AND(E4="Entree",entrepot!A4<>""),entrepot!A4,IF(E4="Sortie","")),"") -> A3 | C4: =IFERROR(IF(E4="sortie",INDEX(B:B,MATCH(A4,A:A,0)),""),"") | D4: =IFERROR(A4,"") -> ZA3 | E4: Entree | G4: =IF(E4="Entree",F4,IF(E4="Sortie",IFERROR(INDEX(entrepot!A4:A20,MATCH(accueil!B4,entrepot!B4:B21,0)),""),"")) -> 0 | H4: =IF(E4="Entree","Occupé","Libre") -> Occupé | O4: Sortie
A5: ZA4 | B5: =IFERROR(IF(AND(E5="Entree",entrepot!A5<>""),entrepot!A5,IF(E5="Sortie","")),"") -> A4 | C5: =IFERROR(IF(E5="sortie",INDEX(B:B,MATCH(A5,A:A,0)),""),"") | D5: =IFERROR(A5,"") -> ZA4 | E5: Entree | G5: =IF(E5="Entree",F5,IF(E5="Sortie",IFERROR(INDEX(entrepot!A5:A22,MATCH(accueil!B5,entrepot!B5:B22,0)),""),"")) -> 0 | H5: =IF(E5="Entree","Occupé","Libre") -> Occupé
A6: ZA5 | B6: =IFERROR(IF(AND(E6="Entree",entrepot!A6<>""),entrepot!A6,IF(E6="Sortie","")),"") -> A5 | C6: =IFERROR(IF(E6="sortie",INDEX(B:B,MATCH(A6,A:A,0)),""),"") | D6: =IFERROR(A6,"") -> ZA5 | E6: Entree | G6: =IF(E6="Entree",F6,IF(E6="Sortie",IFERROR(INDEX(entrepot!A6:A23,MATCH(accueil!B6,entrepot!B6:B23,0)),""),"")) -> 0 | H6: =IF(E6="Entree","Occupé","Libre") -> Occupé
A7: ZA6 | B7: =IFERROR(IF(AND(E7="Entree",entrepot!A7<>""),entrepot!A7,IF(E7="Sortie","")),"") -> A6 | C7: =IFERROR(IF(E7="sortie",INDEX(B:B,MATCH(A7,A:A,0)),""),"") | D7: =IFERROR(A7,"") -> ZA6 | E7: Entree | G7: =IF(E7="Entree",F7,IF(E7="Sortie",IFERROR(INDEX(entrepot!A7:A24,MATCH(accueil!B7,entrepot!B7:B24,0)),""),"")) -> 0 | H7: =IF(E7="Entree","Occupé","Libre") -> Occupé
A8: ZA7 | B8: =IFERROR(IF(AND(E8="Entree",entrepot!A8<>""),entrepot!A8,IF(E8="Sortie","")),"") -> A7 | C8: =IFERROR(IF(E8="sortie",INDEX(B:B,MATCH(A8,A:A,0)),""),"") | D8: =IFERROR(A8,"") -> ZA7 | E8: Entree | G8: =IF(E8="Entree",F8,IF(E8="Sortie",IFERROR(INDEX(entrepot!A8:A25,MATCH(accueil!B8,entrepot!B8:B25,0)),""),"")) -> 0 | H8: =IF(E8="Entree","Occupé","Libre") -> Occupé
A9: ZA8 | B9: =IFERROR(IF(AND(E9="Entree",entrepot!A9<>""),entrepot!A9,IF(E9="Sortie","")),"") -> A8 | C9: =IFERROR(IF(E9="sortie",INDEX(B:B,MATCH(A9,A:A,0)),""),"") | D9: =IFERROR(A9,"") -> ZA8 | E9: Entree | G9: =IF(E9="Entree",F9,IF(E9="Sortie",IFERROR(SUMIFS($H$2:$H$35,$A$2:$A$35,A9,E2:E35,"Entree"),""))) -> 0 | H9: =IF(E9="Entree","Occupé","Libre") -> Occupé
A10: ZA9 | B10: =IFERROR(IF(AND(E10="Entree",entrepot!A10<>""),entrepot!A10,IF(E10="Sortie","")),"") -> A9 | C10: =IFERROR(IF(E10="sortie",INDEX(B:B,MATCH(A10,A:A,0)),""),"") | D10: =IFERROR(A10,"") -> ZA9 | E10: Entree | G10: =IF(E10="Entree",F10,IF(E10="Sortie",IFERROR(INDEX(entrepot!A10:A27,MATCH(accueil!B10,entrepot!B10:B27,0)),""),"")) -> 0 | H10: =IF(E10="Entree","Occupé","Libre") -> Occupé
A11: ZA10 | B11: =IFERROR(IF(AND(E11="Entree",entrepot!A11<>""),entrepot!A11,IF(E11="Sortie","")),"") -> B1 | C11: =IFERROR(IF(E11="sortie",INDEX(B:B,MATCH(A11,A:A,0)),""),"") | D11: =IFERROR(A11,"") -> ZA10 | E11: Entree | G11: =IF(E11="Entree",F11,IF(E11="Sortie",IFERROR(INDEX(entrepot!A11:A28,MATCH(accueil!B11,entrepot!B11:B28,0)),""),"")) -> 0 | H11: =IF(E11="Entree","Occupé","Libre") -> Occupé
A12: ZA11 | B12: =IFERROR(IF(AND(E12="Entree",entrepot!A12<>""),entrepot!A12,IF(E12="Sortie","")),"") -> B2 | C12: =IFERROR(IF(E12="sortie",INDEX(B:B,MATCH(A12,A:A,0)),""),"") | D12: =IFERROR(A12,"") -> ZA11 | E12: Entree | G12: =IF(E12="Entree",F12,IF(E12="Sortie",IFERROR(INDEX(entrepot!A12:A29,MATCH(accueil!B12,entrepot!B12:B29,0)),""),"")) -> 0 | H12: =IF(E12="Entree","Occupé","Libre") -> Occupé
A13: ZA12 | B13: =IFERROR(IF(AND(E13="Entree",entrepot!A13<>""),entrepot!A13,IF(E13="Sortie","")),"") -> B3 | C13: =IFERROR(IF(E13="sortie",INDEX(B:B,MATCH(A13,A:A,0)),""),"") | D13: =IFERROR(A13,"") -> ZA12 | E13: Entree | G13: =IF(E13="Entree",F13,IF(E13="Sortie",IFERROR(INDEX(entrepot!A13:A30,MATCH(accueil!B13,entrepot!B13:B30,0)),""),"")) -> 0 | H13: =IF(E13="Entree","Occupé","Libre") -> Occupé
A14: ZA13 | B14: =IFERROR(IF(AND(E14="Entree",entrepot!A14<>""),entrepot!A14,IF(E14="Sortie","")),"") -> B4 | C14: =IFERROR(IF(E14="sortie",INDEX(B:B,MATCH(A14,A:A,0)),""),"") | D14: =IFERROR(A14,"") -> ZA13 | E14: Entree | G14: =IF(E14="Entree",F14,IF(E14="Sortie",IFERROR(INDEX(entrepot!A14:A31,MATCH(accueil!B14,entrepot!B14:B31,0)),""),"")) -> 0 | H14: =IF(E14="Entree","Occupé","Libre") -> Occupé
A15: ZA14 | B15: =IFERROR(IF(AND(E15="Entree",entrepot!A15<>""),entrepot!A15,IF(E15="Sortie","")),"") -> B5 | C15: =IFERROR(IF(E15="sortie",INDEX(B:B,MATCH(A15,A:A,0)),""),"") | D15: =IFERROR(A15,"") -> ZA14 | E15: Entree | G15: =IF(E15="Entree",F15,IF(E15="Sortie",IFERROR(INDEX(entrepot!A15:A32,MATCH(accueil!B15,entrepot!B15:B32,0)),""),"")) -> 0 | H15: =IF(E15="Entree","Occupé","Libre") -> Occupé
A16: ZA15 | B16: =IFERROR(IF(AND(E16="Entree",entrepot!A16<>""),entrepot!A16,IF(E16="Sortie","")),"") -> B6 | C16: =IFERROR(IF(E16="sortie",INDEX(B:B,MATCH(A16,A:A,0)),""),"") | D16: =IFERROR(A16,"") -> ZA15 | E16: Entree | G16: =IF(E16="Entree",F16,IF(E16="Sortie",IFERROR(INDEX(entrepot!A16:A33,MATCH(accueil!B16,entrepot!B16:B33,0)),""),"")) -> 0 | H16: =IF(E16="Entree","Occupé","Libre") -> Occupé
A17: ZA16 | B17: =IFERROR(IF(AND(E17="Entree",entrepot!A17<>""),entrepot!A17,IF(E17="Sortie","")),"") -> B7 | C17: =IFERROR(IF(E17="sortie",INDEX(B:B,MATCH(A17,A:A,0)),""),"") | D17: =IFERROR(A17,"") -> ZA16 | E17: Entree | G17: =IF(E17="Entree",F17,IF(E17="Sortie",IFERROR(INDEX(entrepot!A17:A34,MATCH(accueil!B17,entrepot!B17:B34,0)),""),"")) -> 0 | H17: =IF(E17="Entree","Occupé","Libre") -> Occupé
A18: AD | B18: =IFERROR(IF(AND(E18="Entree",entrepot!A18<>""),entrepot!A18,IF(E18="Sortie","")),"") -> B8 | C18: =IFERROR(IF(E18="sortie",INDEX(B:B,MATCH(A18,A:A,0)),""),"") | D18: =IFERROR(A18,"") -> AD | E18: Entree | G18: =IF(E18="Entree",F18,IF(E18="Sortie",IFERROR(INDEX(entrepot!A18:A35,MATCH(accueil!B18,entrepot!B18:B35,0)),""),"")) -> 0 | H18: =IF(E18="Entree","Occupé","Libre") -> Occupé
A19: AD | B19: =IFERROR(IF(AND(E19="Entree",entrepot!A19<>""),entrepot!A19,IF(E19="Sortie","")),"") | C19: =IFERROR(IF(E19="sortie",INDEX(B:B,MATCH(A19,A:A,0)),""),"") -> B8 | D19: =IFERROR(A19,"") -> AD | E19: Sortie | G19: =IF(E19="Entree",F19,IF(E19="Sortie",IFERROR(INDEX(entrepot!A19:A36,MATCH(accueil!B19,entrepot!B19:B36,0)),""),"")) | H19: =IF(E19="Entree","Occupé","Libre") -> Libre
A20: JL | B20: =IFERROR(IF(AND(E20="Entree",entrepot!A20<>""),entrepot!A20,IF(E20="Sortie","")),"") -> B8 | C20: =IFERROR(IF(E20="sortie",INDEX(B:B,MATCH(A20,A:A,0)),""),"") | D20: =IFERROR(A20,"") -> JL | E20: Entree | G20: =IF(E20="Entree",F20,IF(E20="Sortie",IFERROR(INDEX(entrepot!A20:A37,MATCH(accueil!B20,entrepot!B20:B37,0)),""),"")) -> 0 | H20: =IF(E20="Entree","Occupé","Libre") -> Occupé
A21: JL1 | B21: =IFERROR(IF(AND(E21="Entree",entrepot!A21<>""),entrepot!A21,IF(E21="Sortie","")),"") -> FALSE | C21: =IFERROR(IF(E21="sortie",INDEX(B:B,MATCH(A21,A:A,0)),""),"") | D21: =IFERROR(A21,"") -> JL1 | E21: Entree | G21: =IF(E21="Entree",F21,IF(E21="Sortie",IFERROR(INDEX(entrepot!A20:A38,MATCH(accueil!B21,entrepot!B21:B38,0)),""),"")) -> 0 | H21: =IF(E21="Entree","Occupé","Libre") -> Occupé
B22: =IFERROR(IF(AND(E22="Entree",entrepot!A22<>""),entrepot!A22,IF(E22="Sortie","")),"") -> FALSE | C22: =IFERROR(IF(E22="sortie",INDEX(B:B,MATCH(A22,A:A,0)),""),"") | D22: =IFERROR(A22,"") -> 0 | G22: =IF(E22="Entree",F22,IF(E22="Sortie",IFERROR(INDEX(entrepot!A22:A39,MATCH(accueil!B22,entrepot!B22:B39,0)),""),"")) | H22: =IF(E22="Entree","Occupé","Libre") -> Libre
B23: =IFERROR(IF(AND(E23="Entree",entrepot!A23<>""),entrepot!A23,IF(E23="Sortie","")),"") -> FALSE | C23: =IFERROR(IF(E23="sortie",INDEX(B:B,MATCH(A23,A:A,0)),""),"") | D23: =IFERROR(A23,"") -> 0 | G23: =IF(E23="Entree",F23,IF(E23="Sortie",IFERROR(INDEX(entrepot!A23:A40,MATCH(accueil!B23,entrepot!B23:B40,0)),""),"")) | H23: =IF(E23="Entree","Occupé","Libre") -> Libre
B24: =IFERROR(IF(AND(E24="Entree",entrepot!A24<>""),entrepot!A24,IF(E24="Sortie","")),"") -> FALSE | C24: =IFERROR(IF(E24="sortie",INDEX(B:B,MATCH(A24,A:A,0)),""),"") | D24: =IFERROR(A24,"") -> 0 | G24: =IF(E24="Entree",F24,IF(E24="Sortie",IFERROR(INDEX(entrepot!A24:A41,MATCH(accueil!B24,entrepot!B24:B41,0)),""),"")) | H24: =IF(E24="Entree","Occupé","Libre") -> Libre
B25: =IFERROR(IF(AND(E25="Entree",entrepot!A25<>""),entrepot!A25,IF(E25="Sortie","")),"") -> FALSE | C25: =IFERROR(IF(E25="sortie",INDEX(B:B,MATCH(A25,A:A,0)),""),"") | D25: =IFERROR(A25,"") -> 0 | G25: =IF(E25="Entree",F25,IF(E25="Sortie",IFERROR(INDEX(entrepot!A25:A42,MATCH(accueil!B25,entrepot!B25:B42,0)),""),"")) | H25: =IF(E25="Entree","Occupé","Libre") -> Libre
B26: =IFERROR(IF(AND(E26="Entree",entrepot!A26<>""),entrepot!A26,IF(E26="Sortie","")),"") -> FALSE | C26: =IFERROR(IF(E26="sortie",INDEX(B:B,MATCH(A26,A:A,0)),""),"") | D26: =IFERROR(A26,"") -> 0 | G26: =IF(E26="Entree",F26,IF(E26="Sortie",IFERROR(INDEX(entrepot!A26:A43,MATCH(accueil!B26,entrepot!B26:B43,0)),""),"")) | H26: =IF(E26="Entree","Occupé","Libre") -> Libre
B27: =IFERROR(IF(AND(E27="Entree",entrepot!A27<>""),entrepot!A27,IF(E27="Sortie","")),"") -> FALSE | C27: =IFERROR(IF(E27="sortie",INDEX(B:B,MATCH(A27,A:A,0)),""),"") | D27: =IFERROR(A27,"") -> 0 | G27: =IF(E27="Entree",F27,IF(E27="Sortie",IFERROR(INDEX(entrepot!A27:A44,MATCH(accueil!B27,entrepot!B27:B44,0)),""),"")) | H27: =IF(E27="Entree","Occupé","Libre") -> Libre
B28: =IFERROR(IF(AND(E28="Entree",entrepot!A28<>""),entrepot!A28,IF(E28="Sortie","")),"") -> FALSE | C28: =IFERROR(IF(E28="sortie",INDEX(B:B,MATCH(A28,A:A,0)),""),"") | D28: =IFERROR(A28,"") -> 0 | G28: =IF(E28="Entree",F28,IF(E28="Sortie",IFERROR(INDEX(entrepot!A28:A45,MATCH(accueil!B28,entrepot!B28:B45,0)),""),"")) | H28: =IF(E28="Entree","Occupé","Libre") -> Libre
B29: =IFERROR(IF(AND(E29="Entree",entrepot!A29<>""),entrepot!A29,IF(E29="Sortie","")),"") -> FALSE | C29: =IFERROR(IF(E29="sortie",INDEX(B:B,MATCH(A29,A:A,0)),""),"") | D29: =IFERROR(A29,"") -> 0 | G29: =IF(E29="Entree",F29,IF(E29="Sortie",IFERROR(INDEX(entrepot!A29:A46,MATCH(accueil!B29,entrepot!B29:B46,0)),""),"")) | H29: =IF(E29="Entree","Occupé","Libre") -> Libre
B30: =IFERROR(IF(AND(E30="Entree",entrepot!A30<>""),entrepot!A30,IF(E30="Sortie","")),"") -> FALSE | C30: =IFERROR(IF(E30="sortie",INDEX(B:B,MATCH(A30,A:A,0)),""),"") | D30: =IFERROR(A30,"") -> 0 | G30: =IF(E30="Entree",F30,IF(E30="Sortie",IFERROR(INDEX(entrepot!A30:A47,MATCH(accueil!B30,entrepot!B30:B47,0)),""),"")) | H30: =IF(E30="Entree","Occupé","Libre") -> Libre
B31: =IFERROR(IF(AND(E31="Entree",entrepot!A31<>""),entrepot!A31,IF(E31="Sortie","")),"") -> FALSE | C31: =IFERROR(IF(E31="sortie",INDEX(B:B,MATCH(A31,A:A,0)),""),"") | D31: =IFERROR(A31,"") -> 0 | G31: =IF(E31="Entree",F31,IF(E31="Sortie",IFERROR(INDEX(entrepot!A31:A48,MATCH(accueil!B31,entrepot!B31:B48,0)),""),"")) | H31: =IF(E31="Entree","Occupé","Libre") -> Libre
B32: =IFERROR(IF(AND(E32="Entree",entrepot!A32<>""),entrepot!A32,IF(E32="Sortie","")),"") -> FALSE | C32: =IFERROR(IF(E32="sortie",INDEX(B:B,MATCH(A32,A:A,0)),""),"") | D32: =IFERROR(A32,"") -> 0 | G32: =IF(E32="Entree",F32,IF(E32="Sortie",IFERROR(INDEX(entrepot!A32:A49,MATCH(accueil!B32,entrepot!B32:B49,0)),""),"")) | H32: =IF(E32="Entree","Occupé","Libre") -> Libre
B33: =IFERROR(IF(AND(E33="Entree",entrepot!A33<>""),entrepot!A33,IF(E33="Sortie","",IF(AND(B32="",accueil!E33="Entree"),entrepot!A50-1))),"") -> FALSE | C33: =IFERROR(IF(E33="sortie",INDEX(B:B,MATCH(A33,A:A,0)),""),"") | D33: =IFERROR(A33,"") -> 0 | G33: =IF(E33="Entree",F33,IF(E33="Sortie",IFERROR(INDEX(entrepot!A33:A50,MATCH(accueil!B33,entrepot!B33:B50,0)),""),"")) | H33: =IF(E33="Entree","Occupé","Libre") -> Libre
B34: =IFERROR(IF(AND(E34="Entree",entrepot!A34<>""),entrepot!A34,IF(E34="Sortie","",IF(AND(B33="",accueil!E34="Entree"),entrepot!A51-1))),"") -> FALSE | C34: =IFERROR(IF(E34="sortie",INDEX(B:B,MATCH(A34,A:A,0)),""),"") | D34: =IFERROR(A34,"") -> 0 | G34: =IF(E34="Entree",F34,IF(E34="Sortie",IFERROR(INDEX(entrepot!A34:A51,MATCH(accueil!B34,entrepot!B34:B51,0)),""),"")) | H34: =IF(E34="Entree","Occupé","Libre") -> Libre
B35: =IFERROR(IF(AND(E35="Entree",entrepot!A35<>""),entrepot!A35,IF(E35="Sortie","",IF(AND(B34="",accueil!E35="Entree"),entrepot!A52-1))),"") -> FALSE | C35: =IFERROR(IF(E35="sortie",INDEX(B:B,MATCH(A35,A:A,0)),""),"") | D35: =IFERROR(A35,"") -> 0 | G35: =IF(E35="Entree",F35,IF(E35="Sortie",IFERROR(INDEX(entrepot!A35:A52,MATCH(accueil!B35,entrepot!B35:B52,0)),""),"")) | H35: =IF(E35="Entree","Occupé","Libre") -> Libre
C36: =IFERROR(IF(E36="sortie",INDEX(B:B,MATCH(A36,A:A,0)),""),"") | D36: =IFERROR(A36,"") -> 0 | G36: =IF(E36="Entree",F36,IF(E36="Sortie",IFERROR(INDEX(entrepot!A36:A53,MATCH(accueil!B36,entrepot!B36:B53,0)),""),""))
C37: =IFERROR(IF(E37="sortie",INDEX(B:B,MATCH(A37,A:A,0)),""),"") | D37: =IFERROR(A37,"") -> 0 | G37: =IF(E37="Entree",F37,IF(E37="Sortie",IFERROR(INDEX(entrepot!A37:A54,MATCH(accueil!B37,entrepot!B37:B54,0)),""),""))
C38: =IFERROR(IF(E38="sortie",INDEX(B:B,MATCH(A38,A:A,0)),""),"") | D38: =IFERROR(A38,"") -> 0 | G38: =IF(E38="Entree",F38,IF(E38="Sortie",IFERROR(INDEX(entrepot!A38:A55,MATCH(accueil!B38,entrepot!B38:B55,0)),""),"")) | H38: =-F38 -> 0
C39: =IFERROR(IF(E39="sortie",INDEX(B:B,MATCH(A39,A:A,0)),""),"") | D39: =IFERROR(A39,"") -> 0 | G39: =IF(E39="Entree",F39,IF(E39="Sortie",IFERROR(INDEX(entrepot!A39:A56,MATCH(accueil!B39,entrepot!B39:B56,0)),""),"")) | H39: =-F39 -> 0
C40: =IFERROR(IF(E40="sortie",INDEX(B:B,MATCH(A40,A:A,0)),""),"") | D40: =IFERROR(A40,"") -> 0 | G40: =IF(E40="Entree",F40,IF(E40="Sortie",IFERROR(INDEX(entrepot!A40:A57,MATCH(accueil!B40,entrepot!B40:B57,0)),""),"")) | H40: =-F40 -> 0
C41: =IFERROR(IF(E41="sortie",INDEX(B:B,MATCH(A41,A:A,0)),""),"") | D41: =IFERROR(A41,"") -> 0 | G41: =IF(E41="Entree",F41,IF(E41="Sortie",IFERROR(INDEX(entrepot!A41:A58,MATCH(accueil!B41,entrepot!B41:B58,0)),""),"")) | H41: =-F41 -> 0
C42: =IFERROR(IF(E42="sortie",INDEX(B:B,MATCH(A42,A:A,0)),""),"") | D42: =IFERROR(A42,"") -> 0 | G42: =IF(E42="Entree",F42,IF(E42="Sortie",IFERROR(INDEX(entrepot!A42:A59,MATCH(accueil!B42,entrepot!B42:B59,0)),""),"")) | H42: =-F42 -> 0
C43: =IFERROR(IF(E43="sortie",INDEX(B:B,MATCH(A43,A:A,0)),""),"") | D43: =IFERROR(A43,"") -> 0 | G43: =IF(E43="Entree",F43,IF(E43="Sortie",IFERROR(INDEX(entrepot!A43:A60,MATCH(accueil!B43,entrepot!B43:B60,0)),""),"")) | H43: =-F43 -> 0
C44: =IFERROR(IF(E44="sortie",INDEX(B:B,MATCH(A44,A:A,0)),""),"") | D44: =IFERROR(A44,"") -> 0 | G44: =IF(E44="Entree",F44,IF(E44="Sortie",IFERROR(INDEX(entrepot!A44:A61,MATCH(accueil!B44,entrepot!B44:B61,0)),""),"")) | H44: =-F44 -> 0
C45: =IFERROR(IF(E45="sortie",INDEX(B:B,MATCH(A45,A:A,0)),""),"") | D45: =IFERROR(A45,"") -> 0 | G45: =IF(E45="Entree",F45,IF(E45="Sortie",IFERROR(INDEX(entrepot!A45:A62,MATCH(accueil!B45,entrepot!B45:B62,0)),""),"")) | H45: =-F45 -> 0
C46: =IFERROR(IF(E46="sortie",INDEX(B:B,MATCH(A46,A:A,0)),""),"") | D46: =IFERROR(A46,"") -> 0 | G46: =IF(E46="Entree",F46,IF(E46="Sortie",IFERROR(INDEX(entrepot!A46:A63,MATCH(accueil!B46,entrepot!B46:B63,0)),""),"")) | H46: =-F46 -> 0
C47: =IFERROR(IF(E47="sortie",INDEX(B:B,MATCH(A47,A:A,0)),""),"") | D47: =IFERROR(A47,"") -> 0 | G47: =IF(E47="Entree",F47,IF(E47="Sortie",IFERROR(INDEX(entrepot!A47:A64,MATCH(accueil!B47,entrepot!B47:B64,0)),""),"")) | H47: =-F47 -> 0
C48: =IFERROR(IF(E48="sortie",INDEX(B:B,MATCH(A48,A:A,0)),""),"") | D48: =IFERROR(A48,"") -> 0 | G48: =IF(E48="Entree",F48,IF(E48="Sortie",IFERROR(INDEX(entrepot!A48:A65,MATCH(accueil!B48,entrepot!B48:B65,0)),""),"")) | H48: =-F48 -> 0
C49: =IFERROR(IF(E49="sortie",INDEX(B:B,MATCH(A49,A:A,0)),""),"") | D49: =IFERROR(A49,"") -> 0 | G49: =IF(E49="Entree",F49,IF(E49="Sortie",IFERROR(INDEX(entrepot!A49:A66,MATCH(accueil!B49,entrepot!B49:B66,0)),""),"")) | H49: =-F49 -> 0
... C123: =IFERROR(IF(E123="sortie",INDEX(B:B,MATCH(A123,A:A,0)),""),"") | D123: =IFERROR(A123,"") -> 0 | G123: =IF(E123="Entree",F123,IF(E123="Sortie",IFERROR(INDEX(entrepot!A123:A140,MATCH(accueil!B123,entrepot!B123:B140,0)),""),"")) | H123: =-F123 -> 0

Sheet entrepot
A1: Liste des emplacements | B1: Emplacement attribué automatiquement | C1: Statut emplacement | D1: Référence stockée dans l'emplacement | E1: Quantité initiale | F1: Quantité utilisée | G1: Quantité actuelle
A2: A1 | C2: =accueil!H2 -> Occupé | D2: =IFERROR(VLOOKUP(A2,accueil!B2:H21,3,0),"") -> ZA1 | F2: =IFERROR(IF(accueil!E2="Entree",accueil!F2,IF(accueil!E2="Sortie",accueil!F2,"")),"") -> 0
A3: A2 | C3: =accueil!H3 -> Occupé | D3: =IFERROR(VLOOKUP(A3,accueil!B3:H22,3,0),"") -> ZA2 | F3: =IFERROR(IF(accueil!E3="Entree",accueil!F3,IF(accueil!E3="Sortie",accueil!F3,"")),"") -> 0
A4: A3 | C4: =accueil!H4 -> Occupé | D4: =IFERROR(VLOOKUP(A4,accueil!B4:H23,3,0),"") -> ZA3 | F4: =IFERROR(IF(accueil!E4="Entree",accueil!F4,IF(accueil!E4="Sortie",accueil!F4,"")),"") -> 0
A5: A4 | C5: =accueil!H5 -> Occupé | D5: =IFERROR(VLOOKUP(A5,accueil!B5:H24,3,0),"") -> ZA4 | F5: =IFERROR(IF(accueil!E5="Entree",accueil!F5,IF(accueil!E5="Sortie",accueil!F5,"")),"") -> 0
A6: A5 | C6: =accueil!H6 -> Occupé | D6: =IFERROR(VLOOKUP(A6,accueil!B6:H25,3,0),"") -> ZA5 | F6: =IFERROR(IF(accueil!E6="Entree",accueil!F6,IF(accueil!E6="Sortie",accueil!F6,"")),"") -> 0
A7: A6 | C7: =accueil!H7 -> Occupé | D7: =IFERROR(VLOOKUP(A7,accueil!B7:H26,3,0),"") -> ZA6 | F7: =IFERROR(IF(accueil!E7="Entree",accueil!F7,IF(accueil!E7="Sortie",accueil!F7,"")),"") -> 0
A8: A7 | C8: =accueil!H8 -> Occupé | D8: =IFERROR(VLOOKUP(A8,accueil!B8:H27,3,0),"") -> ZA7 | F8: =IFERROR(IF(accueil!E8="Entree",accueil!F8,IF(accueil!E8="Sortie",accueil!F8,"")),"") -> 0
A9: A8 | C9: =accueil!H9 -> Occupé | D9: =IFERROR(VLOOKUP(A9,accueil!B9:H28,3,0),"") -> ZA8 | F9: =IFERROR(IF(accueil!E9="Entree",accueil!F9,IF(accueil!E9="Sortie",accueil!F9,"")),"") -> 0
A10: A9 | C10: =accueil!H10 -> Occupé | D10: =IFERROR(VLOOKUP(A10,accueil!B10:H29,3,0),"") -> ZA9 | F10: =IFERROR(IF(accueil!E10="Entree",accueil!F10,IF(accueil!E10="Sortie",accueil!F10,"")),"") -> 0
A11: B1 | C11: =accueil!H11 -> Occupé | D11: =IFERROR(VLOOKUP(A11,accueil!B11:H30,3,0),"") -> ZA10 | F11: =IFERROR(IF(accueil!E11="Entree",accueil!F11,IF(accueil!E11="Sortie",accueil!F11,"")),"") -> 0
A12: B2 | C12: =accueil!H12 -> Occupé | D12: =IFERROR(VLOOKUP(A12,accueil!B12:H31,3,0),"") -> ZA11 | F12: =IFERROR(IF(accueil!E12="Entree",accueil!F12,IF(accueil!E12="Sortie",accueil!F12,"")),"") -> 0
A13: B3 | C13: =accueil!H13 -> Occupé | D13: =IFERROR(VLOOKUP(A13,accueil!B13:H32,3,0),"") -> ZA12 | F13: =IFERROR(IF(accueil!E13="Entree",accueil!F13,IF(accueil!E13="Sortie",accueil!F13,"")),"") -> 0
... A19: B9 | C19: =accueil!H19 -> Libre | D19: =IFERROR(VLOOKUP(A19,accueil!B19:H38,3,0),"") | F19: =IFERROR(IF(accueil!E19="Entree",accueil!F19,IF(accueil!E19="Sortie",accueil!F19,"")),"") -> 0
A20: {=IFERROR(INDEX(accueil!$C:$C,SMALL(IF(accueil!$C:$C<>"",ROW(accueil!$C:$C)-ROW(INDEX(accueil!$C:$C,1))+1),ROWS(accueil!$C$2:C3))),"")} -> B8 | B20: {=IFERROR(INDEX(accueil!$C:$C,SMALL(IF(accueil!$C:$C<>"",ROW(accueil!$C:$C)-ROW(INDEX(accueil!$C:$C,1))+1),ROWS(accueil!$C$2:D3))),"")} -> B8 | C20: =accueil!H20 -> Occupé | D20: =IFERROR(VLOOKUP(A20,accueil!B20:H39,3,0),"") -> JL | F20: =IFERROR(IF(accueil!E20="Entree",accueil!F20,IF(accueil!E20="Sortie",accueil!F20,"")),"") -> 0
A21: {=IFERROR(INDEX(accueil!$C:$C,SMALL(IF(accueil!$C:$C<>"",ROW(accueil!$C:$C)-ROW(INDEX(accueil!$C:$C,1))+1),ROWS(accueil!$C$2:C4))),"")} | D21: =IFERROR(VLOOKUP(A21,accueil!B21:H40,3,0),"") | F21: =IFERROR(IF(accueil!E21="Entree",accueil!F21,IF(accueil!E21="Sortie",accueil!F21,"")),"") -> 0
A22: {=IFERROR(INDEX(accueil!$C:$C,SMALL(IF(accueil!$C:$C<>"",ROW(accueil!$C:$C)-ROW(INDEX(accueil!$C:$C,1))+1),ROWS(accueil!$C$2:C5))),"")} | D22: =IFERROR(VLOOKUP(A22,accueil!B22:H41,3,0),"") | F22: =IFERROR(IF(accueil!E22="Entree",accueil!F22,IF(accueil!E22="Sortie",accueil!F22,"")),"")
A23: {=IFERROR(INDEX(accueil!$C:$C,SMALL(IF(accueil!$C:$C<>"",ROW(accueil!$C:$C)-ROW(INDEX(accueil!$C:$C,1))+1),ROWS(accueil!$C$2:C6))),"")} | D23: =IFERROR(VLOOKUP(A23,accueil!B23:H42,3,0),"")
A24: {=IFERROR(INDEX(accueil!$C:$C,SMALL(IF(accueil!$C:$C<>"",ROW(accueil!$C:$C)-ROW(INDEX(accueil!$C:$C,1))+1),ROWS(accueil!$C$2:C7))),"")} | D24: =IFERROR(VLOOKUP(A24,accueil!B24:H43,3,0),"")
A25: {=IFERROR(INDEX(accueil!$C:$C,SMALL(IF(accueil!$C:$C<>"",ROW(accueil!$C:$C)-ROW(INDEX(accueil!$C:$C,1))+1),ROWS(accueil!$C$2:C8))),"")} | D25: =IFERROR(VLOOKUP(A25,accueil!B25:H44,3,0),"")
A26: {=IFERROR(INDEX(accueil!$C:$C,SMALL(IF(accueil!$C:$C<>"",ROW(accueil!$C:$C)-ROW(INDEX(accueil!$C:$C,1))+1),ROWS(accueil!$C$2:C9))),"")} | D26: =IFERROR(VLOOKUP(A26,accueil!B26:H45,3,0),"")
A27: {=IFERROR(INDEX(accueil!$C:$C,SMALL(IF(accueil!$C:$C<>"",ROW(accueil!$C:$C)-ROW(INDEX(accueil!$C:$C,1))+1),ROWS(accueil!$C$2:C10))),"")} | D27: =IFERROR(VLOOKUP(A27,accueil!B27:H46,3,0),"")
A28: {=IFERROR(INDEX(accueil!$C:$C,SMALL(IF(accueil!$C:$C<>"",ROW(accueil!$C:$C)-ROW(INDEX(accueil!$C:$C,1))+1),ROWS(accueil!$C$2:C11))),"")} | D28: =IFERROR(VLOOKUP(A28,accueil!B28:H47,3,0),"")
A29: {=IFERROR(INDEX(accueil!$C:$C,SMALL(IF(accueil!$C:$C<>"",ROW(accueil!$C:$C)-ROW(INDEX(accueil!$C:$C,1))+1),ROWS(accueil!$C$2:C12))),"")} | D29: =IFERROR(VLOOKUP(A29,accueil!B29:H48,3,0),"")
A30: {=IFERROR(INDEX(accueil!$C:$C,SMALL(IF(accueil!$C:$C<>"",ROW(accueil!$C:$C)-ROW(INDEX(accueil!$C:$C,1))+1),ROWS(accueil!$C$2:C13))),"")} | D30: =IFERROR(VLOOKUP(A30,accueil!B30:H49,3,0),"")
A31: {=IFERROR(INDEX(accueil!$C:$C,SMALL(IF(accueil!$C:$C<>"",ROW(accueil!$C:$C)-ROW(INDEX(accueil!$C:$C,1))+1),ROWS(accueil!$C$2:C14))),"")} | D31: =IFERROR(VLOOKUP(A31,accueil!B31:H50,3,0),"")
A32: {=IFERROR(INDEX(accueil!$C:$C,SMALL(IF(accueil!$C:$C<>"",ROW(accueil!$C:$C)-ROW(INDEX(accueil!$C:$C,1))+1),ROWS(accueil!$C$2:C15))),"")} | D32: =IFERROR(VLOOKUP(A32,accueil!B32:H51,3,0),"")
A33: {=IFERROR(INDEX(accueil!$C:$C,SMALL(IF(accueil!$C:$C<>"",ROW(accueil!$C:$C)-ROW(INDEX(accueil!$C:$C,1))+1),ROWS(accueil!$C$2:C16))),"")} | D33: =IFERROR(VLOOKUP(A33,accueil!B33:H52,3,0),"")
A34: {=IFERROR(INDEX(accueil!$C:$C,SMALL(IF(accueil!$C:$C<>"",ROW(accueil!$C:$C)-ROW(INDEX(accueil!$C:$C,1))+1),ROWS(accueil!$C$2:C17))),"")} | D34: =IFERROR(VLOOKUP(A34,accueil!B34:H53,3,0),"")
... A79: {=IFERROR(INDEX(accueil!$C:$C,SMALL(IF(accueil!$C:$C<>"",ROW(accueil!$C:$C)-ROW(INDEX(accueil!$C:$C,1))+1),ROWS(accueil!$C$2:C62))),"")} | D79: =IFERROR(VLOOKUP(A79,accueil!B79:H98,3,0),"")
D80: =IFERROR(VLOOKUP(A80,accueil!B80:H99,3,0),"")
D81: =IFERROR(VLOOKUP(A81,accueil!B81:H100,3,0),"")
D82: =IFERROR(VLOOKUP(A82,accueil!B82:H101,3,0),"")
D83: =IFERROR(VLOOKUP(A83,accueil!B83:H102,3,0),"")
D84: =IFERROR(VLOOKUP(A84,accueil!B84:H103,3,0),"")
D85: =IFERROR(VLOOKUP(A85,accueil!B85:H104,3,0),"")
D86: =IFERROR(VLOOKUP(A86,accueil!B86:H105,3,0),"")
D87: =IFERROR(VLOOKUP(A87,accueil!B87:H106,3,0),"")
D88: =IFERROR(VLOOKUP(A88,accueil!B88:H107,3,0),"")
D89: =IFERROR(VLOOKUP(A89,accueil!B89:H108,3,0),"")
D90: =IFERROR(VLOOKUP(A90,accueil!B90:H109,3,0),"")
D91: =IFERROR(VLOOKUP(A91,accueil!B91:H110,3,0),"")
... D423: =IFERROR(VLOOKUP(A423,accueil!B423:H442,3,0),"")

Sheet Feuil3
A1: Liste des emplacements | B1: Emplacement attribué automatiquement | C1: Référence stockée dans l'emplacement | D1: Quantité initiale | E1: Quantité utilisée | F1: Quantité actuelle
A2: A1 | B2: =IFERROR(IF(C3<>"",IFERROR(INDEX(accueil!$B$2:$B$31,MATCH(C3,accueil!$A$2:$A$35,0)),""),""),"") | E2: =IFERROR(IF(C3="Entrée", D2+E2, IF(C3="Sortie", D2, "")), "") | F2: =D2-SUMIF(accueil!$B$2:$B$35,entrepot!A2,accueil!$G$2:$G$35) -> 0
A3: A2 | B3: =IFERROR(IF(#REF!<>"",IFERROR(INDEX(accueil!$B$2:$B$31,MATCH(#REF!,accueil!$A$2:$A$35,0)),""),""),"") | E3: =IFERROR(IF(#REF!="Entrée", D3+E3, IF(#REF!="Sortie", D3, "")), "")
A4: A3 | B4: =IFERROR(IF(C4<>"",IFERROR(INDEX(accueil!$B$2:$B$31,MATCH(C4,accueil!$A$2:$A$35,0)),""),""),"") | E4: =IFERROR(IF(C4="Entrée", D4+E4, IF(C4="Sortie", D4, "")), "")
A5: A4 | B5: =IFERROR(IF(C5<>"",IFERROR(INDEX(accueil!$B$2:$B$31,MATCH(C5,accueil!$A$2:$A$35,0)),""),""),"") | E5: =IFERROR(IF(C5="Entrée", D5+E5, IF(C5="Sortie", D5, "")), "")
A6: A5 | B6: =IFERROR(IF(C6<>"",IFERROR(INDEX(accueil!$B$2:$B$31,MATCH(C6,accueil!$A$2:$A$35,0)),""),""),"") | E6: =IFERROR(IF(C6="Entrée", D6+E6, IF(C6="Sortie", D6, "")), "")
A7: A6 | B7: =IFERROR(IF(C7<>"",IFERROR(INDEX(accueil!$B$2:$B$31,MATCH(C7,accueil!$A$2:$A$35,0)),""),""),"") | E7: =IFERROR(IF(C7="Entrée", D7+E7, IF(C7="Sortie", D7, "")), "")
A8: A7 | B8: =IFERROR(IF(C8<>"",IFERROR(INDEX(accueil!$B$2:$B$31,MATCH(C8,accueil!$A$2:$A$35,0)),""),""),"") | E8: =IFERROR(IF(C8="Entrée", D8+E8, IF(C8="Sortie", D8, "")), "")
A9: A8 | B9: =IFERROR(IF(C9<>"",IFERROR(INDEX(accueil!$B$2:$B$31,MATCH(C9,accueil!$A$2:$A$35,0)),""),""),"") | E9: =IFERROR(IF(C9="Entrée", D9+E9, IF(C9="Sortie", D9, "")), "")
A10: A9 | B10: =IFERROR(IF(C10<>"",IFERROR(INDEX(accueil!$B$2:$B$31,MATCH(C10,accueil!$A$2:$A$35,0)),""),""),"") | E10: =IFERROR(IF(C10="Entrée", D10+E10, IF(C10="Sortie", D10, "")), "")
A11: B1 | B11: =IFERROR(IF(C11<>"",IFERROR(INDEX(accueil!$B$2:$B$31,MATCH(C11,accueil!$A$2:$A$35,0)),""),""),"") | E11: =IFERROR(IF(C11="Entrée", D11+E11, IF(C11="Sortie", D11, "")), "")
A12: B2 | B12: =IFERROR(IF(C12<>"",IFERROR(INDEX(accueil!$B$2:$B$31,MATCH(C12,accueil!$A$2:$A$35,0)),""),""),"") | E12: =IFERROR(IF(C12="Entrée", D12+E12, IF(C12="Sortie", D12, "")), "")
A13: B3 | B13: =IFERROR(IF(C13<>"",IFERROR(INDEX(accueil!$B$2:$B$31,MATCH(C13,accueil!$A$2:$A$35,0)),""),""),"") | E13: =IFERROR(IF(C13="Entrée", D13+E13, IF(C13="Sortie", D13, "")), "")
A14: B4 | B14: =IFERROR(IF(C14<>"",IFERROR(INDEX(accueil!$B$2:$B$31,MATCH(C14,accueil!$A$2:$A$35,0)),""),""),"") | E14: =IFERROR(IF(C14="Entrée", D14+E14, IF(C14="Sortie", D14, "")), "")
A15: B5 | B15: =IFERROR(IF(C15<>"",IFERROR(INDEX(accueil!$B$2:$B$31,MATCH(C15,accueil!$A$2:$A$35,0)),""),""),"") | E15: =IFERROR(IF(C15="Entrée", D15+E15, IF(C15="Sortie", D15, "")), "")
... A19: B9 | B19: =IFERROR(IF(C19<>"",IFERROR(INDEX(accueil!$B$2:$B$31,MATCH(C19,accueil!$A$2:$A$35,0)),""),""),"") | E19: =IFERROR(IF(C19="Entrée", D19+E19, IF(C19="Sortie", D19, "")), "")
