Workbook

Sheet R2G
D1: Total Distance | E1: Accélération radicale | F1: Freinage abrupt | G1: Virage agressif | H1: Vitesse | I1: Idling | J1: Idling % to Plan
A2: D08134 | B2: 41918 | C2: =B2&A2 -> 41918D08134 | D2: 221.04077 | E2: 0 | F2: 0 | G2: 0 | H2: 0.0042939815 | I2: 0.0023726852 | J2: 0.42708333 | K2: =VLOOKUP(C2,Hr!A5:H33,8,FALSE) -> Guy Brousseau
A3: D08134 | B3: 41919 | C3: =B3&A3 -> 41919D08134 | D3: 73.917328 | E3: 0 | F3: 0 | G3: 0 | H3: 0.0023958333 | I3: 0.0039814815 | J3: 0.71666667 | K3: =VLOOKUP(C3,Hr!A6:H34,8,FALSE) -> #N/A
A4: D08134 | B4: 41920 | C4: =B4&A4 -> 41920D08134 | D4: 227.82095 | E4: 0 | F4: 0 | G4: 0 | H4: 0.0054976852 | I4: 0.012650463 | J4: 2.2770833 | K4: =VLOOKUP(C4,Hr!A7:H35,8,FALSE) -> #N/A
A5: D08134 | B5: 41921 | C5: =B5&A5 -> 41921D08134 | D5: 160.54489 | E5: 0 | F5: 0 | G5: 0 | H5: 0.00046296296 | I5: 0.0044907407 | J5: 0.80833333 | K5: =VLOOKUP(C5,Hr!A8:H36,8,FALSE) -> #N/A
A6: D08134 | B6: 41923 | C6: =B6&A6 -> 41923D08134 | D6: 139.6485 | E6: 0 | F6: 0 | G6: 0 | H6: 0.0016550926 | I6: 0.005625 | J6: 1.0125 | K6: =VLOOKUP(C6,Hr!A9:H37,8,FALSE) -> #N/A
A7: D08135 | B7: 41918 | C7: =B7&A7 -> 41918D08135 | D7: 120.15961 | E7: 1 | F7: 0 | G7: 0 | H7: 0.00094907407 | I7: 0.0049305556 | J7: 0.8875 | K7: =VLOOKUP(C7,Hr!A10:H38,8,FALSE) -> Jocelyn Ares
A8: D08135 | B8: 41919 | C8: =B8&A8 -> 41919D08135 | D8: 1.542918 | E8: 0 | F8: 0 | G8: 0 | H8: 0 | I8: 0.0041087963 | J8: 0.73958333 | K8: =VLOOKUP(C8,Hr!A11:H39,8,FALSE) -> #N/A
A9: D08135 | B9: 41920 | C9: =B9&A9 -> 41920D08135 | D9: 149.85606 | E9: 2 | F9: 0 | G9: 0 | H9: 0.0010532407 | I9: 0.0037268519 | J9: 0.67083333 | K9: =VLOOKUP(C9,Hr!A12:H40,8,FALSE) -> #N/A
A10: D08135 | B10: 41921 | C10: =B10&A10 -> 41921D08135 | D10: 184.78934 | E10: 0 | F10: 0 | G10: 1 | H10: 0.0019675926 | I10: 0.0029861111 | J10: 0.5375 | K10: =VLOOKUP(C10,Hr!A13:H41,8,FALSE) -> #N/A
A11: D08135 | B11: 41922 | C11: =B11&A11 -> 41922D08135 | D11: 189.26419 | E11: 0 | F11: 0 | G11: 0 | H11: 0.00053240741 | I11: 0.0033449074 | J11: 0.60208333 | K11: =VLOOKUP(C11,Hr!A14:H42,8,FALSE) -> #N/A
A12: D08135 | B12: 41923 | C12: =B12&A12 -> 41923D08135 | D12: 118.56292 | E12: 0 | F12: 0 | G12: 0 | H12: 0.0022453704 | I12: 0.0041435185 | J12: 0.74583333 | K12: =VLOOKUP(C12,Hr!A15:H43,8,FALSE) -> #N/A
A13: D08130 | B13: 41918 | C13: =B13&A13 -> 41918D08130 | D13: 204.10095 | E13: 1 | F13: 3 | G13: 1 | H13: 0.0061458333 | I13: 0.0018171296 | J13: 0.32708333 | K13: =VLOOKUP(C13,Hr!A16:H44,8,FALSE) -> Serge Proulx
... A35: D08133 | B35: 41923 | C35: =B35&A35 -> 41923D08133 | D35: 89.070663 | E35: 1 | F35: 0 | G35: 0 | H35: 0.0026388889 | I35: 0.0038888889 | J35: 0.7 | K35: =VLOOKUP(C35,Hr!A38:H66,8,FALSE) -> #N/A
A36: Grand Total | D36: 5123.6923 | E36: 24 | F36: 11 | G36: 6 | H36: 0.075555556 | I36: 0.36935185 | J36: 1.9553922

Sheet Hr
I3: 41918 | J3: 41919 | K3: 41920 | L3: 41921 | M3: 41922 | N3: 41923
A4: LUNDI | B4: MARDI | C4: MERCREDI | D4: JEUDI | E4: VENDREDI | F4: SAMEDI | I4: LUNDI | J4: MARDI | K4: MERCREDI | L4: JEUDI | M4: VENDREDI | N4: SAMEDI | O4: Total
A5: =$I$3&I5 -> 41918 | B5: =J$3&J5 -> 41919R05177 | C5: =K$3&K5 -> 41920R07129 | D5: =L$3&L5 -> 41921R12074 | E5: =M$3&M5 -> 41922R12074/R5180 | F5: =N$3&N5 -> 41923 | G5: 1 | H5: Pierre Décosse | J5: R05177 | K5: R07129 | L5: R12074 | M5: R12074/R5180 | O5: =COUNTIF(I5:N5,"X")+COUNTIF(I5:N5,"5ieme")+COUNTIF(I5:N5,"BO") -> 0
A6: =$I$3&I6 -> 41918 | B6: =J$3&J6 -> 41919r05180 | C6: =K$3&K6 -> 41920R05177 | D6: =L$3&L6 -> 41921R10070 | E6: =M$3&M6 -> 41922R10070 | F6: =N$3&N6 -> 41923 | G6: 2 | H6: Marcel Auger | J6: r05180 | K6: R05177 | L6: R10070 | M6: R10070 | O6: =COUNTIF(I6:N6,"X")+COUNTIF(I6:N6,"5ieme")+COUNTIF(I6:N6,"BO") -> 0
A7: =$I$3&I7 -> 41918 | B7: =J$3&J7 -> 41919R05181 | C7: =K$3&K7 -> 41920R12117 | D7: =L$3&L7 -> 41921R12117 | E7: =M$3&M7 -> 41922R12117 | F7: =N$3&N7 -> 41923 | G7: 3 | H7: André Mireault | J7: R05181 | K7: R12117 | L7: R12117 | M7: R12117 | O7: =COUNTIF(I7:N7,"X")+COUNTIF(I7:N7,"5ieme")+COUNTIF(I7:N7,"BO") -> 0
A8: =$I$3&I8 -> 41918 | B8: =J$3&J8 -> 41919M | C8: =K$3&K8 -> 41920R10071 | D8: =L$3&L8 -> 41921M | E8: =M$3&M8 -> 41922R10071 | F8: =N$3&N8 -> 41923 | G8: 4 | H8: Alain Chagnon | J8: M | K8: R10071 | L8: M | M8: R10071 | O8: =COUNTIF(I8:N8,"X")+COUNTIF(I8:N8,"5ieme")+COUNTIF(I8:N8,"BO") -> 0
A9: =$I$3&I9 -> 41918 | B9: =J$3&J9 -> 41919R5177 | C9: =K$3&K9 -> 41920 | D9: =L$3&L9 -> 41921R05191 | E9: =M$3&M9 -> 41922R5177 | F9: =N$3&N9 -> 41923R5177 | G9: 6 | H9: Jacques-André Mercier | J9: R5177 | L9: R05191 | M9: R5177 | N9: R5177 | O9: =COUNTIF(I9:N9,"X")+COUNTIF(I9:N9,"5ieme")+COUNTIF(I9:N9,"BO") -> 0
A10: =$I$3&I10 -> 41918 | B10: =J$3&J10 -> 41919R12117 | C10: =K$3&K10 -> 41920R07129 | D10: =L$3&L10 -> 41921R7151 | E10: =M$3&M10 -> 41922R7151/R8136 | F10: =N$3&N10 -> 41923 | G10: 5 | H10: Harold Pouliot | J10: R12117 | K10: R07129 | L10: R7151 | M10: R7151/R8136 | O10: =COUNTIF(I10:N10,"X")+COUNTIF(I10:N10,"5ieme")+COUNTIF(I10:N10,"BO") -> 0
A11: =$I$3&I11 -> 41918 | B11: =J$3&J11 -> 41919R5185 | C11: =K$3&K11 -> 41920R5185 | D11: =L$3&L11 -> 41921R5185 | E11: =M$3&M11 -> 41922 | F11: =N$3&N11 -> 41923R5185 | G11: 8 | H11: Michel Gouger | J11: R5185 | K11: R5185 | L11: R5185 | N11: R5185 | O11: =COUNTIF(I11:N11,"X")+COUNTIF(I11:N11,"5ieme")+COUNTIF(I11:N11,"BO") -> 0
A12: =$I$3&I12 -> 41918 | B12: =J$3&J12 -> 41919R07129 | C12: =K$3&K12 -> 41920R1874 | D12: =L$3&L12 -> 41921R12077 | E12: =M$3&M12 -> 41922 | F12: =N$3&N12 -> 41923R12077 | G12: 7 | H12: Aurèle Dion | J12: R07129 | K12: R1874 | L12: R12077 | N12: R12077 | O12: =COUNTIF(I12:N12,"X")+COUNTIF(I12:N12,"5ieme")+COUNTIF(I12:N12,"BO") -> 0
A13: =$I$3&I13 -> 41918 | B13: =J$3&J13 -> 41919R05184 | C13: =K$3&K13 -> 41920R05184 | D13: =L$3&L13 -> 41921R5184 | E13: =M$3&M13 -> 41922 | F13: =N$3&N13 -> 41923R5184 | G13: 9 | H13: Daniel Caouette | J13: R05184 | K13: R05184 | L13: R5184 | N13: R5184 | O13: =COUNTIF(I13:N13,"X")+COUNTIF(I13:N13,"5ieme")+COUNTIF(I13:N13,"BO") -> 0
A14: =$I$3&I14 -> 41918 | B14: =J$3&J14 -> 41919R5183 | C14: =K$3&K14 -> 41920R5183 | D14: =L$3&L14 -> 41921 | E14: =M$3&M14 -> 41922R5183 | F14: =N$3&N14 -> 41923R5183 | G14: 10 | H14: Pierre Demers | J14: R5183 | K14: R5183 | M14: R5183 | N14: R5183 | O14: =COUNTIF(I14:N14,"X")+COUNTIF(I14:N14,"5ieme")+COUNTIF(I14:N14,"BO") -> 0
A15: =$I$3&I15 -> 41918 | B15: =J$3&J15 -> 41919R7129 | C15: =K$3&K15 -> 41920R7129 | D15: =L$3&L15 -> 41921 | E15: =M$3&M15 -> 41922R5181 | F15: =N$3&N15 -> 41923R5181 | G15: 11 | H15: Sébastien Bragdon | J15: R7129 | K15: R7129 | M15: R5181 | N15: R5181 | O15: =COUNTIF(I15:N15,"X")+COUNTIF(I15:N15,"5ieme")+COUNTIF(I15:N15,"BO") -> 0
A16: =$I$3&I16 -> 41918 | B16: =J$3&J16 -> 41919R07128 | C16: =K$3&K16 -> 41920R5184 | D16: =L$3&L16 -> 41921R5182 | E16: =M$3&M16 -> 41922R5182 | F16: =N$3&N16 -> 41923 | G16: 12 | H16: Mario Bélair | J16: R07128 | K16: R5184 | L16: R5182 | M16: R5182 | O16: =COUNTIF(I16:N16,"X")+COUNTIF(I16:N16,"5ieme")+COUNTIF(I16:N16,"BO") -> 0
A17: =$I$3&I17 -> 41918 | B17: =J$3&J17 -> 41919R7128 | C17: =K$3&K17 -> 41920M | D17: =L$3&L17 -> 41921R7128 | E17: =M$3&M17 -> 41922R7128 | F17: =N$3&N17 -> 41923R7128 | G17: 13 | H17: Jean-René Viau | J17: R7128 | K17: M | L17: R7128 | M17: R7128 | N17: R7128 | O17: =COUNTIF(I17:N17,"X")+COUNTIF(I17:N17,"5ieme")+COUNTIF(I17:N17,"BO") -> 0
A18: =$I$3&I18 -> 41918 | B18: =J$3&J18 -> 41919R10071 | C18: =K$3&K18 -> 41920 | D18: =L$3&L18 -> 41921R10071 | E18: =M$3&M18 -> 41922R5184 | F18: =N$3&N18 -> 41923R5180 | G18: 14 | H18: Daniel Desormeaux | J18: R10071 | L18: R10071 | M18: R5184 | N18: R5180 | O18: =COUNTIF(I18:N18,"X")+COUNTIF(I18:N18,"5ieme")+COUNTIF(I18:N18,"BO") -> 0
A19: =$I$3&I19 -> 41918 | B19: =J$3&J19 -> 41919M | C19: =K$3&K19 -> 41920M | D19: =L$3&L19 -> 41921M | E19: =M$3&M19 -> 41922M | F19: =N$3&N19 -> 41923M | G19: 15 | H19: Stéphane Juteau | J19: M | K19: M | L19: M | M19: M | N19: M | O19: =COUNTIF(I19:N19,"X")+COUNTIF(I19:N19,"5ieme")+COUNTIF(I19:N19,"BO") -> 0
A20: =$I$3&I20 -> 41918 | B20: =J$3&J20 -> 41919R5180 | C20: =K$3&K20 -> 41920 | D20: =L$3&L20 -> 41921 | E20: =M$3&M20 -> 41922R12077 | F20: =N$3&N20 -> 41923R10071 | G20: 16 | H20: Pierre Baril | J20: R5180 | M20: R12077 | N20: R10071 | O20: =COUNTIF(I20:N20,"X")+COUNTIF(I20:N20,"5ieme")+COUNTIF(I20:N20,"BO") -> 0
A21: =$I$3&I21 -> 41918 | B21: =J$3&J21 -> 41919 | C21: =K$3&K21 -> 41920 | D21: =L$3&L21 -> 41921 | E21: =M$3&M21 -> 41922 | F21: =N$3&N21 -> 41923 | G21: 18 | H21: Rémy Lauzon | O21: =COUNTIF(I21:N21,"X")+COUNTIF(I21:N21,"5ieme")+COUNTIF(I21:N21,"BO") -> 0
A22: =$I$3&I22 -> 41918 | B22: =J$3&J22 -> 41919 | C22: =K$3&K22 -> 41920 | D22: =L$3&L22 -> 41921R8137 | E22: =M$3&M22 -> 41922 | F22: =N$3&N22 -> 41923R7128 | G22: 19 | H22: Alain Bourdage | L22: R8137 | N22: R7128 | O22: =COUNTIF(I22:N22,"X")+COUNTIF(I22:N22,"5ieme")+COUNTIF(I22:N22,"BO") -> 0
A23: =$I$3&I23 -> 41918R12117 | B23: =J$3&J23 -> 41919 | C23: =K$3&K23 -> 41920 | D23: =L$3&L23 -> 41921R8134 | E23: =M$3&M23 -> 41922R8134 | F23: =N$3&N23 -> 41923 | G23: 20 | H23: Claude Moreau | I23: R12117 | L23: R8134 | M23: R8134 | O23: =COUNTIF(I23:N23,"X")+COUNTIF(I23:N23,"5ieme")+COUNTIF(I23:N23,"BO") -> 0
J24: =COUNTIF(J5:J23,"X") -> 0 | K24: =COUNTIF(K5:K23,"X") -> 0 | L24: =COUNTIF(L5:L23,"X") -> 0 | M24: =COUNTIF(M5:M23,"X") -> 0 | N24: =COUNTIF(N5:N23,"X") -> 0
A25: =$I$3&I25 -> 41918D08135 | B25: =J$3&J25 -> 41919 | C25: =K$3&K25 -> 41920D08135 | D25: =L$3&L25 -> 41921D08135 | E25: =M$3&M25 -> 41922D08135 | F25: =N$3&N25 -> 41923 | G25: 1 | H25: Jocelyn Ares | I25: D08135 | K25: D08135 | L25: D08135 | M25: D08135 | O25: =COUNTIF(I25:N25,"BO")+COUNTIF(I25:N25,"5ieme")+COUNTIF(I25:N25,"X") -> 0
A26: =$I$3&I26 -> 41918D08131 | B26: =J$3&J26 -> 41919D08131 | C26: =K$3&K26 -> 41920D08131 | D26: =L$3&L26 -> 41921D08131 | E26: =M$3&M26 -> 41922 | F26: =N$3&N26 -> 41923 | G26: 2 | H26: Michel Venne | I26: D08131 | J26: D08131 | K26: D08131 | L26: D08131 | O26: =COUNTIF(I26:N26,"BO")+COUNTIF(I26:N26,"5ieme")+COUNTIF(I26:N26,"X") -> 0
A27: =$I$3&I27 -> 41918 | B27: =J$3&J27 -> 41919 | C27: =K$3&K27 -> 41920 | D27: =L$3&L27 -> 41921 | E27: =M$3&M27 -> 41922 | F27: =N$3&N27 -> 41923 | G27: 3 | H27: Dany Parent | O27: =COUNTIF(I27:N27,"BO")+COUNTIF(I27:N27,"5ieme")+COUNTIF(I27:N27,"X") -> 0
A28: =$I$3&I28 -> 41918D08130 | B28: =J$3&J28 -> 41919 | C28: =K$3&K28 -> 41920D08132 | D28: =L$3&L28 -> 41921D08132 | E28: =M$3&M28 -> 41922D08132 | F28: =N$3&N28 -> 41923D08132 | G28: 4 | H28: Serge Proulx | I28: D08130 | K28: D08132 | L28: D08132 | M28: D08132 | N28: D08132 | O28: =COUNTIF(I28:N28,"BO")+COUNTIF(I28:N28,"5ieme")+COUNTIF(I28:N28,"X") -> 0
A29: =$I$3&I29 -> 41918 | B29: =J$3&J29 -> 41919D08133 | C29: =K$3&K29 -> 41920D08133 | D29: =L$3&L29 -> 41921 | E29: =M$3&M29 -> 41922D08133 | F29: =N$3&N29 -> 41923D08133 | G29: 5 | H29: Pierre Thimineur | J29: D08133 | K29: D08133 | M29: D08133 | N29: D08133 | O29: =COUNTIF(I29:N29,"BO")+COUNTIF(I29:N29,"5ieme")+COUNTIF(I29:N29,"X") -> 0
A30: =$I$3&I30 -> 41918D08134 | B30: =J$3&J30 -> 41919D08134 | C30: =K$3&K30 -> 41920D08134 | D30: =L$3&L30 -> 41921 | E30: =M$3&M30 -> 41922 | F30: =N$3&N30 -> 41923D08134 | G30: 6 | H30: Guy Brousseau | I30: D08134 | J30: D08134 | K30: D08134 | N30: D08134 | O30: =COUNTIF(I30:N30,"BO")+COUNTIF(I30:N30,"5ieme")+COUNTIF(I30:N30,"X") -> 0
A31: =$I$3&I31 -> 41918M | B31: =J$3&J31 -> 41919M | C31: =K$3&K31 -> 41920M | D31: =L$3&L31 -> 41921M | E31: =M$3&M31 -> 41922M | F31: =N$3&N31 -> 41923M | G31: 7 | H31: Pierre Tremblay | I31: M | J31: M | K31: M | L31: M | M31: M | N31: M | O31: =COUNTIF(I31:N31,"BO")+COUNTIF(I31:N31,"5ieme")+COUNTIF(I31:N31,"X") -> 0
A32: =$I$3&I32 -> 41918V | B32: =J$3&J32 -> 41919V | C32: =K$3&K32 -> 41920V | D32: =L$3&L32 -> 41921V | E32: =M$3&M32 -> 41922V | F32: =N$3&N32 -> 41923V | G32: 8 | H32: Normand Bourque | I32: V | J32: V | K32: V | L32: V | M32: V | N32: V | O32: =COUNTIF(I32:N32,"BO")+COUNTIF(I32:N32,"5ieme")+COUNTIF(I32:N32,"X") -> 0
A33: =$I$3&I33 -> 41918 | B33: =J$3&J33 -> 41919 | C33: =K$3&K33 -> 41920 | D33: =L$3&L33 -> 41921 | E33: =M$3&M33 -> 41922 | F33: =N$3&N33 -> 41923
