Workbook
Name Decap_12: Ouvrages!$A$7:$K$11
Name MO: Ouvrages!$E$11
Name Pelle_2T5: Ouvrages!#REF!

Sheet Devis
A1: Aménagemen du jardin
A3: N° | B3: DESIGNATION | C3: Fournitures | D3: Unité | E3: Quantité | F3: QTE.Rendement | G3: Rendement | H3: PRIX Unit | I3: Marge% | J3: Montant hors marge | K3: Prix unitaire | L3: MONTANT
A5: 1 | B5: P1
B7: Fond de forme piéton : Mise en place d'un fond de forme composé d'un géotextile puis d'une grave 0/31.5mm sur 20cm d'épaisseur (piéton uniquement). Réglage des altimétries, nivelage et compactage. | C7: OU | D7: m² | E7: 100 | H7: =L7/E7 -> 28.439 | L7: =SUM(L8:L13) -> 2843.9
B8: ='Base MAJ'!$B$6 -> Pelle 2T5 | C8: ='Base MAJ'!$C$6 -> Fournisseurs | D8: ='Base MAJ'!$D$6 -> h | E8: =E7*F8/G8 -> 16 | F8: 16 | G8: 100 | H8: ='Base MAJ'!$H$6 -> 35 | I8: ='Base MAJ'!$I$6 -> 0.1 | J8: =H8*E8 -> 560 | K8: =H8*(1+I8) -> 38.5 | L8: =K8*E8 -> 616
B9: ='Base MAJ'!$B$20 -> grave concassé reçyclé 0/31.5 mixte | C9: ='Base MAJ'!$C$20 -> Fournisseurs | D9: ='Base MAJ'!$D$20 -> T | E9: =E7*F9/G9 -> 33 | F9: 33 | G9: 100 | H9: ='Base MAJ'!$H$20 -> 12.3 | I9: ='Base MAJ'!$I$20 -> 0.1 | J9: =H9*E9 -> 405.9 | K9: =H9*(1+I9) -> 13.53 | L9: =H9*E9 -> 405.9
B10: ='Base MAJ'!$B$7 -> plaque | C10: ='Base MAJ'!$C$7 -> Fournisseurs | D10: J | E10: =E7*F10/G10 -> 1 | F10: 1 | G10: 100 | H10: 30 | I10: ='Base MAJ'!$I$7 -> 0.1 | J10: =H10*E10 -> 30 | K10: =H10*(1+I10) -> 33 | L10: =H10*E10 -> 30
B11: ='Base MAJ'!$B$8 -> Camion PL - Sous-traitance | C11: ='Base MAJ'!$C$8 -> Fournisseurs | D11: ='Base MAJ'!$D$8 -> J | E11: =E7*F11/G11 -> 1 | F11: 1 | G11: 100 | H11: ='Base MAJ'!$H$8 -> 660 | I11: ='Base MAJ'!$I$8 -> 0.1 | J11: =H11*E11 -> 660 | K11: =H11*(1+I11) -> 726 | L11: =K11*E11 -> 726
B12: ='Base MAJ'!$B$24 -> géotextile 130g/m² | C12: ='Base MAJ'!$C$24 -> Fournisseurs | D12: ='Base MAJ'!$D$24 -> m² | E12: =E7*F12/G12 -> 110 | F12: 110 | G12: 100 | H12: ='Base MAJ'!$H$24 -> 0.6 | I12: ='Base MAJ'!$I$24 -> 0.1 | J12: =H12*E12 -> 66 | K12: =H12*(1+I12) -> 0.66 | L12: =H12*E12 -> 66
B13: ='Base MAJ'!$B$16 -> MO | C13: ='Base MAJ'!$C$16 -> MO | D13: ='Base MAJ'!$D$16 -> h | E13: =E7*F13/G13 -> 32 | F13: 32 | G13: 100 | H13: ='Base MAJ'!$H$16 -> 31.25 | I13: ='Base MAJ'!$I$16 -> 0 | J13: =H13*E13 -> 1000 | K13: =H13*(1+I13) -> 31.25 | L13: =K13*E13 -> 1000
B15: Fond de forme piéton : Mise en place d'un fond de forme composé d'un géotextile puis d'une grave 0/31.5mm sur 20cm d'épaisseur (piéton uniquement). Réglage des altimétries, nivelage et compactage. | C15: OU | D15: m² | E15: 100 | H15: =L15/E15 -> 28.439 | L15: =SUM(L16:L21) -> 2843.9
B16: ='Base MAJ'!$B$6 -> Pelle 2T5 | C16: ='Base MAJ'!$C$6 -> Fournisseurs | D16: ='Base MAJ'!$D$6 -> h | E16: =E15*F16/G16 -> 16 | F16: 16 | G16: 100 | H16: ='Base MAJ'!$H$6 -> 35 | I16: ='Base MAJ'!$I$6 -> 0.1 | J16: =H16*E16 -> 560 | K16: =H16*(1+I16) -> 38.5 | L16: =K16*E16 -> 616
B17: ='Base MAJ'!$B$20 -> grave concassé reçyclé 0/31.5 mixte | C17: ='Base MAJ'!$C$20 -> Fournisseurs | D17: ='Base MAJ'!$D$20 -> T | E17: =E15*F17/G17 -> 33 | F17: 33 | G17: 100 | H17: ='Base MAJ'!$H$20 -> 12.3 | I17: ='Base MAJ'!$I$20 -> 0.1 | J17: =H17*E17 -> 405.9 | K17: =H17*(1+I17) -> 13.53 | L17: =H17*E17 -> 405.9
B18: ='Base MAJ'!$B$7 -> plaque | C18: ='Base MAJ'!$C$7 -> Fournisseurs | D18: J | E18: =E15*F18/G18 -> 1 | F18: 1 | G18: 100 | H18: 30 | I18: ='Base MAJ'!$I$7 -> 0.1 | J18: =H18*E18 -> 30 | K18: =H18*(1+I18) -> 33 | L18: =H18*E18 -> 30
B19: ='Base MAJ'!$B$8 -> Camion PL - Sous-traitance | C19: ='Base MAJ'!$C$8 -> Fournisseurs | D19: ='Base MAJ'!$D$8 -> J | E19: =E15*F19/G19 -> 1 | F19: 1 | G19: 100 | H19: ='Base MAJ'!$H$8 -> 660 | I19: ='Base MAJ'!$I$8 -> 0.1 | J19: =H19*E19 -> 660 | K19: =H19*(1+I19) -> 726 | L19: =K19*E19 -> 726
B20: ='Base MAJ'!$B$24 -> géotextile 130g/m² | C20: ='Base MAJ'!$C$24 -> Fournisseurs | D20: ='Base MAJ'!$D$24 -> m² | E20: =E15*F20/G20 -> 110 | F20: 110 | G20: 100 | H20: ='Base MAJ'!$H$24 -> 0.6 | I20: ='Base MAJ'!$I$24 -> 0.1 | J20: =H20*E20 -> 66 | K20: =H20*(1+I20) -> 0.66 | L20: =H20*E20 -> 66
B21: ='Base MAJ'!$B$16 -> MO | C21: ='Base MAJ'!$C$16 -> MO | D21: ='Base MAJ'!$D$16 -> h | E21: =E15*F21/G21 -> 32 | F21: 32 | G21: 100 | H21: ='Base MAJ'!$H$16 -> 31.25 | I21: ='Base MAJ'!$I$16 -> 0 | J21: =H21*E21 -> 1000 | K21: =H21*(1+I21) -> 31.25 | L21: =K21*E21 -> 1000
B22: SOUS-TOTAL | L22: =L7+L15 -> 5687.8
A24: 2 | B24: P2
B26: SOUS-TOTAL
B27: SOUS-TOTAL | L27: =L22 -> 5687.8

Sheet Rentabilité de chantier
A1: Rentabilité de chantier
A2: Designation
A3: Sous Total : | B3: =Devis!L27 -> 5687.8
A4: Coût de revient : | B4: =SUMIFS(Devis!J:J,Devis!C:C,"Fournisseurs") -> 3443.8
A5: Marge nette Fournitures : | B5: =SUMIFS(Devis!L:L,Devis!C:C,"Fournisseurs")-B4 -> 244
A6: Total marge Heures: | B6: =SUMIFS(Devis!L:L,Devis!C:C,"MO") -> 2000
A8: Marge en % : | B8: =(B6+B5)/B3 -> 0.39452864
A10: Main d'œuvres | B10: Heures | C10: Nombre en jours à 2
A11: Total d'heures : | B11: =SUMIFS(Devis!E:E,Devis!C:C,"MO") -> 64 | C11: =B11/16 -> 4
A12: Total d'heures PL :

Sheet Ouvrages
A1: Aménagemen du jardin
A2: N° | B2: DESIGNATION | C2: Fournitures | D2: Unité | E2: Quantité | F2: QTE.Rendement | G2: Rendement | H2: PRIX HT | I2: Marge% | J2: Prix unitaire | K2: MONTANT
A4: 2 | B4: Base de donnée - OUVRAGES
A5: 1 | B5: Travaux préparatoires
A6: 1.1
B7: Décapage : Décapage des terres sur 12cm d'épaisseur et évacuation des déblais. Sous réserve de présence de béton et/ou de réseaux. | C7: OU | D7: m² | E7: 100 | H7: =K7/E7 -> 13.8658 | K7: =SUM(K8:K11) -> 1386.58
B8: ='Base MAJ'!$B$6 -> Pelle 2T5 | C8: ='Base MAJ'!$C$6 -> Fournisseurs | D8: ='Base MAJ'!$D$6 -> h | E8: =$E$7*F8/G8 -> 8 | F8: 8 | G8: 100 | H8: ='Base MAJ'!$H$6 -> 35 | I8: ='Base MAJ'!$I$6 -> 0.1 | J8: =H8*(1+I8) -> 38.5 | K8: =J8*E8 -> 308
B9: ='Base MAJ'!$B$12 -> Deblais Terre cailloux | C9: ='Base MAJ'!$C$12 -> Fournisseurs | D9: ='Base MAJ'!$D$12 -> T | E9: =$E$7*F9/G9 -> 20 | F9: 20 | G9: 100 | H9: ='Base MAJ'!$H$12 -> 10 | I9: ='Base MAJ'!$I$12 -> 0.1 | J9: =H9*(1+I9) -> 11 | K9: =J9*E9 -> 220
B10: ='Base MAJ'!$B$8 -> Camion PL - Sous-traitance | C10: ='Base MAJ'!$C$8 -> Fournisseurs | D10: ='Base MAJ'!$D$8 -> J | E10: =$E$7*F10/G10 -> 0.58 | F10: 0.58 | G10: 100 | H10: ='Base MAJ'!$H$8 -> 660 | I10: ='Base MAJ'!$I$8 -> 0.1 | J10: =H10*(1+I10) -> 726 | K10: =J10*E10 -> 421.08
B11: ='Base MAJ'!$B$16 -> MO | C11: ='Base MAJ'!$C$16 -> MO | D11: ='Base MAJ'!$D$16 -> h | E11: =$E$7*F11/G11 -> 14 | F11: 14 | G11: 100 | H11: ='Base MAJ'!$H$16 -> 31.25 | I11: ='Base MAJ'!$I$16 -> 0 | J11: =H11*(1+I11) -> 31.25 | K11: =J11*E11 -> 437.5
B13: Décapage : Décapage des terres sur 15cm d'épaisseur et évacuation des déblais. Sous réserve de présence de béton et/ou de réseaux. | C13: OU | D13: m² | E13: 100 | H13: =K13/E13 -> 15.0958 | K13: =SUM(K14:K17) -> 1509.58
B14: ='Base MAJ'!$B$6 -> Pelle 2T5 | C14: ='Base MAJ'!$C$6 -> Fournisseurs | D14: ='Base MAJ'!$D$6 -> h | E14: =E13*F14/G14 -> 8 | F14: 8 | G14: 100 | H14: ='Base MAJ'!$H$6 -> 35 | I14: ='Base MAJ'!$I$6 -> 0.1 | J14: =H14*(1+I14) -> 38.5 | K14: =J14*E14 -> 308
B15: ='Base MAJ'!$B$12 -> Deblais Terre cailloux | C15: ='Base MAJ'!$C$12 -> Fournisseurs | D15: ='Base MAJ'!$D$12 -> T | E15: =E13*F15/G15 -> 25.5 | F15: 25.5 | G15: 100 | H15: ='Base MAJ'!$H$12 -> 10 | I15: ='Base MAJ'!$I$12 -> 0.1 | J15: =H15*(1+I15) -> 11 | K15: =J15*E15 -> 280.5
B16: ='Base MAJ'!$B$8 -> Camion PL - Sous-traitance | C16: ='Base MAJ'!$C$8 -> Fournisseurs | D16: ='Base MAJ'!$D$8 -> J | E16: =E13*F16/G16 -> 0.58 | F16: 0.58 | G16: 100 | H16: ='Base MAJ'!$H$8 -> 660 | I16: ='Base MAJ'!$I$8 -> 0.1 | J16: =H16*(1+I16) -> 726 | K16: =J16*E16 -> 421.08
B17: ='Base MAJ'!$B$16 -> MO | C17: ='Base MAJ'!$C$16 -> MO | D17: ='Base MAJ'!$D$16 -> h | E17: =E13*F17/G17 -> 16 | F17: 16 | G17: 100 | H17: ='Base MAJ'!$H$16 -> 31.25 | I17: ='Base MAJ'!$I$16 -> 0 | J17: =H17*(1+I17) -> 31.25 | K17: =J17*E17 -> 500
B19: Décapage : Décapage des terres sur 20cm d'épaisseur et évacuation des déblais. Sous réserve de présence de béton et/ou de réseaux. | C19: OU | D19: m² | E19: 100 | H19: =K19/E19 -> 17.2808 | K19: =SUM(K20:K23) -> 1728.08
B20: ='Base MAJ'!$B$6 -> Pelle 2T5 | C20: ='Base MAJ'!$C$6 -> Fournisseurs | D20: ='Base MAJ'!$D$6 -> h | E20: =E19*F20/G20 -> 8 | F20: 8 | G20: 100 | H20: ='Base MAJ'!$H$6 -> 35 | I20: ='Base MAJ'!$I$6 -> 0.1 | J20: =H20*(1+I20) -> 38.5 | K20: =J20*E20 -> 308
B21: ='Base MAJ'!$B$12 -> Deblais Terre cailloux | C21: ='Base MAJ'!$C$12 -> Fournisseurs | D21: ='Base MAJ'!$D$12 -> T | E21: =E19*F21/G21 -> 34 | F21: 34 | G21: 100 | H21: ='Base MAJ'!$H$12 -> 10 | I21: ='Base MAJ'!$I$12 -> 0.1 | J21: =H21*(1+I21) -> 11 | K21: =J21*E21 -> 374
B22: ='Base MAJ'!$B$8 -> Camion PL - Sous-traitance | C22: ='Base MAJ'!$C$8 -> Fournisseurs | D22: ='Base MAJ'!$D$8 -> J | E22: =E19*F22/G22 -> 0.58 | F22: 0.58 | G22: 100 | H22: ='Base MAJ'!$H$8 -> 660 | I22: ='Base MAJ'!$I$8 -> 0.1 | J22: =H22*(1+I22) -> 726 | K22: =J22*E22 -> 421.08
B23: ='Base MAJ'!$B$16 -> MO | C23: ='Base MAJ'!$C$16 -> MO | D23: ='Base MAJ'!$D$16 -> h | E23: =E19*F23/G23 -> 20 | F23: 20 | G23: 100 | H23: ='Base MAJ'!$H$16 -> 31.25 | I23: ='Base MAJ'!$I$16 -> 0 | J23: =H23*(1+I23) -> 31.25 | K23: =J23*E23 -> 625
B25: Décapage : Décapage des terres sur 20cm d'épaisseur et évacuation des déblais. Sous réserve de présence de béton et/ou de réseaux. | C25: OU | D25: m² | E25: 100 | H25: =K25/E25 -> 18.8408 | K25: =SUM(K26:K29) -> 1884.08
B26: ='Base MAJ'!$B$6 -> Pelle 2T5 | C26: ='Base MAJ'!$C$6 -> Fournisseurs | D26: ='Base MAJ'!$D$6 -> h | E26: =E25*F26/G26 -> 8 | F26: 8 | G26: 100 | H26: ='Base MAJ'!$H$6 -> 35 | I26: ='Base MAJ'!$I$6 -> 0.1 | J26: =H26*(1+I26) -> 38.5 | K26: =J26*E26 -> 308
B27: ='Base MAJ'!$B$12 -> Deblais Terre cailloux | C27: ='Base MAJ'!$C$12 -> Fournisseurs | D27: ='Base MAJ'!$D$12 -> T | E27: =E25*F27/G27 -> 42.5 | F27: 42.5 | G27: 100 | H27: ='Base MAJ'!$H$12 -> 10 | I27: ='Base MAJ'!$I$12 -> 0.1 | J27: =H27*(1+I27) -> 11 | K27: =J27*E27 -> 467.5
B28: ='Base MAJ'!$B$8 -> Camion PL - Sous-traitance | C28: ='Base MAJ'!$C$8 -> Fournisseurs | D28: ='Base MAJ'!$D$8 -> J | E28: =E25*F28/G28 -> 0.58 | F28: 0.58 | G28: 100 | H28: ='Base MAJ'!$H$8 -> 660 | I28: ='Base MAJ'!$I$8 -> 0.1 | J28: =H28*(1+I28) -> 726 | K28: =J28*E28 -> 421.08
B29: ='Base MAJ'!$B$16 -> MO | C29: ='Base MAJ'!$C$16 -> MO | D29: ='Base MAJ'!$D$16 -> h | E29: =E25*F29/G29 -> 22 | F29: 22 | G29: 100 | H29: ='Base MAJ'!$H$16 -> 31.25 | I29: ='Base MAJ'!$I$16 -> 0 | J29: =H29*(1+I29) -> 31.25 | K29: =J29*E29 -> 687.5
B31: Décapage : Décapage des terres sur 30cm d'épaisseur et évacuation des déblais. Sous réserve de présence de béton et/ou de réseaux. | C31: OU | D31: m² | E31: 100 | H31: =K31/E31 -> 20.4008 | K31: =SUM(K32:K35) -> 2040.08
B32: ='Base MAJ'!$B$6 -> Pelle 2T5 | C32: ='Base MAJ'!$C$6 -> Fournisseurs | D32: ='Base MAJ'!$D$6 -> h | E32: =E31*F32/G32 -> 8 | F32: 8 | G32: 100 | H32: ='Base MAJ'!$H$6 -> 35 | I32: ='Base MAJ'!$I$6 -> 0.1 | J32: =H32*(1+I32) -> 38.5 | K32: =J32*E32 -> 308
B33: ='Base MAJ'!$B$12 -> Deblais Terre cailloux | C33: ='Base MAJ'!$C$12 -> Fournisseurs | D33: ='Base MAJ'!$D$12 -> T | E33: =E31*F33/G33 -> 51 | F33: 51 | G33: 100 | H33: ='Base MAJ'!$H$12 -> 10 | I33: ='Base MAJ'!$I$12 -> 0.1 | J33: =H33*(1+I33) -> 11 | K33: =J33*E33 -> 561
B34: ='Base MAJ'!$B$8 -> Camion PL - Sous-traitance | C34: ='Base MAJ'!$C$8 -> Fournisseurs | D34: ='Base MAJ'!$D$8 -> J | E34: =E31*F34/G34 -> 0.58 | F34: 0.58 | G34: 100 | H34: ='Base MAJ'!$H$8 -> 660 | I34: ='Base MAJ'!$I$8 -> 0.1 | J34: =H34*(1+I34) -> 726 | K34: =J34*E34 -> 421.08
B35: ='Base MAJ'!$B$16 -> MO | C35: ='Base MAJ'!$C$16 -> MO | D35: ='Base MAJ'!$D$16 -> h | E35: =E31*F35/G35 -> 24 | F35: 24 | G35: 100 | H35: ='Base MAJ'!$H$16 -> 31.25 | I35: ='Base MAJ'!$I$16 -> 0 | J35: =H35*(1+I35) -> 31.25 | K35: =J35*E35 -> 750
A37: 2 | B37: Voirie
A38: 2.1 | B38: Revêtement
B40: Fond de forme piéton : Mise en place d'un fond de forme composé d'un géotextile puis d'une grave 0/31.5mm sur 15cm d'épaisseur (piéton uniquement). Réglage des altimétries, nivelage et compactage. | C40: OU | D40: m² | E40: 100 | H40: =K40/E40 -> 19.5958 | K40: =SUM(K41:K46) -> 1959.58
B41: ='Base MAJ'!$B$6 -> Pelle 2T5 | C41: ='Base MAJ'!$C$6 -> Fournisseurs | D41: ='Base MAJ'!$D$6 -> h | E41: =E40*F41/G41 -> 10 | F41: 10 | G41: 100 | H41: ='Base MAJ'!$H$6 -> 35 | I41: ='Base MAJ'!$I$6 -> 0.1 | J41: =H41*(1+I41) -> 38.5 | K41: =J41*E41 -> 385
B42: ='Base MAJ'!$B$20 -> grave concassé reçyclé 0/31.5 mixte | C42: ='Base MAJ'!$C$20 -> Fournisseurs | D42: ='Base MAJ'!$D$20 -> T | E42: =E40*F42/G42 -> 25 | F42: 25 | G42: 100 | H42: ='Base MAJ'!$H$20 -> 12.3 | I42: ='Base MAJ'!$I$20 -> 0.1 | J42: =H42*(1+I42) -> 13.53 | K42: =H42*E42 -> 307.5
B43: ='Base MAJ'!$B$7 -> plaque | C43: ='Base MAJ'!$C$7 -> Fournisseurs | D43: J | E43: =E40*F43/G43 -> 1 | F43: 1 | G43: 100 | H43: 30 | I43: ='Base MAJ'!$I$7 -> 0.1 | J43: =H43*(1+I43) -> 33 | K43: =H43*E43 -> 30
B44: ='Base MAJ'!$B$8 -> Camion PL - Sous-traitance | C44: ='Base MAJ'!$C$8 -> Fournisseurs | D44: ='Base MAJ'!$D$8 -> J | E44: =E40*F44/G44 -> 0.58 | F44: 0.58 | G44: 100 | H44: ='Base MAJ'!$H$8 -> 660 | I44: ='Base MAJ'!$I$8 -> 0.1 | J44: =H44*(1+I44) -> 726 | K44: =J44*E44 -> 421.08
B45: ='Base MAJ'!$B$24 -> géotextile 130g/m² | C45: ='Base MAJ'!$C$24 -> Fournisseurs | D45: ='Base MAJ'!$D$24 -> m² | E45: =E40*F45/G45 -> 110 | F45: 110 | G45: 100 | H45: ='Base MAJ'!$H$24 -> 0.6 | I45: ='Base MAJ'!$I$24 -> 0.1 | J45: =H45*(1+I45) -> 0.66 | K45: =H45*E45 -> 66
B46: ='Base MAJ'!$B$16 -> MO | C46: ='Base MAJ'!$C$16 -> MO | D46: ='Base MAJ'!$D$16 -> h | E46: =E40*F46/G46 -> 24 | F46: 24 | G46: 100 | H46: ='Base MAJ'!$H$16 -> 31.25 | I46: ='Base MAJ'!$I$16 -> 0 | J46: =H46*(1+I46) -> 31.25 | K46: =J46*E46 -> 750
B48: Fond de forme piéton : Mise en place d'un fond de forme composé d'un géotextile puis d'une grave 0/31.5mm sur 20cm d'épaisseur (piéton uniquement). Réglage des altimétries, nivelage et compactage. | C48: OU | D48: m² | E48: 100 | H48: =K48/E48 -> 28.439 | K48: =SUM(K49:K54) -> 2843.9
...

Sheet Articles
A1: N° | B1: DESIGNATION | C1: Fournisseurs | D1: Unité | E1: Quantité | F1: QTE.Rendement | G1: Rendement | H1: PRIX HT | I1: Marge% | J1: Prix unitaire | K1: MONTANT
B6: ='Base MAJ'!$B$6 -> Pelle 2T5 | C6: ='Base MAJ'!$C$6 -> Fournisseurs | D6: ='Base MAJ'!$D$6 -> h | E6: =B5*F6/G6 -> 0 | F6: 1 | G6: 1 | H6: ='Base MAJ'!$H$6 -> 35 | I6: ='Base MAJ'!$I$6 -> 0.1 | J6: =H6*(1+I6) -> 38.5 | K6: =J6*E6 -> 0
B7: ='Base MAJ'!$B$7 -> plaque | C7: ='Base MAJ'!$C$7 -> Fournisseurs | D7: ='Base MAJ'!$D$7 -> J | E7: =E5*F7/G7 -> 0 | F7: 1 | G7: 1 | H7: ='Base MAJ'!$H$7 -> 30 | I7: ='Base MAJ'!$I$7 -> 0.1 | J7: =H7*(1+I7) -> 33 | K7: =H7*E7 -> 0
B8: ='Base MAJ'!$B$8 -> Camion PL - Sous-traitance | C8: ='Base MAJ'!$C$8 -> Fournisseurs | D8: ='Base MAJ'!$D$8 -> J | E8: =E5*F8/G8 -> 0 | F8: 1 | G8: 1 | H8: ='Base MAJ'!$H$8 -> 660 | I8: ='Base MAJ'!$I$8 -> 0.1 | J8: =H8*(1+I8) -> 726 | K8: =J8*E8 -> 0
B12: ='Base MAJ'!$B$12 -> Deblais Terre cailloux | C12: ='Base MAJ'!$C$12 -> Fournisseurs | D12: ='Base MAJ'!$D$12 -> T | E12: =$E$7*F12/G12 -> 0 | F12: 19 | G12: 100 | H12: ='Base MAJ'!$H$12 -> 10 | I12: ='Base MAJ'!$I$12 -> 0.1 | J12: =H12*(1+I12) -> 11 | K12: =J12*E12 -> 0
B16: ='Base MAJ'!$B$16 -> MO | C16: ='Base MAJ'!$C$16 -> MO | D16: ='Base MAJ'!$D$16 -> h | E16: =$E$7*F16/G16 -> 0 | F16: 12 | G16: 100 | H16: ='Base MAJ'!$H$16 -> 31.25 | I16: ='Base MAJ'!$I$16 -> 0 | J16: =H16*(1+I16) -> 31.25 | K16: =J16*E16 -> 0
B19: ='Base MAJ'!$B$19 -> grave concassé reçyclé 0/20 mixte | C19: ='Base MAJ'!$C$19 -> Fournisseurs | D19: ='Base MAJ'!$D$20 -> T | E19: =E17*F19/G19 -> 0 | F19: 8.5 | G19: 35 | H19: ='Base MAJ'!$H$19 -> 14.59 | I19: ='Base MAJ'!$I$20 -> 0.1 | J19: =H19*(1+I19) -> 16.049 | K19: =H19*E19 -> 0
B20: ='Base MAJ'!$B$20 -> grave concassé reçyclé 0/31.5 mixte | C20: ='Base MAJ'!$C$20 -> Fournisseurs | D20: ='Base MAJ'!$D$20 -> T | E20: =E18*F20/G20 -> 0 | F20: 8.5 | G20: 35 | H20: ='Base MAJ'!$H$20 -> 12.3 | I20: ='Base MAJ'!$I$20 -> 0.1 | J20: =H20*(1+I20) -> 13.53 | K20: =H20*E20 -> 0
B24: ='Base MAJ'!$B$24 -> géotextile 130g/m² | C24: ='Base MAJ'!$C$24 -> Fournisseurs | D24: ='Base MAJ'!$D$24 -> m² | E24: =$E$42*F24/G24 -> 0 | F24: 1 | G24: 100 | H24: ='Base MAJ'!$H$24 -> 0.6 | I24: ='Base MAJ'!$I$24 -> 0.1 | J24: =H24*(1+I24) -> 0.66 | K24: =H24*E24 -> 0

Sheet Base MAJ
A1: N° | B1: DESIGNATION | C1: Fournisseurs | D1: Unité | E1: Quantité | F1: QTE.Rendement | G1: Rendement | H1: PRIX HT | I1: Marge% | J1: Prix unitaire | K1: MONTANT
B6: Pelle 2T5 | C6: Fournisseurs | D6: h | E6: =#REF!*F6/G6 -> #REF! | F6: 1 | G6: 1 | H6: 35 | I6: 0.1 | J6: =H6*(1+I6) -> 38.5 | K6: =J6*E6 -> #REF!
B7: plaque | C7: Fournisseurs | D7: J | E7: =E4*F7/G7 -> 0 | F7: 0.4 | G7: 35 | H7: 30 | I7: 0.1 | J7: =H7*(1+I7) -> 33 | K7: =H7*E7 -> 0
B8: Camion PL - Sous-traitance | C8: Fournisseurs | D8: ='Base MAJ'!$D$7 -> J | E8: =E5*F8/G8 -> 0 | F8: 8 | G8: 100 | H8: 660 | I8: 0.1 | J8: =H8*(1+I8) -> 726 | K8: =J8*E8 -> 0
B12: Deblais Terre cailloux | C12: Fournisseurs | D12: T | E12: =$E$7*F12/G12 -> 0 | F12: 19 | G12: 100 | H12: 10 | I12: 0.1 | J12: =H12*(1+I12) -> 11 | K12: =J12*E12 -> 0
B16: MO | C16: MO | D16: h | E16: =$E$7*F16/G16 -> 0 | F16: 12 | G16: 100 | H16: 31.25 | I16: 0 | J16: =H16*(1+I16) -> 31.25 | K16: =J16*E16 -> 0
B19: grave concassé reçyclé 0/20 mixte | C19: Fournisseurs | D19: ='Base MAJ'!$D$20 -> T | E19: =E17*F19/G19 -> 0 | F19: 8.5 | G19: 35 | H19: 14.59 | I19: ='Base MAJ'!$I$20 -> 0.1 | J19: =H19*(1+I19) -> 16.049 | K19: =H19*E19 -> 0
B20: grave concassé reçyclé 0/31.5 mixte | C20: Fournisseurs | D20: T | E20: =E18*F20/G20 -> 0 | F20: 8.5 | G20: 35 | H20: 12.3 | I20: 0.1 | J20: =H20*(1+I20) -> 13.53 | K20: =H20*E20 -> 0
B24: géotextile 130g/m² | C24: Fournisseurs | D24: m² | E24: =$E$42*F24/G24 -> 0 | F24: 1 | G24: 100 | H24: 0.6 | I24: 0.1 | J24: =H24*(1+I24) -> 0.66 | K24: =H24*E24 -> 0

Sheet GPT cache
ADC357801: {"hash":"405575a8f4ff030e7ed93f257377dd9080ca45f8eb512b6cc4d343fa0dfe4f53","version":1,"value":"[[\"Where every page holds a new adventure\"]]"}
