Workbook
Name Pays: Feuil1!$D$6:$D$29

Sheet Feuil1
H3: X | I3: Audit prouvant la conformité aux conventions de l'OIT n°
C4: Activité | D4: Pays | E4: IR : Indice de Responsabilité | F4: Volumes | G4: Valeur d'importance (IR x Volumes) | H4: 29 | J4: 87 | L4: 98 | N4: 100 | P4: 105 | R4: 111 | T4: 138 | V4: 182
B5: P | C5: Site(s) en propre | E5: 3
C6: Formule => | F6: 0 | G6: =F6*$E$5 -> 0
C7: X | D7: Tunisie | F7: 96595 | G7: =F7*$E$5 -> 289785 | H7: X
C8: XX | D8: Maroc | F8: 5645 | G8: =F8*$E$5 -> 16935
A9: Insérer nouveau(x) site(s) en propre ici | B9: P | C9: Sous-traitants | E9: 2.5
C10: Formule => | F10: 0 | G10: =F10*$E$9 -> 0
C11: X | D11: Tunisie | F11: 5465 | G11: =F11*$E$9 -> 13662.5 | H11: X
C12: XX | D12: Maroc | F12: 454 | G12: =F12*$E$9 -> 1135
C13: XXX | D13: Tunisie | F13: 5454 | G13: =F13*$E$9 -> 13635
A14: Insérer nouveau(x) Négociant(s) ici | B14: P | C14: Négociants | E14: 2
C15: Formule => | F15: 0 | G15: =F15*$E$14 -> 0
C16: X | D16: Maroc | F16: 4554 | G16: =F16*E14 -> 9108 | H16: X
C17: XX | D17: Tunisie | F17: 464 | G17: =F17*E14 -> 928
C18: XXX | D18: Maroc | F18: 654 | G18: =F18*E14 -> 1308 | N18: X
C19: XXXX | D19: Tunisie | F19: 6654 | G19: =F19*E14 -> 13308
A20: Insérer nouveau(x) Fournisseur(s) Tissu(s) ici | B20: M | C20: Fournisseurs tissus | E20: 1.5
C21: Formule => | F21: 0 | G21: =F21*$E$20 -> 0
C22: X | D22: Maroc | F22: 64564 | G22: =F22*E20 -> 96846
C23: XX | D23: Maroc | F23: 646541 | G23: =F23*E20 -> 969811.5 | H23: X
C24: XXX | D24: Tunisie | F24: 41654 | G24: =F24*E20 -> 62481
A25: Insérer nouveau(x) Fournisseur(s) Tissu(s) ici | B25: P | C25: Fournisseurs accessoires | E25: 1
C26: Formule => | F26: 0 | G26: =F26*$E$25 -> 0
C27: X | D27: Tunisie | F27: 14654 | G27: =F27*$E$25 -> 14654 | H27: X
C28: XX | D28: Maroc | F28: 58985 | G28: =F28*$E$25 -> 58985
A29: Insérer nouveau(x) Fournisseur(s) Accesoire(s) ici
A30: TOTAUX | F30: =SUM(F6:F29) -> 952337 | G30: =SUM(G6:G29) -> 1562582 | H30: =COUNTIFS(H8:H29,$H$3) -> 4 | J30: =COUNTIFS(J8:J29,$H$3) -> 0 | L30: =COUNTIFS(L8:L29,$H$3) -> 0 | N30: =COUNTIFS(N8:N29,$H$3) -> 1 | P30: =COUNTIFS(P8:P29,$H$3) -> 0 | R30: =COUNTIFS(R8:R29,$H$3) -> 0 | T30: =COUNTIFS(T8:T29,$H$3) -> 0 | V30: =COUNTIFS(V8:V29,$H$3) -> 0
A31: Total score d'importance pour les entreprises auditées | H31: =SUMIF(H6:H29,$H$3,$G$6:$G$29) -> 1297021 | J31: =SUMIF(J6:J29,$H$3,$G$6:$G$29) -> 0 | L31: =SUMIF(L6:L29,$H$3,$G$6:$G$29) -> 0 | N31: =SUMIF(N6:N29,$H$3,$G$6:$G$29) -> 1308 | P31: =SUMIF(P6:P29,$H$3,$G$6:$G$29) -> 0 | R31: =SUMIF(R6:R29,$H$3,$G$6:$G$29) -> 0 | T31: =SUMIF(T6:T29,$H$3,$G$6:$G$29) -> 0 | V31: =SUMIF(V6:V29,$H$3,$G$6:$G$29) -> 0
A32: Valeur performance | H32: =H31/$G$30 -> 0.83004988 | J32: =J31/$G$30 -> 0 | L32: =L31/$G$30 -> 0 | N32: =N31/$G$30 -> 0.00083707607 | P32: =P31/$G$30 -> 0 | R32: =R31/$G$30 -> 0 | T32: =T31/$G$30 -> 0 | V32: =V31/$G$30 -> 0
A33: Coefficient question | H33: =H101 -> 0.5 | J33: =J101 -> 1.977207 | L33: =L101 -> 1.022793 | N33: =N101 -> 0.5 | P33: =P101 -> 0.5 | R33: =R101 -> 0.5 | T33: =T101 -> 0.5 | V33: =V101 -> 0.5
C36: TOTAL PAR PAYS | D36: Nb | E36: Représentation Valeur importance | F36: Volumes | G36: Valeur d'importance (IR x Volumes) | H36: 1 = Risque faible : Convention ratifiée par le pays 5 = Risque fort : Convention non ratifiée par le pays
C37: {=IFERROR(INDEX(Pays,SMALL(IF(NOT(ISNA(MATCH(Pays,Pays,0))),IF((MATCH(Pays,Pays,0)=ROW(INDIRECT("1:"&ROWS(Pays))))*(Pays<>""),MATCH(Pays,Pays,0))),ROW(INDIRECT("1:"&ROWS(Pays))))),"")} -> Tunisie | D37: =COUNTIFS($D$6:$D$29,C37) -> 7 | E37: =G37/$G$30 -> 0.26139652 | F37: =SUMIF($D$6:$D$29,C37,$F$6:$F$29) -> 170940 | G37: =SUMIF($D$6:$D$29,C37,$G$6:$G$29) -> 408453.5 | H37: =INDEX('Conventions de l''OIT'!$C$4:$J$67,MATCH(Feuil1!$C37,'Conventions de l''OIT'!$B$4:$B$67,0),MATCH(Feuil1!H$4,'Conventions de l''OIT'!$C$3:$J$3,0)) -> 1 | I37: =H37*E37 -> 0.26139652 | J37: =INDEX('Conventions de l''OIT'!$C$4:$J$67,MATCH(Feuil1!$C37,'Conventions de l''OIT'!$B$4:$B$67,0),MATCH(Feuil1!J$4,'Conventions de l''OIT'!$C$3:$J$3,0)) -> 1 | K37: =J37*E37 -> 0.26139652 | L37: =INDEX('Conventions de l''OIT'!$C$4:$J$67,MATCH(Feuil1!$C37,'Conventions de l''OIT'!$B$4:$B$67,0),MATCH(Feuil1!L$4,'Conventions de l''OIT'!$C$3:$J$3,0)) -> 5 | M37: =L37*E37 -> 1.3069826 | N37: =INDEX('Conventions de l''OIT'!$C$4:$J$67,MATCH(Feuil1!$C37,'Conventions de l''OIT'!$B$4:$B$67,0),MATCH(Feuil1!N$4,'Conventions de l''OIT'!$C$3:$J$3,0)) -> 1 | O37: =N37*E37 -> 0.26139652 | P37: =INDEX('Conventions de l''OIT'!$C$4:$J$67,MATCH(Feuil1!$C37,'Conventions de l''OIT'!$B$4:$B$67,0),MATCH(Feuil1!P$4,'Conventions de l''OIT'!$C$3:$J$3,0)) -> 1 | Q37: =P37*E37 -> 0.26139652 | R37: =INDEX('Conventions de l''OIT'!$C$4:$J$67,MATCH(Feuil1!$C37,'Conventions de l''OIT'!$B$4:$B$67,0),MATCH(Feuil1!R$4,'Conventions de l''OIT'!$C$3:$J$3,0)) -> 1 | S37: =R37*E37 -> 0.26139652 | T37: =INDEX('Conventions de l''OIT'!$C$4:$J$67,MATCH(Feuil1!$C37,'Conventions de l''OIT'!$B$4:$B$67,0),MATCH(Feuil1!T$4,'Conventions de l''OIT'!$C$3:$J$3,0)) -> 1 | U37: =T37*E37 -> 0.26139652 | V37: =INDEX('Conventions de l''OIT'!$C$4:$J$67,MATCH(Feuil1!$C37,'Conventions de l''OIT'!$B$4:$B$67,0),MATCH(Feuil1!V$4,'Conventions de l''OIT'!$C$3:$J$3,0)) -> 1 | W37: =V37*E37 -> 0.26139652
C38: Maroc | D38: =COUNTIFS($D$6:$D$29,C38) -> 7 | E38: =G38/$G$30 -> 0.73860348 | F38: =SUMIF($D$6:$D$29,C38,$F$6:$F$29) -> 781397 | G38: =SUMIF($D$6:$D$29,C38,$G$6:$G$29) -> 1154128.5 | H38: =INDEX('Conventions de l''OIT'!$C$4:$J$67,MATCH(Feuil1!$C38,'Conventions de l''OIT'!$B$4:$B$67,0),MATCH(Feuil1!H$4,'Conventions de l''OIT'!$C$3:$J$3,0)) -> 1 | I38: =H38*E38 -> 0.73860348 | J38: =INDEX('Conventions de l''OIT'!$C$4:$J$67,MATCH(Feuil1!$C38,'Conventions de l''OIT'!$B$4:$B$67,0),MATCH(Feuil1!J$4,'Conventions de l''OIT'!$C$3:$J$3,0)) -> 5 | K38: =J38*E38 -> 3.6930174 | L38: =INDEX('Conventions de l''OIT'!$C$4:$J$67,MATCH(Feuil1!$C38,'Conventions de l''OIT'!$B$4:$B$67,0),MATCH(Feuil1!L$4,'Conventions de l''OIT'!$C$3:$J$3,0)) -> 1 | M38: =L38*E38 -> 0.73860348 | N38: =INDEX('Conventions de l''OIT'!$C$4:$J$67,MATCH(Feuil1!$C38,'Conventions de l''OIT'!$B$4:$B$67,0),MATCH(Feuil1!N$4,'Conventions de l''OIT'!$C$3:$J$3,0)) -> 1 | O38: =N38*E38 -> 0.73860348 | P38: =INDEX('Conventions de l''OIT'!$C$4:$J$67,MATCH(Feuil1!$C38,'Conventions de l''OIT'!$B$4:$B$67,0),MATCH(Feuil1!P$4,'Conventions de l''OIT'!$C$3:$J$3,0)) -> 1 | Q38: =P38*E38 -> 0.73860348 | R38: =INDEX('Conventions de l''OIT'!$C$4:$J$67,MATCH(Feuil1!$C38,'Conventions de l''OIT'!$B$4:$B$67,0),MATCH(Feuil1!R$4,'Conventions de l''OIT'!$C$3:$J$3,0)) -> 1 | S38: =R38*E38 -> 0.73860348 | T38: =INDEX('Conventions de l''OIT'!$C$4:$J$67,MATCH(Feuil1!$C38,'Conventions de l''OIT'!$B$4:$B$67,0),MATCH(Feuil1!T$4,'Conventions de l''OIT'!$C$3:$J$3,0)) -> 1 | U38: =T38*E38 -> 0.73860348 | V38: =INDEX('Conventions de l''OIT'!$C$4:$J$67,MATCH(Feuil1!$C38,'Conventions de l''OIT'!$B$4:$B$67,0),MATCH(Feuil1!V$4,'Conventions de l''OIT'!$C$3:$J$3,0)) -> 1 | W38: =V38*E38 -> 0.73860348
D39: =COUNTIFS($D$6:$D$29,C39) -> 10 | E39: =G39/$G$30 -> 0 | F39: =SUMIF($D$6:$D$29,C39,$F$6:$F$29) -> 0 | G39: =SUMIF($D$6:$D$29,C39,$G$6:$G$29) -> 0 | H39: =INDEX('Conventions de l''OIT'!$C$4:$J$67,MATCH(Feuil1!$C39,'Conventions de l''OIT'!$B$4:$B$67,0),MATCH(Feuil1!H$4,'Conventions de l''OIT'!$C$3:$J$3,0)) -> #N/A | I39: =H39*E39 -> #N/A | J39: =INDEX('Conventions de l''OIT'!$C$4:$J$67,MATCH(Feuil1!$C39,'Conventions de l''OIT'!$B$4:$B$67,0),MATCH(Feuil1!J$4,'Conventions de l''OIT'!$C$3:$J$3,0)) -> #N/A | K39: =J39*E39 -> #N/A | L39: =INDEX('Conventions de l''OIT'!$C$4:$J$67,MATCH(Feuil1!$C39,'Conventions de l''OIT'!$B$4:$B$67,0),MATCH(Feuil1!L$4,'Conventions de l''OIT'!$C$3:$J$3,0)) -> #N/A | M39: =L39*E39 -> #N/A | N39: =INDEX('Conventions de l''OIT'!$C$4:$J$67,MATCH(Feuil1!$C39,'Conventions de l''OIT'!$B$4:$B$67,0),MATCH(Feuil1!N$4,'Conventions de l''OIT'!$C$3:$J$3,0)) -> #N/A | O39: =N39*E39 -> #N/A | P39: =INDEX('Conventions de l''OIT'!$C$4:$J$67,MATCH(Feuil1!$C39,'Conventions de l''OIT'!$B$4:$B$67,0),MATCH(Feuil1!P$4,'Conventions de l''OIT'!$C$3:$J$3,0)) -> #N/A | Q39: =P39*E39 -> #N/A | R39: =INDEX('Conventions de l''OIT'!$C$4:$J$67,MATCH(Feuil1!$C39,'Conventions de l''OIT'!$B$4:$B$67,0),MATCH(Feuil1!R$4,'Conventions de l''OIT'!$C$3:$J$3,0)) -> #N/A | S39: =R39*E39 -> #N/A | T39: =INDEX('Conventions de l''OIT'!$C$4:$J$67,MATCH(Feuil1!$C39,'Conventions de l''OIT'!$B$4:$B$67,0),MATCH(Feuil1!T$4,'Conventions de l''OIT'!$C$3:$J$3,0)) -> #N/A | U39: =T39*E39 -> #N/A | V39: =INDEX('Conventions de l''OIT'!$C$4:$J$67,MATCH(Feuil1!$C39,'Conventions de l''OIT'!$B$4:$B$67,0),MATCH(Feuil1!V$4,'Conventions de l''OIT'!$C$3:$J$3,0)) -> #N/A | W39: =V39*E39 -> #N/A
D40: =COUNTIFS($D$6:$D$29,C40) -> 10 | E40: =G40/$G$30 -> 0 | F40: =SUMIF($D$6:$D$29,C40,$F$6:$F$29) -> 0 | G40: =SUMIF($D$6:$D$29,C40,$G$6:$G$29) -> 0 | H40: =INDEX('Conventions de l''OIT'!$C$4:$J$67,MATCH(Feuil1!$C40,'Conventions de l''OIT'!$B$4:$B$67,0),MATCH(Feuil1!H$4,'Conventions de l''OIT'!$C$3:$J$3,0)) -> #N/A | I40: =H40*E40 -> #N/A | J40: =INDEX('Conventions de l''OIT'!$C$4:$J$67,MATCH(Feuil1!$C40,'Conventions de l''OIT'!$B$4:$B$67,0),MATCH(Feuil1!J$4,'Conventions de l''OIT'!$C$3:$J$3,0)) -> #N/A | K40: =J40*E40 -> #N/A | L40: =INDEX('Conventions de l''OIT'!$C$4:$J$67,MATCH(Feuil1!$C40,'Conventions de l''OIT'!$B$4:$B$67,0),MATCH(Feuil1!L$4,'Conventions de l''OIT'!$C$3:$J$3,0)) -> #N/A | M40: =L40*E40 -> #N/A | N40: =INDEX('Conventions de l''OIT'!$C$4:$J$67,MATCH(Feuil1!$C40,'Conventions de l''OIT'!$B$4:$B$67,0),MATCH(Feuil1!N$4,'Conventions de l''OIT'!$C$3:$J$3,0)) -> #N/A | O40: =N40*E40 -> #N/A | P40: =INDEX('Conventions de l''OIT'!$C$4:$J$67,MATCH(Feuil1!$C40,'Conventions de l''OIT'!$B$4:$B$67,0),MATCH(Feuil1!P$4,'Conventions de l''OIT'!$C$3:$J$3,0)) -> #N/A | Q40: =P40*E40 -> #N/A | R40: =INDEX('Conventions de l''OIT'!$C$4:$J$67,MATCH(Feuil1!$C40,'Conventions de l''OIT'!$B$4:$B$67,0),MATCH(Feuil1!R$4,'Conventions de l''OIT'!$C$3:$J$3,0)) -> #N/A | S40: =R40*E40 -> #N/A | T40: =INDEX('Conventions de l''OIT'!$C$4:$J$67,MATCH(Feuil1!$C40,'Conventions de l''OIT'!$B$4:$B$67,0),MATCH(Feuil1!T$4,'Conventions de l''OIT'!$C$3:$J$3,0)) -> #N/A | U40: =T40*E40 -> #N/A | V40: =INDEX('Conventions de l''OIT'!$C$4:$J$67,MATCH(Feuil1!$C40,'Conventions de l''OIT'!$B$4:$B$67,0),MATCH(Feuil1!V$4,'Conventions de l''OIT'!$C$3:$J$3,0)) -> #N/A | W40: =V40*E40 -> #N/A
D41: =COUNTIFS($D$6:$D$29,C41) -> 10 | E41: =G41/$G$30 -> 0 | F41: =SUMIF($D$6:$D$29,C41,$F$6:$F$29) -> 0 | G41: =SUMIF($D$6:$D$29,C41,$G$6:$G$29) -> 0 | H41: =INDEX('Conventions de l''OIT'!$C$4:$J$67,MATCH(Feuil1!$C41,'Conventions de l''OIT'!$B$4:$B$67,0),MATCH(Feuil1!H$4,'Conventions de l''OIT'!$C$3:$J$3,0)) -> #N/A | I41: =H41*E41 -> #N/A | J41: =INDEX('Conventions de l''OIT'!$C$4:$J$67,MATCH(Feuil1!$C41,'Conventions de l''OIT'!$B$4:$B$67,0),MATCH(Feuil1!J$4,'Conventions de l''OIT'!$C$3:$J$3,0)) -> #N/A | K41: =J41*E41 -> #N/A | L41: =INDEX('Conventions de l''OIT'!$C$4:$J$67,MATCH(Feuil1!$C41,'Conventions de l''OIT'!$B$4:$B$67,0),MATCH(Feuil1!L$4,'Conventions de l''OIT'!$C$3:$J$3,0)) -> #N/A | M41: =L41*E41 -> #N/A | N41: =INDEX('Conventions de l''OIT'!$C$4:$J$67,MATCH(Feuil1!$C41,'Conventions de l''OIT'!$B$4:$B$67,0),MATCH(Feuil1!N$4,'Conventions de l''OIT'!$C$3:$J$3,0)) -> #N/A | O41: =N41*E41 -> #N/A | P41: =INDEX('Conventions de l''OIT'!$C$4:$J$67,MATCH(Feuil1!$C41,'Conventions de l''OIT'!$B$4:$B$67,0),MATCH(Feuil1!P$4,'Conventions de l''OIT'!$C$3:$J$3,0)) -> #N/A | Q41: =P41*E41 -> #N/A | R41: =INDEX('Conventions de l''OIT'!$C$4:$J$67,MATCH(Feuil1!$C41,'Conventions de l''OIT'!$B$4:$B$67,0),MATCH(Feuil1!R$4,'Conventions de l''OIT'!$C$3:$J$3,0)) -> #N/A | S41: =R41*E41 -> #N/A | T41: =INDEX('Conventions de l''OIT'!$C$4:$J$67,MATCH(Feuil1!$C41,'Conventions de l''OIT'!$B$4:$B$67,0),MATCH(Feuil1!T$4,'Conventions de l''OIT'!$C$3:$J$3,0)) -> #N/A | U41: =T41*E41 -> #N/A | V41: =INDEX('Conventions de l''OIT'!$C$4:$J$67,MATCH(Feuil1!$C41,'Conventions de l''OIT'!$B$4:$B$67,0),MATCH(Feuil1!V$4,'Conventions de l''OIT'!$C$3:$J$3,0)) -> #N/A | W41: =V41*E41 -> #N/A
D42: =COUNTIFS($D$6:$D$29,C42) -> 10 | E42: =G42/$G$30 -> 0 | F42: =SUMIF($D$6:$D$29,C42,$F$6:$F$29) -> 0 | G42: =SUMIF($D$6:$D$29,C42,$G$6:$G$29) -> 0 | H42: =INDEX('Conventions de l''OIT'!$C$4:$J$67,MATCH(Feuil1!$C42,'Conventions de l''OIT'!$B$4:$B$67,0),MATCH(Feuil1!H$4,'Conventions de l''OIT'!$C$3:$J$3,0)) -> #N/A | I42: =H42*E42 -> #N/A | J42: =INDEX('Conventions de l''OIT'!$C$4:$J$67,MATCH(Feuil1!$C42,'Conventions de l''OIT'!$B$4:$B$67,0),MATCH(Feuil1!J$4,'Conventions de l''OIT'!$C$3:$J$3,0)) -> #N/A | K42: =J42*E42 -> #N/A | L42: =INDEX('Conventions de l''OIT'!$C$4:$J$67,MATCH(Feuil1!$C42,'Conventions de l''OIT'!$B$4:$B$67,0),MATCH(Feuil1!L$4,'Conventions de l''OIT'!$C$3:$J$3,0)) -> #N/A | M42: =L42*E42 -> #N/A | N42: =INDEX('Conventions de l''OIT'!$C$4:$J$67,MATCH(Feuil1!$C42,'Conventions de l''OIT'!$B$4:$B$67,0),MATCH(Feuil1!N$4,'Conventions de l''OIT'!$C$3:$J$3,0)) -> #N/A | O42: =N42*E42 -> #N/A | P42: =INDEX('Conventions de l''OIT'!$C$4:$J$67,MATCH(Feuil1!$C42,'Conventions de l''OIT'!$B$4:$B$67,0),MATCH(Feuil1!P$4,'Conventions de l''OIT'!$C$3:$J$3,0)) -> #N/A | Q42: =P42*E42 -> #N/A | R42: =INDEX('Conventions de l''OIT'!$C$4:$J$67,MATCH(Feuil1!$C42,'Conventions de l''OIT'!$B$4:$B$67,0),MATCH(Feuil1!R$4,'Conventions de l''OIT'!$C$3:$J$3,0)) -> #N/A | S42: =R42*E42 -> #N/A | T42: =INDEX('Conventions de l''OIT'!$C$4:$J$67,MATCH(Feuil1!$C42,'Conventions de l''OIT'!$B$4:$B$67,0),MATCH(Feuil1!T$4,'Conventions de l''OIT'!$C$3:$J$3,0)) -> #N/A | U42: =T42*E42 -> #N/A | V42: =INDEX('Conventions de l''OIT'!$C$4:$J$67,MATCH(Feuil1!$C42,'Conventions de l''OIT'!$B$4:$B$67,0),MATCH(Feuil1!V$4,'Conventions de l''OIT'!$C$3:$J$3,0)) -> #N/A | W42: =V42*E42 -> #N/A
D43: =COUNTIFS($D$6:$D$29,C43) -> 10 | E43: =G43/$G$30 -> 0 | F43: =SUMIF($D$6:$D$29,C43,$F$6:$F$29) -> 0 | G43: =SUMIF($D$6:$D$29,C43,$G$6:$G$29) -> 0 | H43: =INDEX('Conventions de l''OIT'!$C$4:$J$67,MATCH(Feuil1!$C43,'Conventions de l''OIT'!$B$4:$B$67,0),MATCH(Feuil1!H$4,'Conventions de l''OIT'!$C$3:$J$3,0)) -> #N/A | I43: =H43*E43 -> #N/A | J43: =INDEX('Conventions de l''OIT'!$C$4:$J$67,MATCH(Feuil1!$C43,'Conventions de l''OIT'!$B$4:$B$67,0),MATCH(Feuil1!J$4,'Conventions de l''OIT'!$C$3:$J$3,0)) -> #N/A | K43: =J43*E43 -> #N/A | L43: =INDEX('Conventions de l''OIT'!$C$4:$J$67,MATCH(Feuil1!$C43,'Conventions de l''OIT'!$B$4:$B$67,0),MATCH(Feuil1!L$4,'Conventions de l''OIT'!$C$3:$J$3,0)) -> #N/A | M43: =L43*E43 -> #N/A | N43: =INDEX('Conventions de l''OIT'!$C$4:$J$67,MATCH(Feuil1!$C43,'Conventions de l''OIT'!$B$4:$B$67,0),MATCH(Feuil1!N$4,'Conventions de l''OIT'!$C$3:$J$3,0)) -> #N/A | O43: =N43*E43 -> #N/A | P43: =INDEX('Conventions de l''OIT'!$C$4:$J$67,MATCH(Feuil1!$C43,'Conventions de l''OIT'!$B$4:$B$67,0),MATCH(Feuil1!P$4,'Conventions de l''OIT'!$C$3:$J$3,0)) -> #N/A | Q43: =P43*E43 -> #N/A | R43: =INDEX('Conventions de l''OIT'!$C$4:$J$67,MATCH(Feuil1!$C43,'Conventions de l''OIT'!$B$4:$B$67,0),MATCH(Feuil1!R$4,'Conventions de l''OIT'!$C$3:$J$3,0)) -> #N/A | S43: =R43*E43 -> #N/A | T43: =INDEX('Conventions de l''OIT'!$C$4:$J$67,MATCH(Feuil1!$C43,'Conventions de l''OIT'!$B$4:$B$67,0),MATCH(Feuil1!T$4,'Conventions de l''OIT'!$C$3:$J$3,0)) -> #N/A | U43: =T43*E43 -> #N/A | V43: =INDEX('Conventions de l''OIT'!$C$4:$J$67,MATCH(Feuil1!$C43,'Conventions de l''OIT'!$B$4:$B$67,0),MATCH(Feuil1!V$4,'Conventions de l''OIT'!$C$3:$J$3,0)) -> #N/A | W43: =V43*E43 -> #N/A
D44: =COUNTIFS($D$6:$D$29,C44) -> 10 | E44: =G44/$G$30 -> 0 | F44: =SUMIF($D$6:$D$29,C44,$F$6:$F$29) -> 0 | G44: =SUMIF($D$6:$D$29,C44,$G$6:$G$29) -> 0 | H44: =INDEX('Conventions de l''OIT'!$C$4:$J$67,MATCH(Feuil1!$C44,'Conventions de l''OIT'!$B$4:$B$67,0),MATCH(Feuil1!H$4,'Conventions de l''OIT'!$C$3:$J$3,0)) -> #N/A | I44: =H44*E44 -> #N/A | J44: =INDEX('Conventions de l''OIT'!$C$4:$J$67,MATCH(Feuil1!$C44,'Conventions de l''OIT'!$B$4:$B$67,0),MATCH(Feuil1!J$4,'Conventions de l''OIT'!$C$3:$J$3,0)) -> #N/A | K44: =J44*E44 -> #N/A | L44: =INDEX('Conventions de l''OIT'!$C$4:$J$67,MATCH(Feuil1!$C44,'Conventions de l''OIT'!$B$4:$B$67,0),MATCH(Feuil1!L$4,'Conventions de l''OIT'!$C$3:$J$3,0)) -> #N/A | M44: =L44*E44 -> #N/A | N44: =INDEX('Conventions de l''OIT'!$C$4:$J$67,MATCH(Feuil1!$C44,'Conventions de l''OIT'!$B$4:$B$67,0),MATCH(Feuil1!N$4,'Conventions de l''OIT'!$C$3:$J$3,0)) -> #N/A | O44: =N44*E44 -> #N/A | P44: =INDEX('Conventions de l''OIT'!$C$4:$J$67,MATCH(Feuil1!$C44,'Conventions de l''OIT'!$B$4:$B$67,0),MATCH(Feuil1!P$4,'Conventions de l''OIT'!$C$3:$J$3,0)) -> #N/A | Q44: =P44*E44 -> #N/A | R44: =INDEX('Conventions de l''OIT'!$C$4:$J$67,MATCH(Feuil1!$C44,'Conventions de l''OIT'!$B$4:$B$67,0),MATCH(Feuil1!R$4,'Conventions de l''OIT'!$C$3:$J$3,0)) -> #N/A | S44: =R44*E44 -> #N/A | T44: =INDEX('Conventions de l''OIT'!$C$4:$J$67,MATCH(Feuil1!$C44,'Conventions de l''OIT'!$B$4:$B$67,0),MATCH(Feuil1!T$4,'Conventions de l''OIT'!$C$3:$J$3,0)) -> #N/A | U44: =T44*E44 -> #N/A | V44: =INDEX('Conventions de l''OIT'!$C$4:$J$67,MATCH(Feuil1!$C44,'Conventions de l''OIT'!$B$4:$B$67,0),MATCH(Feuil1!V$4,'Conventions de l''OIT'!$C$3:$J$3,0)) -> #N/A | W44: =V44*E44 -> #N/A
...

Sheet Conventions de l'OIT
C2: Conventions de l'OIT
B3: Pays signataire | C3: 29 | D3: 87 | E3: 98 | F3: 100 | G3: 105 | H3: 111 | I3: 138 | J3: 182
B4: Afrique du Sud | C4: 1 | D4: 1 | E4: 1 | F4: 1 | G4: 1 | H4: 1 | I4: 1 | J4: 1
B5: Allemagne | C5: 1 | D5: 1 | E5: 1 | F5: 1 | G5: 1 | H5: 1 | I5: 1 | J5: 1
B6: Australie | C6: 1 | D6: 1 | E6: 1 | F6: 1 | G6: 1 | H6: 1 | I6: 5 | J6: 1
B7: Autriche | C7: 1 | D7: 1 | E7: 1 | F7: 1 | G7: 1 | H7: 1 | I7: 0 | J7: 1
B8: Argentine | C8: 1 | D8: 1 | E8: 1 | F8: 1 | G8: 1 | H8: 1 | I8: 0 | J8: 1
B9: Bengaldesh | C9: 1 | D9: 1 | E9: 1 | F9: 1 | G9: 1 | H9: 1 | I9: 5 | J9: 1
B10: Belgique | C10: 1 | D10: 1 | E10: 1 | F10: 1 | G10: 1 | H10: 1 | I10: 1 | J10: 1
B11: Bénin | C11: 1 | D11: 1 | E11: 1 | F11: 1 | G11: 1 | H11: 1 | I11: 1 | J11: 1
B12: Brésil | C12: 1 | D12: 5 | E12: 1 | F12: 1 | G12: 1 | H12: 1 | I12: 1 | J12: 1
B13: Burkina Faso | C13: 1 | D13: 1 | E13: 1 | F13: 1 | G13: 1 | H13: 1 | I13: 1 | J13: 1
B14: Cambodge | C14: 1 | D14: 1 | E14: 1 | F14: 1 | G14: 1 | H14: 1 | I14: 1 | J14: 1
... B67: Zimbabwe | C67: 1 | D67: 1 | E67: 1 | F67: 1 | G67: 1 | H67: 1 | I67: 1 | J67: 1

Sheet Feuil3
