Workbook

Sheet CP
B1: Sal1 | C1: Sal2 | D1: Sal 3 | E1: Sal 4
A2: CP1 | B2: 40547
A3: CP2
A4: CP3 | C4: 40549
A5: CP4
A6: CP5 | D6: 40551
A7: CP6
A8: CP7
A9: CP8
A10: CP9
A11: CP10
A12: CP11
A13: CP12
A14: CP13
A15: CP14
A16: CP15
A17: CP16
A18: CP17
... A40: CP39

Sheet RTT
B1: RTT 1 | C1: RTT 2 | D1: RTT 3 | E1: RTT 4 | F1: RTT 5 | G1: RTT 6 | H1: RTT 7 | I1: RTT 8 | J1: RTT 9 | K1: RTT 10 | L1: RTT 11 | M1: RTT 12
A2: sal1 | B2: 40546 | H2: 40780
A3: sal2 | B3: 40548 | H3: 40811
A4: sal3
A5: sal4

Sheet Exemple 1
A1: Janvier | C1: CP | D1: RTT | E1: CP | F1: RTT | G1: Février | I1: CP | J1: RTT | K1: CP | L1: RTT | M1: Mars | O1: CP | P1: RTT | Q1: CP | R1: RTT | S1: Avril | U1: CP | V1: RTT | W1: CP | X1: RTT | Y1: Mai | AA1: CP | AB1: RTT | AC1: CP | AD1: RTT | AE1: Juin | AG1: CP | AH1: RTT | AI1: CP | AJ1: RTT | AK1: Juillet | AM1: CP | AN1: RTT | AO1: CP | AP1: RTT | AQ1: Août | AS1: CP | AT1: RTT | AU1: CP | AV1: RTT | AW1: Septembre | AY1: CP | AZ1: RTT | BA1: CP | BB1: RTT | BC1: Octobre | BE1: CP | BF1: RTT | BG1: CP | BH1: RTT | BI1: Novembre | BK1: CP | BL1: RTT | BM1: CP | BN1: RTT | BO1: Décembre | BQ1: CP | BR1: RTT | BS1: CP | BT1: RTT
A2: S | B2: 40544 | C2: =IF(ISNA(VLOOKUP(B2,CP!$A$1:$BS$50,2,FALSE)),"",VLOOKUP(B2,CP!$A$1:$BS$50,2,FALSE)) | D2: =IF(ISNA(HLOOKUP(B2,RTT!$B$2:$ZZ$100,$B$35,FALSE)),"",HLOOKUP(B2,RTT!$B$2:$ZZ$100,$B$35,FALSE)) | E2: =IF(B2=C2,1,"") | F2: =IF(B2=D2,1,"") | G2: M | H2: 40575 | I2: =IF(ISNA(HLOOKUP(H2,CP!$B$2:$ZZ$100,$B$35,FALSE)),"",HLOOKUP(H2,CP!$B$2:$ZZ$100,$B$35,FALSE)) | J2: =IF(ISNA(HLOOKUP(H2,RTT!$B$2:$ZZ$100,$B$35,FALSE)),"",HLOOKUP('Exemple 1'!H2,RTT!$B$2:$ZZ$100,$B$35,FALSE)) | K2: =IF(H2=I2,1,"") | L2: =IF(H2=J2,1,"") | M2: M | N2: 40603 | O2: =IF(ISNA(HLOOKUP(N2,CP!$B$2:$ZZ$100,$B$35,FALSE)),"",HLOOKUP(N2,CP!$B$2:$ZZ$100,$B$35,FALSE)) | P2: =IF(ISNA(HLOOKUP(N2,RTT!$B$2:$ZZ$100,$B$35,FALSE)),"",HLOOKUP('Exemple 1'!N2,RTT!$B$2:$ZZ$100,$B$35,FALSE)) | Q2: =IF(N2=O2,1,"") | R2: =IF(N2=P2,1,"") | S2: V | T2: 40634 | U2: =IF(ISNA(HLOOKUP(T2,CP!$B$2:$ZZ$100,$B$35,FALSE)),"",HLOOKUP(T2,CP!$B$2:$ZZ$100,$B$35,FALSE)) | V2: =IF(ISNA(HLOOKUP(T2,RTT!$B$2:$ZZ$100,$B$35,FALSE)),"",HLOOKUP('Exemple 1'!T2,RTT!$B$2:$ZZ$100,$B$35,FALSE)) | W2: =IF(T2=U2,1,"") | X2: =IF(T2=V2,1,"") | Y2: D | Z2: 40664 | AA2: =IF(ISNA(HLOOKUP(Z2,CP!$B$2:$ZZ$100,$B$35,FALSE)),"",HLOOKUP(Z2,CP!$B$2:$ZZ$100,$B$35,FALSE)) | AB2: =IF(ISNA(HLOOKUP(Z2,RTT!$B$2:$ZZ$100,$B$35,FALSE)),"",HLOOKUP('Exemple 1'!Z2,RTT!$B$2:$ZZ$100,$B$35,FALSE)) | AC2: =IF(Z2=AA2,1,"") | AD2: =IF(Z2=AB2,1,"") | AE2: M | AF2: 40695 | AG2: =IF(ISNA(HLOOKUP(AF2,CP!$B$2:$ZZ$100,$B$35,FALSE)),"",HLOOKUP(AF2,CP!$B$2:$ZZ$100,$B$35,FALSE)) | AH2: =IF(ISNA(HLOOKUP(AF2,RTT!$B$2:$ZZ$100,$B$35,FALSE)),"",HLOOKUP('Exemple 1'!AF2,RTT!$B$2:$ZZ$100,$B$35,FALSE)) | AI2: =IF(AF2=AG2,1,"") | AJ2: =IF(AF2=AH2,1,"") | AK2: V | AL2: 40725 | AM2: =IF(ISNA(HLOOKUP(AL2,CP!$B$2:$ZZ$100,$B$35,FALSE)),"",HLOOKUP(AL2,CP!$B$2:$ZZ$100,$B$35,FALSE)) | AN2: =IF(ISNA(HLOOKUP(AL2,RTT!$B$2:$ZZ$100,$B$35,FALSE)),"",HLOOKUP('Exemple 1'!AL2,RTT!$B$2:$ZZ$100,$B$35,FALSE)) | AO2: =IF(AL2=AM2,1,"") | AP2: =IF(AL2=AN2,1,"") | AQ2: L | AR2: 40756 | AS2: =IF(ISNA(HLOOKUP(AR2,CP!$B$2:$ZZ$100,$B$35,FALSE)),"",HLOOKUP(AR2,CP!$B$2:$ZZ$100,$B$35,FALSE)) | AT2: =IF(ISNA(HLOOKUP(AR2,RTT!$B$2:$ZZ$100,$B$35,FALSE)),"",HLOOKUP('Exemple 1'!AR2,RTT!$B$2:$ZZ$100,$B$35,FALSE)) | AU2: =IF(AR2=AS2,1,"") | AV2: =IF(AR2=AT2,1,"") | AW2: J | AX2: 40787 | AY2: =IF(ISNA(HLOOKUP(AX2,CP!$B$2:$ZZ$100,$B$35,FALSE)),"",HLOOKUP(AX2,CP!$B$2:$ZZ$100,$B$35,FALSE)) | AZ2: =IF(ISNA(HLOOKUP(AX2,RTT!$B$2:$ZZ$100,$B$35,FALSE)),"",HLOOKUP('Exemple 1'!AX2,RTT!$B$2:$ZZ$100,$B$35,FALSE)) | BA2: =IF(AX2=AY2,1,"") | BB2: =IF(AX2=AZ2,1,"") | BC2: S | BD2: 40817 | BE2: =IF(ISNA(HLOOKUP(BD2,CP!$B$2:$ZZ$100,$B$35,FALSE)),"",HLOOKUP(BD2,CP!$B$2:$ZZ$100,$B$35,FALSE)) | BF2: =IF(ISNA(HLOOKUP(BD2,RTT!$B$2:$ZZ$100,$B$35,FALSE)),"",HLOOKUP('Exemple 1'!BD2,RTT!$B$2:$ZZ$100,$B$35,FALSE)) | BG2: =IF(BD2=BE2,1,"") | BH2: =IF(BD2=BF2,1,"") | BI2: M | BJ2: 40848 | BK2: =IF(ISNA(HLOOKUP(BJ2,CP!$B$2:$ZZ$100,$B$35,FALSE)),"",HLOOKUP(BJ2,CP!$B$2:$ZZ$100,$B$35,FALSE)) | BL2: =IF(ISNA(HLOOKUP(BJ2,RTT!$B$2:$ZZ$100,$B$35,FALSE)),"",HLOOKUP('Exemple 1'!BJ2,RTT!$B$2:$ZZ$100,$B$35,FALSE)) | BM2: =IF(BJ2=BK2,1,"") | BN2: =IF(BJ2=BL2,1,"") | BO2: J | BP2: 40878 | BQ2: =IF(ISNA(HLOOKUP(BP2,CP!$B$2:$ZZ$100,$B$35,FALSE)),"",HLOOKUP(BP2,CP!$B$2:$ZZ$100,$B$35,FALSE)) | BR2: =IF(ISNA(HLOOKUP(BP2,RTT!$B$2:$ZZ$100,$B$35,FALSE)),"",HLOOKUP('Exemple 1'!BP2,RTT!$B$2:$ZZ$100,$B$35,FALSE)) | BS2: =IF(BP2=BQ2,1,"") | BT2: =IF(BP2=BR2,1,"")
A3: D | B3: 40545 | C3: =IF(ISNA(VLOOKUP(B3,CP!$A$1:$BS$50,2,FALSE)),"",VLOOKUP(B3,CP!$A$1:$BS$50,2,FALSE)) | D3: =IF(ISNA(HLOOKUP(B3,RTT!$B$2:$ZZ$100,$B$35,FALSE)),"",HLOOKUP(B3,RTT!$B$2:$ZZ$100,$B$35,FALSE)) | E3: =IF(B3=C3,1,"") | F3: =IF(B3=D3,1,"") | G3: M | H3: 40576 | I3: =IF(ISNA(HLOOKUP(H3,CP!$B$2:$ZZ$100,$B$35,FALSE)),"",HLOOKUP(H3,CP!$B$2:$ZZ$100,$B$35,FALSE)) | J3: =IF(ISNA(HLOOKUP(H3,RTT!$B$2:$ZZ$100,$B$35,FALSE)),"",HLOOKUP('Exemple 1'!H3,RTT!$B$2:$ZZ$100,$B$35,FALSE)) | K3: =IF(H3=I3,1,"") | L3: =IF(H3=J3,1,"") | M3: M | N3: 40604 | O3: =IF(ISNA(HLOOKUP(N3,CP!$B$2:$ZZ$100,$B$35,FALSE)),"",HLOOKUP(N3,CP!$B$2:$ZZ$100,$B$35,FALSE)) | P3: =IF(ISNA(HLOOKUP(N3,RTT!$B$2:$ZZ$100,$B$35,FALSE)),"",HLOOKUP('Exemple 1'!N3,RTT!$B$2:$ZZ$100,$B$35,FALSE)) | Q3: =IF(N3=O3,1,"") | R3: =IF(N3=P3,1,"") | S3: S | T3: 40635 | U3: =IF(ISNA(HLOOKUP(T3,CP!$B$2:$ZZ$100,$B$35,FALSE)),"",HLOOKUP(T3,CP!$B$2:$ZZ$100,$B$35,FALSE)) | V3: =IF(ISNA(HLOOKUP(T3,RTT!$B$2:$ZZ$100,$B$35,FALSE)),"",HLOOKUP('Exemple 1'!T3,RTT!$B$2:$ZZ$100,$B$35,FALSE)) | W3: =IF(T3=U3,1,"") | X3: =IF(T3=V3,1,"") | Y3: L | Z3: 40665 | AA3: =IF(ISNA(HLOOKUP(Z3,CP!$B$2:$ZZ$100,$B$35,FALSE)),"",HLOOKUP(Z3,CP!$B$2:$ZZ$100,$B$35,FALSE)) | AB3: =IF(ISNA(HLOOKUP(Z3,RTT!$B$2:$ZZ$100,$B$35,FALSE)),"",HLOOKUP('Exemple 1'!Z3,RTT!$B$2:$ZZ$100,$B$35,FALSE)) | AC3: =IF(Z3=AA3,1,"") | AD3: =IF(Z3=AB3,1,"") | AE3: J | AF3: 40696 | AG3: =IF(ISNA(HLOOKUP(AF3,CP!$B$2:$ZZ$100,$B$35,FALSE)),"",HLOOKUP(AF3,CP!$B$2:$ZZ$100,$B$35,FALSE)) | AH3: =IF(ISNA(HLOOKUP(AF3,RTT!$B$2:$ZZ$100,$B$35,FALSE)),"",HLOOKUP('Exemple 1'!AF3,RTT!$B$2:$ZZ$100,$B$35,FALSE)) | AI3: =IF(AF3=AG3,1,"") | AJ3: =IF(AF3=AH3,1,"") | AK3: S | AL3: 40726 | AM3: =IF(ISNA(HLOOKUP(AL3,CP!$B$2:$ZZ$100,$B$35,FALSE)),"",HLOOKUP(AL3,CP!$B$2:$ZZ$100,$B$35,FALSE)) | AN3: =IF(ISNA(HLOOKUP(AL3,RTT!$B$2:$ZZ$100,$B$35,FALSE)),"",HLOOKUP('Exemple 1'!AL3,RTT!$B$2:$ZZ$100,$B$35,FALSE)) | AO3: =IF(AL3=AM3,1,"") | AP3: =IF(AL3=AN3,1,"") | AQ3: M | AR3: 40757 | AS3: =IF(ISNA(HLOOKUP(AR3,CP!$B$2:$ZZ$100,$B$35,FALSE)),"",HLOOKUP(AR3,CP!$B$2:$ZZ$100,$B$35,FALSE)) | AT3: =IF(ISNA(HLOOKUP(AR3,RTT!$B$2:$ZZ$100,$B$35,FALSE)),"",HLOOKUP('Exemple 1'!AR3,RTT!$B$2:$ZZ$100,$B$35,FALSE)) | AU3: =IF(AR3=AS3,1,"") | AV3: =IF(AR3=AT3,1,"") | AW3: V | AX3: 40788 | AY3: =IF(ISNA(HLOOKUP(AX3,CP!$B$2:$ZZ$100,$B$35,FALSE)),"",HLOOKUP(AX3,CP!$B$2:$ZZ$100,$B$35,FALSE)) | AZ3: =IF(ISNA(HLOOKUP(AX3,RTT!$B$2:$ZZ$100,$B$35,FALSE)),"",HLOOKUP('Exemple 1'!AX3,RTT!$B$2:$ZZ$100,$B$35,FALSE)) | BA3: =IF(AX3=AY3,1,"") | BB3: =IF(AX3=AZ3,1,"") | BC3: D | BD3: 40818 | BE3: =IF(ISNA(HLOOKUP(BD3,CP!$B$2:$ZZ$100,$B$35,FALSE)),"",HLOOKUP(BD3,CP!$B$2:$ZZ$100,$B$35,FALSE)) | BF3: =IF(ISNA(HLOOKUP(BD3,RTT!$B$2:$ZZ$100,$B$35,FALSE)),"",HLOOKUP('Exemple 1'!BD3,RTT!$B$2:$ZZ$100,$B$35,FALSE)) | BG3: =IF(BD3=BE3,1,"") | BH3: =IF(BD3=BF3,1,"") | BI3: M | BJ3: 40849 | BK3: =IF(ISNA(HLOOKUP(BJ3,CP!$B$2:$ZZ$100,$B$35,FALSE)),"",HLOOKUP(BJ3,CP!$B$2:$ZZ$100,$B$35,FALSE)) | BL3: =IF(ISNA(HLOOKUP(BJ3,RTT!$B$2:$ZZ$100,$B$35,FALSE)),"",HLOOKUP('Exemple 1'!BJ3,RTT!$B$2:$ZZ$100,$B$35,FALSE)) | BM3: =IF(BJ3=BK3,1,"") | BN3: =IF(BJ3=BL3,1,"") | BO3: V | BP3: 40879 | BQ3: =IF(ISNA(HLOOKUP(BP3,CP!$B$2:$ZZ$100,$B$35,FALSE)),"",HLOOKUP(BP3,CP!$B$2:$ZZ$100,$B$35,FALSE)) | BR3: =IF(ISNA(HLOOKUP(BP3,RTT!$B$2:$ZZ$100,$B$35,FALSE)),"",HLOOKUP('Exemple 1'!BP3,RTT!$B$2:$ZZ$100,$B$35,FALSE)) | BS3: =IF(BP3=BQ3,1,"") | BT3: =IF(BP3=BR3,1,"")
A4: L | B4: 40546 | C4: =IF(ISNA(VLOOKUP(B4,CP!$A$1:$BS$50,2,FALSE)),"",VLOOKUP(B4,CP!$A$1:$BS$50,2,FALSE)) | D4: =IF(ISNA(HLOOKUP(B4,RTT!$B$2:$ZZ$100,$B$35,FALSE)),"",HLOOKUP(B4,RTT!$B$2:$ZZ$100,$B$35,FALSE)) -> 40548 | E4: =IF(B4=C4,1,"") | F4: =IF(B4=D4,1,"") | G4: J | H4: 40577 | I4: =IF(ISNA(HLOOKUP(H4,CP!$B$2:$ZZ$100,$B$35,FALSE)),"",HLOOKUP(H4,CP!$B$2:$ZZ$100,$B$35,FALSE)) | J4: =IF(ISNA(HLOOKUP(H4,RTT!$B$2:$ZZ$100,$B$35,FALSE)),"",HLOOKUP('Exemple 1'!H4,RTT!$B$2:$ZZ$100,$B$35,FALSE)) | K4: =IF(H4=I4,1,"") | L4: =IF(H4=J4,1,"") | M4: J | N4: 40605 | O4: =IF(ISNA(HLOOKUP(N4,CP!$B$2:$ZZ$100,$B$35,FALSE)),"",HLOOKUP(N4,CP!$B$2:$ZZ$100,$B$35,FALSE)) | P4: =IF(ISNA(HLOOKUP(N4,RTT!$B$2:$ZZ$100,$B$35,FALSE)),"",HLOOKUP('Exemple 1'!N4,RTT!$B$2:$ZZ$100,$B$35,FALSE)) | Q4: =IF(N4=O4,1,"") | R4: =IF(N4=P4,1,"") | S4: D | T4: 40636 | U4: =IF(ISNA(HLOOKUP(T4,CP!$B$2:$ZZ$100,$B$35,FALSE)),"",HLOOKUP(T4,CP!$B$2:$ZZ$100,$B$35,FALSE)) | V4: =IF(ISNA(HLOOKUP(T4,RTT!$B$2:$ZZ$100,$B$35,FALSE)),"",HLOOKUP('Exemple 1'!T4,RTT!$B$2:$ZZ$100,$B$35,FALSE)) | W4: =IF(T4=U4,1,"") | X4: =IF(T4=V4,1,"") | Y4: M | Z4: 40666 | AA4: =IF(ISNA(HLOOKUP(Z4,CP!$B$2:$ZZ$100,$B$35,FALSE)),"",HLOOKUP(Z4,CP!$B$2:$ZZ$100,$B$35,FALSE)) | AB4: =IF(ISNA(HLOOKUP(Z4,RTT!$B$2:$ZZ$100,$B$35,FALSE)),"",HLOOKUP('Exemple 1'!Z4,RTT!$B$2:$ZZ$100,$B$35,FALSE)) | AC4: =IF(Z4=AA4,1,"") | AD4: =IF(Z4=AB4,1,"") | AE4: V | AF4: 40697 | AG4: =IF(ISNA(HLOOKUP(AF4,CP!$B$2:$ZZ$100,$B$35,FALSE)),"",HLOOKUP(AF4,CP!$B$2:$ZZ$100,$B$35,FALSE)) | AH4: =IF(ISNA(HLOOKUP(AF4,RTT!$B$2:$ZZ$100,$B$35,FALSE)),"",HLOOKUP('Exemple 1'!AF4,RTT!$B$2:$ZZ$100,$B$35,FALSE)) | AI4: =IF(AF4=AG4,1,"") | AJ4: =IF(AF4=AH4,1,"") | AK4: D | AL4: 40727 | AM4: =IF(ISNA(HLOOKUP(AL4,CP!$B$2:$ZZ$100,$B$35,FALSE)),"",HLOOKUP(AL4,CP!$B$2:$ZZ$100,$B$35,FALSE)) | AN4: =IF(ISNA(HLOOKUP(AL4,RTT!$B$2:$ZZ$100,$B$35,FALSE)),"",HLOOKUP('Exemple 1'!AL4,RTT!$B$2:$ZZ$100,$B$35,FALSE)) | AO4: =IF(AL4=AM4,1,"") | AP4: =IF(AL4=AN4,1,"") | AQ4: M | AR4: 40758 | AS4: =IF(ISNA(HLOOKUP(AR4,CP!$B$2:$ZZ$100,$B$35,FALSE)),"",HLOOKUP(AR4,CP!$B$2:$ZZ$100,$B$35,FALSE)) | AT4: =IF(ISNA(HLOOKUP(AR4,RTT!$B$2:$ZZ$100,$B$35,FALSE)),"",HLOOKUP('Exemple 1'!AR4,RTT!$B$2:$ZZ$100,$B$35,FALSE)) | AU4: =IF(AR4=AS4,1,"") | AV4: =IF(AR4=AT4,1,"") | AW4: S | AX4: 40789 | AY4: =IF(ISNA(HLOOKUP(AX4,CP!$B$2:$ZZ$100,$B$35,FALSE)),"",HLOOKUP(AX4,CP!$B$2:$ZZ$100,$B$35,FALSE)) | AZ4: =IF(ISNA(HLOOKUP(AX4,RTT!$B$2:$ZZ$100,$B$35,FALSE)),"",HLOOKUP('Exemple 1'!AX4,RTT!$B$2:$ZZ$100,$B$35,FALSE)) | BA4: =IF(AX4=AY4,1,"") | BB4: =IF(AX4=AZ4,1,"") | BC4: L | BD4: 40819 | BE4: =IF(ISNA(HLOOKUP(BD4,CP!$B$2:$ZZ$100,$B$35,FALSE)),"",HLOOKUP(BD4,CP!$B$2:$ZZ$100,$B$35,FALSE)) | BF4: =IF(ISNA(HLOOKUP(BD4,RTT!$B$2:$ZZ$100,$B$35,FALSE)),"",HLOOKUP('Exemple 1'!BD4,RTT!$B$2:$ZZ$100,$B$35,FALSE)) | BG4: =IF(BD4=BE4,1,"") | BH4: =IF(BD4=BF4,1,"") | BI4: J | BJ4: 40850 | BK4: =IF(ISNA(HLOOKUP(BJ4,CP!$B$2:$ZZ$100,$B$35,FALSE)),"",HLOOKUP(BJ4,CP!$B$2:$ZZ$100,$B$35,FALSE)) | BL4: =IF(ISNA(HLOOKUP(BJ4,RTT!$B$2:$ZZ$100,$B$35,FALSE)),"",HLOOKUP('Exemple 1'!BJ4,RTT!$B$2:$ZZ$100,$B$35,FALSE)) | BM4: =IF(BJ4=BK4,1,"") | BN4: =IF(BJ4=BL4,1,"") | BO4: S | BP4: 40880 | BQ4: =IF(ISNA(HLOOKUP(BP4,CP!$B$2:$ZZ$100,$B$35,FALSE)),"",HLOOKUP(BP4,CP!$B$2:$ZZ$100,$B$35,FALSE)) | BR4: =IF(ISNA(HLOOKUP(BP4,RTT!$B$2:$ZZ$100,$B$35,FALSE)),"",HLOOKUP('Exemple 1'!BP4,RTT!$B$2:$ZZ$100,$B$35,FALSE)) | BS4: =IF(BP4=BQ4,1,"") | BT4: =IF(BP4=BR4,1,"")
A5: M | B5: 40547 | C5: =IF(ISNA(VLOOKUP(B5,CP!$A$1:$BS$50,2,FALSE)),"",VLOOKUP(B5,CP!$A$1:$BS$50,2,FALSE)) | D5: =IF(ISNA(HLOOKUP(B5,RTT!$B$2:$ZZ$100,$B$35,FALSE)),"",HLOOKUP(B5,RTT!$B$2:$ZZ$100,$B$35,FALSE)) | E5: =IF(B5=C5,1,"") | F5: =IF(B5=D5,1,"") | G5: V | H5: 40578 | I5: =IF(ISNA(HLOOKUP(H5,CP!$B$2:$ZZ$100,$B$35,FALSE)),"",HLOOKUP(H5,CP!$B$2:$ZZ$100,$B$35,FALSE)) | J5: =IF(ISNA(HLOOKUP(H5,RTT!$B$2:$ZZ$100,$B$35,FALSE)),"",HLOOKUP('Exemple 1'!H5,RTT!$B$2:$ZZ$100,$B$35,FALSE)) | K5: =IF(H5=I5,1,"") | L5: =IF(H5=J5,1,"") | M5: V | N5: 40606 | O5: =IF(ISNA(HLOOKUP(N5,CP!$B$2:$ZZ$100,$B$35,FALSE)),"",HLOOKUP(N5,CP!$B$2:$ZZ$100,$B$35,FALSE)) | P5: =IF(ISNA(HLOOKUP(N5,RTT!$B$2:$ZZ$100,$B$35,FALSE)),"",HLOOKUP('Exemple 1'!N5,RTT!$B$2:$ZZ$100,$B$35,FALSE)) | Q5: =IF(N5=O5,1,"") | R5: =IF(N5=P5,1,"") | S5: L | T5: 40637 | U5: =IF(ISNA(HLOOKUP(T5,CP!$B$2:$ZZ$100,$B$35,FALSE)),"",HLOOKUP(T5,CP!$B$2:$ZZ$100,$B$35,FALSE)) | V5: =IF(ISNA(HLOOKUP(T5,RTT!$B$2:$ZZ$100,$B$35,FALSE)),"",HLOOKUP('Exemple 1'!T5,RTT!$B$2:$ZZ$100,$B$35,FALSE)) | W5: =IF(T5=U5,1,"") | X5: =IF(T5=V5,1,"") | Y5: M | Z5: 40667 | AA5: =IF(ISNA(HLOOKUP(Z5,CP!$B$2:$ZZ$100,$B$35,FALSE)),"",HLOOKUP(Z5,CP!$B$2:$ZZ$100,$B$35,FALSE)) | AB5: =IF(ISNA(HLOOKUP(Z5,RTT!$B$2:$ZZ$100,$B$35,FALSE)),"",HLOOKUP('Exemple 1'!Z5,RTT!$B$2:$ZZ$100,$B$35,FALSE)) | AC5: =IF(Z5=AA5,1,"") | AD5: =IF(Z5=AB5,1,"") | AE5: S | AF5: 40698 | AG5: =IF(ISNA(HLOOKUP(AF5,CP!$B$2:$ZZ$100,$B$35,FALSE)),"",HLOOKUP(AF5,CP!$B$2:$ZZ$100,$B$35,FALSE)) | AH5: =IF(ISNA(HLOOKUP(AF5,RTT!$B$2:$ZZ$100,$B$35,FALSE)),"",HLOOKUP('Exemple 1'!AF5,RTT!$B$2:$ZZ$100,$B$35,FALSE)) | AI5: =IF(AF5=AG5,1,"") | AJ5: =IF(AF5=AH5,1,"") | AK5: L | AL5: 40728 | AM5: =IF(ISNA(HLOOKUP(AL5,CP!$B$2:$ZZ$100,$B$35,FALSE)),"",HLOOKUP(AL5,CP!$B$2:$ZZ$100,$B$35,FALSE)) | AN5: =IF(ISNA(HLOOKUP(AL5,RTT!$B$2:$ZZ$100,$B$35,FALSE)),"",HLOOKUP('Exemple 1'!AL5,RTT!$B$2:$ZZ$100,$B$35,FALSE)) | AO5: =IF(AL5=AM5,1,"") | AP5: =IF(AL5=AN5,1,"") | AQ5: J | AR5: 40759 | AS5: =IF(ISNA(HLOOKUP(AR5,CP!$B$2:$ZZ$100,$B$35,FALSE)),"",HLOOKUP(AR5,CP!$B$2:$ZZ$100,$B$35,FALSE)) | AT5: =IF(ISNA(HLOOKUP(AR5,RTT!$B$2:$ZZ$100,$B$35,FALSE)),"",HLOOKUP('Exemple 1'!AR5,RTT!$B$2:$ZZ$100,$B$35,FALSE)) | AU5: =IF(AR5=AS5,1,"") | AV5: =IF(AR5=AT5,1,"") | AW5: D | AX5: 40790 | AY5: =IF(ISNA(HLOOKUP(AX5,CP!$B$2:$ZZ$100,$B$35,FALSE)),"",HLOOKUP(AX5,CP!$B$2:$ZZ$100,$B$35,FALSE)) | AZ5: =IF(ISNA(HLOOKUP(AX5,RTT!$B$2:$ZZ$100,$B$35,FALSE)),"",HLOOKUP('Exemple 1'!AX5,RTT!$B$2:$ZZ$100,$B$35,FALSE)) | BA5: =IF(AX5=AY5,1,"") | BB5: =IF(AX5=AZ5,1,"") | BC5: M | BD5: 40820 | BE5: =IF(ISNA(HLOOKUP(BD5,CP!$B$2:$ZZ$100,$B$35,FALSE)),"",HLOOKUP(BD5,CP!$B$2:$ZZ$100,$B$35,FALSE)) | BF5: =IF(ISNA(HLOOKUP(BD5,RTT!$B$2:$ZZ$100,$B$35,FALSE)),"",HLOOKUP('Exemple 1'!BD5,RTT!$B$2:$ZZ$100,$B$35,FALSE)) | BG5: =IF(BD5=BE5,1,"") | BH5: =IF(BD5=BF5,1,"") | BI5: V | BJ5: 40851 | BK5: =IF(ISNA(HLOOKUP(BJ5,CP!$B$2:$ZZ$100,$B$35,FALSE)),"",HLOOKUP(BJ5,CP!$B$2:$ZZ$100,$B$35,FALSE)) | BL5: =IF(ISNA(HLOOKUP(BJ5,RTT!$B$2:$ZZ$100,$B$35,FALSE)),"",HLOOKUP('Exemple 1'!BJ5,RTT!$B$2:$ZZ$100,$B$35,FALSE)) | BM5: =IF(BJ5=BK5,1,"") | BN5: =IF(BJ5=BL5,1,"") | BO5: D | BP5: 40881 | BQ5: =IF(ISNA(HLOOKUP(BP5,CP!$B$2:$ZZ$100,$B$35,FALSE)),"",HLOOKUP(BP5,CP!$B$2:$ZZ$100,$B$35,FALSE)) | BR5: =IF(ISNA(HLOOKUP(BP5,RTT!$B$2:$ZZ$100,$B$35,FALSE)),"",HLOOKUP('Exemple 1'!BP5,RTT!$B$2:$ZZ$100,$B$35,FALSE)) | BS5: =IF(BP5=BQ5,1,"") | BT5: =IF(BP5=BR5,1,"")
A6: M | B6: 40548 | C6: =IF(ISNA(VLOOKUP(B6,CP!$A$1:$BS$50,2,FALSE)),"",VLOOKUP(B6,CP!$A$1:$BS$50,2,FALSE)) | D6: =IF(ISNA(HLOOKUP(B6,RTT!$B$2:$ZZ$100,$B$35,FALSE)),"",HLOOKUP(B6,RTT!$B$2:$ZZ$100,$B$35,FALSE)) | E6: =IF(B6=C6,1,"") | F6: =IF(B6=D6,1,"") | G6: S | H6: 40579 | I6: =IF(ISNA(HLOOKUP(H6,CP!$B$2:$ZZ$100,$B$35,FALSE)),"",HLOOKUP(H6,CP!$B$2:$ZZ$100,$B$35,FALSE)) | J6: =IF(ISNA(HLOOKUP(H6,RTT!$B$2:$ZZ$100,$B$35,FALSE)),"",HLOOKUP('Exemple 1'!H6,RTT!$B$2:$ZZ$100,$B$35,FALSE)) | K6: =IF(H6=I6,1,"") | L6: =IF(H6=J6,1,"") | M6: S | N6: 40607 | O6: =IF(ISNA(HLOOKUP(N6,CP!$B$2:$ZZ$100,$B$35,FALSE)),"",HLOOKUP(N6,CP!$B$2:$ZZ$100,$B$35,FALSE)) | P6: =IF(ISNA(HLOOKUP(N6,RTT!$B$2:$ZZ$100,$B$35,FALSE)),"",HLOOKUP('Exemple 1'!N6,RTT!$B$2:$ZZ$100,$B$35,FALSE)) | Q6: =IF(N6=O6,1,"") | R6: =IF(N6=P6,1,"") | S6: M | T6: 40638 | U6: =IF(ISNA(HLOOKUP(T6,CP!$B$2:$ZZ$100,$B$35,FALSE)),"",HLOOKUP(T6,CP!$B$2:$ZZ$100,$B$35,FALSE)) | V6: =IF(ISNA(HLOOKUP(T6,RTT!$B$2:$ZZ$100,$B$35,FALSE)),"",HLOOKUP('Exemple 1'!T6,RTT!$B$2:$ZZ$100,$B$35,FALSE)) | W6: =IF(T6=U6,1,"") | X6: =IF(T6=V6,1,"") | Y6: J | Z6: 40668 | AA6: =IF(ISNA(HLOOKUP(Z6,CP!$B$2:$ZZ$100,$B$35,FALSE)),"",HLOOKUP(Z6,CP!$B$2:$ZZ$100,$B$35,FALSE)) | AB6: =IF(ISNA(HLOOKUP(Z6,RTT!$B$2:$ZZ$100,$B$35,FALSE)),"",HLOOKUP('Exemple 1'!Z6,RTT!$B$2:$ZZ$100,$B$35,FALSE)) | AC6: =IF(Z6=AA6,1,"") | AD6: =IF(Z6=AB6,1,"") | AE6: D | AF6: 40699 | AG6: =IF(ISNA(HLOOKUP(AF6,CP!$B$2:$ZZ$100,$B$35,FALSE)),"",HLOOKUP(AF6,CP!$B$2:$ZZ$100,$B$35,FALSE)) | AH6: =IF(ISNA(HLOOKUP(AF6,RTT!$B$2:$ZZ$100,$B$35,FALSE)),"",HLOOKUP('Exemple 1'!AF6,RTT!$B$2:$ZZ$100,$B$35,FALSE)) | AI6: =IF(AF6=AG6,1,"") | AJ6: =IF(AF6=AH6,1,"") | AK6: M | AL6: 40729 | AM6: =IF(ISNA(HLOOKUP(AL6,CP!$B$2:$ZZ$100,$B$35,FALSE)),"",HLOOKUP(AL6,CP!$B$2:$ZZ$100,$B$35,FALSE)) | AN6: =IF(ISNA(HLOOKUP(AL6,RTT!$B$2:$ZZ$100,$B$35,FALSE)),"",HLOOKUP('Exemple 1'!AL6,RTT!$B$2:$ZZ$100,$B$35,FALSE)) | AO6: =IF(AL6=AM6,1,"") | AP6: =IF(AL6=AN6,1,"") | AQ6: V | AR6: 40760 | AS6: =IF(ISNA(HLOOKUP(AR6,CP!$B$2:$ZZ$100,$B$35,FALSE)),"",HLOOKUP(AR6,CP!$B$2:$ZZ$100,$B$35,FALSE)) | AT6: =IF(ISNA(HLOOKUP(AR6,RTT!$B$2:$ZZ$100,$B$35,FALSE)),"",HLOOKUP('Exemple 1'!AR6,RTT!$B$2:$ZZ$100,$B$35,FALSE)) | AU6: =IF(AR6=AS6,1,"") | AV6: =IF(AR6=AT6,1,"") | AW6: L | AX6: 40791 | AY6: =IF(ISNA(HLOOKUP(AX6,CP!$B$2:$ZZ$100,$B$35,FALSE)),"",HLOOKUP(AX6,CP!$B$2:$ZZ$100,$B$35,FALSE)) | AZ6: =IF(ISNA(HLOOKUP(AX6,RTT!$B$2:$ZZ$100,$B$35,FALSE)),"",HLOOKUP('Exemple 1'!AX6,RTT!$B$2:$ZZ$100,$B$35,FALSE)) | BA6: =IF(AX6=AY6,1,"") | BB6: =IF(AX6=AZ6,1,"") | BC6: M | BD6: 40821 | BE6: =IF(ISNA(HLOOKUP(BD6,CP!$B$2:$ZZ$100,$B$35,FALSE)),"",HLOOKUP(BD6,CP!$B$2:$ZZ$100,$B$35,FALSE)) | BF6: =IF(ISNA(HLOOKUP(BD6,RTT!$B$2:$ZZ$100,$B$35,FALSE)),"",HLOOKUP('Exemple 1'!BD6,RTT!$B$2:$ZZ$100,$B$35,FALSE)) | BG6: =IF(BD6=BE6,1,"") | BH6: =IF(BD6=BF6,1,"") | BI6: S | BJ6: 40852 | BK6: =IF(ISNA(HLOOKUP(BJ6,CP!$B$2:$ZZ$100,$B$35,FALSE)),"",HLOOKUP(BJ6,CP!$B$2:$ZZ$100,$B$35,FALSE)) | BL6: =IF(ISNA(HLOOKUP(BJ6,RTT!$B$2:$ZZ$100,$B$35,FALSE)),"",HLOOKUP('Exemple 1'!BJ6,RTT!$B$2:$ZZ$100,$B$35,FALSE)) | BM6: =IF(BJ6=BK6,1,"") | BN6: =IF(BJ6=BL6,1,"") | BO6: L | BP6: 40882 | BQ6: =IF(ISNA(HLOOKUP(BP6,CP!$B$2:$ZZ$100,$B$35,FALSE)),"",HLOOKUP(BP6,CP!$B$2:$ZZ$100,$B$35,FALSE)) | BR6: =IF(ISNA(HLOOKUP(BP6,RTT!$B$2:$ZZ$100,$B$35,FALSE)),"",HLOOKUP('Exemple 1'!BP6,RTT!$B$2:$ZZ$100,$B$35,FALSE)) | BS6: =IF(BP6=BQ6,1,"") | BT6: =IF(BP6=BR6,1,"")
A7: J | B7: 40549 | C7: =IF(ISNA(VLOOKUP(B7,CP!$A$1:$BS$50,2,FALSE)),"",VLOOKUP(B7,CP!$A$1:$BS$50,2,FALSE)) | D7: =IF(ISNA(HLOOKUP(B7,RTT!$B$2:$ZZ$100,$B$35,FALSE)),"",HLOOKUP(B7,RTT!$B$2:$ZZ$100,$B$35,FALSE)) | E7: =IF(B7=C7,1,"") | F7: =IF(B7=D7,1,"") | G7: D | H7: 40580 | I7: =IF(ISNA(HLOOKUP(H7,CP!$B$2:$ZZ$100,$B$35,FALSE)),"",HLOOKUP(H7,CP!$B$2:$ZZ$100,$B$35,FALSE)) | J7: =IF(ISNA(HLOOKUP(H7,RTT!$B$2:$ZZ$100,$B$35,FALSE)),"",HLOOKUP('Exemple 1'!H7,RTT!$B$2:$ZZ$100,$B$35,FALSE)) | K7: =IF(H7=I7,1,"") | L7: =IF(H7=J7,1,"") | M7: D | N7: 40608 | O7: =IF(ISNA(HLOOKUP(N7,CP!$B$2:$ZZ$100,$B$35,FALSE)),"",HLOOKUP(N7,CP!$B$2:$ZZ$100,$B$35,FALSE)) | P7: =IF(ISNA(HLOOKUP(N7,RTT!$B$2:$ZZ$100,$B$35,FALSE)),"",HLOOKUP('Exemple 1'!N7,RTT!$B$2:$ZZ$100,$B$35,FALSE)) | Q7: =IF(N7=O7,1,"") | R7: =IF(N7=P7,1,"") | S7: M | T7: 40639 | U7: =IF(ISNA(HLOOKUP(T7,CP!$B$2:$ZZ$100,$B$35,FALSE)),"",HLOOKUP(T7,CP!$B$2:$ZZ$100,$B$35,FALSE)) | V7: =IF(ISNA(HLOOKUP(T7,RTT!$B$2:$ZZ$100,$B$35,FALSE)),"",HLOOKUP('Exemple 1'!T7,RTT!$B$2:$ZZ$100,$B$35,FALSE)) | W7: =IF(T7=U7,1,"") | X7: =IF(T7=V7,1,"") | Y7: V | Z7: 40669 | AA7: =IF(ISNA(HLOOKUP(Z7,CP!$B$2:$ZZ$100,$B$35,FALSE)),"",HLOOKUP(Z7,CP!$B$2:$ZZ$100,$B$35,FALSE)) | AB7: =IF(ISNA(HLOOKUP(Z7,RTT!$B$2:$ZZ$100,$B$35,FALSE)),"",HLOOKUP('Exemple 1'!Z7,RTT!$B$2:$ZZ$100,$B$35,FALSE)) | AC7: =IF(Z7=AA7,1,"") | AD7: =IF(Z7=AB7,1,"") | AE7: L | AF7: 40700 | AG7: =IF(ISNA(HLOOKUP(AF7,CP!$B$2:$ZZ$100,$B$35,FALSE)),"",HLOOKUP(AF7,CP!$B$2:$ZZ$100,$B$35,FALSE)) | AH7: =IF(ISNA(HLOOKUP(AF7,RTT!$B$2:$ZZ$100,$B$35,FALSE)),"",HLOOKUP('Exemple 1'!AF7,RTT!$B$2:$ZZ$100,$B$35,FALSE)) | AI7: =IF(AF7=AG7,1,"") | AJ7: =IF(AF7=AH7,1,"") | AK7: M | AL7: 40730 | AM7: =IF(ISNA(HLOOKUP(AL7,CP!$B$2:$ZZ$100,$B$35,FALSE)),"",HLOOKUP(AL7,CP!$B$2:$ZZ$100,$B$35,FALSE)) | AN7: =IF(ISNA(HLOOKUP(AL7,RTT!$B$2:$ZZ$100,$B$35,FALSE)),"",HLOOKUP('Exemple 1'!AL7,RTT!$B$2:$ZZ$100,$B$35,FALSE)) | AO7: =IF(AL7=AM7,1,"") | AP7: =IF(AL7=AN7,1,"") | AQ7: S | AR7: 40761 | AS7: =IF(ISNA(HLOOKUP(AR7,CP!$B$2:$ZZ$100,$B$35,FALSE)),"",HLOOKUP(AR7,CP!$B$2:$ZZ$100,$B$35,FALSE)) | AT7: =IF(ISNA(HLOOKUP(AR7,RTT!$B$2:$ZZ$100,$B$35,FALSE)),"",HLOOKUP('Exemple 1'!AR7,RTT!$B$2:$ZZ$100,$B$35,FALSE)) | AU7: =IF(AR7=AS7,1,"") | AV7: =IF(AR7=AT7,1,"") | AW7: M | AX7: 40792 | AY7: =IF(ISNA(HLOOKUP(AX7,CP!$B$2:$ZZ$100,$B$35,FALSE)),"",HLOOKUP(AX7,CP!$B$2:$ZZ$100,$B$35,FALSE)) | AZ7: =IF(ISNA(HLOOKUP(AX7,RTT!$B$2:$ZZ$100,$B$35,FALSE)),"",HLOOKUP('Exemple 1'!AX7,RTT!$B$2:$ZZ$100,$B$35,FALSE)) | BA7: =IF(AX7=AY7,1,"") | BB7: =IF(AX7=AZ7,1,"") | BC7: J | BD7: 40822 | BE7: =IF(ISNA(HLOOKUP(BD7,CP!$B$2:$ZZ$100,$B$35,FALSE)),"",HLOOKUP(BD7,CP!$B$2:$ZZ$100,$B$35,FALSE)) | BF7: =IF(ISNA(HLOOKUP(BD7,RTT!$B$2:$ZZ$100,$B$35,FALSE)),"",HLOOKUP('Exemple 1'!BD7,RTT!$B$2:$ZZ$100,$B$35,FALSE)) | BG7: =IF(BD7=BE7,1,"") | BH7: =IF(BD7=BF7,1,"") | BI7: D | BJ7: 40853 | BK7: =IF(ISNA(HLOOKUP(BJ7,CP!$B$2:$ZZ$100,$B$35,FALSE)),"",HLOOKUP(BJ7,CP!$B$2:$ZZ$100,$B$35,FALSE)) | BL7: =IF(ISNA(HLOOKUP(BJ7,RTT!$B$2:$ZZ$100,$B$35,FALSE)),"",HLOOKUP('Exemple 1'!BJ7,RTT!$B$2:$ZZ$100,$B$35,FALSE)) | BM7: =IF(BJ7=BK7,1,"") | BN7: =IF(BJ7=BL7,1,"") | BO7: M | BP7: 40883 | BQ7: =IF(ISNA(HLOOKUP(BP7,CP!$B$2:$ZZ$100,$B$35,FALSE)),"",HLOOKUP(BP7,CP!$B$2:$ZZ$100,$B$35,FALSE)) | BR7: =IF(ISNA(HLOOKUP(BP7,RTT!$B$2:$ZZ$100,$B$35,FALSE)),"",HLOOKUP('Exemple 1'!BP7,RTT!$B$2:$ZZ$100,$B$35,FALSE)) | BS7: =IF(BP7=BQ7,1,"") | BT7: =IF(BP7=BR7,1,"")
A8: V | B8: 40550 | C8: =IF(ISNA(VLOOKUP(B8,CP!$A$1:$BS$50,2,FALSE)),"",VLOOKUP(B8,CP!$A$1:$BS$50,2,FALSE)) | D8: =IF(ISNA(HLOOKUP(B8,RTT!$B$2:$ZZ$100,$B$35,FALSE)),"",HLOOKUP(B8,RTT!$B$2:$ZZ$100,$B$35,FALSE)) | E8: =IF(B8=C8,1,"") | F8: =IF(B8=D8,1,"") | G8: L | H8: 40581 | I8: =IF(ISNA(HLOOKUP(H8,CP!$B$2:$ZZ$100,$B$35,FALSE)),"",HLOOKUP(H8,CP!$B$2:$ZZ$100,$B$35,FALSE)) | J8: =IF(ISNA(HLOOKUP(H8,RTT!$B$2:$ZZ$100,$B$35,FALSE)),"",HLOOKUP('Exemple 1'!H8,RTT!$B$2:$ZZ$100,$B$35,FALSE)) | K8: =IF(H8=I8,1,"") | L8: =IF(H8=J8,1,"") | M8: L | N8: 40609 | O8: =IF(ISNA(HLOOKUP(N8,CP!$B$2:$ZZ$100,$B$35,FALSE)),"",HLOOKUP(N8,CP!$B$2:$ZZ$100,$B$35,FALSE)) | P8: =IF(ISNA(HLOOKUP(N8,RTT!$B$2:$ZZ$100,$B$35,FALSE)),"",HLOOKUP('Exemple 1'!N8,RTT!$B$2:$ZZ$100,$B$35,FALSE)) | Q8: =IF(N8=O8,1,"") | R8: =IF(N8=P8,1,"") | S8: J | T8: 40640 | U8: =IF(ISNA(HLOOKUP(T8,CP!$B$2:$ZZ$100,$B$35,FALSE)),"",HLOOKUP(T8,CP!$B$2:$ZZ$100,$B$35,FALSE)) | V8: =IF(ISNA(HLOOKUP(T8,RTT!$B$2:$ZZ$100,$B$35,FALSE)),"",HLOOKUP('Exemple 1'!T8,RTT!$B$2:$ZZ$100,$B$35,FALSE)) | W8: =IF(T8=U8,1,"") | X8: =IF(T8=V8,1,"") | Y8: S | Z8: 40670 | AA8: =IF(ISNA(HLOOKUP(Z8,CP!$B$2:$ZZ$100,$B$35,FALSE)),"",HLOOKUP(Z8,CP!$B$2:$ZZ$100,$B$35,FALSE)) | AB8: =IF(ISNA(HLOOKUP(Z8,RTT!$B$2:$ZZ$100,$B$35,FALSE)),"",HLOOKUP('Exemple 1'!Z8,RTT!$B$2:$ZZ$100,$B$35,FALSE)) | AC8: =IF(Z8=AA8,1,"") | AD8: =IF(Z8=AB8,1,"") | AE8: M | AF8: 40701 | AG8: =IF(ISNA(HLOOKUP(AF8,CP!$B$2:$ZZ$100,$B$35,FALSE)),"",HLOOKUP(AF8,CP!$B$2:$ZZ$100,$B$35,FALSE)) | AH8: =IF(ISNA(HLOOKUP(AF8,RTT!$B$2:$ZZ$100,$B$35,FALSE)),"",HLOOKUP('Exemple 1'!AF8,RTT!$B$2:$ZZ$100,$B$35,FALSE)) | AI8: =IF(AF8=AG8,1,"") | AJ8: =IF(AF8=AH8,1,"") | AK8: J | AL8: 40731 | AM8: =IF(ISNA(HLOOKUP(AL8,CP!$B$2:$ZZ$100,$B$35,FALSE)),"",HLOOKUP(AL8,CP!$B$2:$ZZ$100,$B$35,FALSE)) | AN8: =IF(ISNA(HLOOKUP(AL8,RTT!$B$2:$ZZ$100,$B$35,FALSE)),"",HLOOKUP('Exemple 1'!AL8,RTT!$B$2:$ZZ$100,$B$35,FALSE)) | AO8: =IF(AL8=AM8,1,"") | AP8: =IF(AL8=AN8,1,"") | AQ8: D | AR8: 40762 | AS8: =IF(ISNA(HLOOKUP(AR8,CP!$B$2:$ZZ$100,$B$35,FALSE)),"",HLOOKUP(AR8,CP!$B$2:$ZZ$100,$B$35,FALSE)) | AT8: =IF(ISNA(HLOOKUP(AR8,RTT!$B$2:$ZZ$100,$B$35,FALSE)),"",HLOOKUP('Exemple 1'!AR8,RTT!$B$2:$ZZ$100,$B$35,FALSE)) | AU8: =IF(AR8=AS8,1,"") | AV8: =IF(AR8=AT8,1,"") | AW8: M | AX8: 40793 | AY8: =IF(ISNA(HLOOKUP(AX8,CP!$B$2:$ZZ$100,$B$35,FALSE)),"",HLOOKUP(AX8,CP!$B$2:$ZZ$100,$B$35,FALSE)) | AZ8: =IF(ISNA(HLOOKUP(AX8,RTT!$B$2:$ZZ$100,$B$35,FALSE)),"",HLOOKUP('Exemple 1'!AX8,RTT!$B$2:$ZZ$100,$B$35,FALSE)) | BA8: =IF(AX8=AY8,1,"") | BB8: =IF(AX8=AZ8,1,"") | BC8: V | BD8: 40823 | BE8: =IF(ISNA(HLOOKUP(BD8,CP!$B$2:$ZZ$100,$B$35,FALSE)),"",HLOOKUP(BD8,CP!$B$2:$ZZ$100,$B$35,FALSE)) | BF8: =IF(ISNA(HLOOKUP(BD8,RTT!$B$2:$ZZ$100,$B$35,FALSE)),"",HLOOKUP('Exemple 1'!BD8,RTT!$B$2:$ZZ$100,$B$35,FALSE)) | BG8: =IF(BD8=BE8,1,"") | BH8: =IF(BD8=BF8,1,"") | BI8: L | BJ8: 40854 | BK8: =IF(ISNA(HLOOKUP(BJ8,CP!$B$2:$ZZ$100,$B$35,FALSE)),"",HLOOKUP(BJ8,CP!$B$2:$ZZ$100,$B$35,FALSE)) | BL8: =IF(ISNA(HLOOKUP(BJ8,RTT!$B$2:$ZZ$100,$B$35,FALSE)),"",HLOOKUP('Exemple 1'!BJ8,RTT!$B$2:$ZZ$100,$B$35,FALSE)) | BM8: =IF(BJ8=BK8,1,"") | BN8: =IF(BJ8=BL8,1,"") | BO8: M | BP8: 40884 | BQ8: =IF(ISNA(HLOOKUP(BP8,CP!$B$2:$ZZ$100,$B$35,FALSE)),"",HLOOKUP(BP8,CP!$B$2:$ZZ$100,$B$35,FALSE)) | BR8: =IF(ISNA(HLOOKUP(BP8,RTT!$B$2:$ZZ$100,$B$35,FALSE)),"",HLOOKUP('Exemple 1'!BP8,RTT!$B$2:$ZZ$100,$B$35,FALSE)) | BS8: =IF(BP8=BQ8,1,"") | BT8: =IF(BP8=BR8,1,"")
A9: S | B9: 40551 | C9: =IF(ISNA(VLOOKUP(B9,CP!$A$1:$BS$50,2,FALSE)),"",VLOOKUP(B9,CP!$A$1:$BS$50,2,FALSE)) | D9: =IF(ISNA(HLOOKUP(B9,RTT!$B$2:$ZZ$100,$B$35,FALSE)),"",HLOOKUP(B9,RTT!$B$2:$ZZ$100,$B$35,FALSE)) | E9: =IF(B9=C9,1,"") | F9: =IF(B9=D9,1,"") | G9: M | H9: 40582 | I9: =IF(ISNA(HLOOKUP(H9,CP!$B$2:$ZZ$100,$B$35,FALSE)),"",HLOOKUP(H9,CP!$B$2:$ZZ$100,$B$35,FALSE)) | J9: =IF(ISNA(HLOOKUP(H9,RTT!$B$2:$ZZ$100,$B$35,FALSE)),"",HLOOKUP('Exemple 1'!H9,RTT!$B$2:$ZZ$100,$B$35,FALSE)) | K9: =IF(H9=I9,1,"") | L9: =IF(H9=J9,1,"") | M9: M | N9: 40610 | O9: =IF(ISNA(HLOOKUP(N9,CP!$B$2:$ZZ$100,$B$35,FALSE)),"",HLOOKUP(N9,CP!$B$2:$ZZ$100,$B$35,FALSE)) | P9: =IF(ISNA(HLOOKUP(N9,RTT!$B$2:$ZZ$100,$B$35,FALSE)),"",HLOOKUP('Exemple 1'!N9,RTT!$B$2:$ZZ$100,$B$35,FALSE)) | Q9: =IF(N9=O9,1,"") | R9: =IF(N9=P9,1,"") | S9: V | T9: 40641 | U9: =IF(ISNA(HLOOKUP(T9,CP!$B$2:$ZZ$100,$B$35,FALSE)),"",HLOOKUP(T9,CP!$B$2:$ZZ$100,$B$35,FALSE)) | V9: =IF(ISNA(HLOOKUP(T9,RTT!$B$2:$ZZ$100,$B$35,FALSE)),"",HLOOKUP('Exemple 1'!T9,RTT!$B$2:$ZZ$100,$B$35,FALSE)) | W9: =IF(T9=U9,1,"") | X9: =IF(T9=V9,1,"") | Y9: D | Z9: 40671 | AA9: =IF(ISNA(HLOOKUP(Z9,CP!$B$2:$ZZ$100,$B$35,FALSE)),"",HLOOKUP(Z9,CP!$B$2:$ZZ$100,$B$35,FALSE)) | AB9: =IF(ISNA(HLOOKUP(Z9,RTT!$B$2:$ZZ$100,$B$35,FALSE)),"",HLOOKUP('Exemple 1'!Z9,RTT!$B$2:$ZZ$100,$B$35,FALSE)) | AC9: =IF(Z9=AA9,1,"") | AD9: =IF(Z9=AB9,1,"") | AE9: M | AF9: 40702 | AG9: =IF(ISNA(HLOOKUP(AF9,CP!$B$2:$ZZ$100,$B$35,FALSE)),"",HLOOKUP(AF9,CP!$B$2:$ZZ$100,$B$35,FALSE)) | AH9: =IF(ISNA(HLOOKUP(AF9,RTT!$B$2:$ZZ$100,$B$35,FALSE)),"",HLOOKUP('Exemple 1'!AF9,RTT!$B$2:$ZZ$100,$B$35,FALSE)) | AI9: =IF(AF9=AG9,1,"") | AJ9: =IF(AF9=AH9,1,"") | AK9: V | AL9: 40732 | AM9: =IF(ISNA(HLOOKUP(AL9,CP!$B$2:$ZZ$100,$B$35,FALSE)),"",HLOOKUP(AL9,CP!$B$2:$ZZ$100,$B$35,FALSE)) | AN9: =IF(ISNA(HLOOKUP(AL9,RTT!$B$2:$ZZ$100,$B$35,FALSE)),"",HLOOKUP('Exemple 1'!AL9,RTT!$B$2:$ZZ$100,$B$35,FALSE)) | AO9: =IF(AL9=AM9,1,"") | AP9: =IF(AL9=AN9,1,"") | AQ9: L | AR9: 40763 | AS9: =IF(ISNA(HLOOKUP(AR9,CP!$B$2:$ZZ$100,$B$35,FALSE)),"",HLOOKUP(AR9,CP!$B$2:$ZZ$100,$B$35,FALSE)) | AT9: =IF(ISNA(HLOOKUP(AR9,RTT!$B$2:$ZZ$100,$B$35,FALSE)),"",HLOOKUP('Exemple 1'!AR9,RTT!$B$2:$ZZ$100,$B$35,FALSE)) | AU9: =IF(AR9=AS9,1,"") | AV9: =IF(AR9=AT9,1,"") | AW9: J | AX9: 40794 | AY9: =IF(ISNA(HLOOKUP(AX9,CP!$B$2:$ZZ$100,$B$35,FALSE)),"",HLOOKUP(AX9,CP!$B$2:$ZZ$100,$B$35,FALSE)) | AZ9: =IF(ISNA(HLOOKUP(AX9,RTT!$B$2:$ZZ$100,$B$35,FALSE)),"",HLOOKUP('Exemple 1'!AX9,RTT!$B$2:$ZZ$100,$B$35,FALSE)) | BA9: =IF(AX9=AY9,1,"") | BB9: =IF(AX9=AZ9,1,"") | BC9: S | BD9: 40824 | BE9: =IF(ISNA(HLOOKUP(BD9,CP!$B$2:$ZZ$100,$B$35,FALSE)),"",HLOOKUP(BD9,CP!$B$2:$ZZ$100,$B$35,FALSE)) | BF9: =IF(ISNA(HLOOKUP(BD9,RTT!$B$2:$ZZ$100,$B$35,FALSE)),"",HLOOKUP('Exemple 1'!BD9,RTT!$B$2:$ZZ$100,$B$35,FALSE)) | BG9: =IF(BD9=BE9,1,"") | BH9: =IF(BD9=BF9,1,"") | BI9: M | BJ9: 40855 | BK9: =IF(ISNA(HLOOKUP(BJ9,CP!$B$2:$ZZ$100,$B$35,FALSE)),"",HLOOKUP(BJ9,CP!$B$2:$ZZ$100,$B$35,FALSE)) | BL9: =IF(ISNA(HLOOKUP(BJ9,RTT!$B$2:$ZZ$100,$B$35,FALSE)),"",HLOOKUP('Exemple 1'!BJ9,RTT!$B$2:$ZZ$100,$B$35,FALSE)) | BM9: =IF(BJ9=BK9,1,"") | BN9: =IF(BJ9=BL9,1,"") | BO9: J | BP9: 40885 | BQ9: =IF(ISNA(HLOOKUP(BP9,CP!$B$2:$ZZ$100,$B$35,FALSE)),"",HLOOKUP(BP9,CP!$B$2:$ZZ$100,$B$35,FALSE)) | BR9: =IF(ISNA(HLOOKUP(BP9,RTT!$B$2:$ZZ$100,$B$35,FALSE)),"",HLOOKUP('Exemple 1'!BP9,RTT!$B$2:$ZZ$100,$B$35,FALSE)) | BS9: =IF(BP9=BQ9,1,"") | BT9: =IF(BP9=BR9,1,"")
A10: D | B10: 40552 | C10: =IF(ISNA(VLOOKUP(B10,CP!$A$1:$BS$50,2,FALSE)),"",VLOOKUP(B10,CP!$A$1:$BS$50,2,FALSE)) | D10: =IF(ISNA(HLOOKUP(B10,RTT!$B$2:$ZZ$100,$B$35,FALSE)),"",HLOOKUP(B10,RTT!$B$2:$ZZ$100,$B$35,FALSE)) | E10: =IF(B10=C10,1,"") | F10: =IF(B10=D10,1,"") | G10: M | H10: 40583 | I10: =IF(ISNA(HLOOKUP(H10,CP!$B$2:$ZZ$100,$B$35,FALSE)),"",HLOOKUP(H10,CP!$B$2:$ZZ$100,$B$35,FALSE)) | J10: =IF(ISNA(HLOOKUP(H10,RTT!$B$2:$ZZ$100,$B$35,FALSE)),"",HLOOKUP('Exemple 1'!H10,RTT!$B$2:$ZZ$100,$B$35,FALSE)) | K10: =IF(H10=I10,1,"") | L10: =IF(H10=J10,1,"") | M10: M | N10: 40611 | O10: =IF(ISNA(HLOOKUP(N10,CP!$B$2:$ZZ$100,$B$35,FALSE)),"",HLOOKUP(N10,CP!$B$2:$ZZ$100,$B$35,FALSE)) | P10: =IF(ISNA(HLOOKUP(N10,RTT!$B$2:$ZZ$100,$B$35,FALSE)),"",HLOOKUP('Exemple 1'!N10,RTT!$B$2:$ZZ$100,$B$35,FALSE)) | Q10: =IF(N10=O10,1,"") | R10: =IF(N10=P10,1,"") | S10: S | T10: 40642 | U10: =IF(ISNA(HLOOKUP(T10,CP!$B$2:$ZZ$100,$B$35,FALSE)),"",HLOOKUP(T10,CP!$B$2:$ZZ$100,$B$35,FALSE)) | V10: =IF(ISNA(HLOOKUP(T10,RTT!$B$2:$ZZ$100,$B$35,FALSE)),"",HLOOKUP('Exemple 1'!T10,RTT!$B$2:$ZZ$100,$B$35,FALSE)) | W10: =IF(T10=U10,1,"") | X10: =IF(T10=V10,1,"") | Y10: L | Z10: 40672 | AA10: =IF(ISNA(HLOOKUP(Z10,CP!$B$2:$ZZ$100,$B$35,FALSE)),"",HLOOKUP(Z10,CP!$B$2:$ZZ$100,$B$35,FALSE)) | AB10: =IF(ISNA(HLOOKUP(Z10,RTT!$B$2:$ZZ$100,$B$35,FALSE)),"",HLOOKUP('Exemple 1'!Z10,RTT!$B$2:$ZZ$100,$B$35,FALSE)) | AC10: =IF(Z10=AA10,1,"") | AD10: =IF(Z10=AB10,1,"") | AE10: J | AF10: 40703 | AG10: =IF(ISNA(HLOOKUP(AF10,CP!$B$2:$ZZ$100,$B$35,FALSE)),"",HLOOKUP(AF10,CP!$B$2:$ZZ$100,$B$35,FALSE)) | AH10: =IF(ISNA(HLOOKUP(AF10,RTT!$B$2:$ZZ$100,$B$35,FALSE)),"",HLOOKUP('Exemple 1'!AF10,RTT!$B$2:$ZZ$100,$B$35,FALSE)) | AI10: =IF(AF10=AG10,1,"") | AJ10: =IF(AF10=AH10,1,"") | AK10: S | AL10: 40733 | AM10: =IF(ISNA(HLOOKUP(AL10,CP!$B$2:$ZZ$100,$B$35,FALSE)),"",HLOOKUP(AL10,CP!$B$2:$ZZ$100,$B$35,FALSE)) | AN10: =IF(ISNA(HLOOKUP(AL10,RTT!$B$2:$ZZ$100,$B$35,FALSE)),"",HLOOKUP('Exemple 1'!AL10,RTT!$B$2:$ZZ$100,$B$35,FALSE)) | AO10: =IF(AL10=AM10,1,"") | AP10: =IF(AL10=AN10,1,"") | AQ10: M | AR10: 40764 | AS10: =IF(ISNA(HLOOKUP(AR10,CP!$B$2:$ZZ$100,$B$35,FALSE)),"",HLOOKUP(AR10,CP!$B$2:$ZZ$100,$B$35,FALSE)) | AT10: =IF(ISNA(HLOOKUP(AR10,RTT!$B$2:$ZZ$100,$B$35,FALSE)),"",HLOOKUP('Exemple 1'!AR10,RTT!$B$2:$ZZ$100,$B$35,FALSE)) | AU10: =IF(AR10=AS10,1,"") | AV10: =IF(AR10=AT10,1,"") | AW10: V | AX10: 40795 | AY10: =IF(ISNA(HLOOKUP(AX10,CP!$B$2:$ZZ$100,$B$35,FALSE)),"",HLOOKUP(AX10,CP!$B$2:$ZZ$100,$B$35,FALSE)) | AZ10: =IF(ISNA(HLOOKUP(AX10,RTT!$B$2:$ZZ$100,$B$35,FALSE)),"",HLOOKUP('Exemple 1'!AX10,RTT!$B$2:$ZZ$100,$B$35,FALSE)) | BA10: =IF(AX10=AY10,1,"") | BB10: =IF(AX10=AZ10,1,"") | BC10: D | BD10: 40825 | BE10: =IF(ISNA(HLOOKUP(BD10,CP!$B$2:$ZZ$100,$B$35,FALSE)),"",HLOOKUP(BD10,CP!$B$2:$ZZ$100,$B$35,FALSE)) | BF10: =IF(ISNA(HLOOKUP(BD10,RTT!$B$2:$ZZ$100,$B$35,FALSE)),"",HLOOKUP('Exemple 1'!BD10,RTT!$B$2:$ZZ$100,$B$35,FALSE)) | BG10: =IF(BD10=BE10,1,"") | BH10: =IF(BD10=BF10,1,"") | BI10: M | BJ10: 40856 | BK10: =IF(ISNA(HLOOKUP(BJ10,CP!$B$2:$ZZ$100,$B$35,FALSE)),"",HLOOKUP(BJ10,CP!$B$2:$ZZ$100,$B$35,FALSE)) | BL10: =IF(ISNA(HLOOKUP(BJ10,RTT!$B$2:$ZZ$100,$B$35,FALSE)),"",HLOOKUP('Exemple 1'!BJ10,RTT!$B$2:$ZZ$100,$B$35,FALSE)) | BM10: =IF(BJ10=BK10,1,"") | BN10: =IF(BJ10=BL10,1,"") | BO10: V | BP10: 40886 | BQ10: =IF(ISNA(HLOOKUP(BP10,CP!$B$2:$ZZ$100,$B$35,FALSE)),"",HLOOKUP(BP10,CP!$B$2:$ZZ$100,$B$35,FALSE)) | BR10: =IF(ISNA(HLOOKUP(BP10,RTT!$B$2:$ZZ$100,$B$35,FALSE)),"",HLOOKUP('Exemple 1'!BP10,RTT!$B$2:$ZZ$100,$B$35,FALSE)) | BS10: =IF(BP10=BQ10,1,"") | BT10: =IF(BP10=BR10,1,"")
A11: L | B11: 40553 | C11: =IF(ISNA(VLOOKUP(B11,CP!$A$1:$BS$50,2,FALSE)),"",VLOOKUP(B11,CP!$A$1:$BS$50,2,FALSE)) | D11: =IF(ISNA(HLOOKUP(B11,RTT!$B$2:$ZZ$100,$B$35,FALSE)),"",HLOOKUP(B11,RTT!$B$2:$ZZ$100,$B$35,FALSE)) | E11: =IF(B11=C11,1,"") | F11: =IF(B11=D11,1,"") | G11: J | H11: 40584 | I11: =IF(ISNA(HLOOKUP(H11,CP!$B$2:$ZZ$100,$B$35,FALSE)),"",HLOOKUP(H11,CP!$B$2:$ZZ$100,$B$35,FALSE)) | J11: =IF(ISNA(HLOOKUP(H11,RTT!$B$2:$ZZ$100,$B$35,FALSE)),"",HLOOKUP('Exemple 1'!H11,RTT!$B$2:$ZZ$100,$B$35,FALSE)) | K11: =IF(H11=I11,1,"") | L11: =IF(H11=J11,1,"") | M11: J | N11: 40612 | O11: =IF(ISNA(HLOOKUP(N11,CP!$B$2:$ZZ$100,$B$35,FALSE)),"",HLOOKUP(N11,CP!$B$2:$ZZ$100,$B$35,FALSE)) | P11: =IF(ISNA(HLOOKUP(N11,RTT!$B$2:$ZZ$100,$B$35,FALSE)),"",HLOOKUP('Exemple 1'!N11,RTT!$B$2:$ZZ$100,$B$35,FALSE)) | Q11: =IF(N11=O11,1,"") | R11: =IF(N11=P11,1,"") | S11: D | T11: 40643 | U11: =IF(ISNA(HLOOKUP(T11,CP!$B$2:$ZZ$100,$B$35,FALSE)),"",HLOOKUP(T11,CP!$B$2:$ZZ$100,$B$35,FALSE)) | V11: =IF(ISNA(HLOOKUP(T11,RTT!$B$2:$ZZ$100,$B$35,FALSE)),"",HLOOKUP('Exemple 1'!T11,RTT!$B$2:$ZZ$100,$B$35,FALSE)) | W11: =IF(T11=U11,1,"") | X11: =IF(T11=V11,1,"") | Y11: M | Z11: 40673 | AA11: =IF(ISNA(HLOOKUP(Z11,CP!$B$2:$ZZ$100,$B$35,FALSE)),"",HLOOKUP(Z11,CP!$B$2:$ZZ$100,$B$35,FALSE)) | AB11: =IF(ISNA(HLOOKUP(Z11,RTT!$B$2:$ZZ$100,$B$35,FALSE)),"",HLOOKUP('Exemple 1'!Z11,RTT!$B$2:$ZZ$100,$B$35,FALSE)) | AC11: =IF(Z11=AA11,1,"") | AD11: =IF(Z11=AB11,1,"") | AE11: V | AF11: 40704 | AG11: =IF(ISNA(HLOOKUP(AF11,CP!$B$2:$ZZ$100,$B$35,FALSE)),"",HLOOKUP(AF11,CP!$B$2:$ZZ$100,$B$35,FALSE)) | AH11: =IF(ISNA(HLOOKUP(AF11,RTT!$B$2:$ZZ$100,$B$35,FALSE)),"",HLOOKUP('Exemple 1'!AF11,RTT!$B$2:$ZZ$100,$B$35,FALSE)) | AI11: =IF(AF11=AG11,1,"") | AJ11: =IF(AF11=AH11,1,"") | AK11: D | AL11: 40734 | AM11: =IF(ISNA(HLOOKUP(AL11,CP!$B$2:$ZZ$100,$B$35,FALSE)),"",HLOOKUP(AL11,CP!$B$2:$ZZ$100,$B$35,FALSE)) | AN11: =IF(ISNA(HLOOKUP(AL11,RTT!$B$2:$ZZ$100,$B$35,FALSE)),"",HLOOKUP('Exemple 1'!AL11,RTT!$B$2:$ZZ$100,$B$35,FALSE)) | AO11: =IF(AL11=AM11,1,"") | AP11: =IF(AL11=AN11,1,"") | AQ11: M | AR11: 40765 | AS11: =IF(ISNA(HLOOKUP(AR11,CP!$B$2:$ZZ$100,$B$35,FALSE)),"",HLOOKUP(AR11,CP!$B$2:$ZZ$100,$B$35,FALSE)) | AT11: =IF(ISNA(HLOOKUP(AR11,RTT!$B$2:$ZZ$100,$B$35,FALSE)),"",HLOOKUP('Exemple 1'!AR11,RTT!$B$2:$ZZ$100,$B$35,FALSE)) | AU11: =IF(AR11=AS11,1,"") | AV11: =IF(AR11=AT11,1,"") | AW11: S | AX11: 40796 | AY11: =IF(ISNA(HLOOKUP(AX11,CP!$B$2:$ZZ$100,$B$35,FALSE)),"",HLOOKUP(AX11,CP!$B$2:$ZZ$100,$B$35,FALSE)) | AZ11: =IF(ISNA(HLOOKUP(AX11,RTT!$B$2:$ZZ$100,$B$35,FALSE)),"",HLOOKUP('Exemple 1'!AX11,RTT!$B$2:$ZZ$100,$B$35,FALSE)) | BA11: =IF(AX11=AY11,1,"") | BB11: =IF(AX11=AZ11,1,"") | BC11: L | BD11: 40826 | BE11: =IF(ISNA(HLOOKUP(BD11,CP!$B$2:$ZZ$100,$B$35,FALSE)),"",HLOOKUP(BD11,CP!$B$2:$ZZ$100,$B$35,FALSE)) | BF11: =IF(ISNA(HLOOKUP(BD11,RTT!$B$2:$ZZ$100,$B$35,FALSE)),"",HLOOKUP('Exemple 1'!BD11,RTT!$B$2:$ZZ$100,$B$35,FALSE)) | BG11: =IF(BD11=BE11,1,"") | BH11: =IF(BD11=BF11,1,"") | BI11: J | BJ11: 40857 | BK11: =IF(ISNA(HLOOKUP(BJ11,CP!$B$2:$ZZ$100,$B$35,FALSE)),"",HLOOKUP(BJ11,CP!$B$2:$ZZ$100,$B$35,FALSE)) | BL11: =IF(ISNA(HLOOKUP(BJ11,RTT!$B$2:$ZZ$100,$B$35,FALSE)),"",HLOOKUP('Exemple 1'!BJ11,RTT!$B$2:$ZZ$100,$B$35,FALSE)) | BM11: =IF(BJ11=BK11,1,"") | BN11: =IF(BJ11=BL11,1,"") | BO11: S | BP11: 40887 | BQ11: =IF(ISNA(HLOOKUP(BP11,CP!$B$2:$ZZ$100,$B$35,FALSE)),"",HLOOKUP(BP11,CP!$B$2:$ZZ$100,$B$35,FALSE)) | BR11: =IF(ISNA(HLOOKUP(BP11,RTT!$B$2:$ZZ$100,$B$35,FALSE)),"",HLOOKUP('Exemple 1'!BP11,RTT!$B$2:$ZZ$100,$B$35,FALSE)) | BS11: =IF(BP11=BQ11,1,"") | BT11: =IF(BP11=BR11,1,"")
A12: M | B12: 40554 | C12: =IF(ISNA(VLOOKUP(B12,CP!$A$1:$BS$50,2,FALSE)),"",VLOOKUP(B12,CP!$A$1:$BS$50,2,FALSE)) | D12: =IF(ISNA(HLOOKUP(B12,RTT!$B$2:$ZZ$100,$B$35,FALSE)),"",HLOOKUP(B12,RTT!$B$2:$ZZ$100,$B$35,FALSE)) | E12: =IF(B12=C12,1,"") | F12: =IF(B12=D12,1,"") | G12: V | H12: 40585 | I12: =IF(ISNA(HLOOKUP(H12,CP!$B$2:$ZZ$100,$B$35,FALSE)),"",HLOOKUP(H12,CP!$B$2:$ZZ$100,$B$35,FALSE)) | J12: =IF(ISNA(HLOOKUP(H12,RTT!$B$2:$ZZ$100,$B$35,FALSE)),"",HLOOKUP('Exemple 1'!H12,RTT!$B$2:$ZZ$100,$B$35,FALSE)) | K12: =IF(H12=I12,1,"") | L12: =IF(H12=J12,1,"") | M12: V | N12: 40613 | O12: =IF(ISNA(HLOOKUP(N12,CP!$B$2:$ZZ$100,$B$35,FALSE)),"",HLOOKUP(N12,CP!$B$2:$ZZ$100,$B$35,FALSE)) | P12: =IF(ISNA(HLOOKUP(N12,RTT!$B$2:$ZZ$100,$B$35,FALSE)),"",HLOOKUP('Exemple 1'!N12,RTT!$B$2:$ZZ$100,$B$35,FALSE)) | Q12: =IF(N12=O12,1,"") | R12: =IF(N12=P12,1,"") | S12: L | T12: 40644 | U12: =IF(ISNA(HLOOKUP(T12,CP!$B$2:$ZZ$100,$B$35,FALSE)),"",HLOOKUP(T12,CP!$B$2:$ZZ$100,$B$35,FALSE)) | V12: =IF(ISNA(HLOOKUP(T12,RTT!$B$2:$ZZ$100,$B$35,FALSE)),"",HLOOKUP('Exemple 1'!T12,RTT!$B$2:$ZZ$100,$B$35,FALSE)) | W12: =IF(T12=U12,1,"") | X12: =IF(T12=V12,1,"") | Y12: M | Z12: 40674 | AA12: =IF(ISNA(HLOOKUP(Z12,CP!$B$2:$ZZ$100,$B$35,FALSE)),"",HLOOKUP(Z12,CP!$B$2:$ZZ$100,$B$35,FALSE)) | AB12: =IF(ISNA(HLOOKUP(Z12,RTT!$B$2:$ZZ$100,$B$35,FALSE)),"",HLOOKUP('Exemple 1'!Z12,RTT!$B$2:$ZZ$100,$B$35,FALSE)) | AC12: =IF(Z12=AA12,1,"") | AD12: =IF(Z12=AB12,1,"") | AE12: S | AF12: 40705 | AG12: =IF(ISNA(HLOOKUP(AF12,CP!$B$2:$ZZ$100,$B$35,FALSE)),"",HLOOKUP(AF12,CP!$B$2:$ZZ$100,$B$35,FALSE)) | AH12: =IF(ISNA(HLOOKUP(AF12,RTT!$B$2:$ZZ$100,$B$35,FALSE)),"",HLOOKUP('Exemple 1'!AF12,RTT!$B$2:$ZZ$100,$B$35,FALSE)) | AI12: =IF(AF12=AG12,1,"") | AJ12: =IF(AF12=AH12,1,"") | AK12: L | AL12: 40735 | AM12: =IF(ISNA(HLOOKUP(AL12,CP!$B$2:$ZZ$100,$B$35,FALSE)),"",HLOOKUP(AL12,CP!$B$2:$ZZ$100,$B$35,FALSE)) | AN12: =IF(ISNA(HLOOKUP(AL12,RTT!$B$2:$ZZ$100,$B$35,FALSE)),"",HLOOKUP('Exemple 1'!AL12,RTT!$B$2:$ZZ$100,$B$35,FALSE)) | AO12: =IF(AL12=AM12,1,"") | AP12: =IF(AL12=AN12,1,"") | AQ12: J | AR12: 40766 | AS12: =IF(ISNA(HLOOKUP(AR12,CP!$B$2:$ZZ$100,$B$35,FALSE)),"",HLOOKUP(AR12,CP!$B$2:$ZZ$100,$B$35,FALSE)) | AT12: =IF(ISNA(HLOOKUP(AR12,RTT!$B$2:$ZZ$100,$B$35,FALSE)),"",HLOOKUP('Exemple 1'!AR12,RTT!$B$2:$ZZ$100,$B$35,FALSE)) | AU12: =IF(AR12=AS12,1,"") | AV12: =IF(AR12=AT12,1,"") | AW12: D | AX12: 40797 | AY12: =IF(ISNA(HLOOKUP(AX12,CP!$B$2:$ZZ$100,$B$35,FALSE)),"",HLOOKUP(AX12,CP!$B$2:$ZZ$100,$B$35,FALSE)) | AZ12: =IF(ISNA(HLOOKUP(AX12,RTT!$B$2:$ZZ$100,$B$35,FALSE)),"",HLOOKUP('Exemple 1'!AX12,RTT!$B$2:$ZZ$100,$B$35,FALSE)) | BA12: =IF(AX12=AY12,1,"") | BB12: =IF(AX12=AZ12,1,"") | BC12: M | BD12: 40827 | BE12: =IF(ISNA(HLOOKUP(BD12,CP!$B$2:$ZZ$100,$B$35,FALSE)),"",HLOOKUP(BD12,CP!$B$2:$ZZ$100,$B$35,FALSE)) | BF12: =IF(ISNA(HLOOKUP(BD12,RTT!$B$2:$ZZ$100,$B$35,FALSE)),"",HLOOKUP('Exemple 1'!BD12,RTT!$B$2:$ZZ$100,$B$35,FALSE)) | BG12: =IF(BD12=BE12,1,"") | BH12: =IF(BD12=BF12,1,"") | BI12: V | BJ12: 40858 | BK12: =IF(ISNA(HLOOKUP(BJ12,CP!$B$2:$ZZ$100,$B$35,FALSE)),"",HLOOKUP(BJ12,CP!$B$2:$ZZ$100,$B$35,FALSE)) | BL12: =IF(ISNA(HLOOKUP(BJ12,RTT!$B$2:$ZZ$100,$B$35,FALSE)),"",HLOOKUP('Exemple 1'!BJ12,RTT!$B$2:$ZZ$100,$B$35,FALSE)) | BM12: =IF(BJ12=BK12,1,"") | BN12: =IF(BJ12=BL12,1,"") | BO12: D | BP12: 40888 | BQ12: =IF(ISNA(HLOOKUP(BP12,CP!$B$2:$ZZ$100,$B$35,FALSE)),"",HLOOKUP(BP12,CP!$B$2:$ZZ$100,$B$35,FALSE)) | BR12: =IF(ISNA(HLOOKUP(BP12,RTT!$B$2:$ZZ$100,$B$35,FALSE)),"",HLOOKUP('Exemple 1'!BP12,RTT!$B$2:$ZZ$100,$B$35,FALSE)) | BS12: =IF(BP12=BQ12,1,"") | BT12: =IF(BP12=BR12,1,"")
A13: M | B13: 40555 | C13: =IF(ISNA(VLOOKUP(B13,CP!$A$1:$BS$50,2,FALSE)),"",VLOOKUP(B13,CP!$A$1:$BS$50,2,FALSE)) | D13: =IF(ISNA(HLOOKUP(B13,RTT!$B$2:$ZZ$100,$B$35,FALSE)),"",HLOOKUP(B13,RTT!$B$2:$ZZ$100,$B$35,FALSE)) | E13: =IF(B13=C13,1,"") | F13: =IF(B13=D13,1,"") | G13: S | H13: 40586 | I13: =IF(ISNA(HLOOKUP(H13,CP!$B$2:$ZZ$100,$B$35,FALSE)),"",HLOOKUP(H13,CP!$B$2:$ZZ$100,$B$35,FALSE)) | J13: =IF(ISNA(HLOOKUP(H13,RTT!$B$2:$ZZ$100,$B$35,FALSE)),"",HLOOKUP('Exemple 1'!H13,RTT!$B$2:$ZZ$100,$B$35,FALSE)) | K13: =IF(H13=I13,1,"") | L13: =IF(H13=J13,1,"") | M13: S | N13: 40614 | O13: =IF(ISNA(HLOOKUP(N13,CP!$B$2:$ZZ$100,$B$35,FALSE)),"",HLOOKUP(N13,CP!$B$2:$ZZ$100,$B$35,FALSE)) | P13: =IF(ISNA(HLOOKUP(N13,RTT!$B$2:$ZZ$100,$B$35,FALSE)),"",HLOOKUP('Exemple 1'!N13,RTT!$B$2:$ZZ$100,$B$35,FALSE)) | Q13: =IF(N13=O13,1,"") | R13: =IF(N13=P13,1,"") | S13: M | T13: 40645 | U13: =IF(ISNA(HLOOKUP(T13,CP!$B$2:$ZZ$100,$B$35,FALSE)),"",HLOOKUP(T13,CP!$B$2:$ZZ$100,$B$35,FALSE)) | V13: =IF(ISNA(HLOOKUP(T13,RTT!$B$2:$ZZ$100,$B$35,FALSE)),"",HLOOKUP('Exemple 1'!T13,RTT!$B$2:$ZZ$100,$B$35,FALSE)) | W13: =IF(T13=U13,1,"") | X13: =IF(T13=V13,1,"") | Y13: J | Z13: 40675 | AA13: =IF(ISNA(HLOOKUP(Z13,CP!$B$2:$ZZ$100,$B$35,FALSE)),"",HLOOKUP(Z13,CP!$B$2:$ZZ$100,$B$35,FALSE)) | AB13: =IF(ISNA(HLOOKUP(Z13,RTT!$B$2:$ZZ$100,$B$35,FALSE)),"",HLOOKUP('Exemple 1'!Z13,RTT!$B$2:$ZZ$100,$B$35,FALSE)) | AC13: =IF(Z13=AA13,1,"") | AD13: =IF(Z13=AB13,1,"") | AE13: D | AF13: 40706 | AG13: =IF(ISNA(HLOOKUP(AF13,CP!$B$2:$ZZ$100,$B$35,FALSE)),"",HLOOKUP(AF13,CP!$B$2:$ZZ$100,$B$35,FALSE)) | AH13: =IF(ISNA(HLOOKUP(AF13,RTT!$B$2:$ZZ$100,$B$35,FALSE)),"",HLOOKUP('Exemple 1'!AF13,RTT!$B$2:$ZZ$100,$B$35,FALSE)) | AI13: =IF(AF13=AG13,1,"") | AJ13: =IF(AF13=AH13,1,"") | AK13: M | AL13: 40736 | AM13: =IF(ISNA(HLOOKUP(AL13,CP!$B$2:$ZZ$100,$B$35,FALSE)),"",HLOOKUP(AL13,CP!$B$2:$ZZ$100,$B$35,FALSE)) | AN13: =IF(ISNA(HLOOKUP(AL13,RTT!$B$2:$ZZ$100,$B$35,FALSE)),"",HLOOKUP('Exemple 1'!AL13,RTT!$B$2:$ZZ$100,$B$35,FALSE)) | AO13: =IF(AL13=AM13,1,"") | AP13: =IF(AL13=AN13,1,"") | AQ13: V | AR13: 40767 | AS13: =IF(ISNA(HLOOKUP(AR13,CP!$B$2:$ZZ$100,$B$35,FALSE)),"",HLOOKUP(AR13,CP!$B$2:$ZZ$100,$B$35,FALSE)) | AT13: =IF(ISNA(HLOOKUP(AR13,RTT!$B$2:$ZZ$100,$B$35,FALSE)),"",HLOOKUP('Exemple 1'!AR13,RTT!$B$2:$ZZ$100,$B$35,FALSE)) | AU13: =IF(AR13=AS13,1,"") | AV13: =IF(AR13=AT13,1,"") | AW13: L | AX13: 40798 | AY13: =IF(ISNA(HLOOKUP(AX13,CP!$B$2:$ZZ$100,$B$35,FALSE)),"",HLOOKUP(AX13,CP!$B$2:$ZZ$100,$B$35,FALSE)) | AZ13: =IF(ISNA(HLOOKUP(AX13,RTT!$B$2:$ZZ$100,$B$35,FALSE)),"",HLOOKUP('Exemple 1'!AX13,RTT!$B$2:$ZZ$100,$B$35,FALSE)) | BA13: =IF(AX13=AY13,1,"") | BB13: =IF(AX13=AZ13,1,"") | BC13: M | BD13: 40828 | BE13: =IF(ISNA(HLOOKUP(BD13,CP!$B$2:$ZZ$100,$B$35,FALSE)),"",HLOOKUP(BD13,CP!$B$2:$ZZ$100,$B$35,FALSE)) | BF13: =IF(ISNA(HLOOKUP(BD13,RTT!$B$2:$ZZ$100,$B$35,FALSE)),"",HLOOKUP('Exemple 1'!BD13,RTT!$B$2:$ZZ$100,$B$35,FALSE)) | BG13: =IF(BD13=BE13,1,"") | BH13: =IF(BD13=BF13,1,"") | BI13: S | BJ13: 40859 | BK13: =IF(ISNA(HLOOKUP(BJ13,CP!$B$2:$ZZ$100,$B$35,FALSE)),"",HLOOKUP(BJ13,CP!$B$2:$ZZ$100,$B$35,FALSE)) | BL13: =IF(ISNA(HLOOKUP(BJ13,RTT!$B$2:$ZZ$100,$B$35,FALSE)),"",HLOOKUP('Exemple 1'!BJ13,RTT!$B$2:$ZZ$100,$B$35,FALSE)) | BM13: =IF(BJ13=BK13,1,"") | BN13: =IF(BJ13=BL13,1,"") | BO13: L | BP13: 40889 | BQ13: =IF(ISNA(HLOOKUP(BP13,CP!$B$2:$ZZ$100,$B$35,FALSE)),"",HLOOKUP(BP13,CP!$B$2:$ZZ$100,$B$35,FALSE)) | BR13: =IF(ISNA(HLOOKUP(BP13,RTT!$B$2:$ZZ$100,$B$35,FALSE)),"",HLOOKUP('Exemple 1'!BP13,RTT!$B$2:$ZZ$100,$B$35,FALSE)) | BS13: =IF(BP13=BQ13,1,"") | BT13: =IF(BP13=BR13,1,"")
... A16: S | B16: 40558 | C16: =IF(ISNA(VLOOKUP(B16,CP!$A$1:$BS$50,2,FALSE)),"",VLOOKUP(B16,CP!$A$1:$BS$50,2,FALSE)) | D16: =IF(ISNA(HLOOKUP(B16,RTT!$B$2:$ZZ$100,$B$35,FALSE)),"",HLOOKUP(B16,RTT!$B$2:$ZZ$100,$B$35,FALSE)) | E16: =IF(B16=C16,1,"") | F16: =IF(B16=D16,1,"") | G16: M | H16: 40589 | I16: =IF(ISNA(HLOOKUP(H16,CP!$B$2:$ZZ$100,$B$35,FALSE)),"",HLOOKUP(H16,CP!$B$2:$ZZ$100,$B$35,FALSE)) | J16: =IF(ISNA(HLOOKUP(H16,RTT!$B$2:$ZZ$100,$B$35,FALSE)),"",HLOOKUP('Exemple 1'!H16,RTT!$B$2:$ZZ$100,$B$35,FALSE)) | K16: =IF(H16=I16,1,"") | L16: =IF(H16=J16,1,"") | M16: M | N16: 40617 | O16: =IF(ISNA(HLOOKUP(N16,CP!$B$2:$ZZ$100,$B$35,FALSE)),"",HLOOKUP(N16,CP!$B$2:$ZZ$100,$B$35,FALSE)) | P16: =IF(ISNA(HLOOKUP(N16,RTT!$B$2:$ZZ$100,$B$35,FALSE)),"",HLOOKUP('Exemple 1'!N16,RTT!$B$2:$ZZ$100,$B$35,FALSE)) | Q16: =IF(N16=O16,1,"") | R16: =IF(N16=P16,1,"") | S16: V | T16: 40648 | U16: =IF(ISNA(HLOOKUP(T16,CP!$B$2:$ZZ$100,$B$35,FALSE)),"",HLOOKUP(T16,CP!$B$2:$ZZ$100,$B$35,FALSE)) | V16: =IF(ISNA(HLOOKUP(T16,RTT!$B$2:$ZZ$100,$B$35,FALSE)),"",HLOOKUP('Exemple 1'!T16,RTT!$B$2:$ZZ$100,$B$35,FALSE)) | W16: =IF(T16=U16,1,"") | X16: =IF(T16=V16,1,"") | Y16: D | Z16: 40678 | AA16: =IF(ISNA(HLOOKUP(Z16,CP!$B$2:$ZZ$100,$B$35,FALSE)),"",HLOOKUP(Z16,CP!$B$2:$ZZ$100,$B$35,FALSE)) | AB16: =IF(ISNA(HLOOKUP(Z16,RTT!$B$2:$ZZ$100,$B$35,FALSE)),"",HLOOKUP('Exemple 1'!Z16,RTT!$B$2:$ZZ$100,$B$35,FALSE)) | AC16: =IF(Z16=AA16,1,"") | AD16: =IF(Z16=AB16,1,"") | AE16: M | AF16: 40709 | AG16: =IF(ISNA(HLOOKUP(AF16,CP!$B$2:$ZZ$100,$B$35,FALSE)),"",HLOOKUP(AF16,CP!$B$2:$ZZ$100,$B$35,FALSE)) | AH16: =IF(ISNA(HLOOKUP(AF16,RTT!$B$2:$ZZ$100,$B$35,FALSE)),"",HLOOKUP('Exemple 1'!AF16,RTT!$B$2:$ZZ$100,$B$35,FALSE)) | AI16: =IF(AF16=AG16,1,"") | AJ16: =IF(AF16=AH16,1,"") | AK16: V | AL16: 40739 | AM16: =IF(ISNA(HLOOKUP(AL16,CP!$B$2:$ZZ$100,$B$35,FALSE)),"",HLOOKUP(AL16,CP!$B$2:$ZZ$100,$B$35,FALSE)) | AN16: =IF(ISNA(HLOOKUP(AL16,RTT!$B$2:$ZZ$100,$B$35,FALSE)),"",HLOOKUP('Exemple 1'!AL16,RTT!$B$2:$ZZ$100,$B$35,FALSE)) | AO16: =IF(AL16=AM16,1,"") | AP16: =IF(AL16=AN16,1,"") | AQ16: L | AR16: 40770 | AS16: =IF(ISNA(HLOOKUP(AR16,CP!$B$2:$ZZ$100,$B$35,FALSE)),"",HLOOKUP(AR16,CP!$B$2:$ZZ$100,$B$35,FALSE)) | AT16: =IF(ISNA(HLOOKUP(AR16,RTT!$B$2:$ZZ$100,$B$35,FALSE)),"",HLOOKUP('Exemple 1'!AR16,RTT!$B$2:$ZZ$100,$B$35,FALSE)) | AU16: =IF(AR16=AS16,1,"") | AV16: =IF(AR16=AT16,1,"") | AW16: J | AX16: 40801 | AY16: =IF(ISNA(HLOOKUP(AX16,CP!$B$2:$ZZ$100,$B$35,FALSE)),"",HLOOKUP(AX16,CP!$B$2:$ZZ$100,$B$35,FALSE)) | AZ16: =IF(ISNA(HLOOKUP(AX16,RTT!$B$2:$ZZ$100,$B$35,FALSE)),"",HLOOKUP('Exemple 1'!AX16,RTT!$B$2:$ZZ$100,$B$35,FALSE)) | BA16: =IF(AX16=AY16,1,"") | BB16: =IF(AX16=AZ16,1,"") | BC16: S | BD16: 40831 | BE16: =IF(ISNA(HLOOKUP(BD16,CP!$B$2:$ZZ$100,$B$35,FALSE)),"",HLOOKUP(BD16,CP!$B$2:$ZZ$100,$B$35,FALSE)) | BF16: =IF(ISNA(HLOOKUP(BD16,RTT!$B$2:$ZZ$100,$B$35,FALSE)),"",HLOOKUP('Exemple 1'!BD16,RTT!$B$2:$ZZ$100,$B$35,FALSE)) | BG16: =IF(BD16=BE16,1,"") | BH16: =IF(BD16=BF16,1,"") | BI16: M | BJ16: 40862 | BK16: =IF(ISNA(HLOOKUP(BJ16,CP!$B$2:$ZZ$100,$B$35,FALSE)),"",HLOOKUP(BJ16,CP!$B$2:$ZZ$100,$B$35,FALSE)) | BL16: =IF(ISNA(HLOOKUP(BJ16,RTT!$B$2:$ZZ$100,$B$35,FALSE)),"",HLOOKUP('Exemple 1'!BJ16,RTT!$B$2:$ZZ$100,$B$35,FALSE)) | BM16: =IF(BJ16=BK16,1,"") | BN16: =IF(BJ16=BL16,1,"") | BO16: J | BP16: 40892 | BQ16: =IF(ISNA(HLOOKUP(BP16,CP!$B$2:$ZZ$100,$B$35,FALSE)),"",HLOOKUP(BP16,CP!$B$2:$ZZ$100,$B$35,FALSE)) | BR16: =IF(ISNA(HLOOKUP(BP16,RTT!$B$2:$ZZ$100,$B$35,FALSE)),"",HLOOKUP('Exemple 1'!BP16,RTT!$B$2:$ZZ$100,$B$35,FALSE)) | BS16: =IF(BP16=BQ16,1,"") | BT16: =IF(BP16=BR16,1,"")
A17: D | B17: 40559 | C17: =IF(ISNA(VLOOKUP(B17,CP!$A$1:$BS$50,2,FALSE)),"",VLOOKUP(B17,CP!$A$1:$BS$50,2,FALSE)) | D17: =IF(ISNA(HLOOKUP(B17,RTT!$B$2:$ZZ$100,$B$35,FALSE)),"",HLOOKUP(B17,RTT!$B$2:$ZZ$100,$B$35,FALSE)) | E17: =IF(B17=C17,1,"") | G17: M | H17: 40590 | I17: =IF(ISNA(HLOOKUP(H17,CP!$B$2:$ZZ$100,$B$35,FALSE)),"",HLOOKUP(H17,CP!$B$2:$ZZ$100,$B$35,FALSE)) | J17: =IF(ISNA(HLOOKUP(H17,RTT!$B$2:$ZZ$100,$B$35,FALSE)),"",HLOOKUP('Exemple 1'!H17,RTT!$B$2:$ZZ$100,$B$35,FALSE)) | K17: =IF(H17=I17,1,"") | L17: =IF(H17=J17,1,"") | M17: M | N17: 40618 | O17: =IF(ISNA(HLOOKUP(N17,CP!$B$2:$ZZ$100,$B$35,FALSE)),"",HLOOKUP(N17,CP!$B$2:$ZZ$100,$B$35,FALSE)) | P17: =IF(ISNA(HLOOKUP(N17,RTT!$B$2:$ZZ$100,$B$35,FALSE)),"",HLOOKUP('Exemple 1'!N17,RTT!$B$2:$ZZ$100,$B$35,FALSE)) | Q17: =IF(N17=O17,1,"") | R17: =IF(N17=P17,1,"") | S17: S | T17: 40649 | U17: =IF(ISNA(HLOOKUP(T17,CP!$B$2:$ZZ$100,$B$35,FALSE)),"",HLOOKUP(T17,CP!$B$2:$ZZ$100,$B$35,FALSE)) | V17: =IF(ISNA(HLOOKUP(T17,RTT!$B$2:$ZZ$100,$B$35,FALSE)),"",HLOOKUP('Exemple 1'!T17,RTT!$B$2:$ZZ$100,$B$35,FALSE)) | W17: =IF(T17=U17,1,"") | X17: =IF(T17=V17,1,"") | Y17: L | Z17: 40679 | AA17: =IF(ISNA(HLOOKUP(Z17,CP!$B$2:$ZZ$100,$B$35,FALSE)),"",HLOOKUP(Z17,CP!$B$2:$ZZ$100,$B$35,FALSE)) | AB17: =IF(ISNA(HLOOKUP(Z17,RTT!$B$2:$ZZ$100,$B$35,FALSE)),"",HLOOKUP('Exemple 1'!Z17,RTT!$B$2:$ZZ$100,$B$35,FALSE)) | AC17: =IF(Z17=AA17,1,"") | AD17: =IF(Z17=AB17,1,"") | AE17: J | AF17: 40710 | AG17: =IF(ISNA(HLOOKUP(AF17,CP!$B$2:$ZZ$100,$B$35,FALSE)),"",HLOOKUP(AF17,CP!$B$2:$ZZ$100,$B$35,FALSE)) | AH17: =IF(ISNA(HLOOKUP(AF17,RTT!$B$2:$ZZ$100,$B$35,FALSE)),"",HLOOKUP('Exemple 1'!AF17,RTT!$B$2:$ZZ$100,$B$35,FALSE)) | AI17: =IF(AF17=AG17,1,"") | AJ17: =IF(AF17=AH17,1,"") | AK17: S | AL17: 40740 | AM17: =IF(ISNA(HLOOKUP(AL17,CP!$B$2:$ZZ$100,$B$35,FALSE)),"",HLOOKUP(AL17,CP!$B$2:$ZZ$100,$B$35,FALSE)) | AN17: =IF(ISNA(HLOOKUP(AL17,RTT!$B$2:$ZZ$100,$B$35,FALSE)),"",HLOOKUP('Exemple 1'!AL17,RTT!$B$2:$ZZ$100,$B$35,FALSE)) | AO17: =IF(AL17=AM17,1,"") | AP17: =IF(AL17=AN17,1,"") | AQ17: M | AR17: 40771 | AS17: =IF(ISNA(HLOOKUP(AR17,CP!$B$2:$ZZ$100,$B$35,FALSE)),"",HLOOKUP(AR17,CP!$B$2:$ZZ$100,$B$35,FALSE)) | AT17: =IF(ISNA(HLOOKUP(AR17,RTT!$B$2:$ZZ$100,$B$35,FALSE)),"",HLOOKUP('Exemple 1'!AR17,RTT!$B$2:$ZZ$100,$B$35,FALSE)) | AU17: =IF(AR17=AS17,1,"") | AV17: =IF(AR17=AT17,1,"") | AW17: V | AX17: 40802 | AY17: =IF(ISNA(HLOOKUP(AX17,CP!$B$2:$ZZ$100,$B$35,FALSE)),"",HLOOKUP(AX17,CP!$B$2:$ZZ$100,$B$35,FALSE)) | AZ17: =IF(ISNA(HLOOKUP(AX17,RTT!$B$2:$ZZ$100,$B$35,FALSE)),"",HLOOKUP('Exemple 1'!AX17,RTT!$B$2:$ZZ$100,$B$35,FALSE)) | BA17: =IF(AX17=AY17,1,"") | BB17: =IF(AX17=AZ17,1,"") | BC17: D | BD17: 40832 | BE17: =IF(ISNA(HLOOKUP(BD17,CP!$B$2:$ZZ$100,$B$35,FALSE)),"",HLOOKUP(BD17,CP!$B$2:$ZZ$100,$B$35,FALSE)) | BF17: =IF(ISNA(HLOOKUP(BD17,RTT!$B$2:$ZZ$100,$B$35,FALSE)),"",HLOOKUP('Exemple 1'!BD17,RTT!$B$2:$ZZ$100,$B$35,FALSE)) | BG17: =IF(BD17=BE17,1,"") | BH17: =IF(BD17=BF17,1,"") | BI17: M | BJ17: 40863 | BK17: =IF(ISNA(HLOOKUP(BJ17,CP!$B$2:$ZZ$100,$B$35,FALSE)),"",HLOOKUP(BJ17,CP!$B$2:$ZZ$100,$B$35,FALSE)) | BL17: =IF(ISNA(HLOOKUP(BJ17,RTT!$B$2:$ZZ$100,$B$35,FALSE)),"",HLOOKUP('Exemple 1'!BJ17,RTT!$B$2:$ZZ$100,$B$35,FALSE)) | BM17: =IF(BJ17=BK17,1,"") | BN17: =IF(BJ17=BL17,1,"") | BO17: V | BP17: 40893 | BQ17: =IF(ISNA(HLOOKUP(BP17,CP!$B$2:$ZZ$100,$B$35,FALSE)),"",HLOOKUP(BP17,CP!$B$2:$ZZ$100,$B$35,FALSE)) | BR17: =IF(ISNA(HLOOKUP(BP17,RTT!$B$2:$ZZ$100,$B$35,FALSE)),"",HLOOKUP('Exemple 1'!BP17,RTT!$B$2:$ZZ$100,$B$35,FALSE)) | BS17: =IF(BP17=BQ17,1,"") | BT17: =IF(BP17=BR17,1,"")
A18: L | B18: 40560 | C18: =IF(ISNA(VLOOKUP(B18,CP!$A$1:$BS$50,2,FALSE)),"",VLOOKUP(B18,CP!$A$1:$BS$50,2,FALSE)) | D18: =IF(ISNA(HLOOKUP(B18,RTT!$B$2:$ZZ$100,$B$35,FALSE)),"",HLOOKUP(B18,RTT!$B$2:$ZZ$100,$B$35,FALSE)) | E18: =IF(B18=C18,1,"") | F18: =IF(B18=D18,1,"") | G18: J | H18: 40591 | I18: =IF(ISNA(HLOOKUP(H18,CP!$B$2:$ZZ$100,$B$35,FALSE)),"",HLOOKUP(H18,CP!$B$2:$ZZ$100,$B$35,FALSE)) | J18: =IF(ISNA(HLOOKUP(H18,RTT!$B$2:$ZZ$100,$B$35,FALSE)),"",HLOOKUP('Exemple 1'!H18,RTT!$B$2:$ZZ$100,$B$35,FALSE)) | K18: =IF(H18=I18,1,"") | L18: =IF(H18=J18,1,"") | M18: J | N18: 40619 | O18: =IF(ISNA(HLOOKUP(N18,CP!$B$2:$ZZ$100,$B$35,FALSE)),"",HLOOKUP(N18,CP!$B$2:$ZZ$100,$B$35,FALSE)) | P18: =IF(ISNA(HLOOKUP(N18,RTT!$B$2:$ZZ$100,$B$35,FALSE)),"",HLOOKUP('Exemple 1'!N18,RTT!$B$2:$ZZ$100,$B$35,FALSE)) | Q18: =IF(N18=O18,1,"") | R18: =IF(N18=P18,1,"") | S18: D | T18: 40650 | U18: =IF(ISNA(HLOOKUP(T18,CP!$B$2:$ZZ$100,$B$35,FALSE)),"",HLOOKUP(T18,CP!$B$2:$ZZ$100,$B$35,FALSE)) | V18: =IF(ISNA(HLOOKUP(T18,RTT!$B$2:$ZZ$100,$B$35,FALSE)),"",HLOOKUP('Exemple 1'!T18,RTT!$B$2:$ZZ$100,$B$35,FALSE)) | W18: =IF(T18=U18,1,"") | X18: =IF(T18=V18,1,"") | Y18: M | Z18: 40680 | AA18: =IF(ISNA(HLOOKUP(Z18,CP!$B$2:$ZZ$100,$B$35,FALSE)),"",HLOOKUP(Z18,CP!$B$2:$ZZ$100,$B$35,FALSE)) | AB18: =IF(ISNA(HLOOKUP(Z18,RTT!$B$2:$ZZ$100,$B$35,FALSE)),"",HLOOKUP('Exemple 1'!Z18,RTT!$B$2:$ZZ$100,$B$35,FALSE)) | AC18: =IF(Z18=AA18,1,"") | AD18: =IF(Z18=AB18,1,"") | AE18: V | AF18: 40711 | AG18: =IF(ISNA(HLOOKUP(AF18,CP!$B$2:$ZZ$100,$B$35,FALSE)),"",HLOOKUP(AF18,CP!$B$2:$ZZ$100,$B$35,FALSE)) | AH18: =IF(ISNA(HLOOKUP(AF18,RTT!$B$2:$ZZ$100,$B$35,FALSE)),"",HLOOKUP('Exemple 1'!AF18,RTT!$B$2:$ZZ$100,$B$35,FALSE)) | AI18: =IF(AF18=AG18,1,"") | AJ18: =IF(AF18=AH18,1,"") | AK18: D | AL18: 40741 | AM18: =IF(ISNA(HLOOKUP(AL18,CP!$B$2:$ZZ$100,$B$35,FALSE)),"",HLOOKUP(AL18,CP!$B$2:$ZZ$100,$B$35,FALSE)) | AN18: =IF(ISNA(HLOOKUP(AL18,RTT!$B$2:$ZZ$100,$B$35,FALSE)),"",HLOOKUP('Exemple 1'!AL18,RTT!$B$2:$ZZ$100,$B$35,FALSE)) | AO18: =IF(AL18=AM18,1,"") | AP18: =IF(AL18=AN18,1,"") | AQ18: M | AR18: 40772 | AS18: =IF(ISNA(HLOOKUP(AR18,CP!$B$2:$ZZ$100,$B$35,FALSE)),"",HLOOKUP(AR18,CP!$B$2:$ZZ$100,$B$35,FALSE)) | AT18: =IF(ISNA(HLOOKUP(AR18,RTT!$B$2:$ZZ$100,$B$35,FALSE)),"",HLOOKUP('Exemple 1'!AR18,RTT!$B$2:$ZZ$100,$B$35,FALSE)) | AU18: =IF(AR18=AS18,1,"") | AV18: =IF(AR18=AT18,1,"") | AW18: S | AX18: 40803 | AY18: =IF(ISNA(HLOOKUP(AX18,CP!$B$2:$ZZ$100,$B$35,FALSE)),"",HLOOKUP(AX18,CP!$B$2:$ZZ$100,$B$35,FALSE)) | AZ18: =IF(ISNA(HLOOKUP(AX18,RTT!$B$2:$ZZ$100,$B$35,FALSE)),"",HLOOKUP('Exemple 1'!AX18,RTT!$B$2:$ZZ$100,$B$35,FALSE)) | BA18: =IF(AX18=AY18,1,"") | BB18: =IF(AX18=AZ18,1,"") | BC18: L | BD18: 40833 | BE18: =IF(ISNA(HLOOKUP(BD18,CP!$B$2:$ZZ$100,$B$35,FALSE)),"",HLOOKUP(BD18,CP!$B$2:$ZZ$100,$B$35,FALSE)) | BF18: =IF(ISNA(HLOOKUP(BD18,RTT!$B$2:$ZZ$100,$B$35,FALSE)),"",HLOOKUP('Exemple 1'!BD18,RTT!$B$2:$ZZ$100,$B$35,FALSE)) | BG18: =IF(BD18=BE18,1,"") | BH18: =IF(BD18=BF18,1,"") | BI18: J | BJ18: 40864 | BK18: =IF(ISNA(HLOOKUP(BJ18,CP!$B$2:$ZZ$100,$B$35,FALSE)),"",HLOOKUP(BJ18,CP!$B$2:$ZZ$100,$B$35,FALSE)) | BL18: =IF(ISNA(HLOOKUP(BJ18,RTT!$B$2:$ZZ$100,$B$35,FALSE)),"",HLOOKUP('Exemple 1'!BJ18,RTT!$B$2:$ZZ$100,$B$35,FALSE)) | BM18: =IF(BJ18=BK18,1,"") | BN18: =IF(BJ18=BL18,1,"") | BO18: S | BP18: 40894 | BQ18: =IF(ISNA(HLOOKUP(BP18,CP!$B$2:$ZZ$100,$B$35,FALSE)),"",HLOOKUP(BP18,CP!$B$2:$ZZ$100,$B$35,FALSE)) | BR18: =IF(ISNA(HLOOKUP(BP18,RTT!$B$2:$ZZ$100,$B$35,FALSE)),"",HLOOKUP('Exemple 1'!BP18,RTT!$B$2:$ZZ$100,$B$35,FALSE)) | BS18: =IF(BP18=BQ18,1,"") | BT18: =IF(BP18=BR18,1,"")
A19: M | B19: 40561 | C19: =IF(ISNA(VLOOKUP(B19,CP!$A$1:$BS$50,2,FALSE)),"",VLOOKUP(B19,CP!$A$1:$BS$50,2,FALSE)) | D19: =IF(ISNA(HLOOKUP(B19,RTT!$B$2:$ZZ$100,$B$35,FALSE)),"",HLOOKUP(B19,RTT!$B$2:$ZZ$100,$B$35,FALSE)) | E19: =IF(B19=C19,1,"") | F19: =IF(B19=D19,1,"") | G19: V | H19: 40592 | I19: =IF(ISNA(HLOOKUP(H19,CP!$B$2:$ZZ$100,$B$35,FALSE)),"",HLOOKUP(H19,CP!$B$2:$ZZ$100,$B$35,FALSE)) | J19: =IF(ISNA(HLOOKUP(H19,RTT!$B$2:$ZZ$100,$B$35,FALSE)),"",HLOOKUP('Exemple 1'!H19,RTT!$B$2:$ZZ$100,$B$35,FALSE)) | K19: =IF(H19=I19,1,"") | L19: =IF(H19=J19,1,"") | M19: V | N19: 40620 | O19: =IF(ISNA(HLOOKUP(N19,CP!$B$2:$ZZ$100,$B$35,FALSE)),"",HLOOKUP(N19,CP!$B$2:$ZZ$100,$B$35,FALSE)) | P19: =IF(ISNA(HLOOKUP(N19,RTT!$B$2:$ZZ$100,$B$35,FALSE)),"",HLOOKUP('Exemple 1'!N19,RTT!$B$2:$ZZ$100,$B$35,FALSE)) | Q19: =IF(N19=O19,1,"") | R19: =IF(N19=P19,1,"") | S19: L | T19: 40651 | U19: =IF(ISNA(HLOOKUP(T19,CP!$B$2:$ZZ$100,$B$35,FALSE)),"",HLOOKUP(T19,CP!$B$2:$ZZ$100,$B$35,FALSE)) | V19: =IF(ISNA(HLOOKUP(T19,RTT!$B$2:$ZZ$100,$B$35,FALSE)),"",HLOOKUP('Exemple 1'!T19,RTT!$B$2:$ZZ$100,$B$35,FALSE)) | W19: =IF(T19=U19,1,"") | X19: =IF(T19=V19,1,"") | Y19: M | Z19: 40681 | AA19: =IF(ISNA(HLOOKUP(Z19,CP!$B$2:$ZZ$100,$B$35,FALSE)),"",HLOOKUP(Z19,CP!$B$2:$ZZ$100,$B$35,FALSE)) | AB19: =IF(ISNA(HLOOKUP(Z19,RTT!$B$2:$ZZ$100,$B$35,FALSE)),"",HLOOKUP('Exemple 1'!Z19,RTT!$B$2:$ZZ$100,$B$35,FALSE)) | AC19: =IF(Z19=AA19,1,"") | AD19: =IF(Z19=AB19,1,"") | AE19: S | AF19: 40712 | AG19: =IF(ISNA(HLOOKUP(AF19,CP!$B$2:$ZZ$100,$B$35,FALSE)),"",HLOOKUP(AF19,CP!$B$2:$ZZ$100,$B$35,FALSE)) | AH19: =IF(ISNA(HLOOKUP(AF19,RTT!$B$2:$ZZ$100,$B$35,FALSE)),"",HLOOKUP('Exemple 1'!AF19,RTT!$B$2:$ZZ$100,$B$35,FALSE)) | AI19: =IF(AF19=AG19,1,"") | AJ19: =IF(AF19=AH19,1,"") | AK19: L | AL19: 40742 | AM19: =IF(ISNA(HLOOKUP(AL19,CP!$B$2:$ZZ$100,$B$35,FALSE)),"",HLOOKUP(AL19,CP!$B$2:$ZZ$100,$B$35,FALSE)) | AN19: =IF(ISNA(HLOOKUP(AL19,RTT!$B$2:$ZZ$100,$B$35,FALSE)),"",HLOOKUP('Exemple 1'!AL19,RTT!$B$2:$ZZ$100,$B$35,FALSE)) | AO19: =IF(AL19=AM19,1,"") | AP19: =IF(AL19=AN19,1,"") | AQ19: J | AR19: 40773 | AS19: =IF(ISNA(HLOOKUP(AR19,CP!$B$2:$ZZ$100,$B$35,FALSE)),"",HLOOKUP(AR19,CP!$B$2:$ZZ$100,$B$35,FALSE)) | AT19: =IF(ISNA(HLOOKUP(AR19,RTT!$B$2:$ZZ$100,$B$35,FALSE)),"",HLOOKUP('Exemple 1'!AR19,RTT!$B$2:$ZZ$100,$B$35,FALSE)) | AU19: =IF(AR19=AS19,1,"") | AV19: =IF(AR19=AT19,1,"") | AW19: D | AX19: 40804 | AY19: =IF(ISNA(HLOOKUP(AX19,CP!$B$2:$ZZ$100,$B$35,FALSE)),"",HLOOKUP(AX19,CP!$B$2:$ZZ$100,$B$35,FALSE)) | AZ19: =IF(ISNA(HLOOKUP(AX19,RTT!$B$2:$ZZ$100,$B$35,FALSE)),"",HLOOKUP('Exemple 1'!AX19,RTT!$B$2:$ZZ$100,$B$35,FALSE)) | BA19: =IF(AX19=AY19,1,"") | BB19: =IF(AX19=AZ19,1,"") | BC19: M | BD19: 40834 | BE19: =IF(ISNA(HLOOKUP(BD19,CP!$B$2:$ZZ$100,$B$35,FALSE)),"",HLOOKUP(BD19,CP!$B$2:$ZZ$100,$B$35,FALSE)) | BF19: =IF(ISNA(HLOOKUP(BD19,RTT!$B$2:$ZZ$100,$B$35,FALSE)),"",HLOOKUP('Exemple 1'!BD19,RTT!$B$2:$ZZ$100,$B$35,FALSE)) | BG19: =IF(BD19=BE19,1,"") | BH19: =IF(BD19=BF19,1,"") | BI19: V | BJ19: 40865 | BK19: =IF(ISNA(HLOOKUP(BJ19,CP!$B$2:$ZZ$100,$B$35,FALSE)),"",HLOOKUP(BJ19,CP!$B$2:$ZZ$100,$B$35,FALSE)) | BL19: =IF(ISNA(HLOOKUP(BJ19,RTT!$B$2:$ZZ$100,$B$35,FALSE)),"",HLOOKUP('Exemple 1'!BJ19,RTT!$B$2:$ZZ$100,$B$35,FALSE)) | BM19: =IF(BJ19=BK19,1,"") | BN19: =IF(BJ19=BL19,1,"") | BO19: D | BP19: 40895 | BQ19: =IF(ISNA(HLOOKUP(BP19,CP!$B$2:$ZZ$100,$B$35,FALSE)),"",HLOOKUP(BP19,CP!$B$2:$ZZ$100,$B$35,FALSE)) | BR19: =IF(ISNA(HLOOKUP(BP19,RTT!$B$2:$ZZ$100,$B$35,FALSE)),"",HLOOKUP('Exemple 1'!BP19,RTT!$B$2:$ZZ$100,$B$35,FALSE)) | BS19: =IF(BP19=BQ19,1,"") | BT19: =IF(BP19=BR19,1,"")
