Workbook

Sheet CP
B1: Sal1 | C1: Sal2 | D1: Sal 3 | E1: Sal 4
A2: CP1 | B2: 40547
A3: CP2
A4: CP3 | C4: 40549
A5: CP4
A6: CP5 | D6: 40551
A7: CP6
A8: CP7
A9: CP8
A10: CP9
A11: CP10
A12: CP11
A13: CP12
A14: CP13
A15: CP14
A16: CP15
A17: CP16
A18: CP17
... A40: CP39

Sheet RTT
B1: RTT 1 | C1: RTT 2 | D1: RTT 3 | E1: RTT 4 | F1: RTT 5 | G1: RTT 6 | H1: RTT 7 | I1: RTT 8 | J1: RTT 9 | K1: RTT 10 | L1: RTT 11 | M1: RTT 12
A2: sal1 | B2: 40546 | H2: 40780
A3: sal2 | B3: 40548 | H3: 40811
A4: sal3
A5: sal4

Sheet Exemple 1
A1: Janvier | C1: CP | D1: RTT | E1: CP | F1: RTT | G1: Février | I1: CP | J1: RTT | K1: CP | L1: RTT | M1: Mars | O1: CP | P1: RTT | Q1: CP | R1: RTT | S1: Avril | U1: CP | V1: RTT | W1: CP | X1: RTT | Y1: Mai | AA1: CP | AB1: RTT | AC1: CP | AD1: RTT | AE1: Juin | AG1: CP | AH1: RTT | AI1: CP | AJ1: RTT | AK1: Juillet | AM1: CP | AN1: RTT | AO1: CP | AP1: RTT | AQ1: Août | AS1: CP | AT1: RTT | AU1: CP | AV1: RTT | AW1: Septembre | AY1: CP | AZ1: RTT | BA1: CP | BB1: RTT | BC1: Octobre | BE1: CP | BF1: RTT | BG1: CP | BH1: RTT | BI1: Novembre | BK1: CP | BL1: RTT | BM1: CP | BN1: RTT | BO1: Décembre | BQ1: CP | BR1: RTT | BS1: CP | BT1: RTT
A2: S | B2: 40544 | C2: =IF(ISNA(VLOOKUP(B2,CP!$A$1:$BS$50,2,FALSE)),"",VLOOKUP(B2,CP!$A$1:$BS$50,2,FALSE)) | D2: =IF(ISNA(HLOOKUP(B2,RTT!$B$2:$ZZ$100,$B$35,FALSE)),"",HLOOKUP(B2,RTT!$B$2:$ZZ$100,$B$35,FALSE)) | E2: =IF(B2=C2,1,"") | F2: =IF(B2=D2,1,"") | G2: M | H2: 40575 | I2: =IF(ISNA(HLOOKUP(H2,CP!$B$2:$ZZ$100,$B$35,FALSE)),"",HLOOKUP(H2,CP!$B$2:$ZZ$100,$B$35,FALSE)) | J2: =IF(ISNA(HLOOKUP(H2,RTT!$B$2:$ZZ$100,$B$35,FALSE)),"",HLOOKUP('Exemple 1'!H2,RTT!$B$2:$ZZ$100,$B$35,FALSE)) | K2: =IF(H2=I2,1,"") | L2: =IF(H2=J2,1,"") | M2: M | N2: 40603 | O2: =IF(ISNA(HLOOKUP(N2,CP!$B$2:$ZZ$100,$B$35,FALSE)),"",HLOOKUP(N2,CP!$B$2:$ZZ$100,$B$35,FALSE)) | P2: =IF(ISNA(HLOOKUP(N2,RTT!$B$2:$ZZ$100,$B$35,FALSE)),"",HLOOKUP('Exemple 1'!N2,RTT!$B$2:$ZZ$100,$B$35,FALSE)) | Q2: =IF(N2=O2,1,"") | R2: =IF(N2=P2,1,"") | S2: V | T2: 40634 | U2: =IF(ISNA(HLOOKUP(T2,CP!$B$2:$ZZ$100,$B$35,FALSE)),"",HLOOKUP(T2,CP!$B$2:$ZZ$100,$B$35,FALSE)) | V2: =IF(ISNA(HLOOKUP(T2,RTT!$B$2:$ZZ$100,$B$35,FALSE)),"",HLOOKUP('Exemple 1'!T2,RTT!$B$2:$ZZ$100,$B$35,FALSE)) | W2: =IF(T2=U2,1,"") | X2: =IF(T2=V2,1,"") | Y2: D | Z2: 40664 | AA2: =IF(ISNA(HLOOKUP(Z2,CP!$B$2:$ZZ$100,$B$35,FALSE)),"",HLOOKUP(Z2,CP!$B$2:$ZZ$100,$B$35,FALSE)) | AB2: =IF(ISNA(HLOOKUP(Z2,RTT!$B$2:$ZZ$100,$B$35,FALSE)),"",HLOOKUP('Exemple 1'!Z2,RTT!$B$2:$ZZ$100,$B$35,FALSE)) | AC2: =IF(Z2=AA2,1,"") | AD2: =IF(Z2=AB2,1,"") | AE2: M | AF2: 40695 | AG2: =IF(ISNA(HLOOKUP(AF2,CP!$B$2:$ZZ$100,$B$35,FALSE)),"",HLOOKUP(AF2,CP!$B$2:$ZZ$100,$B$35,FALSE)) | AH2: =IF(ISNA(HLOOKUP(AF2,RTT!$B$2:$ZZ$100,$B$35,FALSE)),"",HLOOKUP('Exemple 1'!AF2,RTT!$B$2:$ZZ$100,$B$35,FALSE)) | AI2: =IF(AF2=AG2,1,"") | AJ2: =IF(AF2=AH2,1,"") | AK2: V | AL2: 40725 | AM2: =IF(ISNA(HLOOKUP(AL2,CP!$B$2:$ZZ$100,$B$35,FALSE)),"",HLOOKUP(AL2,CP!$B$2:$ZZ$100,$B$35,FALSE)) | AN2: =IF(ISNA(HLOOKUP(AL2,RTT!$B$2:$ZZ$100,$B$35,FALSE)),"",HLOOKUP('Exemple 1'!AL2,RTT!$B$2:$ZZ$100,$B$35,FALSE)) | AO2: =IF(AL2=AM2,1,"") | AP2: =IF(AL2=AN2,1,"") | AQ2: L | AR2: 40756 | AS2: =IF(ISNA(HLOOKUP(AR2,CP!$B$2:$ZZ$100,$B$35,FALSE)),"",HLOOKUP(AR2,CP!$B$2:$ZZ$100,$B$35,FALSE)) | AT2: =IF(ISNA(HLOOKUP(AR2,RTT!$B$2:$ZZ$100,$B$35,FALSE)),"",HLOOKUP('Exemple 1'!AR2,RTT!$B$2:$ZZ$100,$B$35,FALSE)) | AU2: =IF(AR2=AS2,1,"") | AV2: =IF(AR2=AT2,1,"") | AW2: J | AX2: 40787 | AY2: =IF(ISNA(HLOOKUP(AX2,CP!$B$2:$ZZ$100,$B$35,FALSE)),"",HLOOKUP(AX2,CP!$B$2:$ZZ$100,$B$35,FALSE)) | AZ2: =IF(ISNA(HLOOKUP(AX2,RTT!$B$2:$ZZ$100,$B$35,FALSE)),"",HLOOKUP('Exemple 1'!AX2,RTT!$B$2:$ZZ$100,$B$35,FALSE)) | BA2: =IF(AX2=AY2,1,"") | BB2: =IF(AX2=AZ2,1,"") | BC2: S | BD2: 40817 | BE2: =IF(ISNA(HLOOKUP(BD2,CP!$B$2:$ZZ$100,$B$35,FALSE)),"",HLOOKUP(BD2,CP!$B$2:$ZZ$100,$B$35,FALSE)) | BF2: =IF(ISNA(HLOOKUP(BD2,RTT!$B$2:$ZZ$100,$B$35,FALSE)),"",HLOOKUP('Exemple 1'!BD2,RTT!$B$2:$ZZ$100,$B$35,FALSE)) | BG2: =IF(BD2=BE2,1,"") | BH2: =IF(BD2=BF2,1,"") | BI2: M | BJ2: 40848 | BK2: =IF(ISNA(HLOOKUP(BJ2,CP!$B$2:$ZZ$100,$B$35,FALSE)),"",HLOOKUP(BJ2,CP!$B$2:$ZZ$100,$B$35,FALSE)) | BL2: =IF(ISNA(HLOOKUP(BJ2,RTT!$B$2:$ZZ$100,$B$35,FALSE)),"",HLOOKUP('Exemple 1'!BJ2,RTT!$B$2:$ZZ$100,$B$35,FALSE)) | BM2: =IF(BJ2=BK2,1,"") | BN2: =IF(BJ2=BL2,1,"") | BO2: J | BP2: 40878 | BQ2: =IF(ISNA(HLOOKUP(BP2,CP!$B$2:$ZZ$100,$B$35,FALSE)),"",HLOOKUP(BP2,CP!$B$2:$ZZ$100,$B$35,FALSE)) | BR2: =IF(ISNA(HLOOKUP(BP2,RTT!$B$2:$ZZ$100,$B$35,FALSE)),"",HLOOKUP('Exemple 1'!BP2,RTT!$B$2:$ZZ$100,$B$35,FALSE)) | BS2: =IF(BP2=BQ2,1,"") | BT2: =IF(BP2=BR2,1,"")
A3: D | B3: 40545 | C3: =IF(ISNA(VLOOKUP(B3,CP!$A$1:$BS$50,2,FALSE)),"",VLOOKUP(B3,CP!$A$1:$BS$50,2,FALSE)) | D3: =IF(ISNA(HLOOKUP(B3,RTT!$B$2:$ZZ$100,$B$35,FALSE)),"",HLOOKUP(B3,RTT!$B$2:$ZZ$100,$B$35,FALSE)) | E3: =IF(B3=C3,1,"") | F3: =IF(B3=D3,1,"") | G3: M | H3: 40576 | I3: =IF(ISNA(HLOOKUP(H3,CP!$B$2:$ZZ$100,$B$35,FALSE)),"",HLOOKUP(H3,CP!$B$2:$ZZ$100,$B$35,FALSE)) | J3: =IF(ISNA(HLOOKUP(H3,RTT!$B$2:$ZZ$100,$B$35,FALSE)),"",HLOOKUP('Exemple 1'!H3,RTT!$B$2:$ZZ$100,$B$35,FALSE)) | K3: =IF(H3=I3,1,"") | L3: =IF(H3=J3,1,"") | M3: M | N3: 40604 | O3: =IF(ISNA(HLOOKUP(N3,CP!$B$2:$ZZ$100,$B$35,FALSE)),"",HLOOKUP(N3,CP!$B$2:$ZZ$100,$B$35,FALSE)) | P3: =IF(ISNA(HLOOKUP(N3,RTT!$B$2:$ZZ$100,$B$35,FALSE)),"",HLOOKUP('Exemple 1'!N3,RTT!$B$2:$ZZ$100,$B$35,FALSE)) | Q3: =IF(N3=O3,1,"") | R3: =IF(N3=P3,1,"") | S3: S | T3: 40635 | U3: =IF(ISNA(HLOOKUP(T3,CP!$B$2:$ZZ$100,$B$35,FALSE)),"",HLOOKUP(T3,CP!$B$2:$ZZ$100,$B$35,FALSE)) | V3: =IF(ISNA(HLOOKUP(T3,RTT!$B$2:$ZZ$100,$B$35,FALSE)),"",HLOOKUP('Exemple 1'!T3,RTT!$B$2:$ZZ$100,$B$35,FALSE)) | W3: =IF(T3=U3,1,"") | X3: =IF(T3=V3,1,"") | Y3: L | Z3: 40665 | AA3: =IF(ISNA(HLOOKUP(Z3,CP!$B$2:$ZZ$100,$B$35,FALSE)),"",HLOOKUP(Z3,CP!$B$2:$ZZ$100,$B$35,FALSE)) | AB3: =IF(ISNA(HLOOKUP(Z3,RTT!$B$2:$ZZ$100,$B$35,FALSE)),"",HLOOKUP('Exemple 1'!Z3,RTT!$B$2:$ZZ$100,$B$35,FALSE)) | AC3: =IF(Z3=AA3,1,"") | AD3: =IF(Z3=AB3,1,"") | AE3: J | AF3: 40696 | AG3: =IF(ISNA(HLOOKUP(AF3,CP!$B$2:$ZZ$100,$B$35,FALSE)),"",HLOOKUP(AF3,CP!$B$2:$ZZ$100,$B$35,FALSE)) | AH3: =IF(ISNA(HLOOKUP(AF3,RTT!$B$2:$ZZ$100,$B$35,FALSE)),"",HLOOKUP('Exemple 1'!AF3,RTT!$B$2:$ZZ$100,$B$35,FALSE)) | AI3: =IF(AF3=AG3,1,"") | AJ3: =IF(AF3=AH3,1,"") | AK3: S | AL3: 40726 | AM3: =IF(ISNA(HLOOKUP(AL3,CP!$B$2:$ZZ$100,$B$35,FALSE)),"",HLOOKUP(AL3,CP!$B$2:$ZZ$100,$B$35,FALSE)) | AN3: =IF(ISNA(HLOOKUP(AL3,RTT!$B$2:$ZZ$100,$B$35,FALSE)),"",HLOOKUP('Exemple 1'!AL3,RTT!$B$2:$ZZ$100,$B$35,FALSE)) | AO3: =IF(AL3=AM3,1,"") | AP3: =IF(AL3=AN3,1,"") | AQ3: M | AR3: 40757 | AS3: =IF(ISNA(HLOOKUP(AR3,CP!$B$2:$ZZ$100,$B$35,FALSE)),"",HLOOKUP(AR3,CP!$B$2:$ZZ$100,$B$35,FALSE)) | AT3: =IF(ISNA(HLOOKUP(AR3,RTT!$B$2:$ZZ$100,$B$35,FALSE)),"",HLOOKUP('Exemple 1'!AR3,RTT!$B$2:$ZZ$100,$B$35,FALSE)) | AU3: =IF(AR3=AS3,1,"") | AV3: =IF(AR3=AT3,1,"") | AW3: V | AX3: 40788 | AY3: =IF(ISNA(HLOOKUP(AX3,CP!$B$2:$ZZ$100,$B$35,FALSE)),"",HLOOKUP(AX3,CP!$B$2:$ZZ$100,$B$35,FALSE)) | AZ3: =IF(ISNA(HLOOKUP(AX3,RTT!$B$2:$ZZ$100,$B$35,FALSE)),"",HLOOKUP('Exemple 1'!AX3,RTT!$B$2:$ZZ$100,$B$35,FALSE)) | BA3: =IF(AX3=AY3,1,"") | BB3: =IF(AX3=AZ3,1,"") | BC3: D | BD3: 40818 | BE3: =IF(ISNA(HLOOKUP(BD3,CP!$B$2:$ZZ$100,$B$35,FALSE)),"",HLOOKUP(BD3,CP!$B$2:$ZZ$100,$B$35,FALSE)) | BF3: =IF(ISNA(HLOOKUP(BD3,RTT!$B$2:$ZZ$100,$B$35,FALSE)),"",HLOOKUP('Exemple 1'!BD3,RTT!$B$2:$ZZ$100,$B$35,FALSE)) | BG3: =IF(BD3=BE3,1,"") | BH3: =IF(BD3=BF3,1,"") | BI3: M | BJ3: 40849 | BK3: =IF(ISNA(HLOOKUP(BJ3,CP!$B$2:$ZZ$100,$B$35,FALSE)),"",HLOOKUP(BJ3,CP!$B$2:$ZZ$100,$B$35,FALSE)) | BL3: =IF(ISNA(HLOOKUP(BJ3,RTT!$B$2:$ZZ$100,$B$35,FALSE)),"",HLOOKUP('Exemple 1'!BJ3,RTT!$B$2:$ZZ$100,$B$35,FALSE)) | BM3: =IF(BJ3=BK3,1,"") | BN3: =IF(BJ3=BL3,1,"") | BO3: V | BP3: 40879 | BQ3: =IF(ISNA(HLOOKUP(BP3,CP!$B$2:$ZZ$100,$B$35,FALSE)),"",HLOOKUP(BP3,CP!$B$2:$ZZ$100,$B$35,FALSE)) | BR3: =IF(ISNA(HLOOKUP(BP3,RTT!$B$2:$ZZ$100,$B$35,FALSE)),"",HLOOKUP('Exemple 1'!BP3,RTT!$B$2:$ZZ$100,$B$35,FALSE)) | BS3: =IF(BP3=BQ3,1,"") | BT3: =IF(BP3=BR3,1,"")
A4: L | B4: 40546 | C4: =IF(ISNA(VLOOKUP(B4,CP!$A$1:$BS$50,2,FALSE)),"",VLOOKUP(B4,CP!$A$1:$BS$50,2,FALSE)) | D4: =IF(ISNA(HLOOKUP(B4,RTT!$B$2:$ZZ$100,$B$35,FALSE)),"",HLOOKUP(B4,RTT!$B$2:$ZZ$100,$B$35,FALSE)) -> 40548 | E4: =IF(B4=C4,1,"") | F4: =IF(B4=D4,1,"") | G4: J | H4: 40577 | I4: =IF(ISNA(HLOOKUP(H4,CP!$B$2:$ZZ$100,$B$35,FALSE)),"",HLOOKUP(H4,CP!$B$2:$ZZ$100,$B$35,FALSE)) | J4: =IF(ISNA(HLOOKUP(H4,RTT!$B$2:$ZZ$100,$B$35,FALSE)),"",HLOOKUP('Exemple 1'!H4,RTT!$B$2:$ZZ$100,$B$35,FALSE)) | K4: =IF(H4=I4,1,"") | L4: =IF(H4=J4,1,"") | M4: J | N4: 40605 | O4: =IF(ISNA(HLOOKUP(N4,CP!$B$2:$ZZ$100,$B$35,FALSE)),"",HLOOKUP(N4,CP!$B$2:$ZZ$100,$B$35,FALSE)) | P4: =IF(ISNA(HLOOKUP(N4,RTT!$B$2:$ZZ$100,$B$35,FALSE)),"",HLOOKUP('Exemple 1'!N4,RTT!$B$2:$ZZ$100,$B$35,FALSE)) | Q4: =IF(N4=O4,1,"") | R4: =IF(N4=P4,1,"") | S4: D | T4: 40636 | U4: =IF(ISNA(HLOOKUP(T4,CP!$B$2:$ZZ$100,$B$35,FALSE)),"",HLOOKUP(T4,CP!$B$2:$ZZ$100,$B$35,FALSE)) | V4: =IF(ISNA(HLOOKUP(T4,RTT!$B$2:$ZZ$100,$B$35,FALSE)),"",HLOOKUP('Exemple 1'!T4,RTT!$B$2:$ZZ$100,$B$35,FALSE)) | W4: =IF(T4=U4,1,"") | X4: =IF(T4=V4,1,"") | Y4: M | Z4: 40666 | AA4: =IF(ISNA(HLOOKUP(Z4,CP!$B$2:$ZZ$100,$B$35,FALSE)),"",HLOOKUP(Z4,CP!$B$2:$ZZ$100,$B$35,FALSE)) | AB4: =IF(ISNA(HLOOKUP(Z4,RTT!$B$2:$ZZ$100,$B$35,FALSE)),"",HLOOKUP('Exemple 1'!Z4,RTT!$B$2:$ZZ$100,$B$35,FALSE)) | AC4: =IF(Z4=AA4,1,"") | AD4: =IF(Z4=AB4,1,"") | AE4: V | AF4: 40697 | AG4: =IF(ISNA(HLOOKUP(AF4,CP!$B$2:$ZZ$100,$B$35,FALSE)),"",HLOOKUP(AF4,CP!$B$2:$ZZ$100,$B$35,FALSE)) | AH4: =IF(ISNA(HLOOKUP(AF4,RTT!$B$2:$ZZ$100,$B$35,FALSE)),"",HLOOKUP('Exemple 1'!AF4,RTT!$B$2:$ZZ$100,$B$35,FALSE)) | AI4: =IF(AF4=AG4,1,"") | AJ4: =IF(AF4=AH4,1,"") | AK4: D | AL4: 40727 | AM4: =IF(ISNA(HLOOKUP(AL4,CP!$B$2:$ZZ$100,$B$35,FALSE)),"",HLOOKUP(AL4,CP!$B$2:$ZZ$100,$B$35,FALSE)) | AN4: =IF(ISNA(HLOOKUP(AL4,RTT!$B$2:$ZZ$100,$B$35,FALSE)),"",HLOOKUP('Exemple 1'!AL4,RTT!$B$2:$ZZ$100,$B$35,FALSE)) | AO4: =IF(AL4=AM4,1,"") | AP4: =IF(AL4=AN4,1,"") | AQ4: M | AR4: 40758 | AS4: =IF(ISNA(HLOOKUP(AR4,CP!$B$2:$ZZ$100,$B$35,FALSE)),"",HLOOKUP(AR4,CP!$B$2:$ZZ$100,$B$35,FALSE)) | AT4: =IF(ISNA(HLOOKUP(AR4,RTT!$B$2:$ZZ$100,$B$35,FALSE)),"",HLOOKUP('Exemple 1'!AR4,RTT!$B$2:$ZZ$100,$B$35,FALSE)) | AU4: =IF(AR4=AS4,1,"") | AV4: =IF(AR4=AT4,1,"") | AW4: S | AX4: 40789 | AY4: =IF(ISNA(HLOOKUP(AX4,CP!$B$2:$ZZ$100,$B$35,FALSE)),"",HLOOKUP(AX4,CP!$B$2:$ZZ$100,$B$35,FALSE)) | AZ4: =IF(ISNA(HLOOKUP(AX4,RTT!$B$2:$ZZ$100,$B$35,FALSE)),"",HLOOKUP('Exemple 1'!AX4,RTT!$B$2:$ZZ$100,$B$35,FALSE)) | BA4: =IF(AX4=AY4,1,"") | BB4: =IF(AX4=AZ4,1,"") | BC4: L | BD4: 40819 | BE4: =IF(ISNA(HLOOKUP(BD4,CP!$B$2:$ZZ$100,$B$35,FALSE)),"",HLOOKUP(BD4,CP!$B$2:$ZZ$100,$B$35,FALSE)) | BF4: =IF(ISNA(HLOOKUP(BD4,RTT!$B$2:$ZZ$100,$B$35,FALSE)),"",HLOOKUP('Exemple 1'!BD4,RTT!$B$2:$ZZ$100,$B$35,FALSE)) | BG4: =IF(BD4=BE4,1,"") | BH4: =IF(BD4=BF4,1,"") | BI4: J | BJ4: 40850 | BK4: =IF(ISNA(HLOOKUP(BJ4,CP!$B$2:$ZZ$100,$B$35,FALSE)),"",HLOOKUP(BJ4,CP!$B$2:$ZZ$100,$B$35,FALSE)) | BL4: =IF(ISNA(HLOOKUP(BJ4,RTT!$B$2:$ZZ$100,$B$35,FALSE)),"",HLOOKUP('Exemple 1'!BJ4,RTT!$B$2:$ZZ$100,$B$35,FALSE)) | BM4: =IF(BJ4=BK4,1,"") | BN4: =IF(BJ4=BL4,1,"") | BO4: S | BP4: 40880 | BQ4: =IF(ISNA(HLOOKUP(BP4,CP!$B$2:$ZZ$100,$B$35,FALSE)),"",HLOOKUP(BP4,CP!$B$2:$ZZ$100,$B$35,FALSE)) | BR4: =IF(ISNA(HLOOKUP(BP4,RTT!$B$2:$ZZ$100,$B$35,FALSE)),"",HLOOKUP('Exemple 1'!BP4,RTT!$B$2:$ZZ$100,$B$35,FALSE)) | BS4: =IF(BP4=BQ4,1,"") | BT4: =IF(BP4=BR4,1,"")
A5: M | B5: 40547 | C5: =IF(ISNA(VLOOKUP(B5,CP!$A$1:$BS$50,2,FALSE)),"",VLOOKUP(B5,CP!$A$1:$BS$50,2,FALSE)) | D5: =IF(ISNA(HLOOKUP(B5,RTT!$B$2:$ZZ$100,$B$35,FALSE)),"",HLOOKUP(B5,RTT!$B$2:$ZZ$100,$B$35,FALSE)) | E5: =IF(B5=C5,1,"") | F5: =IF(B5=D5,1,"") | G5: V | H5: 40578 | I5: =IF(ISNA(HLOOKUP(H5,CP!$B$2:$ZZ$100,$B$35,FALSE)),"",HLOOKUP(H5,CP!$B$2:$ZZ$100,$B$35,FALSE)) | J5: =IF(ISNA(HLOOKUP(H5,RTT!$B$2:$ZZ$100,$B$35,FALSE)),"",HLOOKUP('Exemple 1'!H5,RTT!$B$2:$ZZ$100,$B$35,FALSE)) | K5: =IF(H5=I5,1,"") | L5: =IF(H5=J5,1,"") | M5: V | N5: 40606 | O5: =IF(ISNA(HLOOKUP(N5,CP!$B$2:$ZZ$100,$B$35,FALSE)),"",HLOOKUP(N5,CP!$B$2:$ZZ$100,$B$35,FALSE)) | P5: =IF(ISNA(HLOOKUP(N5,RTT!$B$2:$ZZ$100,$B$35,FALSE)),"",HLOOKUP('Exemple 1'!N5,RTT!$B$2:$ZZ$100,$B$35,FALSE)) | Q5: =IF(N5=O5,1,"") | R5: =IF(N5=P5,1,"") | S5: L | T5: 40637 | U5: =IF(ISNA(HLOOKUP(T5,CP!$B$2:$ZZ$100,$B$35,FALSE)),"",HLOOKUP(T5,CP!$B$2:$ZZ$100,$B$35,FALSE)) | V5: =IF(ISNA(HLOOKUP(T5,RTT!$B$2:$ZZ$100,$B$35,FALSE)),"",HLOOKUP('Exemple 1'!T5,RTT!$B$2:$ZZ$100,$B$35,FALSE)) | W5: =IF(T5=U5,1,"") | X5: =IF(T5=V5,1,"") | Y5: M | Z5: 40667 | AA5: =IF(ISNA(HLOOKUP(Z5,CP!$B$2:$ZZ$100,$B$35,FALSE)),"",HLOOKUP(Z5,CP!$B$2:$ZZ$100,$B$35,FALSE)) | AB5: =IF(ISNA(HLOOKUP(Z5,RTT!$B$2:$ZZ$100,$B$35,FALSE)),"",HLOOKUP('Exemple 1'!Z5,RTT!$B$2:$ZZ$100,$B$35,FALSE)) | AC5: =IF(Z5=AA5,1,"") | AD5: =IF(Z5=AB5,1,"") | AE5: S | AF5: 40698 | AG5: =IF(ISNA(HLOOKUP(AF5,CP!$B$2:$ZZ$100,$B$35,FALSE)),"",HLOOKUP(AF5,CP!$B$2:$ZZ$100,$B$35,FALSE)) | AH5: =IF(ISNA(HLOOKUP(AF5,RTT!$B$2:$ZZ$100,$B$35,FALSE)),"",HLOOKUP('Exemple 1'!AF5,RTT!$B$2:$ZZ$100,$B$35,FALSE)) | AI5: =IF(AF5=AG5,1,"") | AJ5: =IF(AF5=AH5,1,"") | AK5: L | AL5: 40728 | AM5: =IF(ISNA(HLOOKUP(AL5,CP!$B$2:$ZZ$100,$B$35,FALSE)),"",HLOOKUP(AL5,CP!$B$2:$ZZ$100,$B$35,FALSE)) | AN5: =IF(ISNA(HLOOKUP(AL5,RTT!$B$2:$ZZ$100,$B$35,FALSE)),"",HLOOKUP('Exemple 1'!AL5,RTT!$B$2:$ZZ$100,$B$35,FALSE)) | AO5: =IF(AL5=AM5,1,"") | AP5: =IF(AL5=AN5,1,"") | AQ5: J | AR5: 40759 | AS5: =IF(ISNA(HLOOKUP(AR5,CP!$B$2:$ZZ$100,$B$35,FALSE)),"",HLOOKUP(AR5,CP!$B$2:$ZZ$100,$B$35,FALSE)) | AT5: =IF(ISNA(HLOOKUP(AR5,RTT!$B$2:$ZZ$100,$B$35,FALSE)),"",HLOOKUP('Exemple 1'!AR5,RTT!$B$2:$ZZ$100,$B$35,FALSE)) | AU5: =IF(AR5=AS5,1,"") | AV5: =IF(AR5=AT5,1,"") | AW5: D | AX5: 40790 | AY5: =IF(ISNA(HLOOKUP(AX5,CP!$B$2:$ZZ$100,$B$35,FALSE)),"",HLOOKUP(AX5,CP!$B$2:$ZZ$100,$B$35,FALSE)) | AZ5: =IF(ISNA(HLOOKUP(AX5,RTT!$B$2:$ZZ$100,$B$35,FALSE)),"",HLOOKUP('Exemple 1'!AX5,RTT!$B$2:$ZZ$100,$B$35,FALSE)) | BA5: =IF(AX5=AY5,1,"") | BB5: =IF(AX5=AZ5,1,"") | BC5: M | BD5: 40820 | BE5: =IF(ISNA(HLOOKUP(BD5,CP!$B$2:$ZZ$100,$B$35,FALSE)),"",HLOOKUP(BD5,CP!$B$2:$ZZ$100,$B$35,FALSE)) | BF5: =IF(ISNA(HLOOKUP(BD5,RTT!$B$2:$ZZ$100,$B$35,FALSE)),"",HLOOKUP('Exemple 1'!BD5,RTT!$B$2:$ZZ$100,$B$35,FALSE)) | BG5: =IF(BD5=BE5,1,"") | BH5: =IF(BD5=BF5,1,"") | BI5: V | BJ5: 40851 | BK5: =IF(ISNA(HLOOKUP(BJ5,CP!$B$2:$ZZ$100,$B$35,FALSE)),"",HLOOKUP(BJ5,CP!$B$2:$ZZ$100,$B$35,FALSE)) | BL5: =IF(ISNA(HLOOKUP(BJ5,RTT!$B$2:$ZZ$100,$B$35,FALSE)),"",HLOOKUP('Exemple 1'!BJ5,RTT!$B$2:$ZZ$100,$B$35,FALSE)) | BM5: =IF(BJ5=BK5,1,"") | BN5: =IF(BJ5=BL5,1,"") | BO5: D | BP5: 40881 | BQ5: =IF(ISNA(HLOOKUP(BP5,CP!$B$2:$ZZ$100,$B$35,FALSE)),"",HLOOKUP(BP5,CP!$B$2:$ZZ$100,$B$35,FALSE)) | BR5: =IF(ISNA(HLOOKUP(BP5,RTT!$B$2:$ZZ$100,$B$35,FALSE)),"",HLOOKUP('Exemple 1'!BP5,RTT!$B$2:$ZZ$100,$B$35,FALSE)) | BS5: =IF(BP5=BQ5,1,"") | BT5: =IF(BP5=BR5,1,"")
A6: M | B6: 40548 | C6: =IF(ISNA(VLOOKUP(B6,CP!$A$1:$BS$50,2,FALSE)),"",VLOOKUP(B6,CP!$A$1:$BS$50,2,FALSE)) | D6: =IF(ISNA(HLOOKUP(B6,RTT!$B$2:$ZZ$100,$B$35,FALSE)),"",HLOOKUP(B6,RTT!$B$2:$ZZ$100,$B$35,FALSE)) | E6: =IF(B6=C6,1,"") | F6: =IF(B6=D6,1,"") | G6: S | H6: 40579 | I6: =IF(ISNA(HLOOKUP(H6,CP!$B$2:$ZZ$100,$B$35,FALSE)),"",HLOOKUP(H6,CP!$B$2:$ZZ$100,$B$35,FALSE)) | J6: =IF(ISNA(HLOOKUP(H6,RTT!$B$2:$ZZ$100,$B$35,FALSE)),"",HLOOKUP('Exemple 1'!H6,RTT!$B$2:$ZZ$100,$B$35,FALSE)) | K6: =IF(H6=I6,1,"") | L6: =IF(H6=J6,1,"") | M6: S | N6: 40607 | O6: =IF(ISNA(HLOOKUP(N6,CP!$B$2:$ZZ$100,$B$35,FALSE)),"",HLOOKUP(N6,CP!$B$2:$ZZ$100,$B$35,FALSE)) | P6: =IF(ISNA(HLOOKUP(N6,RTT!$B$2:$ZZ$100,$B$35,FALSE)),"",HLOOKUP('Exemple 1'!N6,RTT!$B$2:$ZZ$100,$B$35,FALSE)) | Q6: =IF(N6=O6,1,"") | R6: =IF(N6=P6,1,"") | S6: M | T6: 40638 | U6: =IF(ISNA(HLOOKUP(T6,CP!$B$2:$ZZ$100,$B$35,FALSE)),"",HLOOKUP(T6,CP!$B$2:$ZZ$100,$B$35,FALSE)) | V6: =IF(ISNA(HLOOKUP(T6,RTT!$B$2:$ZZ$100,$B$35,FALSE)),"",HLOOKUP('Exemple 1'!T6,RTT!$B$2:$ZZ$100,$B$35,FALSE)) | W6: =IF(T6=U6,1,"") | X6: =IF(T6=V6,1,"") | Y6: J | Z6: 40668 | AA6: =IF(ISNA(HLOOKUP(Z6,CP!$B$2:$ZZ$100,$B$35,FALSE)),"",HLOOKUP(Z6,CP!$B$2:$ZZ$100,$B$35,FALSE)) | AB6: =IF(ISNA(HLOOKUP(Z6,RTT!$B$2:$ZZ$100,$B$35,FALSE)),"",HLOOKUP('Exemple 1'!Z6,RTT!$B$2:$ZZ$100,$B$35,FALSE)) | AC6: =IF(Z6=AA6,1,"") | AD6: =IF(Z6=AB6,1,"") | AE6: D | AF6: 40699 | AG6: =IF(ISNA(HLOOKUP(AF6,CP!$B$2:$ZZ$100,$B$35,FALSE)),"",HLOOKUP(AF6,CP!$B$2:$ZZ$100,$B$35,FALSE)) | AH6: =IF(ISNA(HLOOKUP(AF6,RTT!$B$2:$ZZ$100,$B$35,FALSE)),"",HLOOKUP('Exemple 1'!AF6,RTT!$B$2:$ZZ$100,$B$35,FALSE)) | AI6: =IF(AF6=AG6,1,"") | AJ6: =IF(AF6=AH6,1,"") | AK6: M | AL6: 40729 | AM6: =IF(ISNA(HLOOKUP(AL6,CP!$B$2:$ZZ$100,$B$35,FALSE)),"",HLOOKUP(AL6,CP!$B$2:$ZZ$100,$B$35,FALSE)) | AN6: =IF(ISNA(HLOOKUP(AL6,RTT!$B$2:$ZZ$100,$B$35,FALSE)),"",HLOOKUP('Exemple 1'!AL6,RTT!$B$2:$ZZ$100,$B$35,FALSE)) | AO6: =IF(AL6=AM6,1,"") | AP6: =IF(AL6=AN6,1,"") | AQ6: V | AR6: 40760 | AS6: =IF(ISNA(HLOOKUP(AR6,CP!$B$2:$ZZ$100,$B$35,FALSE)),"",HLOOKUP(AR6,CP!$B$2:$ZZ$100,$B$35,FALSE)) | AT6: =IF(ISNA(HLOOKUP(AR6,RTT!$B$2:$ZZ$100,$B$35,FALSE)),"",HLOOKUP('Exemple 1'!AR6,RTT!$B$2:$ZZ$100,$B$35,FALSE)) | AU6: =IF(AR6=AS6,1,"") | AV6: =IF(AR6=AT6,1,"") | AW6: L | AX6: 40791 | AY6: =IF(ISNA(HLOOKUP(AX6,CP!$B$2:$ZZ$100,$B$35,FALSE)),"",HLOOKUP(AX6,CP!$B$2:$ZZ$100,$B$35,FALSE)) | AZ6: =IF(ISNA(HLOOKUP(AX6,RTT!$B$2:$ZZ$100,$B$35,FALSE)),"",HLOOKUP('Exemple 1'!AX6,RTT!$B$2:$ZZ$100,$B$35,FALSE)) | BA6: =IF(AX6=AY6,1,"") | BB6: =IF(AX6=AZ6,1,"") | BC6: M | BD6: 40821 | BE6: =IF(ISNA(HLOOKUP(BD6,CP!$B$2:$ZZ$100,$B$35,FALSE)),"",HLOOKUP(BD6,CP!$B$2:$ZZ$100,$B$35,FALSE)) | BF6: =IF(ISNA(HLOOKUP(BD6,RTT!$B$2:$ZZ$100,$B$35,FALSE)),"",HLOOKUP('Exemple 1'!BD6,RTT!$B$2:$ZZ$100,$B$35,FALSE)) | BG6: =IF(BD6=BE6,1,"") | BH6: =IF(BD6=BF6,1,"") | BI6: S | BJ6: 40852 | BK6: =IF(ISNA(HLOOKUP(BJ6,CP!$B$2:$ZZ$100,$B$35,FALSE)),"",HLOOKUP(BJ6,CP!$B$2:$ZZ$100,$B$35,FALSE)) | BL6: =IF(ISNA(HLOOKUP(BJ6,RTT!$B$2:$ZZ$100,$B$35,FALSE)),"",HLOOKUP('Exemple 1'!BJ6,RTT!$B$2:$ZZ$100,$B$35,FALSE)) | BM6: =IF(BJ6=BK6,1,"") | BN6: =IF(BJ6=BL6,1,"") | BO6: L | BP6: 40882 | BQ6: =IF(ISNA(HLOOKUP(BP6,CP!$B$2:$ZZ$100,$B$35,FALSE)),"",HLOOKUP(BP6,CP!$B$2:$ZZ$100,$B$35,FALSE)) | BR6: =IF(ISNA(HLOOKUP(BP6,RTT!$B$2:$ZZ$100,$B$35,FALSE)),"",HLOOKUP('Exemple 1'!BP6,RTT!$B$2:$ZZ$100,$B$35,FALSE)) | BS6: =IF(BP6=BQ6,1,"") | BT6: =IF(BP6=BR6,1,"")
A7: J | B7: 40549 | C7: =IF(ISNA(VLOOKUP(B7,CP!$A$1:$BS$50,2,FALSE)),"",VLOOKUP(B7,CP!$A$1:$BS$50,2,FALSE)) | D7: =IF(ISNA(HLOOKUP(B7,RTT!$B$2:$ZZ$100,$B$35,FALSE)),"",HLOOKUP(B7,RTT!$B$2:$ZZ$100,$B$35,FALSE)) | E7: =IF(B7=C7,1,"") | F7: =IF(B7=D7,1,"") | G7: D | H7: 40580 | I7: =IF(ISNA(HLOOKUP(H7,CP!$B$2:$ZZ$100,$B$35,FALSE)),"",HLOOKUP(H7,CP!$B$2:$ZZ$100,$B$35,FALSE)) | J7: =IF(ISNA(HLOOKUP(H7,RTT!$B$2:$ZZ$100,$B$35,FALSE)),"",HLOOKUP('Exemple 1'!H7,RTT!$B$2:$ZZ$100,$B$35,FALSE)) | K7: =IF(H7=I7,1,"") | L7: =IF(H7=J7,1,"") | M7: D | N7: 40608 | O7: =IF(ISNA(HLOOKUP(N7,CP!$B$2:$ZZ$100,$B$35,FALSE)),"",HLOOKUP(N7,CP!$B$2:$ZZ$100,$B$35,FALSE)) | P7: =IF(ISNA(HLOOKUP(N7,RTT!$B$2:$ZZ$100,$B$35,FALSE)),"",HLOOKUP('Exemple 1'!N7,RTT!$B$2:$ZZ$100,$B$35,FALSE)) | Q7: =IF(N7=O7,1,"") | R7: =IF(N7=P7,1,"") | S7: M | T7: 40639 | U7: =IF(ISNA(HLOOKUP(T7,CP!$B$2:$ZZ$100,$B$35,FALSE)),"",HLOOKUP(T7,CP!$B$2:$ZZ$100,$B$35,FALSE)) | V7: =IF(ISNA(HLOOKUP(T7,RTT!$B$2:$ZZ$100,$B$35,FALSE)),"",HLOOKUP('Exemple 1'!T7,RTT!$B$2:$ZZ$100,$B$35,FALSE)) | W7: =IF(T7=U7,1,"") | X7: =IF(T7=V7,1,"") | Y7: V | Z7: 40669 | AA7: =IF(ISNA(HLOOKUP(Z7,CP!$B$2:$ZZ$100,$B$35,FALSE)),"",HLOOKUP(Z7,CP!$B$2:$ZZ$100,$B$35,FALSE)) | AB7: =IF(ISNA(HLOOKUP(Z7,RTT!$B$2:$ZZ$100,$B$35,FALSE)),"",HLOOKUP('Exemple 1'!Z7,RTT!$B$2:$ZZ$100,$B$35,FALSE)) | AC7: =IF(Z7=AA7,1,"") | AD7: =IF(Z7=AB7,1,"") | AE7: L | AF7: 40700 | AG7: =IF(ISNA(HLOOKUP(AF7,CP!$B$2:$ZZ$100,$B$35,FALSE)),"",HLOOKUP(AF7,CP!$B$2:$ZZ$100,$B$35,FALSE)) | AH7: =IF(ISNA(HLOOKUP(AF7,RTT!$B$2:$ZZ$100,$B$35,FALSE)),"",HLOOKUP('Exemple 1'!AF7,RTT!$B$2:$ZZ$100,$B$35,FALSE)) | AI7: =IF(AF7=AG7,1,"") | AJ7: =IF(AF7=AH7,1,"") | AK7: M | AL7: 40730 | AM7: =IF(ISNA(HLOOKUP(AL7,CP!$B$2:$ZZ$100,$B$35,FALSE)),"",HLOOKUP(AL7,CP!$B$2:$ZZ$100,$B$35,FALSE)) | AN7: =IF(ISNA(HLOOKUP(AL7,RTT!$B$2:$ZZ$100,$B$35,FALSE)),"",HLOOKUP('Exemple 1'!AL7,RTT!$B$2:$ZZ$100,$B$35,FALSE)) | AO7: =IF(AL7=AM7,1,"") | AP7: =IF(AL7=AN7,1,"") | AQ7: S | AR7: 40761 | AS7: =IF(ISNA(HLOOKUP(AR7,CP!$B$2:$ZZ$100,$B$35,FALSE)),"",HLOOKUP(AR7,CP!$B$2:$ZZ$100,$B$35,FALSE)) | AT7: =IF(ISNA(HLOOKUP(AR7,RTT!$B$2:$ZZ$100,$B$35,FALSE)),"",HLOOKUP('Exemple 1'!AR7,RTT!$B$2:$ZZ$100,$B$35,FALSE)) | AU7: =IF(AR7=AS7,1,"") | AV7: =IF(AR7=AT7,1,"") | AW7: M | AX7: 40792 | AY7: =IF(ISNA(HLOOKUP(AX7,CP!$B$2:$ZZ$100,$B$35,FALSE)),"",HLOOKUP(AX7,CP!$B$2:$ZZ$100,$B$35,FALSE)) | AZ7: =IF(ISNA(HLOOKUP(AX7,RTT!$B$2:$ZZ$100,$B$35,FALSE)),"",HLOOKUP('Exemple 1'!AX7,RTT!$B$2:$ZZ$100,$B$35,FALSE)) | BA7: =IF(AX7=AY7,1,"") | BB7: =IF(AX7=AZ7,1,"") | BC7: J | BD7: 40822 | BE7: =IF(ISNA(HLOOKUP(BD7,CP!$B$2:$ZZ$100,$B$35,FALSE)),"",HLOOKUP(BD7,CP!$B$2:$ZZ$100,$B$35,FALSE)) | BF7: =IF(ISNA(HLOOKUP(BD7,RTT!$B$2:$ZZ$100,$B$35,FALSE)),"",HLOOKUP('Exemple 1'!BD7,RTT!$B$2:$ZZ$100,$B$35,FALSE)) | BG7: =IF(BD7=BE7,1,"") | BH7: =IF(BD7=BF7,1,"") | BI7: D | BJ7: 40853 | BK7: =IF(ISNA(HLOOKUP(BJ7,CP!$B$2:$ZZ$100,$B$35,FALSE)),"",HLOOKUP(BJ7,CP!$B$2:$ZZ$100,$B$35,FALSE)) | BL7: =IF(ISNA(HLOOKUP(BJ7,RTT!$B$2:$ZZ$100,$B$35,FALSE)),"",HLOOKUP('Exemple 1'!BJ7,RTT!$B$2:$ZZ$100,$B$35,FALSE)) | BM7: =IF(BJ7=BK7,1,"") | BN7: =IF(BJ7=BL7,1,"") | BO7: M | BP7: 40883 | BQ7: =IF(ISNA(HLOOKUP(BP7,CP!$B$2:$ZZ$100,$B$35,FALSE)),"",HLOOKUP(BP7,CP!$B$2:$ZZ$100,$B$35,FALSE)) | BR7: =IF(ISNA(HLOOKUP(BP7,RTT!$B$2:$ZZ$100,$B$35,FALSE)),"",HLOOKUP('Exemple 1'!BP7,RTT!$B$2:$ZZ$100,$B$35,FALSE)) | BS7: =IF(BP7=BQ7,1,"") | BT7: =IF(BP7=BR7,1,"")
A8: V | B8: 40550 | C8: =IF(ISNA(VLOOKUP(B8,CP!$A$1:$BS$50,2,FALSE)),"",VLOOKUP(B8,CP!$A$1:$BS$50,2,FALSE)) | D8: =IF(ISNA(HLOOKUP(B8,RTT!$B$2:$ZZ$100,$B$35,FALSE)),"",HLOOKUP(B8,RTT!$B$2:$ZZ$100,$B$35,FALSE)) | E8: =IF(B8=C8,1,"") | F8: =IF(B8=D8,1,"") | G8: L | H8: 40581 | I8: =IF(ISNA(HLOOKUP(H8,CP!$B$2:$ZZ$100,$B$35,FALSE)),"",HLOOKUP(H8,CP!$B$2:$ZZ$100,$B$35,FALSE)) | J8: =IF(ISNA(HLOOKUP(H8,RTT!$B$2:$ZZ$100,$B$35,FALSE)),"",HLOOKUP('Exemple 1'!H8,RTT!$B$2:$ZZ$100,$B$35,FALSE)) | K8: =IF(H8=I8,1,"") | L8: =IF(H8=J8,1,"") | M8: L | N8: 40609 | O8: =IF(ISNA(HLOOKUP(N8,CP!$B$2:$ZZ$100,$B$35,FALSE)),"",HLOOKUP(N8,CP!$B$2:$ZZ$100,$B$35,FALSE)) | P8: =IF(ISNA(HLOOKUP(N8,RTT!$B$2:$ZZ$100,$B$35,FALSE)),"",HLOOKUP('Exemple 1'!N8,RTT!$B$2:$ZZ$100,$B$35,FALSE)) | Q8: =IF(N8=O8,1,"") | R8: =IF(N8=P8,1,"") | S8: J | T8: 40640 | U8: =IF(ISNA(HLOOKUP(T8,CP!$B$2:$ZZ$100,$B$35,FALSE)),"",HLOOKUP(T8,CP!$B$2:$ZZ$100,$B$35,FALSE)) | V8: =IF(ISNA(HLOOKUP(T8,RTT!$B$2:$ZZ$100,$B$35,FALSE)),"",HLOOKUP('Exemple 1'!T8,RTT!$B$2:$ZZ$100,$B$35,FALSE)) | W8: =IF(T8=U8,1,"") | X8: =IF(T8=V8,1,"") | Y8: S | Z8: 40670 | AA8: =IF(ISNA(HLOOKUP(Z8,CP!$B$2:$ZZ$100,$B$35,FALSE)),"",HLOOKUP(Z8,CP!$B$2:$ZZ$100,$B$35,FALSE)) | AB8: =IF(ISNA(HLOOKUP(Z8,RTT!$B$2:$ZZ$100,$B$35,FALSE)),"",HLOOKUP('Exemple 1'!Z8,RTT!$B$2:$ZZ$100,$B$35,FALSE)) | AC8: =IF(Z8=AA8,1,"") | AD8: =IF(Z8=AB8,1,"") | AE8: M | AF8: 40701 | AG8: =IF(ISNA(HLOOKUP(AF8,CP!$B$2:$ZZ$100,$B$35,FALSE)),"",HLOOKUP(AF8,CP!$B$2:$ZZ$100,$B$35,FALSE)) | AH8: =IF(ISNA(HLOOKUP(AF8,RTT!$B$2:$ZZ$100,$B$35,FALSE)),"",HLOOKUP('Exemple 1'!AF8,RTT!$B$2:$ZZ$100,$B$35,FALSE)) | AI8: =IF(AF8=AG8,1,"") | AJ8: =IF(AF8=AH8,1,"") | AK8: J | AL8: 40731 | AM8: =IF(ISNA(HLOOKUP(AL8,CP!$B$2:$ZZ$100,$B$35,FALSE)),"",HLOOKUP(AL8,CP!$B$2:$ZZ$100,$B$35,FALSE)) | AN8: =IF(ISNA(HLOOKUP(AL8,RTT!$B$2:$ZZ$100,$B$35,FALSE)),"",HLOOKUP('Exemple 1'!AL8,RTT!$B$2:$ZZ$100,$B$35,FALSE)) | AO8: =IF(AL8=AM8,1,"") | AP8: =IF(AL8=AN8,1,"") | AQ8: D | AR8: 40762 | AS8: =IF(ISNA(HLOOKUP(AR8,CP!$B$2:$ZZ$100,$B$35,FALSE)),"",HLOOKUP(AR8,CP!$B$2:$ZZ$100,$B$35,FALSE)) | AT8: =IF(ISNA(HLOOKUP(AR8,RTT!$B$2:$ZZ$100,$B$35,FALSE)),"",HLOOKUP('Exemple 1'!AR8,RTT!$B$2:$ZZ$100,$B$35,FALSE)) | AU8: =IF(AR8=AS8,1,"") | AV8: =IF(AR8=AT8,1,"") | AW8: M | AX8: 40793 | AY8: =IF(ISNA(HLOOKUP(AX8,CP!$B$2:$ZZ$100,$B$35,FALSE)),"",HLOOKUP(AX8,CP!$B$2:$ZZ$100,$B$35,FALSE)) | AZ8: =IF(ISNA(HLOOKUP(AX8,RTT!$B$2:$ZZ$100,$B$35,FALSE)),"",HLOOKUP('Exemple 1'!AX8,RTT!$B$2:$ZZ$100,$B$35,FALSE)) | BA8: =IF(AX8=AY8,1,"") | BB8: =IF(AX8=AZ8,1,"") | BC8: V | BD8: 40823 | BE8: =IF(ISNA(HLOOKUP(BD8,CP!$B$2:$ZZ$100,$B$35,FALSE)),"",HLOOKUP(BD8,CP!$B$2:$ZZ$100,$B$35,FALSE)) | BF8: =IF(ISNA(HLOOKUP(BD8,RTT!$B$2:$ZZ$100,$B$35,FALSE)),"",HLOOKUP('Exemple 1'!BD8,RTT!$B$2:$ZZ$100,$B$35,FALSE)) | BG8: =IF(BD8=BE8,1,"") | BH8: =IF(BD8=BF8,1,"") | BI8: L | BJ8: 40854 | BK8: =IF(ISNA(HLOOKUP(BJ8,CP!$B$2:$ZZ$100,$B$35,FALSE)),"",HLOOKUP(BJ8,CP!$B$2:$ZZ$100,$B$35,FALSE)) | BL8: =IF(ISNA(HLOOKUP(BJ8,RTT!$B$2:$ZZ$100,$B$35,FALSE)),"",HLOOKUP('Exemple 1'!BJ8,RTT!$B$2:$ZZ$100,$B$35,FALSE)) | BM8: =IF(BJ8=BK8,1,"") | BN8: =IF(BJ8=BL8,1,"") | BO8: M | BP8: 40884 | BQ8: =IF(ISNA(HLOOKUP(BP8,CP!$B$2:$ZZ$100,$B$35,FALSE)),"",HLOOKUP(BP8,CP!$B$2:$ZZ$100,$B$35,FALSE)) | BR8: =IF(ISNA(HLOOKUP(BP8,RTT!$B$2:$ZZ$100,$B$35,FALSE)),"",HLOOKUP('Exemple 1'!BP8,RTT!$B$2:$ZZ$100,$B$35,FALSE)) | BS8: =IF(BP8=BQ8,1,"") | BT8: =IF(BP8=BR8,1,"")
A9: S | B9: 40551 | C9: =IF(ISNA(VLOOKUP(B9,CP!$A$1:$BS$50,2,FALSE)),"",VLOOKUP(B9,CP!$A$1:$BS$50,2,FALSE)) | D9: =IF(ISNA(HLOOKUP(B9,RTT!$B$2:$ZZ$100,$B$35,FALSE)),"",HLOOKUP(B9,RTT!$B$2:$ZZ$100,$B$35,FALSE)) | E9: =IF(B9=C9,1,"") | F9: =IF(B9=D9,1,"") | G9: M | H9: 40582 | I9: =IF(ISNA(HLOOKUP(H9,CP!$B$2:$ZZ$100,$B$35,FALSE)),"",HLOOKUP(H9,CP!$B$2:$ZZ$100,$B$35,FALSE)) | J9: =IF(ISNA(HLOOKUP(H9,RTT!$B$2:$ZZ$100,$B$35,FALSE)),"",HLOOKUP('Exemple 1'!H9,RTT!$B$2:$ZZ$100,$B$35,FALSE)) | K9: =IF(H9=I9,1,"") | L9: =IF(H9=J9,1,"") | M9: M | N9: 40610 | O9: =IF(ISNA(HLOOKUP(N9,CP!$B$2:$ZZ$100,$B$35,FALSE)),"",HLOOKUP(N9,CP!$B$2:$ZZ$100,$B$35,FALSE)) | P9: =IF(ISNA(HLOOKUP(N9,RTT!$B$2:$ZZ$100,$B$35,FALSE)),"",HLOOKUP('Exemple 1'!N9,RTT!$B$2:$ZZ$100,$B$35,FALSE)) | Q9: =IF(N9=O9,1,"") | R9: =IF(N9=P9,1,"") | S9: V | T9: 40641 | U9: =IF(ISNA(HLOOKUP(T9,CP!$B$2:$ZZ$100,$B$35,FALSE)),"",HLOOKUP(T9,CP!$B$2:$ZZ$100,$B$35,FALSE)) | V9: =IF(ISNA(HLOOKUP(T9,RTT!$B$2:$ZZ$100,$B$35,FALSE)),"",HLOOKUP('Exemple 1'!T9,RTT!$B$2:$ZZ$100,$B$35,FALSE)) | W9: =IF(T9=U9,1,"") | X9: =IF(T9=V9,1,"") | Y9: D | Z9: 40671 | AA9: =IF(ISNA(HLOOKUP(Z9,CP!$B$2:$ZZ$100,$B$35,FALSE)),"",HLOOKUP(Z9,CP!$B$2:$ZZ$100,$B$35,FALSE)) | AB9: =IF(ISNA(HLOOKUP(Z9,RTT!$B$2:$ZZ$100,$B$35,FALSE)),"",HLOOKUP('Exemple 1'!Z9,RTT!$B$2:$ZZ$100,$B$35,FALSE)) | AC9: =IF(Z9=AA9,1,"") | AD9: =IF(Z9=AB9,1,"") | AE9: M | AF9: 40702 | AG9: =IF(ISNA(HLOOKUP(AF9,CP!$B$2:$ZZ$100,$B$35,FALSE)),"",HLOOKUP(AF9,CP!$B$2:$ZZ$100,$B$35,FALSE)) | AH9: =IF(ISNA(HLOOKUP(AF9,RTT!$B$2:$ZZ$100,$B$35,FALSE)),"",HLOOKUP('Exemple 1'!AF9,RTT!$B$2:$ZZ$100,$B$35,FALSE)) | AI9: =IF(AF9=AG9,1,"") | AJ9: =IF(AF9=AH9,1,"") | AK9: V | AL9: 40732 | AM9: =IF(ISNA(HLOOKUP(AL9,CP!$B$2:$ZZ$100,$B$35,FALSE)),"",HLOOKUP(AL9,CP!$B$2:$ZZ$100,$B$35,FALSE)) | AN9: =IF(ISNA(HLOOKUP(AL9,RTT!$B$2:$ZZ$100,$B$35,FALSE)),"",HLOOKUP('Exemple 1'!AL9,RTT!$B$2:$ZZ$100,$B$35,FALSE)) | AO9: =IF(AL9=AM9,1,"") | AP9: =IF(AL9=AN9,1,"") | AQ9: L | AR9: 40763 | AS9: =IF(ISNA(HLOOKUP(AR9,CP!$B$2:$ZZ$100,$B$35,FALSE)),"",HLOOKUP(AR9,CP!$B$2:$ZZ$100,$B$35,FALSE)) | AT9: =IF(ISNA(HLOOKUP(AR9,RTT!$B$2:$ZZ$100,$B$35,FALSE)),"",HLOOKUP('Exemple 1'!AR9,RTT!$B$2:$ZZ$100,$B$35,FALSE)) | AU9: =IF(AR9=AS9,1,"") | AV9: =IF(AR9=AT9,1,"") | AW9: J | AX9: 40794 | AY9: =IF(ISNA(HLOOKUP(AX9,CP!$B$2:$ZZ$100,$B$35,FALSE)),"",HLOOKUP(AX9,CP!$B$2:$ZZ$100,$B$35,FALSE)) | AZ9: =IF(ISNA(HLOOKUP(AX9,RTT!$B$2:$ZZ$100,$B$35,FALSE)),"",HLOOKUP('Exemple 1'!AX9,RTT!$B$2:$ZZ$100,$B$35,FALSE)) | BA9: =IF(AX9=AY9,1,"") | BB9: =IF(AX9=AZ9,1,"") | BC9: S | BD9: 40824 | BE9: =IF(ISNA(HLOOKUP(BD9,CP!$B$2:$ZZ$100,$B$35,FALSE)),"",HLOOKUP(BD9,CP!$B$2:$ZZ$100,$B$35,FALSE)) | BF9: =IF(ISNA(HLOOKUP(BD9,RTT!$B$2:$ZZ$100,$B$35,FALSE)),"",HLOOKUP('Exemple 1'!BD9,RTT!$B$2:$ZZ$100,$B$35,FALSE)) | BG9: =IF(BD9=BE9,1,"") | BH9: =IF(BD9=BF9,1,"") | BI9: M | BJ9: 40855 | BK9: =IF(ISNA(HLOOKUP(BJ9,CP!$B$2:$ZZ$100,$B$35,FALSE)),"",HLOOKUP(BJ9,CP!$B$2:$ZZ$100,$B$35,FALSE)) | BL9: =IF(ISNA(HLOOKUP(BJ9,RTT!$B$2:$ZZ$100,$B$35,FALSE)),"",HLOOKUP('Exemple 1'!BJ9,RTT!$B$2:$ZZ$100,$B$35,FALSE)) | BM9: =IF(BJ9=BK9,1,"") | BN9: =IF(BJ9=BL9,1,"") | BO9: J | BP9: 40885 | BQ9: =IF(ISNA(HLOOKUP(BP9,CP!$B$2:$ZZ$100,$B$35,FALSE)),"",HLOOKUP(BP9,CP!$B$2:$ZZ$100,$B$35,FALSE)) | BR9: =IF(ISNA(HLOOKUP(BP9,RTT!$B$2:$ZZ$100,$B$35,FALSE)),"",HLOOKUP('Exemple 1'!BP9,RTT!$B$2:$ZZ$100,$B$35,FALSE)) | BS9: =IF(BP9=BQ9,1,"") | BT9: =IF(BP9=BR9,1,"")
A10: D | B10: 40552 | C10: =IF(ISNA(VLOOKUP(B10,CP!$A$1:$BS$50,2,FALSE)),"",VLOOKUP(B10,CP!$A$1:$BS$50,2,FALSE)) | D10: =IF(ISNA(HLOOKUP(B10,RTT!$B$2:$ZZ$100,$B$35,FALSE)),"",HLOOKUP(B10,RTT!$B$2:$ZZ$100,$B$35,FALSE)) | E10: =IF(B10=C10,1,"") | F10: =IF(B10=D10,1,"") | G10: M | H10: 40583 | I10: =IF(ISNA(HLOOKUP(H10,CP!$B$2:$ZZ$100,$B$35,FALSE)),"",HLOOKUP(H10,CP!$B$2:$ZZ$100,$B$35,FALSE)) | J10: =IF(ISNA(HLOOKUP(H10,RTT!$B$2:$ZZ$100,$B$35,FALSE)),"",HLOOKUP('Exemple 1'!H10,RTT!$B$2:$ZZ$100,$B$35,FALSE)) | K10: =IF(H10=I10,1,"") | L10: =IF(H10=J10,1,"") | M10: M | N10: 40611 | O10: =IF(ISNA(HLOOKUP(N10,CP!$B$2:$ZZ$100,$B$35,FALSE)),"",HLOOKUP(N10,CP!$B$2:$ZZ$100,$B$35,FALSE)) | P10: =IF(ISNA(HLOOKUP(N10,RTT!$B$2:$ZZ$100,$B$35,FALSE)),"",HLOOKUP('Exemple 1'!N10,RTT!$B$2:$ZZ$100,$B$35,FALSE)) | Q10: =IF(N10=O10,1,"") | R10: =IF(N10=P10,1,"") | S10: S | T10: 40642 | U10: =IF(ISNA(HLOOKUP(T10,CP!$B$2:$ZZ$100,$B$35,FALSE)),"",HLOOKUP(T10,CP!$B$2:$ZZ$100,$B$35,FALSE)) | V10: =IF(ISNA(HLOOKUP(T10,RTT!$B$2:$ZZ$100,$B$35,FALSE)),"",HLOOKUP('Exemple 1'!T10,RTT!$B$2:$ZZ$100,$B$35,FALSE)) | W10: =IF(T10=U10,1,"") | X10: =IF(T10=V10,1,"") | Y10: L | Z10: 40672 | AA10: =IF(ISNA(HLOOKUP(Z10,CP!$B$2:$ZZ$100,$B$35,FALSE)),"",HLOOKUP(Z10,CP!$B$2:$ZZ$100,$B$35,FALSE)) | AB10: =IF(ISNA(HLOOKUP(Z10,RTT!$B$2:$ZZ$100,$B$35,FALSE)),"",HLOOKUP('Exemple 1'!Z10,RTT!$B$2:$ZZ$100,$B$35,FALSE)) | AC10: =IF(Z10=AA10,1,"") | AD10: =IF(Z10=AB10,1,"") | AE10: J | AF10: 40703 | AG10: =IF(ISNA(HLOOKUP(AF10,CP!$B$2:$ZZ$100,$B$35,FALSE)),"",HLOOKUP(AF10,CP!$B$2:$ZZ$100,$B$35,FALSE)) | AH10: =IF(ISNA(HLOOKUP(AF10,RTT!$B$2:$ZZ$100,$B$35,FALSE)),"",HLOOKUP('Exemple 1'!AF10,RTT!$B$2:$ZZ$100,$B$35,FALSE)) | AI10: =IF(AF10=AG10,1,"") | AJ10: =IF(AF10=AH10,1,"") | AK10: S | AL10: 40733 | AM10: =IF(ISNA(HLOOKUP(AL10,CP!$B$2:$ZZ$100,$B$35,FALSE)),"",HLOOKUP(AL10,CP!$B$2:$ZZ$100,$B$35,FALSE)) | AN10: =IF(ISNA(HLOOKUP(AL10,RTT!$B$2:$ZZ$100,$B$35,FALSE)),"",HLOOKUP('Exemple 1'!AL10,RTT!$B$2:$ZZ$100,$B$35,FALSE)) | AO10: =IF(AL10=AM10,1,"") | AP10: =IF(AL10=AN10,1,"") | AQ10: M | AR10: 40764 | AS10: =IF(ISNA(HLOOKUP(AR10,CP!$B$2:$ZZ$100,$B$35,FALSE)),"",HLOOKUP(AR10,CP!$B$2:$ZZ$100,$B$35,FALSE)) | AT10: =IF(ISNA(HLOOKUP(AR10,RTT!$B$2:$ZZ$100,$B$35,FALSE)),"",HLOOKUP('Exemple 1'!AR10,RTT!$B$2:$ZZ$100,$B$35,FALSE)) | AU10: =IF(AR10=AS10,1,"") | AV10: =IF(AR10=AT10,1,"") | AW10: V | AX10: 40795 | AY10: =IF(ISNA(HLOOKUP(AX10,CP!$B$2:$ZZ$100,$B$35,FALSE)),"",HLOOKUP(AX10,CP!$B$2:$ZZ$100,$B$35,FALSE)) | AZ10: =IF(ISNA(HLOOKUP(AX10,RTT!$B$2:$ZZ$100,$B$35,FALSE)),"",HLOOKUP('Exemple 1'!AX10,RTT!$B$2:$ZZ$100,$B$35,FALSE)) | BA10: =IF(AX10=AY10,1,"") | BB10: =IF(AX10=AZ10,1,"") | BC10: D | BD10: 40825 | BE10: =IF(ISNA(HLOOKUP(BD10,CP!$B$2:$ZZ$100,$B$35,FALSE)),"",HLOOKUP(BD10,CP!$B$2:$ZZ$100,$B$35,FALSE)) | BF10: =IF(ISNA(HLOOKUP(BD10,RTT!$B$2:$ZZ$100,$B$35,FALSE)),"",HLOOKUP('Exemple 1'!BD10,RTT!$B$2:$ZZ$100,$B$35,FALSE)) | BG10: =IF(BD10=BE10,1,"") | BH10: =IF(BD10=BF10,1,"") | BI10: M | BJ10: 40856 | BK10: =IF(ISNA(HLOOKUP(BJ10,CP!$B$2:$ZZ$100,$B$35,FALSE)),"",HLOOKUP(BJ10,CP!$B$2:$ZZ$100,$B$35,FALSE)) | BL10: =IF(ISNA(HLOOKUP(BJ10,RTT!$B$2:$ZZ$100,$B$35,FALSE)),"",HLOOKUP('Exemple 1'!BJ10,RTT!$B$2:$ZZ$100,$B$35,FALSE)) | BM10: =IF(BJ10=BK10,1,"") | BN10: =IF(BJ10=BL10,1,"") | BO10: V | BP10: 40886 | BQ10: =IF(ISNA(HLOOKUP(BP10,CP!$B$2:$ZZ$100,$B$35,FALSE)),"",HLOOKUP(BP10,CP!$B$2:$ZZ$100,$B$35,FALSE)) | BR10: =IF(ISNA(HLOOKUP(BP10,RTT!$B$2:$ZZ$100,$B$35,FALSE)),"",HLOOKUP('Exemple 1'!BP10,RTT!$B$2:$ZZ$100,$B$35,FALSE)) | BS10: =IF(BP10=BQ10,1,"") | BT10: =IF(BP10=BR10,1,"")
A11: L | B11: 40553 | C11: =IF(ISNA(VLOOKUP(B11,CP!$A$1:$BS$50,2,FALSE)),"",VLOOKUP(B11,CP!$A$1:$BS$50,2,FALSE)) | D11: =IF(ISNA(HLOOKUP(B11,RTT!$B$2:$ZZ$100,$B$35,FALSE)),"",HLOOKUP(B11,RTT!$B$2:$ZZ$100,$B$35,FALSE)) | E11: =IF(B11=C11,1,"") | F11: =IF(B11=D11,1,"") | G11: J | H11: 40584 | I11: =IF(ISNA(HLOOKUP(H11,CP!$B$2:$ZZ$100,$B$35,FALSE)),"",HLOOKUP(H11,CP!$B$2:$ZZ$100,$B$35,FALSE)) | J11: =IF(ISNA(HLOOKUP(H11,RTT!$B$2:$ZZ$100,$B$35,FALSE)),"",HLOOKUP('Exemple 1'!H11,RTT!$B$2:$ZZ$100,$B$35,FALSE)) | K11: =IF(H11=I11,1,"") | L11: =IF(H11=J11,1,"") | M11: J | N11: 40612 | O11: =IF(ISNA(HLOOKUP(N11,CP!$B$2:$ZZ$100,$B$35,FALSE)),"",HLOOKUP(N11,CP!$B$2:$ZZ$100,$B$35,FALSE)) | P11: =IF(ISNA(HLOOKUP(N11,RTT!$B$2:$ZZ$100,$B$35,FALSE)),"",HLOOKUP('Exemple 1'!N11,RTT!$B$2:$ZZ$100,$B$35,FALSE)) | Q11: =IF(N11=O11,1,"") | R11: =IF(N11=P11,1,"") | S11: D | T11: 40643 | U11: =IF(ISNA(HLOOKUP(T11,CP!$B$2:$ZZ$100,$B$35,FALSE)),"",HLOOKUP(T11,CP!$B$2:$ZZ$100,$B$35,FALSE)) | V11: =IF(ISNA(HLOOKUP(T11,RTT!$B$2:$ZZ$100,$B$35,FALSE)),"",HLOOKUP('Exemple 1'!T11,RTT!$B$2:$ZZ$100,$B$35,FALSE)) | W11: =IF(T11=U11,1,"") | X11: =IF(T11=V11,1,"") | Y11: M | Z11: 40673 | AA11: =IF(ISNA(HLOOKUP(Z11,CP!$B$2:$ZZ$100,$B$35,FALSE)),"",HLOOKUP(Z11,CP!$B$2:$ZZ$100,$B$35,FALSE)) | AB11: =IF(ISNA(HLOOKUP(Z11,RTT!$B$2:$ZZ$100,$B$35,FALSE)),"",HLOOKUP('Exemple 1'!Z11,RTT!$B$2:$ZZ$100,$B$35,FALSE)) | AC11: =IF(Z11=AA11,1,"") | AD11: =IF(Z11=AB11,1,"") | AE11: V | AF11: 40704 | AG11: =IF(ISNA(HLOOKUP(AF11,CP!$B$2:$ZZ$100,$B$35,FALSE)),"",HLOOKUP(AF11,CP!$B$2:$ZZ$100,$B$35,FALSE)) | AH11: =IF(ISNA(HLOOKUP(AF11,RTT!$B$2:$ZZ$100,$B$35,FALSE)),"",HLOOKUP('Exemple 1'!AF11,RTT!$B$2:$ZZ$100,$B$35,FALSE)) | AI11: =IF(AF11=AG11,1,"") | AJ11: =IF(AF11=AH11,1,"") | AK11: D | AL11: 40734 | AM11: =IF(ISNA(HLOOKUP(AL11,CP!$B$2:$ZZ$100,$B$35,FALSE)),"",HLOOKUP(AL11,CP!$B$2:$ZZ$100,$B$35,FALSE)) | AN11: =IF(ISNA(HLOOKUP(AL11,RTT!$B$2:$ZZ$100,$B$35,FALSE)),"",HLOOKUP('Exemple 1'!AL11,RTT!$B$2:$ZZ$100,$B$35,FALSE)) | AO11: =IF(AL11=AM11,1,"") | AP11: =IF(AL11=AN11,1,"") | AQ11: M | AR11: 40765 | AS11: =IF(ISNA(HLOOKUP(AR11,CP!$B$2:$ZZ$100,$B$35,FALSE)),"",HLOOKUP(AR11,CP!$B$2:$ZZ$100,$B$35,FALSE)) | AT11: =IF(ISNA(HLOOKUP(AR11,RTT!$B$2:$ZZ$100,$B$35,FALSE)),"",HLOOKUP('Exemple 1'!AR11,RTT!$B$2:$ZZ$100,$B$35,FALSE)) | AU11: =IF(AR11=AS11,1,"") | AV11: =IF(AR11=AT11,1,"") | AW11: S | AX11: 40796 | AY11: =IF(ISNA(HLOOKUP(AX11,CP!$B$2:$ZZ$100,$B$35,FALSE)),"",HLOOKUP(AX11,CP!$B$2:$ZZ$100,$B$35,FALSE)) | AZ11: =IF(ISNA(HLOOKUP(AX11,RTT!$B$2:$ZZ$100,$B$35,FALSE)),"",HLOOKUP('Exemple 1'!AX11,RTT!$B$2:$ZZ$100,$B$35,FALSE)) | BA11: =IF(AX11=AY11,1,"") | BB11: =IF(AX11=AZ11,1,"") | BC11: L | BD11: 40826 | BE11: =IF(ISNA(HLOOKUP(BD11,CP!$B$2:$ZZ$100,$B$35,FALSE)),"",HLOOKUP(BD11,CP!$B$2:$ZZ$100,$B$35,FALSE)) | BF11: =IF(ISNA(HLOOKUP(BD11,RTT!$B$2:$ZZ$100,$B$35,FALSE)),"",HLOOKUP('Exemple 1'!BD11,RTT!$B$2:$ZZ$100,$B$35,FALSE)) | BG11: =IF(BD11=BE11,1,"") | BH11: =IF(BD11=BF11,1,"") | BI11: J | BJ11: 40857 | BK11: =IF(ISNA(HLOOKUP(BJ11,CP!$B$2:$ZZ$100,$B$35,FALSE)),"",HLOOKUP(BJ11,CP!$B$2:$ZZ$100,$B$35,FALSE)) | BL11: =IF(ISNA(HLOOKUP(BJ11,RTT!$B$2:$ZZ$100,$B$35,FALSE)),"",HLOOKUP('Exemple 1'!BJ11,RTT!$B$2:$ZZ$100,$B$35,FALSE)) | BM11: =IF(BJ11=BK11,1,"") | BN11: =IF(BJ11=BL11,1,"") | BO11: S | BP11: 40887 | BQ11: =IF(ISNA(HLOOKUP(BP11,CP!$B$2:$ZZ$100,$B$35,FALSE)),"",HLOOKUP(BP11,CP!$B$2:$ZZ$100,$B$35,FALSE)) | BR11: =IF(ISNA(HLOOKUP(BP11,RTT!$B$2:$ZZ$100,$B$35,FALSE)),"",HLOOKUP('Exemple 1'!BP11,RTT!$B$2:$ZZ$100,$B$35,FALSE)) | BS11: =IF(BP11=BQ11,1,"") | BT11: =IF(BP11=BR11,1,"")
A12: M | B12: 40554 | C12: =IF(ISNA(VLOOKUP(B12,CP!$A$1:$BS$50,2,FALSE)),"",VLOOKUP(B12,CP!$A$1:$BS$50,2,FALSE)) | D12: =IF(ISNA(HLOOKUP(B12,RTT!$B$2:$ZZ$100,$B$35,FALSE)),"",HLOOKUP(B12,RTT!$B$2:$ZZ$100,$B$35,FALSE)) | E12: =IF(B12=C12,1,"") | F12: =IF(B12=D12,1,"") | G12: V | H12: 40585 | I12: =IF(ISNA(HLOOKUP(H12,CP!$B$2:$ZZ$100,$B$35,FALSE)),"",HLOOKUP(H12,CP!$B$2:$ZZ$100,$B$35,FALSE)) | J12: =IF(ISNA(HLOOKUP(H12,RTT!$B$2:$ZZ$100,$B$35,FALSE)),"",HLOOKUP('Exemple 1'!H12,RTT!$B$2:$ZZ$100,$B$35,FALSE)) | K12: =IF(H12=I12,1,"") | L12: =IF(H12=J12,1,"") | M12: V | N12: 40613 | O12: =IF(ISNA(HLOOKUP(N12,CP!$B$2:$ZZ$100,$B$35,FALSE)),"",HLOOKUP(N12,CP!$B$2:$ZZ$100,$B$35,FALSE)) | P12: =IF(ISNA(HLOOKUP(N12,RTT!$B$2:$ZZ$100,$B$35,FALSE)),"",HLOOKUP('Exemple 1'!N12,RTT!$B$2:$ZZ$100,$B$35,FALSE)) | Q12: =IF(N12=O12,1,"") | R12: =IF(N12=P12,1,"") | S12: L | T12: 40644 | U12: =IF(ISNA(HLOOKUP(T12,CP!$B$2:$ZZ$100,$B$35,FALSE)),"",HLOOKUP(T12,CP!$B$2:$ZZ$100,$B$35,FALSE)) | V12: =IF(ISNA(HLOOKUP(T12,RTT!$B$2:$ZZ$100,$B$35,FALSE)),"",HLOOKUP('Exemple 1'!T12,RTT!$B$2:$ZZ$100,$B$35,FALSE)) | W12: =IF(T12=U12,1,"") | X12: =IF(T12=V12,1,"") | Y12: M | Z12: 40674 | AA12: =IF(ISNA(HLOOKUP(Z12,CP!$B$2:$ZZ$100,$B$35,FALSE)),"",HLOOKUP(Z12,CP!$B$2:$ZZ$100,$B$35,FALSE)) | AB12: =IF(ISNA(HLOOKUP(Z12,RTT!$B$2:$ZZ$100,$B$35,FALSE)),"",HLOOKUP('Exemple 1'!Z12,RTT!$B$2:$ZZ$100,$B$35,FALSE)) | AC12: =IF(Z12=AA12,1,"") | AD12: =IF(Z12=AB12,1,"") | AE12: S | AF12: 40705 | AG12: =IF(ISNA(HLOOKUP(AF12,CP!$B$2:$ZZ$100,$B$35,FALSE)),"",HLOOKUP(AF12,CP!$B$2:$ZZ$100,$B$35,FALSE)) | AH12: =IF(ISNA(HLOOKUP(AF12,RTT!$B$2:$ZZ$100,$B$35,FALSE)),"",HLOOKUP('Exemple 1'!AF12,RTT!$B$2:$ZZ$100,$B$35,FALSE)) | AI12: =IF(AF12=AG12,1,"") | AJ12: =IF(AF12=AH12,1,"") | AK12: L | AL12: 40735 | AM12: =IF(ISNA(HLOOKUP(AL12,CP!$B$2:$ZZ$100,$B$35,FALSE)),"",HLOOKUP(AL12,CP!$B$2:$ZZ$100,$B$35,FALSE)) | AN12: =IF(ISNA(HLOOKUP(AL12,RTT!$B$2:$ZZ$100,$B$35,FALSE)),"",HLOOKUP('Exemple 1'!AL12,RTT!$B$2:$ZZ$100,$B$35,FALSE)) | AO12: =IF(AL12=AM12,1,"") | AP12: =IF(AL12=AN12,1,"") | AQ12: J | AR12: 40766 | AS12: =IF(ISNA(HLOOKUP(AR12,CP!$B$2:$ZZ$100,$B$35,FALSE)),"",HLOOKUP(AR12,CP!$B$2:$ZZ$100,$B$35,FALSE)) | AT12: =IF(ISNA(HLOOKUP(AR12,RTT!$B$2:$ZZ$100,$B$35,FALSE)),"",HLOOKUP('Exemple 1'!AR12,RTT!$B$2:$ZZ$100,$B$35,FALSE)) | AU12: =IF(AR12=AS12,1,"") | AV12: =IF(AR12=AT12,1,"") | AW12: D | AX12: 40797 | AY12: =IF(ISNA(HLOOKUP(AX12,CP!$B$2:$ZZ$100,$B$35,FALSE)),"",HLOOKUP(AX12,CP!$B$2:$ZZ$100,$B$35,FALSE)) | AZ12: =IF(ISNA(HLOOKUP(AX12,RTT!$B$2:$ZZ$100,$B$35,FALSE)),"",HLOOKUP('Exemple 1'!AX12,RTT!$B$2:$ZZ$100,$B$35,FALSE)) | BA12: =IF(AX12=AY12,1,"") | BB12: =IF(AX12=AZ12,1,"") | BC12: M | BD12: 40827 | BE12: =IF(ISNA(HLOOKUP(BD12,CP!$B$2:$ZZ$100,$B$35,FALSE)),"",HLOOKUP(BD12,CP!$B$2:$ZZ$100,$B$35,FALSE)) | BF12: =IF(ISNA(HLOOKUP(BD12,RTT!$B$2:$ZZ$100,$B$35,FALSE)),"",HLOOKUP('Exemple 1'!BD12,RTT!$B$2:$ZZ$100,$B$35,FALSE)) | BG12: =IF(BD12=BE12,1,"") | BH12: =IF(BD12=BF12,1,"") | BI12: V | BJ12: 40858 | BK12: =IF(ISNA(HLOOKUP(BJ12,CP!$B$2:$ZZ$100,$B$35,FALSE)),"",HLOOKUP(BJ12,CP!$B$2:$ZZ$100,$B$35,FALSE)) | BL12: =IF(ISNA(HLOOKUP(BJ12,RTT!$B$2:$ZZ$100,$B$35,FALSE)),"",HLOOKUP('Exemple 1'!BJ12,RTT!$B$2:$ZZ$100,$B$35,FALSE)) | BM12: =IF(BJ12=BK12,1,"") | BN12: =IF(BJ12=BL12,1,"") | BO12: D | BP12: 40888 | BQ12: =IF(ISNA(HLOOKUP(BP12,CP!$B$2:$ZZ$100,$B$35,FALSE)),"",HLOOKUP(BP12,CP!$B$2:$ZZ$100,$B$35,FALSE)) | BR12: =IF(ISNA(HLOOKUP(BP12,RTT!$B$2:$ZZ$100,$B$35,FALSE)),"",HLOOKUP('Exemple 1'!BP12,RTT!$B$2:$ZZ$100,$B$35,FALSE)) | BS12: =IF(BP12=BQ12,1,"") | BT12: =IF(BP12=BR12,1,"")
A13: M | B13: 40555 | C13: =IF(ISNA(VLOOKUP(B13,CP!$A$1:$BS$50,2,FALSE)),"",VLOOKUP(B13,CP!$A$1:$BS$50,2,FALSE)) | D13: =IF(ISNA(HLOOKUP(B13,RTT!$B$2:$ZZ$100,$B$35,FALSE)),"",HLOOKUP(B13,RTT!$B$2:$ZZ$100,$B$35,FALSE)) | E13: =IF(B13=C13,1,"") | F13: =IF(B13=D13,1,"") | G13: S | H13: 40586 | I13: =IF(ISNA(HLOOKUP(H13,CP!$B$2:$ZZ$100,$B$35,FALSE)),"",HLOOKUP(H13,CP!$B$2:$ZZ$100,$B$35,FALSE)) | J13: =IF(ISNA(HLOOKUP(H13,RTT!$B$2:$ZZ$100,$B$35,FALSE)),"",HLOOKUP('Exemple 1'!H13,RTT!$B$2:$ZZ$100,$B$35,FALSE)) | K13: =IF(H13=I13,1,"") | L13: =IF(H13=J13,1,"") | M13: S | N13: 40614 | O13: =IF(ISNA(HLOOKUP(N13,CP!$B$2:$ZZ$100,$B$35,FALSE)),"",HLOOKUP(N13,CP!$B$2:$ZZ$100,$B$35,FALSE)) | P13: =IF(ISNA(HLOOKUP(N13,RTT!$B$2:$ZZ$100,$B$35,FALSE)),"",HLOOKUP('Exemple 1'!N13,RTT!$B$2:$ZZ$100,$B$35,FALSE)) | Q13: =IF(N13=O13,1,"") | R13: =IF(N13=P13,1,"") | S13: M | T13: 40645 | U13: =IF(ISNA(HLOOKUP(T13,CP!$B$2:$ZZ$100,$B$35,FALSE)),"",HLOOKUP(T13,CP!$B$2:$ZZ$100,$B$35,FALSE)) | V13: =IF(ISNA(HLOOKUP(T13,RTT!$B$2:$ZZ$100,$B$35,FALSE)),"",HLOOKUP('Exemple 1'!T13,RTT!$B$2:$ZZ$100,$B$35,FALSE)) | W13: =IF(T13=U13,1,"") | X13: =IF(T13=V13,1,"") | Y13: J | Z13: 40675 | AA13: =IF(ISNA(HLOOKUP(Z13,CP!$B$2:$ZZ$100,$B$35,FALSE)),"",HLOOKUP(Z13,CP!$B$2:$ZZ$100,$B$35,FALSE)) | AB13: =IF(ISNA(HLOOKUP(Z13,RTT!$B$2:$ZZ$100,$B$35,FALSE)),"",HLOOKUP('Exemple 1'!Z13,RTT!$B$2:$ZZ$100,$B$35,FALSE)) | AC13: =IF(Z13=AA13,1,"") | AD13: =IF(Z13=AB13,1,"") | AE13: D | AF13: 40706 | AG13: =IF(ISNA(HLOOKUP(AF13,CP!$B$2:$ZZ$100,$B$35,FALSE)),"",HLOOKUP(AF13,CP!$B$2:$ZZ$100,$B$35,FALSE)) | AH13: =IF(ISNA(HLOOKUP(AF13,RTT!$B$2:$ZZ$100,$B$35,FALSE)),"",HLOOKUP('Exemple 1'!AF13,RTT!$B$2:$ZZ$100,$B$35,FALSE)) | AI13: =IF(AF13=AG13,1,"") | AJ13: =IF(AF13=AH13,1,"") | AK13: M | AL13: 40736 | AM13: =IF(ISNA(HLOOKUP(AL13,CP!$B$2:$ZZ$100,$B$35,FALSE)),"",HLOOKUP(AL13,CP!$B$2:$ZZ$100,$B$35,FALSE)) | AN13: =IF(ISNA(HLOOKUP(AL13,RTT!$B$2:$ZZ$100,$B$35,FALSE)),"",HLOOKUP('Exemple 1'!AL13,RTT!$B$2:$ZZ$100,$B$35,FALSE)) | AO13: =IF(AL13=AM13,1,"") | AP13: =IF(AL13=AN13,1,"") | AQ13: V | AR13: 40767 | AS13: =IF(ISNA(HLOOKUP(AR13,CP!$B$2:$ZZ$100,$B$35,FALSE)),"",HLOOKUP(AR13,CP!$B$2:$ZZ$100,$B$35,FALSE)) | AT13: =IF(ISNA(HLOOKUP(AR13,RTT!$B$2:$ZZ$100,$B$35,FALSE)),"",HLOOKUP('Exemple 1'!AR13,RTT!$B$2:$ZZ$100,$B$35,FALSE)) | AU13: =IF(AR13=AS13,1,"") | AV13: =IF(AR13=AT13,1,"") | AW13: L | AX13: 40798 | AY13: =IF(ISNA(HLOOKUP(AX13,CP!$B$2:$ZZ$100,$B$35,FALSE)),"",HLOOKUP(AX13,CP!$B$2:$ZZ$100,$B$35,FALSE)) | AZ13: =IF(ISNA(HLOOKUP(AX13,RTT!$B$2:$ZZ$100,$B$35,FALSE)),"",HLOOKUP('Exemple 1'!AX13,RTT!$B$2:$ZZ$100,$B$35,FALSE)) | BA13: =IF(AX13=AY13,1,"") | BB13: =IF(AX13=AZ13,1,"") | BC13: M | BD13: 40828 | BE13: =IF(ISNA(HLOOKUP(BD13,CP!$B$2:$ZZ$100,$B$35,FALSE)),"",HLOOKUP(BD13,CP!$B$2:$ZZ$100,$B$35,FALSE)) | BF13: =IF(ISNA(HLOOKUP(BD13,RTT!$B$2:$ZZ$100,$B$35,FALSE)),"",HLOOKUP('Exemple 1'!BD13,RTT!$B$2:$ZZ$100,$B$35,FALSE)) | BG13: =IF(BD13=BE13,1,"") | BH13: =IF(BD13=BF13,1,"") | BI13: S | BJ13: 40859 | BK13: =IF(ISNA(HLOOKUP(BJ13,CP!$B$2:$ZZ$100,$B$35,FALSE)),"",HLOOKUP(BJ13,CP!$B$2:$ZZ$100,$B$35,FALSE)) | BL13: =IF(ISNA(HLOOKUP(BJ13,RTT!$B$2:$ZZ$100,$B$35,FALSE)),"",HLOOKUP('Exemple 1'!BJ13,RTT!$B$2:$ZZ$100,$B$35,FALSE)) | BM13: =IF(BJ13=BK13,1,"") | BN13: =IF(BJ13=BL13,1,"") | BO13: L | BP13: 40889 | BQ13: =IF(ISNA(HLOOKUP(BP13,CP!$B$2:$ZZ$100,$B$35,FALSE)),"",HLOOKUP(BP13,CP!$B$2:$ZZ$100,$B$35,FALSE)) | BR13: =IF(ISNA(HLOOKUP(BP13,RTT!$B$2:$ZZ$100,$B$35,FALSE)),"",HLOOKUP('Exemple 1'!BP13,RTT!$B$2:$ZZ$100,$B$35,FALSE)) | BS13: =IF(BP13=BQ13,1,"") | BT13: =IF(BP13=BR13,1,"")
... A16: S | B16: 40558 | C16: =IF(ISNA(VLOOKUP(B16,CP!$A$1:$BS$50,2,FALSE)),"",VLOOKUP(B16,CP!$A$1:$BS$50,2,FALSE)) | D16: =IF(ISNA(HLOOKUP(B16,RTT!$B$2:$ZZ$100,$B$35,FALSE)),"",HLOOKUP(B16,RTT!$B$2:$ZZ$100,$B$35,FALSE)) | E16: =IF(B16=C16,1,"") | F16: =IF(B16=D16,1,"") | G16: M | H16: 40589 | I16: =IF(ISNA(HLOOKUP(H16,CP!$B$2:$ZZ$100,$B$35,FALSE)),"",HLOOKUP(H16,CP!$B$2:$ZZ$100,$B$35,FALSE)) | J16: =IF(ISNA(HLOOKUP(H16,RTT!$B$2:$ZZ$100,$B$35,FALSE)),"",HLOOKUP('Exemple 1'!H16,RTT!$B$2:$ZZ$100,$B$35,FALSE)) | K16: =IF(H16=I16,1,"") | L16: =IF(H16=J16,1,"") | M16: M | N16: 40617 | O16: =IF(ISNA(HLOOKUP(N16,CP!$B$2:$ZZ$100,$B$35,FALSE)),"",HLOOKUP(N16,CP!$B$2:$ZZ$100,$B$35,FALSE)) | P16: =IF(ISNA(HLOOKUP(N16,RTT!$B$2:$ZZ$100,$B$35,FALSE)),"",HLOOKUP('Exemple 1'!N16,RTT!$B$2:$ZZ$100,$B$35,FALSE)) | Q16: =IF(N16=O16,1,"") | R16: =IF(N16=P16,1,"") | S16: V | T16: 40648 | U16: =IF(ISNA(HLOOKUP(T16,CP!$B$2:$ZZ$100,$B$35,FALSE)),"",HLOOKUP(T16,CP!$B$2:$ZZ$100,$B$35,FALSE)) | V16: =IF(ISNA(HLOOKUP(T16,RTT!$B$2:$ZZ$100,$B$35,FALSE)),"",HLOOKUP('Exemple 1'!T16,RTT!$B$2:$ZZ$100,$B$35,FALSE)) | W16: =IF(T16=U16,1,"") | X16: =IF(T16=V16,1,"") | Y16: D | Z16: 40678 | AA16: =IF(ISNA(HLOOKUP(Z16,CP!$B$2:$ZZ$100,$B$35,FALSE)),"",HLOOKUP(Z16,CP!$B$2:$ZZ$100,$B$35,FALSE)) | AB16: =IF(ISNA(HLOOKUP(Z16,RTT!$B$2:$ZZ$100,$B$35,FALSE)),"",HLOOKUP('Exemple 1'!Z16,RTT!$B$2:$ZZ$100,$B$35,FALSE)) | AC16: =IF(Z16=AA16,1,"") | AD16: =IF(Z16=AB16,1,"") | AE16: M | AF16: 40709 | AG16: =IF(ISNA(HLOOKUP(AF16,CP!$B$2:$ZZ$100,$B$35,FALSE)),"",HLOOKUP(AF16,CP!$B$2:$ZZ$100,$B$35,FALSE)) | AH16: =IF(ISNA(HLOOKUP(AF16,RTT!$B$2:$ZZ$100,$B$35,FALSE)),"",HLOOKUP('Exemple 1'!AF16,RTT!$B$2:$ZZ$100,$B$35,FALSE)) | AI16: =IF(AF16=AG16,1,"") | AJ16: =IF(AF16=AH16,1,"") | AK16: V | AL16: 40739 | AM16: =IF(ISNA(HLOOKUP(AL16,CP!$B$2:$ZZ$100,$B$35,FALSE)),"",HLOOKUP(AL16,CP!$B$2:$ZZ$100,$B$35,FALSE)) | AN16: =IF(ISNA(HLOOKUP(AL16,RTT!$B$2:$ZZ$100,$B$35,FALSE)),"",HLOOKUP('Exemple 1'!AL16,RTT!$B$2:$ZZ$100,$B$35,FALSE)) | AO16: =IF(AL16=AM16,1,"") | AP16: =IF(AL16=AN16,1,"") | AQ16: L | AR16: 40770 | AS16: =IF(ISNA(HLOOKUP(AR16,CP!$B$2:$ZZ$100,$B$35,FALSE)),"",HLOOKUP(AR16,CP!$B$2:$ZZ$100,$B$35,FALSE)) | AT16: =IF(ISNA(HLOOKUP(AR16,RTT!$B$2:$ZZ$100,$B$35,FALSE)),"",HLOOKUP('Exemple 1'!AR16,RTT!$B$2:$ZZ$100,$B$35,FALSE)) | AU16: =IF(AR16=AS16,1,"") | AV16: =IF(AR16=AT16,1,"") | AW16: J | AX16: 40801 | AY16: =IF(ISNA(HLOOKUP(AX16,CP!$B$2:$ZZ$100,$B$35,FALSE)),"",HLOOKUP(AX16,CP!$B$2:$ZZ$100,$B$35,FALSE)) | AZ16: =IF(ISNA(HLOOKUP(AX16,RTT!$B$2:$ZZ$100,$B$35,FALSE)),"",HLOOKUP('Exemple 1'!AX16,RTT!$B$2:$ZZ$100,$B$35,FALSE)) | BA16: =IF(AX16=AY16,1,"") | BB16: =IF(AX16=AZ16,1,"") | BC16: S | BD16: 40831 | BE16: =IF(ISNA(HLOOKUP(BD16,CP!$B$2:$ZZ$100,$B$35,FALSE)),"",HLOOKUP(BD16,CP!$B$2:$ZZ$100,$B$35,FALSE)) | BF16: =IF(ISNA(HLOOKUP(BD16,RTT!$B$2:$ZZ$100,$B$35,FALSE)),"",HLOOKUP('Exemple 1'!BD16,RTT!$B$2:$ZZ$100,$B$35,FALSE)) | BG16: =IF(BD16=BE16,1,"") | BH16: =IF(BD16=BF16,1,"") | BI16: M | BJ16: 40862 | BK16: =IF(ISNA(HLOOKUP(BJ16,CP!$B$2:$ZZ$100,$B$35,FALSE)),"",HLOOKUP(BJ16,CP!$B$2:$ZZ$100,$B$35,FALSE)) | BL16: =IF(ISNA(HLOOKUP(BJ16,RTT!$B$2:$ZZ$100,$B$35,FALSE)),"",HLOOKUP('Exemple 1'!BJ16,RTT!$B$2:$ZZ$100,$B$35,FALSE)) | BM16: =IF(BJ16=BK16,1,"") | BN16: =IF(BJ16=BL16,1,"") | BO16: J | BP16: 40892 | BQ16: =IF(ISNA(HLOOKUP(BP16,CP!$B$2:$ZZ$100,$B$35,FALSE)),"",HLOOKUP(BP16,CP!$B$2:$ZZ$100,$B$35,FALSE)) | BR16: =IF(ISNA(HLOOKUP(BP16,RTT!$B$2:$ZZ$100,$B$35,FALSE)),"",HLOOKUP('Exemple 1'!BP16,RTT!$B$2:$ZZ$100,$B$35,FALSE)) | BS16: =IF(BP16=BQ16,1,"") | BT16: =IF(BP16=BR16,1,"")
A17: D | B17: 40559 | C17: =IF(ISNA(VLOOKUP(B17,CP!$A$1:$BS$50,2,FALSE)),"",VLOOKUP(B17,CP!$A$1:$BS$50,2,FALSE)) | D17: =IF(ISNA(HLOOKUP(B17,RTT!$B$2:$ZZ$100,$B$35,FALSE)),"",HLOOKUP(B17,RTT!$B$2:$ZZ$100,$B$35,FALSE)) | E17: =IF(B17=C17,1,"") | G17: M | H17: 40590 | I17: =IF(ISNA(HLOOKUP(H17,CP!$B$2:$ZZ$100,$B$35,FALSE)),"",HLOOKUP(H17,CP!$B$2:$ZZ$100,$B$35,FALSE)) | J17: =IF(ISNA(HLOOKUP(H17,RTT!$B$2:$ZZ$100,$B$35,FALSE)),"",HLOOKUP('Exemple 1'!H17,RTT!$B$2:$ZZ$100,$B$35,FALSE)) | K17: =IF(H17=I17,1,"") | L17: =IF(H17=J17,1,"") | M17: M | N17: 40618 | O17: =IF(ISNA(HLOOKUP(N17,CP!$B$2:$ZZ$100,$B$35,FALSE)),"",HLOOKUP(N17,CP!$B$2:$ZZ$100,$B$35,FALSE)) | P17: =IF(ISNA(HLOOKUP(N17,RTT!$B$2:$ZZ$100,$B$35,FALSE)),"",HLOOKUP('Exemple 1'!N17,RTT!$B$2:$ZZ$100,$B$35,FALSE)) | Q17: =IF(N17=O17,1,"") | R17: =IF(N17=P17,1,"") | S17: S | T17: 40649 | U17: =IF(ISNA(HLOOKUP(T17,CP!$B$2:$ZZ$100,$B$35,FALSE)),"",HLOOKUP(T17,CP!$B$2:$ZZ$100,$B$35,FALSE)) | V17: =IF(ISNA(HLOOKUP(T17,RTT!$B$2:$ZZ$100,$B$35,FALSE)),"",HLOOKUP('Exemple 1'!T17,RTT!$B$2:$ZZ$100,$B$35,FALSE)) | W17: =IF(T17=U17,1,"") | X17: =IF(T17=V17,1,"") | Y17: L | Z17: 40679 | AA17: =IF(ISNA(HLOOKUP(Z17,CP!$B$2:$ZZ$100,$B$35,FALSE)),"",HLOOKUP(Z17,CP!$B$2:$ZZ$100,$B$35,FALSE)) | AB17: =IF(ISNA(HLOOKUP(Z17,RTT!$B$2:$ZZ$100,$B$35,FALSE)),"",HLOOKUP('Exemple 1'!Z17,RTT!$B$2:$ZZ$100,$B$35,FALSE)) | AC17: =IF(Z17=AA17,1,"") | AD17: =IF(Z17=AB17,1,"") | AE17: J | AF17: 40710 | AG17: =IF(ISNA(HLOOKUP(AF17,CP!$B$2:$ZZ$100,$B$35,FALSE)),"",HLOOKUP(AF17,CP!$B$2:$ZZ$100,$B$35,FALSE)) | AH17: =IF(ISNA(HLOOKUP(AF17,RTT!$B$2:$ZZ$100,$B$35,FALSE)),"",HLOOKUP('Exemple 1'!AF17,RTT!$B$2:$ZZ$100,$B$35,FALSE)) | AI17: =IF(AF17=AG17,1,"") | AJ17: =IF(AF17=AH17,1,"") | AK17: S | AL17: 40740 | AM17: =IF(ISNA(HLOOKUP(AL17,CP!$B$2:$ZZ$100,$B$35,FALSE)),"",HLOOKUP(AL17,CP!$B$2:$ZZ$100,$B$35,FALSE)) | AN17: =IF(ISNA(HLOOKUP(AL17,RTT!$B$2:$ZZ$100,$B$35,FALSE)),"",HLOOKUP('Exemple 1'!AL17,RTT!$B$2:$ZZ$100,$B$35,FALSE)) | AO17: =IF(AL17=AM17,1,"") | AP17: =IF(AL17=AN17,1,"") | AQ17: M | AR17: 40771 | AS17: =IF(ISNA(HLOOKUP(AR17,CP!$B$2:$ZZ$100,$B$35,FALSE)),"",HLOOKUP(AR17,CP!$B$2:$ZZ$100,$B$35,FALSE)) | AT17: =IF(ISNA(HLOOKUP(AR17,RTT!$B$2:$ZZ$100,$B$35,FALSE)),"",HLOOKUP('Exemple 1'!AR17,RTT!$B$2:$ZZ$100,$B$35,FALSE)) | AU17: =IF(AR17=AS17,1,"") | AV17: =IF(AR17=AT17,1,"") | AW17: V | AX17: 40802 | AY17: =IF(ISNA(HLOOKUP(AX17,CP!$B$2:$ZZ$100,$B$35,FALSE)),"",HLOOKUP(AX17,CP!$B$2:$ZZ$100,$B$35,FALSE)) | AZ17: =IF(ISNA(HLOOKUP(AX17,RTT!$B$2:$ZZ$100,$B$35,FALSE)),"",HLOOKUP('Exemple 1'!AX17,RTT!$B$2:$ZZ$100,$B$35,FALSE)) | BA17: =IF(AX17=AY17,1,"") | BB17: =IF(AX17=AZ17,1,"") | BC17: D | BD17: 40832 | BE17: =IF(ISNA(HLOOKUP(BD17,CP!$B$2:$ZZ$100,$B$35,FALSE)),"",HLOOKUP(BD17,CP!$B$2:$ZZ$100,$B$35,FALSE)) | BF17: =IF(ISNA(HLOOKUP(BD17,RTT!$B$2:$ZZ$100,$B$35,FALSE)),"",HLOOKUP('Exemple 1'!BD17,RTT!$B$2:$ZZ$100,$B$35,FALSE)) | BG17: =IF(BD17=BE17,1,"") | BH17: =IF(BD17=BF17,1,"") | BI17: M | BJ17: 40863 | BK17: =IF(ISNA(HLOOKUP(BJ17,CP!$B$2:$ZZ$100,$B$35,FALSE)),"",HLOOKUP(BJ17,CP!$B$2:$ZZ$100,$B$35,FALSE)) | BL17: =IF(ISNA(HLOOKUP(BJ17,RTT!$B$2:$ZZ$100,$B$35,FALSE)),"",HLOOKUP('Exemple 1'!BJ17,RTT!$B$2:$ZZ$100,$B$35,FALSE)) | BM17: =IF(BJ17=BK17,1,"") | BN17: =IF(BJ17=BL17,1,"") | BO17: V | BP17: 40893 | BQ17: =IF(ISNA(HLOOKUP(BP17,CP!$B$2:$ZZ$100,$B$35,FALSE)),"",HLOOKUP(BP17,CP!$B$2:$ZZ$100,$B$35,FALSE)) | BR17: =IF(ISNA(HLOOKUP(BP17,RTT!$B$2:$ZZ$100,$B$35,FALSE)),"",HLOOKUP('Exemple 1'!BP17,RTT!$B$2:$ZZ$100,$B$35,FALSE)) | BS17: =IF(BP17=BQ17,1,"") | BT17: =IF(BP17=BR17,1,"")
A18: L | B18: 40560 | C18: =IF(ISNA(VLOOKUP(B18,CP!$A$1:$BS$50,2,FALSE)),"",VLOOKUP(B18,CP!$A$1:$BS$50,2,FALSE)) | D18: =IF(ISNA(HLOOKUP(B18,RTT!$B$2:$ZZ$100,$B$35,FALSE)),"",HLOOKUP(B18,RTT!$B$2:$ZZ$100,$B$35,FALSE)) | E18: =IF(B18=C18,1,"") | F18: =IF(B18=D18,1,"") | G18: J | H18: 40591 | I18: =IF(ISNA(HLOOKUP(H18,CP!$B$2:$ZZ$100,$B$35,FALSE)),"",HLOOKUP(H18,CP!$B$2:$ZZ$100,$B$35,FALSE)) | J18: =IF(ISNA(HLOOKUP(H18,RTT!$B$2:$ZZ$100,$B$35,FALSE)),"",HLOOKUP('Exemple 1'!H18,RTT!$B$2:$ZZ$100,$B$35,FALSE)) | K18: =IF(H18=I18,1,"") | L18: =IF(H18=J18,1,"") | M18: J | N18: 40619 | O18: =IF(ISNA(HLOOKUP(N18,CP!$B$2:$ZZ$100,$B$35,FALSE)),"",HLOOKUP(N18,CP!$B$2:$ZZ$100,$B$35,FALSE)) | P18: =IF(ISNA(HLOOKUP(N18,RTT!$B$2:$ZZ$100,$B$35,FALSE)),"",HLOOKUP('Exemple 1'!N18,RTT!$B$2:$ZZ$100,$B$35,FALSE)) | Q18: =IF(N18=O18,1,"") | R18: =IF(N18=P18,1,"") | S18: D | T18: 40650 | U18: =IF(ISNA(HLOOKUP(T18,CP!$B$2:$ZZ$100,$B$35,FALSE)),"",HLOOKUP(T18,CP!$B$2:$ZZ$100,$B$35,FALSE)) | V18: =IF(ISNA(HLOOKUP(T18,RTT!$B$2:$ZZ$100,$B$35,FALSE)),"",HLOOKUP('Exemple 1'!T18,RTT!$B$2:$ZZ$100,$B$35,FALSE)) | W18: =IF(T18=U18,1,"") | X18: =IF(T18=V18,1,"") | Y18: M | Z18: 40680 | AA18: =IF(ISNA(HLOOKUP(Z18,CP!$B$2:$ZZ$100,$B$35,FALSE)),"",HLOOKUP(Z18,CP!$B$2:$ZZ$100,$B$35,FALSE)) | AB18: =IF(ISNA(HLOOKUP(Z18,RTT!$B$2:$ZZ$100,$B$35,FALSE)),"",HLOOKUP('Exemple 1'!Z18,RTT!$B$2:$ZZ$100,$B$35,FALSE)) | AC18: =IF(Z18=AA18,1,"") | AD18: =IF(Z18=AB18,1,"") | AE18: V | AF18: 40711 | AG18: =IF(ISNA(HLOOKUP(AF18,CP!$B$2:$ZZ$100,$B$35,FALSE)),"",HLOOKUP(AF18,CP!$B$2:$ZZ$100,$B$35,FALSE)) | AH18: =IF(ISNA(HLOOKUP(AF18,RTT!$B$2:$ZZ$100,$B$35,FALSE)),"",HLOOKUP('Exemple 1'!AF18,RTT!$B$2:$ZZ$100,$B$35,FALSE)) | AI18: =IF(AF18=AG18,1,"") | AJ18: =IF(AF18=AH18,1,"") | AK18: D | AL18: 40741 | AM18: =IF(ISNA(HLOOKUP(AL18,CP!$B$2:$ZZ$100,$B$35,FALSE)),"",HLOOKUP(AL18,CP!$B$2:$ZZ$100,$B$35,FALSE)) | AN18: =IF(ISNA(HLOOKUP(AL18,RTT!$B$2:$ZZ$100,$B$35,FALSE)),"",HLOOKUP('Exemple 1'!AL18,RTT!$B$2:$ZZ$100,$B$35,FALSE)) | AO18: =IF(AL18=AM18,1,"") | AP18: =IF(AL18=AN18,1,"") | AQ18: M | AR18: 40772 | AS18: =IF(ISNA(HLOOKUP(AR18,CP!$B$2:$ZZ$100,$B$35,FALSE)),"",HLOOKUP(AR18,CP!$B$2:$ZZ$100,$B$35,FALSE)) | AT18: =IF(ISNA(HLOOKUP(AR18,RTT!$B$2:$ZZ$100,$B$35,FALSE)),"",HLOOKUP('Exemple 1'!AR18,RTT!$B$2:$ZZ$100,$B$35,FALSE)) | AU18: =IF(AR18=AS18,1,"") | AV18: =IF(AR18=AT18,1,"") | AW18: S | AX18: 40803 | AY18: =IF(ISNA(HLOOKUP(AX18,CP!$B$2:$ZZ$100,$B$35,FALSE)),"",HLOOKUP(AX18,CP!$B$2:$ZZ$100,$B$35,FALSE)) | AZ18: =IF(ISNA(HLOOKUP(AX18,RTT!$B$2:$ZZ$100,$B$35,FALSE)),"",HLOOKUP('Exemple 1'!AX18,RTT!$B$2:$ZZ$100,$B$35,FALSE)) | BA18: =IF(AX18=AY18,1,"") | BB18: =IF(AX18=AZ18,1,"") | BC18: L | BD18: 40833 | BE18: =IF(ISNA(HLOOKUP(BD18,CP!$B$2:$ZZ$100,$B$35,FALSE)),"",HLOOKUP(BD18,CP!$B$2:$ZZ$100,$B$35,FALSE)) | BF18: =IF(ISNA(HLOOKUP(BD18,RTT!$B$2:$ZZ$100,$B$35,FALSE)),"",HLOOKUP('Exemple 1'!BD18,RTT!$B$2:$ZZ$100,$B$35,FALSE)) | BG18: =IF(BD18=BE18,1,"") | BH18: =IF(BD18=BF18,1,"") | BI18: J | BJ18: 40864 | BK18: =IF(ISNA(HLOOKUP(BJ18,CP!$B$2:$ZZ$100,$B$35,FALSE)),"",HLOOKUP(BJ18,CP!$B$2:$ZZ$100,$B$35,FALSE)) | BL18: =IF(ISNA(HLOOKUP(BJ18,RTT!$B$2:$ZZ$100,$B$35,FALSE)),"",HLOOKUP('Exemple 1'!BJ18,RTT!$B$2:$ZZ$100,$B$35,FALSE)) | BM18: =IF(BJ18=BK18,1,"") | BN18: =IF(BJ18=BL18,1,"") | BO18: S | BP18: 40894 | BQ18: =IF(ISNA(HLOOKUP(BP18,CP!$B$2:$ZZ$100,$B$35,FALSE)),"",HLOOKUP(BP18,CP!$B$2:$ZZ$100,$B$35,FALSE)) | BR18: =IF(ISNA(HLOOKUP(BP18,RTT!$B$2:$ZZ$100,$B$35,FALSE)),"",HLOOKUP('Exemple 1'!BP18,RTT!$B$2:$ZZ$100,$B$35,FALSE)) | BS18: =IF(BP18=BQ18,1,"") | BT18: =IF(BP18=BR18,1,"")
A19: M | B19: 40561 | C19: =IF(ISNA(VLOOKUP(B19,CP!$A$1:$BS$50,2,FALSE)),"",VLOOKUP(B19,CP!$A$1:$BS$50,2,FALSE)) | D19: =IF(ISNA(HLOOKUP(B19,RTT!$B$2:$ZZ$100,$B$35,FALSE)),"",HLOOKUP(B19,RTT!$B$2:$ZZ$100,$B$35,FALSE)) | E19: =IF(B19=C19,1,"") | F19: =IF(B19=D19,1,"") | G19: V | H19: 40592 | I19: =IF(ISNA(HLOOKUP(H19,CP!$B$2:$ZZ$100,$B$35,FALSE)),"",HLOOKUP(H19,CP!$B$2:$ZZ$100,$B$35,FALSE)) | J19: =IF(ISNA(HLOOKUP(H19,RTT!$B$2:$ZZ$100,$B$35,FALSE)),"",HLOOKUP('Exemple 1'!H19,RTT!$B$2:$ZZ$100,$B$35,FALSE)) | K19: =IF(H19=I19,1,"") | L19: =IF(H19=J19,1,"") | M19: V | N19: 40620 | O19: =IF(ISNA(HLOOKUP(N19,CP!$B$2:$ZZ$100,$B$35,FALSE)),"",HLOOKUP(N19,CP!$B$2:$ZZ$100,$B$35,FALSE)) | P19: =IF(ISNA(HLOOKUP(N19,RTT!$B$2:$ZZ$100,$B$35,FALSE)),"",HLOOKUP('Exemple 1'!N19,RTT!$B$2:$ZZ$100,$B$35,FALSE)) | Q19: =IF(N19=O19,1,"") | R19: =IF(N19=P19,1,"") | S19: L | T19: 40651 | U19: =IF(ISNA(HLOOKUP(T19,CP!$B$2:$ZZ$100,$B$35,FALSE)),"",HLOOKUP(T19,CP!$B$2:$ZZ$100,$B$35,FALSE)) | V19: =IF(ISNA(HLOOKUP(T19,RTT!$B$2:$ZZ$100,$B$35,FALSE)),"",HLOOKUP('Exemple 1'!T19,RTT!$B$2:$ZZ$100,$B$35,FALSE)) | W19: =IF(T19=U19,1,"") | X19: =IF(T19=V19,1,"") | Y19: M | Z19: 40681 | AA19: =IF(ISNA(HLOOKUP(Z19,CP!$B$2:$ZZ$100,$B$35,FALSE)),"",HLOOKUP(Z19,CP!$B$2:$ZZ$100,$B$35,FALSE)) | AB19: =IF(ISNA(HLOOKUP(Z19,RTT!$B$2:$ZZ$100,$B$35,FALSE)),"",HLOOKUP('Exemple 1'!Z19,RTT!$B$2:$ZZ$100,$B$35,FALSE)) | AC19: =IF(Z19=AA19,1,"") | AD19: =IF(Z19=AB19,1,"") | AE19: S | AF19: 40712 | AG19: =IF(ISNA(HLOOKUP(AF19,CP!$B$2:$ZZ$100,$B$35,FALSE)),"",HLOOKUP(AF19,CP!$B$2:$ZZ$100,$B$35,FALSE)) | AH19: =IF(ISNA(HLOOKUP(AF19,RTT!$B$2:$ZZ$100,$B$35,FALSE)),"",HLOOKUP('Exemple 1'!AF19,RTT!$B$2:$ZZ$100,$B$35,FALSE)) | AI19: =IF(AF19=AG19,1,"") | AJ19: =IF(AF19=AH19,1,"") | AK19: L | AL19: 40742 | AM19: =IF(ISNA(HLOOKUP(AL19,CP!$B$2:$ZZ$100,$B$35,FALSE)),"",HLOOKUP(AL19,CP!$B$2:$ZZ$100,$B$35,FALSE)) | AN19: =IF(ISNA(HLOOKUP(AL19,RTT!$B$2:$ZZ$100,$B$35,FALSE)),"",HLOOKUP('Exemple 1'!AL19,RTT!$B$2:$ZZ$100,$B$35,FALSE)) | AO19: =IF(AL19=AM19,1,"") | AP19: =IF(AL19=AN19,1,"") | AQ19: J | AR19: 40773 | AS19: =IF(ISNA(HLOOKUP(AR19,CP!$B$2:$ZZ$100,$B$35,FALSE)),"",HLOOKUP(AR19,CP!$B$2:$ZZ$100,$B$35,FALSE)) | AT19: =IF(ISNA(HLOOKUP(AR19,RTT!$B$2:$ZZ$100,$B$35,FALSE)),"",HLOOKUP('Exemple 1'!AR19,RTT!$B$2:$ZZ$100,$B$35,FALSE)) | AU19: =IF(AR19=AS19,1,"") | AV19: =IF(AR19=AT19,1,"") | AW19: D | AX19: 40804 | AY19: =IF(ISNA(HLOOKUP(AX19,CP!$B$2:$ZZ$100,$B$35,FALSE)),"",HLOOKUP(AX19,CP!$B$2:$ZZ$100,$B$35,FALSE)) | AZ19: =IF(ISNA(HLOOKUP(AX19,RTT!$B$2:$ZZ$100,$B$35,FALSE)),"",HLOOKUP('Exemple 1'!AX19,RTT!$B$2:$ZZ$100,$B$35,FALSE)) | BA19: =IF(AX19=AY19,1,"") | BB19: =IF(AX19=AZ19,1,"") | BC19: M | BD19: 40834 | BE19: =IF(ISNA(HLOOKUP(BD19,CP!$B$2:$ZZ$100,$B$35,FALSE)),"",HLOOKUP(BD19,CP!$B$2:$ZZ$100,$B$35,FALSE)) | BF19: =IF(ISNA(HLOOKUP(BD19,RTT!$B$2:$ZZ$100,$B$35,FALSE)),"",HLOOKUP('Exemple 1'!BD19,RTT!$B$2:$ZZ$100,$B$35,FALSE)) | BG19: =IF(BD19=BE19,1,"") | BH19: =IF(BD19=BF19,1,"") | BI19: V | BJ19: 40865 | BK19: =IF(ISNA(HLOOKUP(BJ19,CP!$B$2:$ZZ$100,$B$35,FALSE)),"",HLOOKUP(BJ19,CP!$B$2:$ZZ$100,$B$35,FALSE)) | BL19: =IF(ISNA(HLOOKUP(BJ19,RTT!$B$2:$ZZ$100,$B$35,FALSE)),"",HLOOKUP('Exemple 1'!BJ19,RTT!$B$2:$ZZ$100,$B$35,FALSE)) | BM19: =IF(BJ19=BK19,1,"") | BN19: =IF(BJ19=BL19,1,"") | BO19: D | BP19: 40895 | BQ19: =IF(ISNA(HLOOKUP(BP19,CP!$B$2:$ZZ$100,$B$35,FALSE)),"",HLOOKUP(BP19,CP!$B$2:$ZZ$100,$B$35,FALSE)) | BR19: =IF(ISNA(HLOOKUP(BP19,RTT!$B$2:$ZZ$100,$B$35,FALSE)),"",HLOOKUP('Exemple 1'!BP19,RTT!$B$2:$ZZ$100,$B$35,FALSE)) | BS19: =IF(BP19=BQ19,1,"") | BT19: =IF(BP19=BR19,1,"")
A20: M | B20: 40562 | C20: =IF(ISNA(VLOOKUP(B20,CP!$A$1:$BS$50,2,FALSE)),"",VLOOKUP(B20,CP!$A$1:$BS$50,2,FALSE)) | D20: =IF(ISNA(HLOOKUP(B20,RTT!$B$2:$ZZ$100,$B$35,FALSE)),"",HLOOKUP(B20,RTT!$B$2:$ZZ$100,$B$35,FALSE)) | E20: =IF(B20=C20,1,"") | F20: =IF(B20=D20,1,"") | G20: S | H20: 40593 | I20: =IF(ISNA(HLOOKUP(H20,CP!$B$2:$ZZ$100,$B$35,FALSE)),"",HLOOKUP(H20,CP!$B$2:$ZZ$100,$B$35,FALSE)) | J20: =IF(ISNA(HLOOKUP(H20,RTT!$B$2:$ZZ$100,$B$35,FALSE)),"",HLOOKUP('Exemple 1'!H20,RTT!$B$2:$ZZ$100,$B$35,FALSE)) | K20: =IF(H20=I20,1,"") | L20: =IF(H20=J20,1,"") | M20: S | N20: 40621 | O20: =IF(ISNA(HLOOKUP(N20,CP!$B$2:$ZZ$100,$B$35,FALSE)),"",HLOOKUP(N20,CP!$B$2:$ZZ$100,$B$35,FALSE)) | P20: =IF(ISNA(HLOOKUP(N20,RTT!$B$2:$ZZ$100,$B$35,FALSE)),"",HLOOKUP('Exemple 1'!N20,RTT!$B$2:$ZZ$100,$B$35,FALSE)) | Q20: =IF(N20=O20,1,"") | R20: =IF(N20=P20,1,"") | S20: M | T20: 40652 | U20: =IF(ISNA(HLOOKUP(T20,CP!$B$2:$ZZ$100,$B$35,FALSE)),"",HLOOKUP(T20,CP!$B$2:$ZZ$100,$B$35,FALSE)) | V20: =IF(ISNA(HLOOKUP(T20,RTT!$B$2:$ZZ$100,$B$35,FALSE)),"",HLOOKUP('Exemple 1'!T20,RTT!$B$2:$ZZ$100,$B$35,FALSE)) | W20: =IF(T20=U20,1,"") | X20: =IF(T20=V20,1,"") | Y20: J | Z20: 40682 | AA20: =IF(ISNA(HLOOKUP(Z20,CP!$B$2:$ZZ$100,$B$35,FALSE)),"",HLOOKUP(Z20,CP!$B$2:$ZZ$100,$B$35,FALSE)) | AB20: =IF(ISNA(HLOOKUP(Z20,RTT!$B$2:$ZZ$100,$B$35,FALSE)),"",HLOOKUP('Exemple 1'!Z20,RTT!$B$2:$ZZ$100,$B$35,FALSE)) | AC20: =IF(Z20=AA20,1,"") | AD20: =IF(Z20=AB20,1,"") | AE20: D | AF20: 40713 | AG20: =IF(ISNA(HLOOKUP(AF20,CP!$B$2:$ZZ$100,$B$35,FALSE)),"",HLOOKUP(AF20,CP!$B$2:$ZZ$100,$B$35,FALSE)) | AH20: =IF(ISNA(HLOOKUP(AF20,RTT!$B$2:$ZZ$100,$B$35,FALSE)),"",HLOOKUP('Exemple 1'!AF20,RTT!$B$2:$ZZ$100,$B$35,FALSE)) | AI20: =IF(AF20=AG20,1,"") | AJ20: =IF(AF20=AH20,1,"") | AK20: M | AL20: 40743 | AM20: =IF(ISNA(HLOOKUP(AL20,CP!$B$2:$ZZ$100,$B$35,FALSE)),"",HLOOKUP(AL20,CP!$B$2:$ZZ$100,$B$35,FALSE)) | AN20: =IF(ISNA(HLOOKUP(AL20,RTT!$B$2:$ZZ$100,$B$35,FALSE)),"",HLOOKUP('Exemple 1'!AL20,RTT!$B$2:$ZZ$100,$B$35,FALSE)) | AO20: =IF(AL20=AM20,1,"") | AP20: =IF(AL20=AN20,1,"") | AQ20: V | AR20: 40774 | AS20: =IF(ISNA(HLOOKUP(AR20,CP!$B$2:$ZZ$100,$B$35,FALSE)),"",HLOOKUP(AR20,CP!$B$2:$ZZ$100,$B$35,FALSE)) | AT20: =IF(ISNA(HLOOKUP(AR20,RTT!$B$2:$ZZ$100,$B$35,FALSE)),"",HLOOKUP('Exemple 1'!AR20,RTT!$B$2:$ZZ$100,$B$35,FALSE)) | AU20: =IF(AR20=AS20,1,"") | AV20: =IF(AR20=AT20,1,"") | AW20: L | AX20: 40805 | AY20: =IF(ISNA(HLOOKUP(AX20,CP!$B$2:$ZZ$100,$B$35,FALSE)),"",HLOOKUP(AX20,CP!$B$2:$ZZ$100,$B$35,FALSE)) | AZ20: =IF(ISNA(HLOOKUP(AX20,RTT!$B$2:$ZZ$100,$B$35,FALSE)),"",HLOOKUP('Exemple 1'!AX20,RTT!$B$2:$ZZ$100,$B$35,FALSE)) | BA20: =IF(AX20=AY20,1,"") | BB20: =IF(AX20=AZ20,1,"") | BC20: M | BD20: 40835 | BE20: =IF(ISNA(HLOOKUP(BD20,CP!$B$2:$ZZ$100,$B$35,FALSE)),"",HLOOKUP(BD20,CP!$B$2:$ZZ$100,$B$35,FALSE)) | BF20: =IF(ISNA(HLOOKUP(BD20,RTT!$B$2:$ZZ$100,$B$35,FALSE)),"",HLOOKUP('Exemple 1'!BD20,RTT!$B$2:$ZZ$100,$B$35,FALSE)) | BG20: =IF(BD20=BE20,1,"") | BH20: =IF(BD20=BF20,1,"") | BI20: S | BJ20: 40866 | BK20: =IF(ISNA(HLOOKUP(BJ20,CP!$B$2:$ZZ$100,$B$35,FALSE)),"",HLOOKUP(BJ20,CP!$B$2:$ZZ$100,$B$35,FALSE)) | BL20: =IF(ISNA(HLOOKUP(BJ20,RTT!$B$2:$ZZ$100,$B$35,FALSE)),"",HLOOKUP('Exemple 1'!BJ20,RTT!$B$2:$ZZ$100,$B$35,FALSE)) | BM20: =IF(BJ20=BK20,1,"") | BN20: =IF(BJ20=BL20,1,"") | BO20: L | BP20: 40896 | BQ20: =IF(ISNA(HLOOKUP(BP20,CP!$B$2:$ZZ$100,$B$35,FALSE)),"",HLOOKUP(BP20,CP!$B$2:$ZZ$100,$B$35,FALSE)) | BR20: =IF(ISNA(HLOOKUP(BP20,RTT!$B$2:$ZZ$100,$B$35,FALSE)),"",HLOOKUP('Exemple 1'!BP20,RTT!$B$2:$ZZ$100,$B$35,FALSE)) | BS20: =IF(BP20=BQ20,1,"") | BT20: =IF(BP20=BR20,1,"")
A21: J | B21: 40563 | C21: =IF(ISNA(VLOOKUP(B21,CP!$A$1:$BS$50,2,FALSE)),"",VLOOKUP(B21,CP!$A$1:$BS$50,2,FALSE)) | D21: =IF(ISNA(HLOOKUP(B21,RTT!$B$2:$ZZ$100,$B$35,FALSE)),"",HLOOKUP(B21,RTT!$B$2:$ZZ$100,$B$35,FALSE)) | E21: =IF(B21=C21,1,"") | F21: =IF(B21=D21,1,"") | G21: D | H21: 40594 | I21: =IF(ISNA(HLOOKUP(H21,CP!$B$2:$ZZ$100,$B$35,FALSE)),"",HLOOKUP(H21,CP!$B$2:$ZZ$100,$B$35,FALSE)) | J21: =IF(ISNA(HLOOKUP(H21,RTT!$B$2:$ZZ$100,$B$35,FALSE)),"",HLOOKUP('Exemple 1'!H21,RTT!$B$2:$ZZ$100,$B$35,FALSE)) | K21: =IF(H21=I21,1,"") | L21: =IF(H21=J21,1,"") | M21: D | N21: 40622 | O21: =IF(ISNA(HLOOKUP(N21,CP!$B$2:$ZZ$100,$B$35,FALSE)),"",HLOOKUP(N21,CP!$B$2:$ZZ$100,$B$35,FALSE)) | P21: =IF(ISNA(HLOOKUP(N21,RTT!$B$2:$ZZ$100,$B$35,FALSE)),"",HLOOKUP('Exemple 1'!N21,RTT!$B$2:$ZZ$100,$B$35,FALSE)) | Q21: =IF(N21=O21,1,"") | R21: =IF(N21=P21,1,"") | S21: M | T21: 40653 | U21: =IF(ISNA(HLOOKUP(T21,CP!$B$2:$ZZ$100,$B$35,FALSE)),"",HLOOKUP(T21,CP!$B$2:$ZZ$100,$B$35,FALSE)) | V21: =IF(ISNA(HLOOKUP(T21,RTT!$B$2:$ZZ$100,$B$35,FALSE)),"",HLOOKUP('Exemple 1'!T21,RTT!$B$2:$ZZ$100,$B$35,FALSE)) | W21: =IF(T21=U21,1,"") | X21: =IF(T21=V21,1,"") | Y21: V | Z21: 40683 | AA21: =IF(ISNA(HLOOKUP(Z21,CP!$B$2:$ZZ$100,$B$35,FALSE)),"",HLOOKUP(Z21,CP!$B$2:$ZZ$100,$B$35,FALSE)) | AB21: =IF(ISNA(HLOOKUP(Z21,RTT!$B$2:$ZZ$100,$B$35,FALSE)),"",HLOOKUP('Exemple 1'!Z21,RTT!$B$2:$ZZ$100,$B$35,FALSE)) | AC21: =IF(Z21=AA21,1,"") | AD21: =IF(Z21=AB21,1,"") | AE21: L | AF21: 40714 | AG21: =IF(ISNA(HLOOKUP(AF21,CP!$B$2:$ZZ$100,$B$35,FALSE)),"",HLOOKUP(AF21,CP!$B$2:$ZZ$100,$B$35,FALSE)) | AH21: =IF(ISNA(HLOOKUP(AF21,RTT!$B$2:$ZZ$100,$B$35,FALSE)),"",HLOOKUP('Exemple 1'!AF21,RTT!$B$2:$ZZ$100,$B$35,FALSE)) | AI21: =IF(AF21=AG21,1,"") | AJ21: =IF(AF21=AH21,1,"") | AK21: M | AL21: 40744 | AM21: =IF(ISNA(HLOOKUP(AL21,CP!$B$2:$ZZ$100,$B$35,FALSE)),"",HLOOKUP(AL21,CP!$B$2:$ZZ$100,$B$35,FALSE)) | AN21: =IF(ISNA(HLOOKUP(AL21,RTT!$B$2:$ZZ$100,$B$35,FALSE)),"",HLOOKUP('Exemple 1'!AL21,RTT!$B$2:$ZZ$100,$B$35,FALSE)) | AO21: =IF(AL21=AM21,1,"") | AP21: =IF(AL21=AN21,1,"") | AQ21: S | AR21: 40775 | AS21: =IF(ISNA(HLOOKUP(AR21,CP!$B$2:$ZZ$100,$B$35,FALSE)),"",HLOOKUP(AR21,CP!$B$2:$ZZ$100,$B$35,FALSE)) | AT21: =IF(ISNA(HLOOKUP(AR21,RTT!$B$2:$ZZ$100,$B$35,FALSE)),"",HLOOKUP('Exemple 1'!AR21,RTT!$B$2:$ZZ$100,$B$35,FALSE)) | AU21: =IF(AR21=AS21,1,"") | AV21: =IF(AR21=AT21,1,"") | AW21: M | AX21: 40806 | AY21: =IF(ISNA(HLOOKUP(AX21,CP!$B$2:$ZZ$100,$B$35,FALSE)),"",HLOOKUP(AX21,CP!$B$2:$ZZ$100,$B$35,FALSE)) | AZ21: =IF(ISNA(HLOOKUP(AX21,RTT!$B$2:$ZZ$100,$B$35,FALSE)),"",HLOOKUP('Exemple 1'!AX21,RTT!$B$2:$ZZ$100,$B$35,FALSE)) | BA21: =IF(AX21=AY21,1,"") | BB21: =IF(AX21=AZ21,1,"") | BC21: J | BD21: 40836 | BE21: =IF(ISNA(HLOOKUP(BD21,CP!$B$2:$ZZ$100,$B$35,FALSE)),"",HLOOKUP(BD21,CP!$B$2:$ZZ$100,$B$35,FALSE)) | BF21: =IF(ISNA(HLOOKUP(BD21,RTT!$B$2:$ZZ$100,$B$35,FALSE)),"",HLOOKUP('Exemple 1'!BD21,RTT!$B$2:$ZZ$100,$B$35,FALSE)) | BG21: =IF(BD21=BE21,1,"") | BH21: =IF(BD21=BF21,1,"") | BI21: D | BJ21: 40867 | BK21: =IF(ISNA(HLOOKUP(BJ21,CP!$B$2:$ZZ$100,$B$35,FALSE)),"",HLOOKUP(BJ21,CP!$B$2:$ZZ$100,$B$35,FALSE)) | BL21: =IF(ISNA(HLOOKUP(BJ21,RTT!$B$2:$ZZ$100,$B$35,FALSE)),"",HLOOKUP('Exemple 1'!BJ21,RTT!$B$2:$ZZ$100,$B$35,FALSE)) | BM21: =IF(BJ21=BK21,1,"") | BN21: =IF(BJ21=BL21,1,"") | BO21: M | BP21: 40897 | BQ21: =IF(ISNA(HLOOKUP(BP21,CP!$B$2:$ZZ$100,$B$35,FALSE)),"",HLOOKUP(BP21,CP!$B$2:$ZZ$100,$B$35,FALSE)) | BR21: =IF(ISNA(HLOOKUP(BP21,RTT!$B$2:$ZZ$100,$B$35,FALSE)),"",HLOOKUP('Exemple 1'!BP21,RTT!$B$2:$ZZ$100,$B$35,FALSE)) | BS21: =IF(BP21=BQ21,1,"") | BT21: =IF(BP21=BR21,1,"")
A22: V | B22: 40564 | C22: =IF(ISNA(VLOOKUP(B22,CP!$A$1:$BS$50,2,FALSE)),"",VLOOKUP(B22,CP!$A$1:$BS$50,2,FALSE)) | D22: =IF(ISNA(HLOOKUP(B22,RTT!$B$2:$ZZ$100,$B$35,FALSE)),"",HLOOKUP(B22,RTT!$B$2:$ZZ$100,$B$35,FALSE)) | E22: =IF(B22=C22,1,"") | F22: =IF(B22=D22,1,"") | G22: L | H22: 40595 | I22: =IF(ISNA(HLOOKUP(H22,CP!$B$2:$ZZ$100,$B$35,FALSE)),"",HLOOKUP(H22,CP!$B$2:$ZZ$100,$B$35,FALSE)) | J22: =IF(ISNA(HLOOKUP(H22,RTT!$B$2:$ZZ$100,$B$35,FALSE)),"",HLOOKUP('Exemple 1'!H22,RTT!$B$2:$ZZ$100,$B$35,FALSE)) | K22: =IF(H22=I22,1,"") | L22: =IF(H22=J22,1,"") | M22: L | N22: 40623 | O22: =IF(ISNA(HLOOKUP(N22,CP!$B$2:$ZZ$100,$B$35,FALSE)),"",HLOOKUP(N22,CP!$B$2:$ZZ$100,$B$35,FALSE)) | P22: =IF(ISNA(HLOOKUP(N22,RTT!$B$2:$ZZ$100,$B$35,FALSE)),"",HLOOKUP('Exemple 1'!N22,RTT!$B$2:$ZZ$100,$B$35,FALSE)) | Q22: =IF(N22=O22,1,"") | R22: =IF(N22=P22,1,"") | S22: J | T22: 40654 | U22: =IF(ISNA(HLOOKUP(T22,CP!$B$2:$ZZ$100,$B$35,FALSE)),"",HLOOKUP(T22,CP!$B$2:$ZZ$100,$B$35,FALSE)) | V22: =IF(ISNA(HLOOKUP(T22,RTT!$B$2:$ZZ$100,$B$35,FALSE)),"",HLOOKUP('Exemple 1'!T22,RTT!$B$2:$ZZ$100,$B$35,FALSE)) | W22: =IF(T22=U22,1,"") | X22: =IF(T22=V22,1,"") | Y22: S | Z22: 40684 | AA22: =IF(ISNA(HLOOKUP(Z22,CP!$B$2:$ZZ$100,$B$35,FALSE)),"",HLOOKUP(Z22,CP!$B$2:$ZZ$100,$B$35,FALSE)) | AB22: =IF(ISNA(HLOOKUP(Z22,RTT!$B$2:$ZZ$100,$B$35,FALSE)),"",HLOOKUP('Exemple 1'!Z22,RTT!$B$2:$ZZ$100,$B$35,FALSE)) | AC22: =IF(Z22=AA22,1,"") | AD22: =IF(Z22=AB22,1,"") | AE22: M | AF22: 40715 | AG22: =IF(ISNA(HLOOKUP(AF22,CP!$B$2:$ZZ$100,$B$35,FALSE)),"",HLOOKUP(AF22,CP!$B$2:$ZZ$100,$B$35,FALSE)) | AH22: =IF(ISNA(HLOOKUP(AF22,RTT!$B$2:$ZZ$100,$B$35,FALSE)),"",HLOOKUP('Exemple 1'!AF22,RTT!$B$2:$ZZ$100,$B$35,FALSE)) | AI22: =IF(AF22=AG22,1,"") | AJ22: =IF(AF22=AH22,1,"") | AK22: J | AL22: 40745 | AM22: =IF(ISNA(HLOOKUP(AL22,CP!$B$2:$ZZ$100,$B$35,FALSE)),"",HLOOKUP(AL22,CP!$B$2:$ZZ$100,$B$35,FALSE)) | AN22: =IF(ISNA(HLOOKUP(AL22,RTT!$B$2:$ZZ$100,$B$35,FALSE)),"",HLOOKUP('Exemple 1'!AL22,RTT!$B$2:$ZZ$100,$B$35,FALSE)) | AO22: =IF(AL22=AM22,1,"") | AP22: =IF(AL22=AN22,1,"") | AQ22: D | AR22: 40776 | AS22: =IF(ISNA(HLOOKUP(AR22,CP!$B$2:$ZZ$100,$B$35,FALSE)),"",HLOOKUP(AR22,CP!$B$2:$ZZ$100,$B$35,FALSE)) | AT22: =IF(ISNA(HLOOKUP(AR22,RTT!$B$2:$ZZ$100,$B$35,FALSE)),"",HLOOKUP('Exemple 1'!AR22,RTT!$B$2:$ZZ$100,$B$35,FALSE)) | AU22: =IF(AR22=AS22,1,"") | AV22: =IF(AR22=AT22,1,"") | AW22: M | AX22: 40807 | AY22: =IF(ISNA(HLOOKUP(AX22,CP!$B$2:$ZZ$100,$B$35,FALSE)),"",HLOOKUP(AX22,CP!$B$2:$ZZ$100,$B$35,FALSE)) | AZ22: =IF(ISNA(HLOOKUP(AX22,RTT!$B$2:$ZZ$100,$B$35,FALSE)),"",HLOOKUP('Exemple 1'!AX22,RTT!$B$2:$ZZ$100,$B$35,FALSE)) | BA22: =IF(AX22=AY22,1,"") | BB22: =IF(AX22=AZ22,1,"") | BC22: V | BD22: 40837 | BE22: =IF(ISNA(HLOOKUP(BD22,CP!$B$2:$ZZ$100,$B$35,FALSE)),"",HLOOKUP(BD22,CP!$B$2:$ZZ$100,$B$35,FALSE)) | BF22: =IF(ISNA(HLOOKUP(BD22,RTT!$B$2:$ZZ$100,$B$35,FALSE)),"",HLOOKUP('Exemple 1'!BD22,RTT!$B$2:$ZZ$100,$B$35,FALSE)) | BG22: =IF(BD22=BE22,1,"") | BH22: =IF(BD22=BF22,1,"") | BI22: L | BJ22: 40868 | BK22: =IF(ISNA(HLOOKUP(BJ22,CP!$B$2:$ZZ$100,$B$35,FALSE)),"",HLOOKUP(BJ22,CP!$B$2:$ZZ$100,$B$35,FALSE)) | BL22: =IF(ISNA(HLOOKUP(BJ22,RTT!$B$2:$ZZ$100,$B$35,FALSE)),"",HLOOKUP('Exemple 1'!BJ22,RTT!$B$2:$ZZ$100,$B$35,FALSE)) | BM22: =IF(BJ22=BK22,1,"") | BN22: =IF(BJ22=BL22,1,"") | BO22: M | BP22: 40898 | BQ22: =IF(ISNA(HLOOKUP(BP22,CP!$B$2:$ZZ$100,$B$35,FALSE)),"",HLOOKUP(BP22,CP!$B$2:$ZZ$100,$B$35,FALSE)) | BR22: =IF(ISNA(HLOOKUP(BP22,RTT!$B$2:$ZZ$100,$B$35,FALSE)),"",HLOOKUP('Exemple 1'!BP22,RTT!$B$2:$ZZ$100,$B$35,FALSE)) | BS22: =IF(BP22=BQ22,1,"") | BT22: =IF(BP22=BR22,1,"")
A23: S | B23: 40565 | C23: =IF(ISNA(VLOOKUP(B23,CP!$A$1:$BS$50,2,FALSE)),"",VLOOKUP(B23,CP!$A$1:$BS$50,2,FALSE)) | D23: =IF(ISNA(HLOOKUP(B23,RTT!$B$2:$ZZ$100,$B$35,FALSE)),"",HLOOKUP(B23,RTT!$B$2:$ZZ$100,$B$35,FALSE)) | E23: =IF(B23=C23,1,"") | F23: =IF(B23=D23,1,"") | G23: M | H23: 40596 | I23: =IF(ISNA(HLOOKUP(H23,CP!$B$2:$ZZ$100,$B$35,FALSE)),"",HLOOKUP(H23,CP!$B$2:$ZZ$100,$B$35,FALSE)) | J23: =IF(ISNA(HLOOKUP(H23,RTT!$B$2:$ZZ$100,$B$35,FALSE)),"",HLOOKUP('Exemple 1'!H23,RTT!$B$2:$ZZ$100,$B$35,FALSE)) | K23: =IF(H23=I23,1,"") | L23: =IF(H23=J23,1,"") | M23: M | N23: 40624 | O23: =IF(ISNA(HLOOKUP(N23,CP!$B$2:$ZZ$100,$B$35,FALSE)),"",HLOOKUP(N23,CP!$B$2:$ZZ$100,$B$35,FALSE)) | P23: =IF(ISNA(HLOOKUP(N23,RTT!$B$2:$ZZ$100,$B$35,FALSE)),"",HLOOKUP('Exemple 1'!N23,RTT!$B$2:$ZZ$100,$B$35,FALSE)) | Q23: =IF(N23=O23,1,"") | R23: =IF(N23=P23,1,"") | S23: V | T23: 40655 | U23: =IF(ISNA(HLOOKUP(T23,CP!$B$2:$ZZ$100,$B$35,FALSE)),"",HLOOKUP(T23,CP!$B$2:$ZZ$100,$B$35,FALSE)) | V23: =IF(ISNA(HLOOKUP(T23,RTT!$B$2:$ZZ$100,$B$35,FALSE)),"",HLOOKUP('Exemple 1'!T23,RTT!$B$2:$ZZ$100,$B$35,FALSE)) | W23: =IF(T23=U23,1,"") | X23: =IF(T23=V23,1,"") | Y23: D | Z23: 40685 | AA23: =IF(ISNA(HLOOKUP(Z23,CP!$B$2:$ZZ$100,$B$35,FALSE)),"",HLOOKUP(Z23,CP!$B$2:$ZZ$100,$B$35,FALSE)) | AB23: =IF(ISNA(HLOOKUP(Z23,RTT!$B$2:$ZZ$100,$B$35,FALSE)),"",HLOOKUP('Exemple 1'!Z23,RTT!$B$2:$ZZ$100,$B$35,FALSE)) | AC23: =IF(Z23=AA23,1,"") | AD23: =IF(Z23=AB23,1,"") | AE23: M | AF23: 40716 | AG23: =IF(ISNA(HLOOKUP(AF23,CP!$B$2:$ZZ$100,$B$35,FALSE)),"",HLOOKUP(AF23,CP!$B$2:$ZZ$100,$B$35,FALSE)) | AH23: =IF(ISNA(HLOOKUP(AF23,RTT!$B$2:$ZZ$100,$B$35,FALSE)),"",HLOOKUP('Exemple 1'!AF23,RTT!$B$2:$ZZ$100,$B$35,FALSE)) | AI23: =IF(AF23=AG23,1,"") | AJ23: =IF(AF23=AH23,1,"") | AK23: V | AL23: 40746 | AM23: =IF(ISNA(HLOOKUP(AL23,CP!$B$2:$ZZ$100,$B$35,FALSE)),"",HLOOKUP(AL23,CP!$B$2:$ZZ$100,$B$35,FALSE)) | AN23: =IF(ISNA(HLOOKUP(AL23,RTT!$B$2:$ZZ$100,$B$35,FALSE)),"",HLOOKUP('Exemple 1'!AL23,RTT!$B$2:$ZZ$100,$B$35,FALSE)) | AO23: =IF(AL23=AM23,1,"") | AP23: =IF(AL23=AN23,1,"") | AQ23: L | AR23: 40777 | AS23: =IF(ISNA(HLOOKUP(AR23,CP!$B$2:$ZZ$100,$B$35,FALSE)),"",HLOOKUP(AR23,CP!$B$2:$ZZ$100,$B$35,FALSE)) | AT23: =IF(ISNA(HLOOKUP(AR23,RTT!$B$2:$ZZ$100,$B$35,FALSE)),"",HLOOKUP('Exemple 1'!AR23,RTT!$B$2:$ZZ$100,$B$35,FALSE)) | AU23: =IF(AR23=AS23,1,"") | AV23: =IF(AR23=AT23,1,"") | AW23: J | AX23: 40808 | AY23: =IF(ISNA(HLOOKUP(AX23,CP!$B$2:$ZZ$100,$B$35,FALSE)),"",HLOOKUP(AX23,CP!$B$2:$ZZ$100,$B$35,FALSE)) | AZ23: =IF(ISNA(HLOOKUP(AX23,RTT!$B$2:$ZZ$100,$B$35,FALSE)),"",HLOOKUP('Exemple 1'!AX23,RTT!$B$2:$ZZ$100,$B$35,FALSE)) | BA23: =IF(AX23=AY23,1,"") | BB23: =IF(AX23=AZ23,1,"") | BC23: S | BD23: 40838 | BE23: =IF(ISNA(HLOOKUP(BD23,CP!$B$2:$ZZ$100,$B$35,FALSE)),"",HLOOKUP(BD23,CP!$B$2:$ZZ$100,$B$35,FALSE)) | BF23: =IF(ISNA(HLOOKUP(BD23,RTT!$B$2:$ZZ$100,$B$35,FALSE)),"",HLOOKUP('Exemple 1'!BD23,RTT!$B$2:$ZZ$100,$B$35,FALSE)) | BG23: =IF(BD23=BE23,1,"") | BH23: =IF(BD23=BF23,1,"") | BI23: M | BJ23: 40869 | BK23: =IF(ISNA(HLOOKUP(BJ23,CP!$B$2:$ZZ$100,$B$35,FALSE)),"",HLOOKUP(BJ23,CP!$B$2:$ZZ$100,$B$35,FALSE)) | BL23: =IF(ISNA(HLOOKUP(BJ23,RTT!$B$2:$ZZ$100,$B$35,FALSE)),"",HLOOKUP('Exemple 1'!BJ23,RTT!$B$2:$ZZ$100,$B$35,FALSE)) | BM23: =IF(BJ23=BK23,1,"") | BN23: =IF(BJ23=BL23,1,"") | BO23: J | BP23: 40899 | BQ23: =IF(ISNA(HLOOKUP(BP23,CP!$B$2:$ZZ$100,$B$35,FALSE)),"",HLOOKUP(BP23,CP!$B$2:$ZZ$100,$B$35,FALSE)) | BR23: =IF(ISNA(HLOOKUP(BP23,RTT!$B$2:$ZZ$100,$B$35,FALSE)),"",HLOOKUP('Exemple 1'!BP23,RTT!$B$2:$ZZ$100,$B$35,FALSE)) | BS23: =IF(BP23=BQ23,1,"") | BT23: =IF(BP23=BR23,1,"")
A24: D | B24: 40566 | C24: =IF(ISNA(VLOOKUP(B24,CP!$A$1:$BS$50,2,FALSE)),"",VLOOKUP(B24,CP!$A$1:$BS$50,2,FALSE)) | D24: =IF(ISNA(HLOOKUP(B24,RTT!$B$2:$ZZ$100,$B$35,FALSE)),"",HLOOKUP(B24,RTT!$B$2:$ZZ$100,$B$35,FALSE)) | E24: =IF(B24=C24,1,"") | F24: =IF(B24=D24,1,"") | G24: M | H24: 40597 | I24: =IF(ISNA(HLOOKUP(H24,CP!$B$2:$ZZ$100,$B$35,FALSE)),"",HLOOKUP(H24,CP!$B$2:$ZZ$100,$B$35,FALSE)) | J24: =IF(ISNA(HLOOKUP(H24,RTT!$B$2:$ZZ$100,$B$35,FALSE)),"",HLOOKUP('Exemple 1'!H24,RTT!$B$2:$ZZ$100,$B$35,FALSE)) | K24: =IF(H24=I24,1,"") | L24: =IF(H24=J24,1,"") | M24: M | N24: 40625 | O24: =IF(ISNA(HLOOKUP(N24,CP!$B$2:$ZZ$100,$B$35,FALSE)),"",HLOOKUP(N24,CP!$B$2:$ZZ$100,$B$35,FALSE)) | P24: =IF(ISNA(HLOOKUP(N24,RTT!$B$2:$ZZ$100,$B$35,FALSE)),"",HLOOKUP('Exemple 1'!N24,RTT!$B$2:$ZZ$100,$B$35,FALSE)) | Q24: =IF(N24=O24,1,"") | R24: =IF(N24=P24,1,"") | S24: S | T24: 40656 | U24: =IF(ISNA(HLOOKUP(T24,CP!$B$2:$ZZ$100,$B$35,FALSE)),"",HLOOKUP(T24,CP!$B$2:$ZZ$100,$B$35,FALSE)) | V24: =IF(ISNA(HLOOKUP(T24,RTT!$B$2:$ZZ$100,$B$35,FALSE)),"",HLOOKUP('Exemple 1'!T24,RTT!$B$2:$ZZ$100,$B$35,FALSE)) | W24: =IF(T24=U24,1,"") | X24: =IF(T24=V24,1,"") | Y24: L | Z24: 40686 | AA24: =IF(ISNA(HLOOKUP(Z24,CP!$B$2:$ZZ$100,$B$35,FALSE)),"",HLOOKUP(Z24,CP!$B$2:$ZZ$100,$B$35,FALSE)) | AB24: =IF(ISNA(HLOOKUP(Z24,RTT!$B$2:$ZZ$100,$B$35,FALSE)),"",HLOOKUP('Exemple 1'!Z24,RTT!$B$2:$ZZ$100,$B$35,FALSE)) | AC24: =IF(Z24=AA24,1,"") | AD24: =IF(Z24=AB24,1,"") | AE24: J | AF24: 40717 | AG24: =IF(ISNA(HLOOKUP(AF24,CP!$B$2:$ZZ$100,$B$35,FALSE)),"",HLOOKUP(AF24,CP!$B$2:$ZZ$100,$B$35,FALSE)) | AH24: =IF(ISNA(HLOOKUP(AF24,RTT!$B$2:$ZZ$100,$B$35,FALSE)),"",HLOOKUP('Exemple 1'!AF24,RTT!$B$2:$ZZ$100,$B$35,FALSE)) | AI24: =IF(AF24=AG24,1,"") | AJ24: =IF(AF24=AH24,1,"") | AK24: S | AL24: 40747 | AM24: =IF(ISNA(HLOOKUP(AL24,CP!$B$2:$ZZ$100,$B$35,FALSE)),"",HLOOKUP(AL24,CP!$B$2:$ZZ$100,$B$35,FALSE)) | AN24: =IF(ISNA(HLOOKUP(AL24,RTT!$B$2:$ZZ$100,$B$35,FALSE)),"",HLOOKUP('Exemple 1'!AL24,RTT!$B$2:$ZZ$100,$B$35,FALSE)) | AO24: =IF(AL24=AM24,1,"") | AP24: =IF(AL24=AN24,1,"") | AQ24: M | AR24: 40778 | AS24: =IF(ISNA(HLOOKUP(AR24,CP!$B$2:$ZZ$100,$B$35,FALSE)),"",HLOOKUP(AR24,CP!$B$2:$ZZ$100,$B$35,FALSE)) | AT24: =IF(ISNA(HLOOKUP(AR24,RTT!$B$2:$ZZ$100,$B$35,FALSE)),"",HLOOKUP('Exemple 1'!AR24,RTT!$B$2:$ZZ$100,$B$35,FALSE)) | AU24: =IF(AR24=AS24,1,"") | AV24: =IF(AR24=AT24,1,"") | AW24: V | AX24: 40809 | AY24: =IF(ISNA(HLOOKUP(AX24,CP!$B$2:$ZZ$100,$B$35,FALSE)),"",HLOOKUP(AX24,CP!$B$2:$ZZ$100,$B$35,FALSE)) | AZ24: =IF(ISNA(HLOOKUP(AX24,RTT!$B$2:$ZZ$100,$B$35,FALSE)),"",HLOOKUP('Exemple 1'!AX24,RTT!$B$2:$ZZ$100,$B$35,FALSE)) | BA24: =IF(AX24=AY24,1,"") | BB24: =IF(AX24=AZ24,1,"") | BC24: D | BD24: 40839 | BE24: =IF(ISNA(HLOOKUP(BD24,CP!$B$2:$ZZ$100,$B$35,FALSE)),"",HLOOKUP(BD24,CP!$B$2:$ZZ$100,$B$35,FALSE)) | BF24: =IF(ISNA(HLOOKUP(BD24,RTT!$B$2:$ZZ$100,$B$35,FALSE)),"",HLOOKUP('Exemple 1'!BD24,RTT!$B$2:$ZZ$100,$B$35,FALSE)) | BG24: =IF(BD24=BE24,1,"") | BH24: =IF(BD24=BF24,1,"") | BI24: M | BJ24: 40870 | BK24: =IF(ISNA(HLOOKUP(BJ24,CP!$B$2:$ZZ$100,$B$35,FALSE)),"",HLOOKUP(BJ24,CP!$B$2:$ZZ$100,$B$35,FALSE)) | BL24: =IF(ISNA(HLOOKUP(BJ24,RTT!$B$2:$ZZ$100,$B$35,FALSE)),"",HLOOKUP('Exemple 1'!BJ24,RTT!$B$2:$ZZ$100,$B$35,FALSE)) | BM24: =IF(BJ24=BK24,1,"") | BN24: =IF(BJ24=BL24,1,"") | BO24: V | BP24: 40900 | BQ24: =IF(ISNA(HLOOKUP(BP24,CP!$B$2:$ZZ$100,$B$35,FALSE)),"",HLOOKUP(BP24,CP!$B$2:$ZZ$100,$B$35,FALSE)) | BR24: =IF(ISNA(HLOOKUP(BP24,RTT!$B$2:$ZZ$100,$B$35,FALSE)),"",HLOOKUP('Exemple 1'!BP24,RTT!$B$2:$ZZ$100,$B$35,FALSE)) | BS24: =IF(BP24=BQ24,1,"") | BT24: =IF(BP24=BR24,1,"")
A25: L | B25: 40567 | C25: =IF(ISNA(VLOOKUP(B25,CP!$A$1:$BS$50,2,FALSE)),"",VLOOKUP(B25,CP!$A$1:$BS$50,2,FALSE)) | D25: =IF(ISNA(HLOOKUP(B25,RTT!$B$2:$ZZ$100,$B$35,FALSE)),"",HLOOKUP(B25,RTT!$B$2:$ZZ$100,$B$35,FALSE)) | E25: =IF(B25=C25,1,"") | F25: =IF(B25=D25,1,"") | G25: J | H25: 40598 | I25: =IF(ISNA(HLOOKUP(H25,CP!$B$2:$ZZ$100,$B$35,FALSE)),"",HLOOKUP(H25,CP!$B$2:$ZZ$100,$B$35,FALSE)) | J25: =IF(ISNA(HLOOKUP(H25,RTT!$B$2:$ZZ$100,$B$35,FALSE)),"",HLOOKUP('Exemple 1'!H25,RTT!$B$2:$ZZ$100,$B$35,FALSE)) | K25: =IF(H25=I25,1,"") | L25: =IF(H25=J25,1,"") | M25: J | N25: 40626 | O25: =IF(ISNA(HLOOKUP(N25,CP!$B$2:$ZZ$100,$B$35,FALSE)),"",HLOOKUP(N25,CP!$B$2:$ZZ$100,$B$35,FALSE)) | P25: =IF(ISNA(HLOOKUP(N25,RTT!$B$2:$ZZ$100,$B$35,FALSE)),"",HLOOKUP('Exemple 1'!N25,RTT!$B$2:$ZZ$100,$B$35,FALSE)) | Q25: =IF(N25=O25,1,"") | R25: =IF(N25=P25,1,"") | S25: D | T25: 40657 | U25: =IF(ISNA(HLOOKUP(T25,CP!$B$2:$ZZ$100,$B$35,FALSE)),"",HLOOKUP(T25,CP!$B$2:$ZZ$100,$B$35,FALSE)) | V25: =IF(ISNA(HLOOKUP(T25,RTT!$B$2:$ZZ$100,$B$35,FALSE)),"",HLOOKUP('Exemple 1'!T25,RTT!$B$2:$ZZ$100,$B$35,FALSE)) | W25: =IF(T25=U25,1,"") | X25: =IF(T25=V25,1,"") | Y25: M | Z25: 40687 | AA25: =IF(ISNA(HLOOKUP(Z25,CP!$B$2:$ZZ$100,$B$35,FALSE)),"",HLOOKUP(Z25,CP!$B$2:$ZZ$100,$B$35,FALSE)) | AB25: =IF(ISNA(HLOOKUP(Z25,RTT!$B$2:$ZZ$100,$B$35,FALSE)),"",HLOOKUP('Exemple 1'!Z25,RTT!$B$2:$ZZ$100,$B$35,FALSE)) | AC25: =IF(Z25=AA25,1,"") | AD25: =IF(Z25=AB25,1,"") | AE25: V | AF25: 40718 | AG25: =IF(ISNA(HLOOKUP(AF25,CP!$B$2:$ZZ$100,$B$35,FALSE)),"",HLOOKUP(AF25,CP!$B$2:$ZZ$100,$B$35,FALSE)) | AH25: =IF(ISNA(HLOOKUP(AF25,RTT!$B$2:$ZZ$100,$B$35,FALSE)),"",HLOOKUP('Exemple 1'!AF25,RTT!$B$2:$ZZ$100,$B$35,FALSE)) | AI25: =IF(AF25=AG25,1,"") | AJ25: =IF(AF25=AH25,1,"") | AK25: D | AL25: 40748 | AM25: =IF(ISNA(HLOOKUP(AL25,CP!$B$2:$ZZ$100,$B$35,FALSE)),"",HLOOKUP(AL25,CP!$B$2:$ZZ$100,$B$35,FALSE)) | AN25: =IF(ISNA(HLOOKUP(AL25,RTT!$B$2:$ZZ$100,$B$35,FALSE)),"",HLOOKUP('Exemple 1'!AL25,RTT!$B$2:$ZZ$100,$B$35,FALSE)) | AO25: =IF(AL25=AM25,1,"") | AP25: =IF(AL25=AN25,1,"") | AQ25: M | AR25: 40779 | AS25: =IF(ISNA(HLOOKUP(AR25,CP!$B$2:$ZZ$100,$B$35,FALSE)),"",HLOOKUP(AR25,CP!$B$2:$ZZ$100,$B$35,FALSE)) | AT25: =IF(ISNA(HLOOKUP(AR25,RTT!$B$2:$ZZ$100,$B$35,FALSE)),"",HLOOKUP('Exemple 1'!AR25,RTT!$B$2:$ZZ$100,$B$35,FALSE)) | AU25: =IF(AR25=AS25,1,"") | AV25: =IF(AR25=AT25,1,"") | AW25: S | AX25: 40810 | AY25: =IF(ISNA(HLOOKUP(AX25,CP!$B$2:$ZZ$100,$B$35,FALSE)),"",HLOOKUP(AX25,CP!$B$2:$ZZ$100,$B$35,FALSE)) | AZ25: =IF(ISNA(HLOOKUP(AX25,RTT!$B$2:$ZZ$100,$B$35,FALSE)),"",HLOOKUP('Exemple 1'!AX25,RTT!$B$2:$ZZ$100,$B$35,FALSE)) | BA25: =IF(AX25=AY25,1,"") | BB25: =IF(AX25=AZ25,1,"") | BC25: L | BD25: 40840 | BE25: =IF(ISNA(HLOOKUP(BD25,CP!$B$2:$ZZ$100,$B$35,FALSE)),"",HLOOKUP(BD25,CP!$B$2:$ZZ$100,$B$35,FALSE)) | BF25: =IF(ISNA(HLOOKUP(BD25,RTT!$B$2:$ZZ$100,$B$35,FALSE)),"",HLOOKUP('Exemple 1'!BD25,RTT!$B$2:$ZZ$100,$B$35,FALSE)) | BG25: =IF(BD25=BE25,1,"") | BH25: =IF(BD25=BF25,1,"") | BI25: J | BJ25: 40871 | BK25: =IF(ISNA(HLOOKUP(BJ25,CP!$B$2:$ZZ$100,$B$35,FALSE)),"",HLOOKUP(BJ25,CP!$B$2:$ZZ$100,$B$35,FALSE)) | BL25: =IF(ISNA(HLOOKUP(BJ25,RTT!$B$2:$ZZ$100,$B$35,FALSE)),"",HLOOKUP('Exemple 1'!BJ25,RTT!$B$2:$ZZ$100,$B$35,FALSE)) | BM25: =IF(BJ25=BK25,1,"") | BN25: =IF(BJ25=BL25,1,"") | BO25: S | BP25: 40901 | BQ25: =IF(ISNA(HLOOKUP(BP25,CP!$B$2:$ZZ$100,$B$35,FALSE)),"",HLOOKUP(BP25,CP!$B$2:$ZZ$100,$B$35,FALSE)) | BR25: =IF(ISNA(HLOOKUP(BP25,RTT!$B$2:$ZZ$100,$B$35,FALSE)),"",HLOOKUP('Exemple 1'!BP25,RTT!$B$2:$ZZ$100,$B$35,FALSE)) | BS25: =IF(BP25=BQ25,1,"") | BT25: =IF(BP25=BR25,1,"")
A26: M | B26: 40568 | C26: =IF(ISNA(VLOOKUP(B26,CP!$A$1:$BS$50,2,FALSE)),"",VLOOKUP(B26,CP!$A$1:$BS$50,2,FALSE)) | D26: =IF(ISNA(HLOOKUP(B26,RTT!$B$2:$ZZ$100,$B$35,FALSE)),"",HLOOKUP(B26,RTT!$B$2:$ZZ$100,$B$35,FALSE)) | E26: =IF(B26=C26,1,"") | F26: =IF(B26=D26,1,"") | G26: V | H26: 40599 | I26: =IF(ISNA(HLOOKUP(H26,CP!$B$2:$ZZ$100,$B$35,FALSE)),"",HLOOKUP(H26,CP!$B$2:$ZZ$100,$B$35,FALSE)) | J26: =IF(ISNA(HLOOKUP(H26,RTT!$B$2:$ZZ$100,$B$35,FALSE)),"",HLOOKUP('Exemple 1'!H26,RTT!$B$2:$ZZ$100,$B$35,FALSE)) | K26: =IF(H26=I26,1,"") | L26: =IF(H26=J26,1,"") | M26: V | N26: 40627 | O26: =IF(ISNA(HLOOKUP(N26,CP!$B$2:$ZZ$100,$B$35,FALSE)),"",HLOOKUP(N26,CP!$B$2:$ZZ$100,$B$35,FALSE)) | P26: =IF(ISNA(HLOOKUP(N26,RTT!$B$2:$ZZ$100,$B$35,FALSE)),"",HLOOKUP('Exemple 1'!N26,RTT!$B$2:$ZZ$100,$B$35,FALSE)) | Q26: =IF(N26=O26,1,"") | R26: =IF(N26=P26,1,"") | S26: L | T26: 40658 | U26: =IF(ISNA(HLOOKUP(T26,CP!$B$2:$ZZ$100,$B$35,FALSE)),"",HLOOKUP(T26,CP!$B$2:$ZZ$100,$B$35,FALSE)) | V26: =IF(ISNA(HLOOKUP(T26,RTT!$B$2:$ZZ$100,$B$35,FALSE)),"",HLOOKUP('Exemple 1'!T26,RTT!$B$2:$ZZ$100,$B$35,FALSE)) | W26: =IF(T26=U26,1,"") | X26: =IF(T26=V26,1,"") | Y26: M | Z26: 40688 | AA26: =IF(ISNA(HLOOKUP(Z26,CP!$B$2:$ZZ$100,$B$35,FALSE)),"",HLOOKUP(Z26,CP!$B$2:$ZZ$100,$B$35,FALSE)) | AB26: =IF(ISNA(HLOOKUP(Z26,RTT!$B$2:$ZZ$100,$B$35,FALSE)),"",HLOOKUP('Exemple 1'!Z26,RTT!$B$2:$ZZ$100,$B$35,FALSE)) | AC26: =IF(Z26=AA26,1,"") | AD26: =IF(Z26=AB26,1,"") | AE26: S | AF26: 40719 | AG26: =IF(ISNA(HLOOKUP(AF26,CP!$B$2:$ZZ$100,$B$35,FALSE)),"",HLOOKUP(AF26,CP!$B$2:$ZZ$100,$B$35,FALSE)) | AH26: =IF(ISNA(HLOOKUP(AF26,RTT!$B$2:$ZZ$100,$B$35,FALSE)),"",HLOOKUP('Exemple 1'!AF26,RTT!$B$2:$ZZ$100,$B$35,FALSE)) | AI26: =IF(AF26=AG26,1,"") | AJ26: =IF(AF26=AH26,1,"") | AK26: L | AL26: 40749 | AM26: =IF(ISNA(HLOOKUP(AL26,CP!$B$2:$ZZ$100,$B$35,FALSE)),"",HLOOKUP(AL26,CP!$B$2:$ZZ$100,$B$35,FALSE)) | AN26: =IF(ISNA(HLOOKUP(AL26,RTT!$B$2:$ZZ$100,$B$35,FALSE)),"",HLOOKUP('Exemple 1'!AL26,RTT!$B$2:$ZZ$100,$B$35,FALSE)) | AO26: =IF(AL26=AM26,1,"") | AP26: =IF(AL26=AN26,1,"") | AQ26: J | AR26: 40780 | AS26: =IF(ISNA(HLOOKUP(AR26,CP!$B$2:$ZZ$100,$B$35,FALSE)),"",HLOOKUP(AR26,CP!$B$2:$ZZ$100,$B$35,FALSE)) | AT26: =IF(ISNA(HLOOKUP(AR26,RTT!$B$2:$ZZ$100,$B$35,FALSE)),"",HLOOKUP('Exemple 1'!AR26,RTT!$B$2:$ZZ$100,$B$35,FALSE)) -> 40811 | AU26: =IF(AR26=AS26,1,"") | AV26: =IF(AR26=AT26,1,"") | AW26: D | AX26: 40811 | AY26: =IF(ISNA(HLOOKUP(AX26,CP!$B$2:$ZZ$100,$B$35,FALSE)),"",HLOOKUP(AX26,CP!$B$2:$ZZ$100,$B$35,FALSE)) | AZ26: =IF(ISNA(HLOOKUP(AX26,RTT!$B$2:$ZZ$100,$B$35,FALSE)),"",HLOOKUP('Exemple 1'!AX26,RTT!$B$2:$ZZ$100,$B$35,FALSE)) | BA26: =IF(AX26=AY26,1,"") | BB26: =IF(AX26=AZ26,1,"") | BC26: M | BD26: 40841 | BE26: =IF(ISNA(HLOOKUP(BD26,CP!$B$2:$ZZ$100,$B$35,FALSE)),"",HLOOKUP(BD26,CP!$B$2:$ZZ$100,$B$35,FALSE)) | BF26: =IF(ISNA(HLOOKUP(BD26,RTT!$B$2:$ZZ$100,$B$35,FALSE)),"",HLOOKUP('Exemple 1'!BD26,RTT!$B$2:$ZZ$100,$B$35,FALSE)) | BG26: =IF(BD26=BE26,1,"") | BH26: =IF(BD26=BF26,1,"") | BI26: V | BJ26: 40872 | BK26: =IF(ISNA(HLOOKUP(BJ26,CP!$B$2:$ZZ$100,$B$35,FALSE)),"",HLOOKUP(BJ26,CP!$B$2:$ZZ$100,$B$35,FALSE)) | BL26: =IF(ISNA(HLOOKUP(BJ26,RTT!$B$2:$ZZ$100,$B$35,FALSE)),"",HLOOKUP('Exemple 1'!BJ26,RTT!$B$2:$ZZ$100,$B$35,FALSE)) | BM26: =IF(BJ26=BK26,1,"") | BN26: =IF(BJ26=BL26,1,"") | BO26: D | BP26: 40902 | BQ26: =IF(ISNA(HLOOKUP(BP26,CP!$B$2:$ZZ$100,$B$35,FALSE)),"",HLOOKUP(BP26,CP!$B$2:$ZZ$100,$B$35,FALSE)) | BR26: =IF(ISNA(HLOOKUP(BP26,RTT!$B$2:$ZZ$100,$B$35,FALSE)),"",HLOOKUP('Exemple 1'!BP26,RTT!$B$2:$ZZ$100,$B$35,FALSE)) | BS26: =IF(BP26=BQ26,1,"") | BT26: =IF(BP26=BR26,1,"")
A27: M | B27: 40569 | C27: =IF(ISNA(VLOOKUP(B27,CP!$A$1:$BS$50,2,FALSE)),"",VLOOKUP(B27,CP!$A$1:$BS$50,2,FALSE)) | D27: =IF(ISNA(HLOOKUP(B27,RTT!$B$2:$ZZ$100,$B$35,FALSE)),"",HLOOKUP(B27,RTT!$B$2:$ZZ$100,$B$35,FALSE)) | E27: =IF(B27=C27,1,"") | F27: =IF(B27=D27,1,"") | G27: S | H27: 40600 | I27: =IF(ISNA(HLOOKUP(H27,CP!$B$2:$ZZ$100,$B$35,FALSE)),"",HLOOKUP(H27,CP!$B$2:$ZZ$100,$B$35,FALSE)) | J27: =IF(ISNA(HLOOKUP(H27,RTT!$B$2:$ZZ$100,$B$35,FALSE)),"",HLOOKUP('Exemple 1'!H27,RTT!$B$2:$ZZ$100,$B$35,FALSE)) | K27: =IF(H27=I27,1,"") | L27: =IF(H27=J27,1,"") | M27: S | N27: 40628 | O27: =IF(ISNA(HLOOKUP(N27,CP!$B$2:$ZZ$100,$B$35,FALSE)),"",HLOOKUP(N27,CP!$B$2:$ZZ$100,$B$35,FALSE)) | P27: =IF(ISNA(HLOOKUP(N27,RTT!$B$2:$ZZ$100,$B$35,FALSE)),"",HLOOKUP('Exemple 1'!N27,RTT!$B$2:$ZZ$100,$B$35,FALSE)) | Q27: =IF(N27=O27,1,"") | R27: =IF(N27=P27,1,"") | S27: M | T27: 40659 | U27: =IF(ISNA(HLOOKUP(T27,CP!$B$2:$ZZ$100,$B$35,FALSE)),"",HLOOKUP(T27,CP!$B$2:$ZZ$100,$B$35,FALSE)) | V27: =IF(ISNA(HLOOKUP(T27,RTT!$B$2:$ZZ$100,$B$35,FALSE)),"",HLOOKUP('Exemple 1'!T27,RTT!$B$2:$ZZ$100,$B$35,FALSE)) | W27: =IF(T27=U27,1,"") | X27: =IF(T27=V27,1,"") | Y27: J | Z27: 40689 | AA27: =IF(ISNA(HLOOKUP(Z27,CP!$B$2:$ZZ$100,$B$35,FALSE)),"",HLOOKUP(Z27,CP!$B$2:$ZZ$100,$B$35,FALSE)) | AB27: =IF(ISNA(HLOOKUP(Z27,RTT!$B$2:$ZZ$100,$B$35,FALSE)),"",HLOOKUP('Exemple 1'!Z27,RTT!$B$2:$ZZ$100,$B$35,FALSE)) | AC27: =IF(Z27=AA27,1,"") | AD27: =IF(Z27=AB27,1,"") | AE27: D | AF27: 40720 | AG27: =IF(ISNA(HLOOKUP(AF27,CP!$B$2:$ZZ$100,$B$35,FALSE)),"",HLOOKUP(AF27,CP!$B$2:$ZZ$100,$B$35,FALSE)) | AH27: =IF(ISNA(HLOOKUP(AF27,RTT!$B$2:$ZZ$100,$B$35,FALSE)),"",HLOOKUP('Exemple 1'!AF27,RTT!$B$2:$ZZ$100,$B$35,FALSE)) | AI27: =IF(AF27=AG27,1,"") | AJ27: =IF(AF27=AH27,1,"") | AK27: M | AL27: 40750 | AM27: =IF(ISNA(HLOOKUP(AL27,CP!$B$2:$ZZ$100,$B$35,FALSE)),"",HLOOKUP(AL27,CP!$B$2:$ZZ$100,$B$35,FALSE)) | AN27: =IF(ISNA(HLOOKUP(AL27,RTT!$B$2:$ZZ$100,$B$35,FALSE)),"",HLOOKUP('Exemple 1'!AL27,RTT!$B$2:$ZZ$100,$B$35,FALSE)) | AO27: =IF(AL27=AM27,1,"") | AP27: =IF(AL27=AN27,1,"") | AQ27: V | AR27: 40781 | AS27: =IF(ISNA(HLOOKUP(AR27,CP!$B$2:$ZZ$100,$B$35,FALSE)),"",HLOOKUP(AR27,CP!$B$2:$ZZ$100,$B$35,FALSE)) | AT27: =IF(ISNA(HLOOKUP(AR27,RTT!$B$2:$ZZ$100,$B$35,FALSE)),"",HLOOKUP('Exemple 1'!AR27,RTT!$B$2:$ZZ$100,$B$35,FALSE)) | AU27: =IF(AR27=AS27,1,"") | AV27: =IF(AR27=AT27,1,"") | AW27: L | AX27: 40812 | AY27: =IF(ISNA(HLOOKUP(AX27,CP!$B$2:$ZZ$100,$B$35,FALSE)),"",HLOOKUP(AX27,CP!$B$2:$ZZ$100,$B$35,FALSE)) | AZ27: =IF(ISNA(HLOOKUP(AX27,RTT!$B$2:$ZZ$100,$B$35,FALSE)),"",HLOOKUP('Exemple 1'!AX27,RTT!$B$2:$ZZ$100,$B$35,FALSE)) | BA27: =IF(AX27=AY27,1,"") | BB27: =IF(AX27=AZ27,1,"") | BC27: M | BD27: 40842 | BE27: =IF(ISNA(HLOOKUP(BD27,CP!$B$2:$ZZ$100,$B$35,FALSE)),"",HLOOKUP(BD27,CP!$B$2:$ZZ$100,$B$35,FALSE)) | BF27: =IF(ISNA(HLOOKUP(BD27,RTT!$B$2:$ZZ$100,$B$35,FALSE)),"",HLOOKUP('Exemple 1'!BD27,RTT!$B$2:$ZZ$100,$B$35,FALSE)) | BG27: =IF(BD27=BE27,1,"") | BH27: =IF(BD27=BF27,1,"") | BI27: S | BJ27: 40873 | BK27: =IF(ISNA(HLOOKUP(BJ27,CP!$B$2:$ZZ$100,$B$35,FALSE)),"",HLOOKUP(BJ27,CP!$B$2:$ZZ$100,$B$35,FALSE)) | BL27: =IF(ISNA(HLOOKUP(BJ27,RTT!$B$2:$ZZ$100,$B$35,FALSE)),"",HLOOKUP('Exemple 1'!BJ27,RTT!$B$2:$ZZ$100,$B$35,FALSE)) | BM27: =IF(BJ27=BK27,1,"") | BN27: =IF(BJ27=BL27,1,"") | BO27: L | BP27: 40903 | BQ27: =IF(ISNA(HLOOKUP(BP27,CP!$B$2:$ZZ$100,$B$35,FALSE)),"",HLOOKUP(BP27,CP!$B$2:$ZZ$100,$B$35,FALSE)) | BR27: =IF(ISNA(HLOOKUP(BP27,RTT!$B$2:$ZZ$100,$B$35,FALSE)),"",HLOOKUP('Exemple 1'!BP27,RTT!$B$2:$ZZ$100,$B$35,FALSE)) | BS27: =IF(BP27=BQ27,1,"") | BT27: =IF(BP27=BR27,1,"")
A28: J | B28: 40570 | C28: =IF(ISNA(VLOOKUP(B28,CP!$A$1:$BS$50,2,FALSE)),"",VLOOKUP(B28,CP!$A$1:$BS$50,2,FALSE)) | D28: =IF(ISNA(HLOOKUP(B28,RTT!$B$2:$ZZ$100,$B$35,FALSE)),"",HLOOKUP(B28,RTT!$B$2:$ZZ$100,$B$35,FALSE)) | E28: =IF(B28=C28,1,"") | F28: =IF(B28=D28,1,"") | G28: D | H28: 40601 | I28: =IF(ISNA(HLOOKUP(H28,CP!$B$2:$ZZ$100,$B$35,FALSE)),"",HLOOKUP(H28,CP!$B$2:$ZZ$100,$B$35,FALSE)) | J28: =IF(ISNA(HLOOKUP(H28,RTT!$B$2:$ZZ$100,$B$35,FALSE)),"",HLOOKUP('Exemple 1'!H28,RTT!$B$2:$ZZ$100,$B$35,FALSE)) | K28: =IF(H28=I28,1,"") | L28: =IF(H28=J28,1,"") | M28: D | N28: 40629 | O28: =IF(ISNA(HLOOKUP(N28,CP!$B$2:$ZZ$100,$B$35,FALSE)),"",HLOOKUP(N28,CP!$B$2:$ZZ$100,$B$35,FALSE)) | P28: =IF(ISNA(HLOOKUP(N28,RTT!$B$2:$ZZ$100,$B$35,FALSE)),"",HLOOKUP('Exemple 1'!N28,RTT!$B$2:$ZZ$100,$B$35,FALSE)) | Q28: =IF(N28=O28,1,"") | R28: =IF(N28=P28,1,"") | S28: M | T28: 40660 | U28: =IF(ISNA(HLOOKUP(T28,CP!$B$2:$ZZ$100,$B$35,FALSE)),"",HLOOKUP(T28,CP!$B$2:$ZZ$100,$B$35,FALSE)) | V28: =IF(ISNA(HLOOKUP(T28,RTT!$B$2:$ZZ$100,$B$35,FALSE)),"",HLOOKUP('Exemple 1'!T28,RTT!$B$2:$ZZ$100,$B$35,FALSE)) | W28: =IF(T28=U28,1,"") | X28: =IF(T28=V28,1,"") | Y28: V | Z28: 40690 | AA28: =IF(ISNA(HLOOKUP(Z28,CP!$B$2:$ZZ$100,$B$35,FALSE)),"",HLOOKUP(Z28,CP!$B$2:$ZZ$100,$B$35,FALSE)) | AB28: =IF(ISNA(HLOOKUP(Z28,RTT!$B$2:$ZZ$100,$B$35,FALSE)),"",HLOOKUP('Exemple 1'!Z28,RTT!$B$2:$ZZ$100,$B$35,FALSE)) | AC28: =IF(Z28=AA28,1,"") | AD28: =IF(Z28=AB28,1,"") | AE28: L | AF28: 40721 | AG28: =IF(ISNA(HLOOKUP(AF28,CP!$B$2:$ZZ$100,$B$35,FALSE)),"",HLOOKUP(AF28,CP!$B$2:$ZZ$100,$B$35,FALSE)) | AH28: =IF(ISNA(HLOOKUP(AF28,RTT!$B$2:$ZZ$100,$B$35,FALSE)),"",HLOOKUP('Exemple 1'!AF28,RTT!$B$2:$ZZ$100,$B$35,FALSE)) | AI28: =IF(AF28=AG28,1,"") | AJ28: =IF(AF28=AH28,1,"") | AK28: M | AL28: 40751 | AM28: =IF(ISNA(HLOOKUP(AL28,CP!$B$2:$ZZ$100,$B$35,FALSE)),"",HLOOKUP(AL28,CP!$B$2:$ZZ$100,$B$35,FALSE)) | AN28: =IF(ISNA(HLOOKUP(AL28,RTT!$B$2:$ZZ$100,$B$35,FALSE)),"",HLOOKUP('Exemple 1'!AL28,RTT!$B$2:$ZZ$100,$B$35,FALSE)) | AO28: =IF(AL28=AM28,1,"") | AP28: =IF(AL28=AN28,1,"") | AQ28: S | AR28: 40782 | AS28: =IF(ISNA(HLOOKUP(AR28,CP!$B$2:$ZZ$100,$B$35,FALSE)),"",HLOOKUP(AR28,CP!$B$2:$ZZ$100,$B$35,FALSE)) | AT28: =IF(ISNA(HLOOKUP(AR28,RTT!$B$2:$ZZ$100,$B$35,FALSE)),"",HLOOKUP('Exemple 1'!AR28,RTT!$B$2:$ZZ$100,$B$35,FALSE)) | AU28: =IF(AR28=AS28,1,"") | AV28: =IF(AR28=AT28,1,"") | AW28: M | AX28: 40813 | AY28: =IF(ISNA(HLOOKUP(AX28,CP!$B$2:$ZZ$100,$B$35,FALSE)),"",HLOOKUP(AX28,CP!$B$2:$ZZ$100,$B$35,FALSE)) | AZ28: =IF(ISNA(HLOOKUP(AX28,RTT!$B$2:$ZZ$100,$B$35,FALSE)),"",HLOOKUP('Exemple 1'!AX28,RTT!$B$2:$ZZ$100,$B$35,FALSE)) | BA28: =IF(AX28=AY28,1,"") | BB28: =IF(AX28=AZ28,1,"") | BC28: J | BD28: 40843 | BE28: =IF(ISNA(HLOOKUP(BD28,CP!$B$2:$ZZ$100,$B$35,FALSE)),"",HLOOKUP(BD28,CP!$B$2:$ZZ$100,$B$35,FALSE)) | BF28: =IF(ISNA(HLOOKUP(BD28,RTT!$B$2:$ZZ$100,$B$35,FALSE)),"",HLOOKUP('Exemple 1'!BD28,RTT!$B$2:$ZZ$100,$B$35,FALSE)) | BG28: =IF(BD28=BE28,1,"") | BH28: =IF(BD28=BF28,1,"") | BI28: D | BJ28: 40874 | BK28: =IF(ISNA(HLOOKUP(BJ28,CP!$B$2:$ZZ$100,$B$35,FALSE)),"",HLOOKUP(BJ28,CP!$B$2:$ZZ$100,$B$35,FALSE)) | BL28: =IF(ISNA(HLOOKUP(BJ28,RTT!$B$2:$ZZ$100,$B$35,FALSE)),"",HLOOKUP('Exemple 1'!BJ28,RTT!$B$2:$ZZ$100,$B$35,FALSE)) | BM28: =IF(BJ28=BK28,1,"") | BN28: =IF(BJ28=BL28,1,"") | BO28: M | BP28: 40904 | BQ28: =IF(ISNA(HLOOKUP(BP28,CP!$B$2:$ZZ$100,$B$35,FALSE)),"",HLOOKUP(BP28,CP!$B$2:$ZZ$100,$B$35,FALSE)) | BR28: =IF(ISNA(HLOOKUP(BP28,RTT!$B$2:$ZZ$100,$B$35,FALSE)),"",HLOOKUP('Exemple 1'!BP28,RTT!$B$2:$ZZ$100,$B$35,FALSE)) | BS28: =IF(BP28=BQ28,1,"") | BT28: =IF(BP28=BR28,1,"")
A29: V | B29: 40571 | C29: =IF(ISNA(VLOOKUP(B29,CP!$A$1:$BS$50,2,FALSE)),"",VLOOKUP(B29,CP!$A$1:$BS$50,2,FALSE)) | D29: =IF(ISNA(HLOOKUP(B29,RTT!$B$2:$ZZ$100,$B$35,FALSE)),"",HLOOKUP(B29,RTT!$B$2:$ZZ$100,$B$35,FALSE)) | E29: =IF(B29=C29,1,"") | F29: =IF(B29=D29,1,"") | G29: L | H29: 40602 | I29: =IF(ISNA(HLOOKUP(H29,CP!$B$2:$ZZ$100,$B$35,FALSE)),"",HLOOKUP(H29,CP!$B$2:$ZZ$100,$B$35,FALSE)) | J29: =IF(ISNA(HLOOKUP(H29,RTT!$B$2:$ZZ$100,$B$35,FALSE)),"",HLOOKUP('Exemple 1'!H29,RTT!$B$2:$ZZ$100,$B$35,FALSE)) | K29: =IF(H29=I29,1,"") | L29: =IF(H29=J29,1,"") | M29: L | N29: 40630 | O29: =IF(ISNA(HLOOKUP(N29,CP!$B$2:$ZZ$100,$B$35,FALSE)),"",HLOOKUP(N29,CP!$B$2:$ZZ$100,$B$35,FALSE)) | P29: =IF(ISNA(HLOOKUP(N29,RTT!$B$2:$ZZ$100,$B$35,FALSE)),"",HLOOKUP('Exemple 1'!N29,RTT!$B$2:$ZZ$100,$B$35,FALSE)) | Q29: =IF(N29=O29,1,"") | R29: =IF(N29=P29,1,"") | S29: J | T29: 40661 | U29: =IF(ISNA(HLOOKUP(T29,CP!$B$2:$ZZ$100,$B$35,FALSE)),"",HLOOKUP(T29,CP!$B$2:$ZZ$100,$B$35,FALSE)) | V29: =IF(ISNA(HLOOKUP(T29,RTT!$B$2:$ZZ$100,$B$35,FALSE)),"",HLOOKUP('Exemple 1'!T29,RTT!$B$2:$ZZ$100,$B$35,FALSE)) | W29: =IF(T29=U29,1,"") | X29: =IF(T29=V29,1,"") | Y29: S | Z29: 40691 | AA29: =IF(ISNA(HLOOKUP(Z29,CP!$B$2:$ZZ$100,$B$35,FALSE)),"",HLOOKUP(Z29,CP!$B$2:$ZZ$100,$B$35,FALSE)) | AB29: =IF(ISNA(HLOOKUP(Z29,RTT!$B$2:$ZZ$100,$B$35,FALSE)),"",HLOOKUP('Exemple 1'!Z29,RTT!$B$2:$ZZ$100,$B$35,FALSE)) | AC29: =IF(Z29=AA29,1,"") | AD29: =IF(Z29=AB29,1,"") | AE29: M | AF29: 40722 | AG29: =IF(ISNA(HLOOKUP(AF29,CP!$B$2:$ZZ$100,$B$35,FALSE)),"",HLOOKUP(AF29,CP!$B$2:$ZZ$100,$B$35,FALSE)) | AH29: =IF(ISNA(HLOOKUP(AF29,RTT!$B$2:$ZZ$100,$B$35,FALSE)),"",HLOOKUP('Exemple 1'!AF29,RTT!$B$2:$ZZ$100,$B$35,FALSE)) | AI29: =IF(AF29=AG29,1,"") | AJ29: =IF(AF29=AH29,1,"") | AK29: J | AL29: 40752 | AM29: =IF(ISNA(HLOOKUP(AL29,CP!$B$2:$ZZ$100,$B$35,FALSE)),"",HLOOKUP(AL29,CP!$B$2:$ZZ$100,$B$35,FALSE)) | AN29: =IF(ISNA(HLOOKUP(AL29,RTT!$B$2:$ZZ$100,$B$35,FALSE)),"",HLOOKUP('Exemple 1'!AL29,RTT!$B$2:$ZZ$100,$B$35,FALSE)) | AO29: =IF(AL29=AM29,1,"") | AP29: =IF(AL29=AN29,1,"") | AQ29: D | AR29: 40783 | AS29: =IF(ISNA(HLOOKUP(AR29,CP!$B$2:$ZZ$100,$B$35,FALSE)),"",HLOOKUP(AR29,CP!$B$2:$ZZ$100,$B$35,FALSE)) | AT29: =IF(ISNA(HLOOKUP(AR29,RTT!$B$2:$ZZ$100,$B$35,FALSE)),"",HLOOKUP('Exemple 1'!AR29,RTT!$B$2:$ZZ$100,$B$35,FALSE)) | AU29: =IF(AR29=AS29,1,"") | AV29: =IF(AR29=AT29,1,"") | AW29: M | AX29: 40814 | AY29: =IF(ISNA(HLOOKUP(AX29,CP!$B$2:$ZZ$100,$B$35,FALSE)),"",HLOOKUP(AX29,CP!$B$2:$ZZ$100,$B$35,FALSE)) | AZ29: =IF(ISNA(HLOOKUP(AX29,RTT!$B$2:$ZZ$100,$B$35,FALSE)),"",HLOOKUP('Exemple 1'!AX29,RTT!$B$2:$ZZ$100,$B$35,FALSE)) | BA29: =IF(AX29=AY29,1,"") | BB29: =IF(AX29=AZ29,1,"") | BC29: V | BD29: 40844 | BE29: =IF(ISNA(HLOOKUP(BD29,CP!$B$2:$ZZ$100,$B$35,FALSE)),"",HLOOKUP(BD29,CP!$B$2:$ZZ$100,$B$35,FALSE)) | BF29: =IF(ISNA(HLOOKUP(BD29,RTT!$B$2:$ZZ$100,$B$35,FALSE)),"",HLOOKUP('Exemple 1'!BD29,RTT!$B$2:$ZZ$100,$B$35,FALSE)) | BG29: =IF(BD29=BE29,1,"") | BH29: =IF(BD29=BF29,1,"") | BI29: L | BJ29: 40875 | BK29: =IF(ISNA(HLOOKUP(BJ29,CP!$B$2:$ZZ$100,$B$35,FALSE)),"",HLOOKUP(BJ29,CP!$B$2:$ZZ$100,$B$35,FALSE)) | BL29: =IF(ISNA(HLOOKUP(BJ29,RTT!$B$2:$ZZ$100,$B$35,FALSE)),"",HLOOKUP('Exemple 1'!BJ29,RTT!$B$2:$ZZ$100,$B$35,FALSE)) | BM29: =IF(BJ29=BK29,1,"") | BN29: =IF(BJ29=BL29,1,"") | BO29: M | BP29: 40905 | BQ29: =IF(ISNA(HLOOKUP(BP29,CP!$B$2:$ZZ$100,$B$35,FALSE)),"",HLOOKUP(BP29,CP!$B$2:$ZZ$100,$B$35,FALSE)) | BR29: =IF(ISNA(HLOOKUP(BP29,RTT!$B$2:$ZZ$100,$B$35,FALSE)),"",HLOOKUP('Exemple 1'!BP29,RTT!$B$2:$ZZ$100,$B$35,FALSE)) | BS29: =IF(BP29=BQ29,1,"") | BT29: =IF(BP29=BR29,1,"")
A30: S | B30: 40572 | C30: =IF(ISNA(VLOOKUP(B30,CP!$A$1:$BS$50,2,FALSE)),"",VLOOKUP(B30,CP!$A$1:$BS$50,2,FALSE)) | D30: =IF(ISNA(HLOOKUP(B30,RTT!$B$2:$ZZ$100,$B$35,FALSE)),"",HLOOKUP(B30,RTT!$B$2:$ZZ$100,$B$35,FALSE)) | E30: =IF(B30=C30,1,"") | F30: =IF(B30=D30,1,"") | M30: M | N30: 40631 | O30: =IF(ISNA(HLOOKUP(N30,CP!$B$2:$ZZ$100,$B$35,FALSE)),"",HLOOKUP(N30,CP!$B$2:$ZZ$100,$B$35,FALSE)) | P30: =IF(ISNA(HLOOKUP(N30,RTT!$B$2:$ZZ$100,$B$35,FALSE)),"",HLOOKUP('Exemple 1'!N30,RTT!$B$2:$ZZ$100,$B$35,FALSE)) | Q30: =IF(N30=O30,1,"") | R30: =IF(N30=P30,1,"") | S30: V | T30: 40662 | U30: =IF(ISNA(HLOOKUP(T30,CP!$B$2:$ZZ$100,$B$35,FALSE)),"",HLOOKUP(T30,CP!$B$2:$ZZ$100,$B$35,FALSE)) | V30: =IF(ISNA(HLOOKUP(T30,RTT!$B$2:$ZZ$100,$B$35,FALSE)),"",HLOOKUP('Exemple 1'!T30,RTT!$B$2:$ZZ$100,$B$35,FALSE)) | W30: =IF(T30=U30,1,"") | X30: =IF(T30=V30,1,"") | Y30: D | Z30: 40692 | AA30: =IF(ISNA(HLOOKUP(Z30,CP!$B$2:$ZZ$100,$B$35,FALSE)),"",HLOOKUP(Z30,CP!$B$2:$ZZ$100,$B$35,FALSE)) | AB30: =IF(ISNA(HLOOKUP(Z30,RTT!$B$2:$ZZ$100,$B$35,FALSE)),"",HLOOKUP('Exemple 1'!Z30,RTT!$B$2:$ZZ$100,$B$35,FALSE)) | AC30: =IF(Z30=AA30,1,"") | AD30: =IF(Z30=AB30,1,"") | AE30: M | AF30: 40723 | AG30: =IF(ISNA(HLOOKUP(AF30,CP!$B$2:$ZZ$100,$B$35,FALSE)),"",HLOOKUP(AF30,CP!$B$2:$ZZ$100,$B$35,FALSE)) | AH30: =IF(ISNA(HLOOKUP(AF30,RTT!$B$2:$ZZ$100,$B$35,FALSE)),"",HLOOKUP('Exemple 1'!AF30,RTT!$B$2:$ZZ$100,$B$35,FALSE)) | AI30: =IF(AF30=AG30,1,"") | AJ30: =IF(AF30=AH30,1,"") | AK30: V | AL30: 40753 | AM30: =IF(ISNA(HLOOKUP(AL30,CP!$B$2:$ZZ$100,$B$35,FALSE)),"",HLOOKUP(AL30,CP!$B$2:$ZZ$100,$B$35,FALSE)) | AN30: =IF(ISNA(HLOOKUP(AL30,RTT!$B$2:$ZZ$100,$B$35,FALSE)),"",HLOOKUP('Exemple 1'!AL30,RTT!$B$2:$ZZ$100,$B$35,FALSE)) | AO30: =IF(AL30=AM30,1,"") | AP30: =IF(AL30=AN30,1,"") | AQ30: L | AR30: 40784 | AS30: =IF(ISNA(HLOOKUP(AR30,CP!$B$2:$ZZ$100,$B$35,FALSE)),"",HLOOKUP(AR30,CP!$B$2:$ZZ$100,$B$35,FALSE)) | AT30: =IF(ISNA(HLOOKUP(AR30,RTT!$B$2:$ZZ$100,$B$35,FALSE)),"",HLOOKUP('Exemple 1'!AR30,RTT!$B$2:$ZZ$100,$B$35,FALSE)) | AU30: =IF(AR30=AS30,1,"") | AV30: =IF(AR30=AT30,1,"") | AW30: J | AX30: 40815 | AY30: =IF(ISNA(HLOOKUP(AX30,CP!$B$2:$ZZ$100,$B$35,FALSE)),"",HLOOKUP(AX30,CP!$B$2:$ZZ$100,$B$35,FALSE)) | AZ30: =IF(ISNA(HLOOKUP(AX30,RTT!$B$2:$ZZ$100,$B$35,FALSE)),"",HLOOKUP('Exemple 1'!AX30,RTT!$B$2:$ZZ$100,$B$35,FALSE)) | BA30: =IF(AX30=AY30,1,"") | BB30: =IF(AX30=AZ30,1,"") | BC30: S | BD30: 40845 | BE30: =IF(ISNA(HLOOKUP(BD30,CP!$B$2:$ZZ$100,$B$35,FALSE)),"",HLOOKUP(BD30,CP!$B$2:$ZZ$100,$B$35,FALSE)) | BF30: =IF(ISNA(HLOOKUP(BD30,RTT!$B$2:$ZZ$100,$B$35,FALSE)),"",HLOOKUP('Exemple 1'!BD30,RTT!$B$2:$ZZ$100,$B$35,FALSE)) | BG30: =IF(BD30=BE30,1,"") | BH30: =IF(BD30=BF30,1,"") | BI30: M | BJ30: 40876 | BK30: =IF(ISNA(HLOOKUP(BJ30,CP!$B$2:$ZZ$100,$B$35,FALSE)),"",HLOOKUP(BJ30,CP!$B$2:$ZZ$100,$B$35,FALSE)) | BL30: =IF(ISNA(HLOOKUP(BJ30,RTT!$B$2:$ZZ$100,$B$35,FALSE)),"",HLOOKUP('Exemple 1'!BJ30,RTT!$B$2:$ZZ$100,$B$35,FALSE)) | BM30: =IF(BJ30=BK30,1,"") | BN30: =IF(BJ30=BL30,1,"") | BO30: J | BP30: 40906 | BQ30: =IF(ISNA(HLOOKUP(BP30,CP!$B$2:$ZZ$100,$B$35,FALSE)),"",HLOOKUP(BP30,CP!$B$2:$ZZ$100,$B$35,FALSE)) | BR30: =IF(ISNA(HLOOKUP(BP30,RTT!$B$2:$ZZ$100,$B$35,FALSE)),"",HLOOKUP('Exemple 1'!BP30,RTT!$B$2:$ZZ$100,$B$35,FALSE)) | BS30: =IF(BP30=BQ30,1,"") | BT30: =IF(BP30=BR30,1,"")
A31: D | B31: 40573 | C31: =IF(ISNA(VLOOKUP(B31,CP!$A$1:$BS$50,2,FALSE)),"",VLOOKUP(B31,CP!$A$1:$BS$50,2,FALSE)) | D31: =IF(ISNA(HLOOKUP(B31,RTT!$B$2:$ZZ$100,$B$35,FALSE)),"",HLOOKUP(B31,RTT!$B$2:$ZZ$100,$B$35,FALSE)) | E31: =IF(B31=C31,1,"") | F31: =IF(B31=D31,1,"") | M31: M | N31: 40632 | O31: =IF(ISNA(HLOOKUP(N31,CP!$B$2:$ZZ$100,$B$35,FALSE)),"",HLOOKUP(N31,CP!$B$2:$ZZ$100,$B$35,FALSE)) | P31: =IF(ISNA(HLOOKUP(N31,RTT!$B$2:$ZZ$100,$B$35,FALSE)),"",HLOOKUP('Exemple 1'!N31,RTT!$B$2:$ZZ$100,$B$35,FALSE)) | Q31: =IF(N31=O31,1,"") | R31: =IF(N31=P31,1,"") | S31: S | T31: 40663 | U31: =IF(ISNA(HLOOKUP(T31,CP!$B$2:$ZZ$100,$B$35,FALSE)),"",HLOOKUP(T31,CP!$B$2:$ZZ$100,$B$35,FALSE)) | V31: =IF(ISNA(HLOOKUP(T31,RTT!$B$2:$ZZ$100,$B$35,FALSE)),"",HLOOKUP('Exemple 1'!T31,RTT!$B$2:$ZZ$100,$B$35,FALSE)) | W31: =IF(T31=U31,1,"") | X31: =IF(T31=V31,1,"") | Y31: L | Z31: 40693 | AA31: =IF(ISNA(HLOOKUP(Z31,CP!$B$2:$ZZ$100,$B$35,FALSE)),"",HLOOKUP(Z31,CP!$B$2:$ZZ$100,$B$35,FALSE)) | AB31: =IF(ISNA(HLOOKUP(Z31,RTT!$B$2:$ZZ$100,$B$35,FALSE)),"",HLOOKUP('Exemple 1'!Z31,RTT!$B$2:$ZZ$100,$B$35,FALSE)) | AC31: =IF(Z31=AA31,1,"") | AD31: =IF(Z31=AB31,1,"") | AE31: J | AF31: 40724 | AG31: =IF(ISNA(HLOOKUP(AF31,CP!$B$2:$ZZ$100,$B$35,FALSE)),"",HLOOKUP(AF31,CP!$B$2:$ZZ$100,$B$35,FALSE)) | AH31: =IF(ISNA(HLOOKUP(AF31,RTT!$B$2:$ZZ$100,$B$35,FALSE)),"",HLOOKUP('Exemple 1'!AF31,RTT!$B$2:$ZZ$100,$B$35,FALSE)) | AI31: =IF(AF31=AG31,1,"") | AJ31: =IF(AF31=AH31,1,"") | AK31: S | AL31: 40754 | AM31: =IF(ISNA(HLOOKUP(AL31,CP!$B$2:$ZZ$100,$B$35,FALSE)),"",HLOOKUP(AL31,CP!$B$2:$ZZ$100,$B$35,FALSE)) | AN31: =IF(ISNA(HLOOKUP(AL31,RTT!$B$2:$ZZ$100,$B$35,FALSE)),"",HLOOKUP('Exemple 1'!AL31,RTT!$B$2:$ZZ$100,$B$35,FALSE)) | AO31: =IF(AL31=AM31,1,"") | AP31: =IF(AL31=AN31,1,"") | AQ31: M | AR31: 40785 | AS31: =IF(ISNA(HLOOKUP(AR31,CP!$B$2:$ZZ$100,$B$35,FALSE)),"",HLOOKUP(AR31,CP!$B$2:$ZZ$100,$B$35,FALSE)) | AT31: =IF(ISNA(HLOOKUP(AR31,RTT!$B$2:$ZZ$100,$B$35,FALSE)),"",HLOOKUP('Exemple 1'!AR31,RTT!$B$2:$ZZ$100,$B$35,FALSE)) | AU31: =IF(AR31=AS31,1,"") | AV31: =IF(AR31=AT31,1,"") | AW31: V | AX31: 40816 | AY31: =IF(ISNA(HLOOKUP(AX31,CP!$B$2:$ZZ$100,$B$35,FALSE)),"",HLOOKUP(AX31,CP!$B$2:$ZZ$100,$B$35,FALSE)) | AZ31: =IF(ISNA(HLOOKUP(AX31,RTT!$B$2:$ZZ$100,$B$35,FALSE)),"",HLOOKUP('Exemple 1'!AX31,RTT!$B$2:$ZZ$100,$B$35,FALSE)) | BA31: =IF(AX31=AY31,1,"") | BB31: =IF(AX31=AZ31,1,"") | BC31: D | BD31: 40846 | BE31: =IF(ISNA(HLOOKUP(BD31,CP!$B$2:$ZZ$100,$B$35,FALSE)),"",HLOOKUP(BD31,CP!$B$2:$ZZ$100,$B$35,FALSE)) | BF31: =IF(ISNA(HLOOKUP(BD31,RTT!$B$2:$ZZ$100,$B$35,FALSE)),"",HLOOKUP('Exemple 1'!BD31,RTT!$B$2:$ZZ$100,$B$35,FALSE)) | BG31: =IF(BD31=BE31,1,"") | BH31: =IF(BD31=BF31,1,"") | BI31: M | BJ31: 40877 | BK31: =IF(ISNA(HLOOKUP(BJ31,CP!$B$2:$ZZ$100,$B$35,FALSE)),"",HLOOKUP(BJ31,CP!$B$2:$ZZ$100,$B$35,FALSE)) | BL31: =IF(ISNA(HLOOKUP(BJ31,RTT!$B$2:$ZZ$100,$B$35,FALSE)),"",HLOOKUP('Exemple 1'!BJ31,RTT!$B$2:$ZZ$100,$B$35,FALSE)) | BM31: =IF(BJ31=BK31,1,"") | BN31: =IF(BJ31=BL31,1,"") | BO31: V | BP31: 40907 | BQ31: =IF(ISNA(HLOOKUP(BP31,CP!$B$2:$ZZ$100,$B$35,FALSE)),"",HLOOKUP(BP31,CP!$B$2:$ZZ$100,$B$35,FALSE)) | BR31: =IF(ISNA(HLOOKUP(BP31,RTT!$B$2:$ZZ$100,$B$35,FALSE)),"",HLOOKUP('Exemple 1'!BP31,RTT!$B$2:$ZZ$100,$B$35,FALSE)) | BS31: =IF(BP31=BQ31,1,"") | BT31: =IF(BP31=BR31,1,"")
A32: L | B32: 40574 | C32: =IF(ISNA(VLOOKUP(B32,CP!$A$1:$BS$50,2,FALSE)),"",VLOOKUP(B32,CP!$A$1:$BS$50,2,FALSE)) | D32: =IF(ISNA(HLOOKUP(B32,RTT!$B$2:$ZZ$100,$B$35,FALSE)),"",HLOOKUP(B32,RTT!$B$2:$ZZ$100,$B$35,FALSE)) | E32: =IF(B32=C32,1,"") | F32: =IF(B32=D32,1,"") | M32: J | N32: 40633 | O32: =IF(ISNA(HLOOKUP(N32,CP!$B$2:$ZZ$100,$B$35,FALSE)),"",HLOOKUP(N32,CP!$B$2:$ZZ$100,$B$35,FALSE)) | P32: =IF(ISNA(HLOOKUP(N32,RTT!$B$2:$ZZ$100,$B$35,FALSE)),"",HLOOKUP('Exemple 1'!N32,RTT!$B$2:$ZZ$100,$B$35,FALSE)) | Q32: =IF(N32=O32,1,"") | R32: =IF(N32=P32,1,"") | Y32: M | Z32: 40694 | AA32: =IF(ISNA(HLOOKUP(Z32,CP!$B$2:$ZZ$100,$B$35,FALSE)),"",HLOOKUP(Z32,CP!$B$2:$ZZ$100,$B$35,FALSE)) | AB32: =IF(ISNA(HLOOKUP(Z32,RTT!$B$2:$ZZ$100,$B$35,FALSE)),"",HLOOKUP('Exemple 1'!Z32,RTT!$B$2:$ZZ$100,$B$35,FALSE)) | AC32: =IF(Z32=AA32,1,"") | AD32: =IF(Z32=AB32,1,"") | AK32: D | AL32: 40755 | AM32: =IF(ISNA(HLOOKUP(AL32,CP!$B$2:$Z$2,$B$35,FALSE)),"",HLOOKUP(AL32,CP!$B$2:$Z$2,$B$35,FALSE)) | AN32: =IF(ISNA(HLOOKUP(AL32,RTT!$B$2:$ZZ$100,$B$35,FALSE)),"",HLOOKUP('Exemple 1'!AL32,RTT!$B$2:$ZZ$100,$B$35,FALSE)) | AO32: =IF(AL32=AM32,1,"") | AP32: =IF(AL32=AN32,1,"") | AQ32: M | AR32: 40786 | AS32: =IF(ISNA(HLOOKUP(AR32,CP!$B$2:$ZZ$100,$B$35,FALSE)),"",HLOOKUP(AR32,CP!$B$2:$ZZ$100,$B$35,FALSE)) | AT32: =IF(ISNA(HLOOKUP(AR32,RTT!$B$2:$ZZ$100,$B$35,FALSE)),"",HLOOKUP('Exemple 1'!AR32,RTT!$B$2:$ZZ$100,$B$35,FALSE)) | AU32: =IF(AR32=AS32,1,"") | AV32: =IF(AR32=AT32,1,"") | BC32: L | BD32: 40847 | BE32: =IF(ISNA(HLOOKUP(BD32,CP!$B$2:$ZZ$100,$B$35,FALSE)),"",HLOOKUP(BD32,CP!$B$2:$ZZ$100,$B$35,FALSE)) | BF32: =IF(ISNA(HLOOKUP(BD32,RTT!$B$2:$ZZ$100,$B$35,FALSE)),"",HLOOKUP('Exemple 1'!BD32,RTT!$B$2:$ZZ$100,$B$35,FALSE)) | BG32: =IF(BD32=BE32,1,"") | BH32: =IF(BD32=BF32,1,"") | BO32: S | BP32: 40908 | BQ32: =IF(ISNA(HLOOKUP(BP32,CP!$B$2:$ZZ$100,$B$35,FALSE)),"",HLOOKUP(BP32,CP!$B$2:$ZZ$100,$B$35,FALSE)) | BR32: =IF(ISNA(HLOOKUP(BP32,RTT!$B$2:$ZZ$100,$B$35,FALSE)),"",HLOOKUP('Exemple 1'!BP32,RTT!$B$2:$ZZ$100,$B$35,FALSE)) | BS32: =IF(BP32=BQ32,1,"") | BT32: =IF(BP32=BR32,1,"")
B35: 2 | T35: =TODAY() -> 40528 | AF35: RTT | AX35: CP
AF36: Nombre de jours acquis | AX36: Nombre de jours acquis
AF37: Nombre de jours pris | AX37: Nombre de jours pris
AF38: Solde | AX38: Solde
