Workbook

Sheet vente
A1: produit | B1: reduc | C1: date | D1: nombre | E1: prix unit | F1: total
A2: clous | C2: 42096 | D2: 1 | E2: =IFERROR(VLOOKUP(A2,base!$A$2:$I$5107,5,0),"") -> 2.7 | F2: =E2*D2 -> 2.7
A3: visse 10 | C3: 42128 | D3: 3 | E3: =IFERROR(VLOOKUP(A3,base!$A$2:$I$5107,5,0),"") -> 2.1 | F3: =E3*D3 -> 6.3
A4: visse 25 | C4: 42128 | D4: 2 | E4: =IFERROR(VLOOKUP(A4,base!$A$2:$I$5107,5,0),"") -> 2.22 | F4: =E4*D4 -> 4.44
A5: gans | C5: 42101 | D5: 2 | E5: =IFERROR(VLOOKUP(A5,base!$A$2:$I$5107,5,0),"") -> 14.4 | F5: =E5*D5 -> 28.8
A6: clous | C6: 42115 | E6: =IFERROR(VLOOKUP(A6,base!$A$2:$I$5107,5,0),"") -> 2.7 | F6: =E6*D6 -> 0
E7: 0 | F7: =E7*D7 -> 0
E8: 0 | F8: =E8*D8 -> 0
E9: 0 | F9: =E9*D9 -> 0
E10: 0 | F10: =E10*D10 -> 0
E11: =IFERROR(VLOOKUP(A11,base!$A$2:$I$5107,5,0),"")
E12: =IFERROR(VLOOKUP(A12,base!$A$2:$I$5107,5,0),"")

Sheet base
A1: produit | B1: date | C1: prix ht | D1: tva | E1: prix ttc | F1: prix vente
A2: clous | B2: 42005 | C2: 2.25 | D2: 0.2 | E2: =C2*D2+C2 -> 2.7 | F2: 3.25
A3: visse 10 | B3: 42005 | C3: 1.75 | D3: 0.2 | E3: =C3*D3+C3 -> 2.1 | F3: 2.45
A4: visse 25 | B4: 42005 | C4: 1.85 | D4: 0.2 | E4: =C4*D4+C4 -> 2.22 | F4: 2.4
A5: marteaux | B5: 42005 | C5: 8.4 | D5: 0.2 | E5: =C5*D5+C5 -> 10.08 | F5: 14
A6: gans | B6: 42005 | C6: 12 | D6: 0.2 | E6: =C6*D6+C6 -> 14.4 | F6: 19
A7: clous | B7: 42156 | C7: 2.25 | D7: 0.2 | E7: =C7*D7+C7 -> 2.7 | F7: 3.4
E8: =C8*D8+C8 -> 0
E9: =C9*D9+C9 -> 0
E10: =C10*D10+C10 -> 0
E11: =C11*D11+C11 -> 0
E12: =C12*D12+C12 -> 0
E13: =C13*D13+C13 -> 0

Sheet Feuil3
