Workbook

Sheet PARAM
B1: PARCELLES | D1: CEPAGE
B2: BOUDET | D2: CABERNET
B3: CHAMP DU VEAU | D3: CABERNET SAUVIGNON
B4: CHAMP DU BŒUF CAR | D4: CALADOC
B5: CHAMP DU BŒUF | D5: CHARDONNAY
B6: CONDAMINE GRANDE | D6: CINSAULT
B7: CHAMP BLANC | D7: GRENACHE
B8: CHAPITRE HAUT | D8: GRENACHE BLANC
B9: CHAMP TERRASSEMENT | D9: GRENACHE NOIR
B10: AVEROUSSE | D10: MERLOT
B11: CHAMP BOSSU | D11: SAUVIGNON
B12: BOUTEILLOU | D12: SYRAH
... B14: GASCON | D14: ARAMON
B15: GRANDE PIECE
B16: GRANDE PLANCE
B17: GUIBERT
B18: LA CAVE
B19: LA CROIX
B20: LA GRANDE PENTE
B21: LATAPIE
B22: LE CARRE
B23: LE CHAT
B24: NOUVELLE
B25: NOUVELLE ARAMON
B26: NOUVELLE CAB
... B42: VIGOUROUX

Sheet Bilan_Global
A1: ANNEE | B1: 2000 | C1: 2000 | D1: 2000 | E1: 2000 | F1: 2000 | H1: 2000 | I1: 2000 | J1: 2000 | K1: 2000 | L1: 2000 | M1: 2000 | N1: 2001 | O1: 2001 | P1: 2001 | Q1: 2001 | R1: 2001 | S1: 2001 | T1: 2001 | U1: 2001 | V1: 2001 | W1: 2001 | X1: 2001 | Y1: 2001 | Z1: 2002 | AA1: 2002 | AB1: 2002 | AC1: 2002 | AD1: 2002 | AE1: 2002 | AF1: 2002 | AG1: 2002 | AH1: 2002 | AI1: 2002 | AJ1: 2002 | AK1: 2002 | AL1: 2003 | AM1: 2003 | AN1: 2003 | AO1: 2003 | AP1: 2003 | AQ1: 2003 | AR1: 2003 | AS1: 2003 | AT1: 2003 | AU1: 2003 | AV1: 2003 | AW1: 2003 | AX1: 2004 | AY1: 2004 | AZ1: 2004 | BA1: 2004 | BB1: 2004 | BC1: 2004 | BD1: 2004 | BE1: 2004 | BF1: 2004 | BG1: 2004 | BH1: 2004 | BI1: 2004 | BJ1: 2005 | BK1: 2005 | BL1: 2005 | BM1: 2005 | BN1: 2005 | BO1: 2005 | BP1: 2005 | BQ1: 2005 | BR1: 2005 | BS1: 2005 | BT1: 2005 | BU1: 2005 | BV1: 2006 | BW1: 2006 | BX1: 2006 | BY1: 2006 | BZ1: 2006 | CA1: 2006 | CB1: 2006 | CC1: 2006 | CD1: 2006 | CE1: 2006 | CF1: 2006 | CG1: 2006 | CH1: 2007 | CI1: 2007 | CJ1: 2007 | CK1: 2007 | CL1: 2007 | CM1: 2007 | CN1: 2007 | CO1: 2007 | CP1: 2007 | CQ1: 2007 | CR1: 2007 | CS1: 2007 | CT1: 2008 | CU1: 2008 | CV1: 2008 | CW1: 2008 | CX1: 2008 | CY1: 2008 | CZ1: 2008 | DA1: 2008 | DB1: 2008 | DC1: 2008 | DD1: 2008 | DE1: 2008 | DF1: 2009 | DG1: 2009 | DH1: 2009 | DI1: 2009 | DJ1: 2009 | DK1: 2009 | DL1: 2009 | DM1: 2009 | DN1: 2009 | DO1: 2009 | DP1: 2009 | DQ1: 2009 | DR1: 2010 | DS1: 2010 | DT1: 2010 | DU1: 2010 | DV1: 2010 | DW1: 2010 | DX1: 2010 | DY1: 2010 | DZ1: 2010 | EA1: 2010 | EB1: 2010 | EC1: 2010 | ED1: 2011 | EE1: 2011 | EF1: 2011 | EG1: 2011 | EH1: 2011 | EI1: 2011 | EJ1: 2011 | EK1: 2011 | EL1: 2011 | EM1: 2011 | EN1: 2011 | EO1: 2011 | EP1: 2012 | EQ1: 2012 | ER1: 2012 | ES1: 2012 | ET1: 2012 | EU1: 2012 | EV1: 2012 | EW1: 2012 | EX1: 2012 | EY1: 2012 | EZ1: 2012 | FA1: 2012 | FB1: 2013 | FC1: 2013 | FD1: 2013 | FE1: 2013 | FF1: 2013 | FG1: 2013 | FH1: 2013 | FI1: 2013 | FJ1: 2013 | FK1: 2013 | FL1: 2013 | FM1: 2013 | FN1: 2014 | FO1: 2014 | FP1: 2014 | FQ1: 2014 | FR1: 2014 | FS1: 2014 | FT1: 2014 | FU1: 2014 | FV1: 2014 | FW1: 2014 | FX1: 2014 | FY1: 2014 | FZ1: 2015 | GA1: 2015 | GB1: 2015 | GC1: 2015 | GD1: 2015 | GE1: 2015 | GF1: 2015 | GG1: 2015 | GH1: 2015 | GI1: 2015 | GJ1: 2015 | GK1: 2015 | GL1: 2016 | GM1: 2016 | GN1: 2016 | GO1: 2016 | GP1: 2016 | GQ1: 2016 | GR1: 2016 | GS1: 2016 | GT1: 2016 | GU1: 2016 | GV1: 2016 | GW1: 2016 | GX1: 2017 | GY1: 2017 | GZ1: 2017 | HA1: 2017 | HB1: 2017 | HC1: 2017 | HD1: 2017 | HE1: 2017 | HF1: 2017 | HG1: 2017 | HH1: 2017 | HI1: 2017 | HJ1: 2018 | HK1: 2018 | HL1: 2018 | HM1: 2018 | HN1: 2018 | HO1: 2018 | HP1: 2018 | HQ1: 2018 | HR1: 2018 | HS1: 2018 | HT1: 2018 | HU1: 2018 | HV1: 2019 | HW1: 2019 | HX1: 2019 | HY1: 2019 | HZ1: 2019 | IA1: 2019 | IB1: 2019 | IC1: 2019 | ID1: 2019 | IE1: 2019 | IF1: 2019 | IG1: 2019 | IH1: 2020 | II1: 2020 | IJ1: 2020 | IK1: 2020 | IL1: 2020 | IM1: 2020 | IN1: 2020 | IO1: 2020 | IP1: 2020 | IQ1: 2020 | IR1: 2020 | IS1: 2020 | IT1: 2021 | IU1: 2021 | IV1: 2021 | IW1: 2021 | IX1: 2021 | IY1: 2021 | IZ1: 2021 | JA1: 2021 | JB1: 2021 | JC1: 2021 | JD1: 2021 | JE1: 2021 | JF1: 2022 | JG1: 2022 | JH1: 2022 | JI1: 2022 | JJ1: 2022 | JK1: 2022 | JL1: 2022 | JM1: 2022 | JN1: 2022 | JO1: 2022 | JP1: 2022 | JQ1: 2022 | JR1: 2023 | JS1: 2023 | JT1: 2023 | JU1: 2023 | JV1: 2023 | JW1: 2023 | JX1: 2023 | JY1: 2023 | JZ1: 2023 | KA1: 2023 | KB1: 2023 | KC1: 2023
A2: NOM | B2: =B1&" - CEPAGE" -> 2000 - CEPAGE | C2: =C1 & " - SUPERFICIE" -> 2000 - SUPERFICIE | D2: =D1 & " - TONNES" -> 2000 - TONNES | E2: =E1 & " - HECTOS" -> 2000 - HECTOS | F2: =F1 & " - RENDEMENT" -> 2000 - RENDEMENT | G2: ANNEE | H2: =H1 & " - PLANTATION" -> 2000 - PLANTATION | I2: =I1 & " - PIEDS" -> 2000 - PIEDS | J2: =J1 & " - TAILLE" -> 2000 - TAILLE | K2: =K1 & " - PRIX HECTO" -> 2000 - PRIX HECTO | L2: =L1 & " - CA HECTO" -> 2000 - CA HECTO | M2: =M1 & " - CA PARCELLE" -> 2000 - CA PARCELLE | N2: =N1&" - CEPAGE" -> 2001 - CEPAGE | O2: =O1 & " - SUPERFICIE" -> 2001 - SUPERFICIE | P2: =P1 & " - TONNES" -> 2001 - TONNES | Q2: =Q1 & " - HECTOS" -> 2001 - HECTOS | R2: =R1 & " - RENDEMENT" -> 2001 - RENDEMENT | S2: ANNEE | T2: =T1 & " - PLANTATION" -> 2001 - PLANTATION | U2: =U1 & " - PIEDS" -> 2001 - PIEDS | V2: =V1 & " - TAILLE" -> 2001 - TAILLE | W2: =W1 & " - PRIX HECTO" -> 2001 - PRIX HECTO | X2: =X1 & " - CA HECTO" -> 2001 - CA HECTO | Y2: =Y1 & " - CA PARCELLE" -> 2001 - CA PARCELLE | Z2: =Z1&" - CEPAGE" -> 2002 - CEPAGE | AA2: =AA1 & " - SUPERFICIE" -> 2002 - SUPERFICIE | AB2: =AB1 & " - TONNES" -> 2002 - TONNES | AC2: =AC1 & " - HECTOS" -> 2002 - HECTOS | AD2: =AD1 & " - RENDEMENT" -> 2002 - RENDEMENT | AE2: ANNEE | AF2: =AF1 & " - PLANTATION" -> 2002 - PLANTATION | AG2: =AG1 & " - PIEDS" -> 2002 - PIEDS | AH2: =AH1 & " - TAILLE" -> 2002 - TAILLE | AI2: =AI1 & " - PRIX HECTO" -> 2002 - PRIX HECTO | AJ2: =AJ1 & " - CA HECTO" -> 2002 - CA HECTO | AK2: =AK1 & " - CA PARCELLE" -> 2002 - CA PARCELLE | AL2: =AL1&" - CEPAGE" -> 2003 - CEPAGE | AM2: =AM1 & " - SUPERFICIE" -> 2003 - SUPERFICIE | AN2: =AN1 & " - TONNES" -> 2003 - TONNES | AO2: =AO1 & " - HECTOS" -> 2003 - HECTOS | AP2: =AP1 & " - RENDEMENT" -> 2003 - RENDEMENT | AQ2: ANNEE | AR2: =AR1 & " - PLANTATION" -> 2003 - PLANTATION | AS2: =AS1 & " - PIEDS" -> 2003 - PIEDS | AT2: =AT1 & " - TAILLE" -> 2003 - TAILLE | AU2: =AU1 & " - PRIX HECTO" -> 2003 - PRIX HECTO | AV2: =AV1 & " - CA HECTO" -> 2003 - CA HECTO | AW2: =AW1 & " - CA PARCELLE" -> 2003 - CA PARCELLE | AX2: =AX1&" - CEPAGE" -> 2004 - CEPAGE | AY2: =AY1 & " - SUPERFICIE" -> 2004 - SUPERFICIE | AZ2: =AZ1 & " - TONNES" -> 2004 - TONNES | BA2: =BA1 & " - HECTOS" -> 2004 - HECTOS | BB2: =BB1 & " - RENDEMENT" -> 2004 - RENDEMENT | BC2: ANNEE | BD2: =BD1 & " - PLANTATION" -> 2004 - PLANTATION | BE2: =BE1 & " - PIEDS" -> 2004 - PIEDS | BF2: =BF1 & " - TAILLE" -> 2004 - TAILLE | BG2: =BG1 & " - PRIX HECTO" -> 2004 - PRIX HECTO | BH2: =BH1 & " - CA HECTO" -> 2004 - CA HECTO | BI2: =BI1 & " - CA PARCELLE" -> 2004 - CA PARCELLE | BJ2: =BJ1&" - CEPAGE" -> 2005 - CEPAGE | BK2: =BK1 & " - SUPERFICIE" -> 2005 - SUPERFICIE | BL2: =BL1 & " - TONNES" -> 2005 - TONNES | BM2: =BM1 & " - HECTOS" -> 2005 - HECTOS | BN2: =BN1 & " - RENDEMENT" -> 2005 - RENDEMENT | BO2: ANNEE | BP2: =BP1 & " - PLANTATION" -> 2005 - PLANTATION | BQ2: =BQ1 & " - PIEDS" -> 2005 - PIEDS | BR2: =BR1 & " - TAILLE" -> 2005 - TAILLE | BS2: =BS1 & " - PRIX HECTO" -> 2005 - PRIX HECTO | BT2: =BT1 & " - CA HECTO" -> 2005 - CA HECTO | BU2: =BU1 & " - CA PARCELLE" -> 2005 - CA PARCELLE | BV2: =BV1&" - CEPAGE" -> 2006 - CEPAGE | BW2: =BW1 & " - SUPERFICIE" -> 2006 - SUPERFICIE | BX2: =BX1 & " - TONNES" -> 2006 - TONNES | BY2: =BY1 & " - HECTOS" -> 2006 - HECTOS | BZ2: =BZ1 & " - RENDEMENT" -> 2006 - RENDEMENT | CA2: ANNEE | CB2: =CB1 & " - PLANTATION" -> 2006 - PLANTATION | CC2: =CC1 & " - PIEDS" -> 2006 - PIEDS | CD2: =CD1 & " - TAILLE" -> 2006 - TAILLE | CE2: =CE1 & " - PRIX HECTO" -> 2006 - PRIX HECTO | CF2: =CF1 & " - CA HECTO" -> 2006 - CA HECTO | CG2: =CG1 & " - CA PARCELLE" -> 2006 - CA PARCELLE | CH2: =CH1&" - CEPAGE" -> 2007 - CEPAGE | CI2: =CI1 & " - SUPERFICIE" -> 2007 - SUPERFICIE | CJ2: =CJ1 & " - TONNES" -> 2007 - TONNES | CK2: =CK1 & " - HECTOS" -> 2007 - HECTOS | CL2: =CL1 & " - RENDEMENT" -> 2007 - RENDEMENT | CM2: ANNEE | CN2: =CN1 & " - PLANTATION" -> 2007 - PLANTATION | CO2: =CO1 & " - PIEDS" -> 2007 - PIEDS | CP2: =CP1 & " - TAILLE" -> 2007 - TAILLE | CQ2: =CQ1 & " - PRIX HECTO" -> 2007 - PRIX HECTO | CR2: =CR1 & " - CA HECTO" -> 2007 - CA HECTO | CS2: =CS1 & " - CA PARCELLE" -> 2007 - CA PARCELLE | CT2: =CT1&" - CEPAGE" -> 2008 - CEPAGE | CU2: =CU1 & " - SUPERFICIE" -> 2008 - SUPERFICIE | CV2: =CV1 & " - TONNES" -> 2008 - TONNES | CW2: =CW1 & " - HECTOS" -> 2008 - HECTOS | CX2: =CX1 & " - RENDEMENT" -> 2008 - RENDEMENT | CY2: ANNEE | CZ2: =CZ1 & " - PLANTATION" -> 2008 - PLANTATION | DA2: =DA1 & " - PIEDS" -> 2008 - PIEDS | DB2: =DB1 & " - TAILLE" -> 2008 - TAILLE | DC2: =DC1 & " - PRIX HECTO" -> 2008 - PRIX HECTO | DD2: =DD1 & " - CA HECTO" -> 2008 - CA HECTO | DE2: =DE1 & " - CA PARCELLE" -> 2008 - CA PARCELLE | DF2: =DF1&" - CEPAGE" -> 2009 - CEPAGE | DG2: =DG1 & " - SUPERFICIE" -> 2009 - SUPERFICIE | DH2: =DH1 & " - TONNES" -> 2009 - TONNES | DI2: =DI1 & " - HECTOS" -> 2009 - HECTOS | DJ2: =DJ1 & " - RENDEMENT" -> 2009 - RENDEMENT | DK2: ANNEE | DL2: =DL1 & " - PLANTATION" -> 2009 - PLANTATION | DM2: =DM1 & " - PIEDS" -> 2009 - PIEDS | DN2: =DN1 & " - TAILLE" -> 2009 - TAILLE | DO2: =DO1 & " - PRIX HECTO" -> 2009 - PRIX HECTO | DP2: =DP1 & " - CA HECTO" -> 2009 - CA HECTO | DQ2: =DQ1 & " - CA PARCELLE" -> 2009 - CA PARCELLE | DR2: =DR1&" - CEPAGE" -> 2010 - CEPAGE | DS2: =DS1 & " - SUPERFICIE" -> 2010 - SUPERFICIE | DT2: =DT1 & " - TONNES" -> 2010 - TONNES | DU2: =DU1 & " - HECTOS" -> 2010 - HECTOS | DV2: =DV1 & " - RENDEMENT" -> 2010 - RENDEMENT | DW2: ANNEE | DX2: =DX1 & " - PLANTATION" -> 2010 - PLANTATION | DY2: =DY1 & " - PIEDS" -> 2010 - PIEDS | DZ2: =DZ1 & " - TAILLE" -> 2010 - TAILLE | EA2: =EA1 & " - PRIX HECTO" -> 2010 - PRIX HECTO | EB2: =EB1 & " - CA HECTO" -> 2010 - CA HECTO | EC2: =EC1 & " - CA PARCELLE" -> 2010 - CA PARCELLE | ED2: =ED1&" - CEPAGE" -> 2011 - CEPAGE | EE2: =EE1 & " - SUPERFICIE" -> 2011 - SUPERFICIE | EF2: =EF1 & " - TONNES" -> 2011 - TONNES | EG2: =EG1 & " - HECTOS" -> 2011 - HECTOS | EH2: =EH1 & " - RENDEMENT" -> 2011 - RENDEMENT | EI2: ANNEE | EJ2: =EJ1 & " - PLANTATION" -> 2011 - PLANTATION | EK2: =EK1 & " - PIEDS" -> 2011 - PIEDS | EL2: =EL1 & " - TAILLE" -> 2011 - TAILLE | EM2: =EM1 & " - PRIX HECTO" -> 2011 - PRIX HECTO | EN2: =EN1 & " - CA HECTO" -> 2011 - CA HECTO | EO2: =EO1 & " - CA PARCELLE" -> 2011 - CA PARCELLE | EP2: =EP1&" - CEPAGE" -> 2012 - CEPAGE | EQ2: =EQ1 & " - SUPERFICIE" -> 2012 - SUPERFICIE | ER2: =ER1 & " - TONNES" -> 2012 - TONNES | ES2: =ES1 & " - HECTOS" -> 2012 - HECTOS | ET2: =ET1 & " - RENDEMENT" -> 2012 - RENDEMENT | EU2: ANNEE | EV2: =EV1 & " - PLANTATION" -> 2012 - PLANTATION | EW2: =EW1 & " - PIEDS" -> 2012 - PIEDS | EX2: =EX1 & " - TAILLE" -> 2012 - TAILLE | EY2: =EY1 & " - PRIX HECTO" -> 2012 - PRIX HECTO | EZ2: =EZ1 & " - CA HECTO" -> 2012 - CA HECTO | FA2: =FA1 & " - CA PARCELLE" -> 2012 - CA PARCELLE | FB2: =FB1&" - CEPAGE" -> 2013 - CEPAGE | FC2: =FC1 & " - SUPERFICIE" -> 2013 - SUPERFICIE | FD2: =FD1 & " - TONNES" -> 2013 - TONNES | FE2: =FE1 & " - HECTOS" -> 2013 - HECTOS | FF2: =FF1 & " - RENDEMENT" -> 2013 - RENDEMENT | FG2: ANNEE | FH2: =FH1 & " - PLANTATION" -> 2013 - PLANTATION | FI2: =FI1 & " - PIEDS" -> 2013 - PIEDS | FJ2: =FJ1 & " - TAILLE" -> 2013 - TAILLE | FK2: =FK1 & " - PRIX HECTO" -> 2013 - PRIX HECTO | FL2: =FL1 & " - CA HECTO" -> 2013 - CA HECTO | FM2: =FM1 & " - CA PARCELLE" -> 2013 - CA PARCELLE | FN2: =FN1&" - CEPAGE" -> 2014 - CEPAGE | FO2: =FO1 & " - SUPERFICIE" -> 2014 - SUPERFICIE | FP2: =FP1 & " - TONNES" -> 2014 - TONNES | FQ2: =FQ1 & " - HECTOS" -> 2014 - HECTOS | FR2: =FR1 & " - RENDEMENT" -> 2014 - RENDEMENT | FS2: ANNEE | FT2: =FT1 & " - PLANTATION" -> 2014 - PLANTATION | FU2: =FU1 & " - PIEDS" -> 2014 - PIEDS | FV2: =FV1 & " - TAILLE" -> 2014 - TAILLE | FW2: =FW1 & " - PRIX HECTO" -> 2014 - PRIX HECTO | FX2: =FX1 & " - CA HECTO" -> 2014 - CA HECTO | FY2: =FY1 & " - CA PARCELLE" -> 2014 - CA PARCELLE | FZ2: =FZ1&" - CEPAGE" -> 2015 - CEPAGE | GA2: =GA1 & " - SUPERFICIE" -> 2015 - SUPERFICIE | GB2: =GB1 & " - TONNES" -> 2015 - TONNES | GC2: =GC1 & " - HECTOS" -> 2015 - HECTOS | GD2: =GD1 & " - RENDEMENT" -> 2015 - RENDEMENT | GE2: ANNEE | GF2: =GF1 & " - PLANTATION" -> 2015 - PLANTATION | GG2: =GG1 & " - PIEDS" -> 2015 - PIEDS | GH2: =GH1 & " - TAILLE" -> 2015 - TAILLE | GI2: =GI1 & " - PRIX HECTO" -> 2015 - PRIX HECTO | GJ2: =GJ1 & " - CA HECTO" -> 2015 - CA HECTO | GK2: =GK1 & " - CA PARCELLE" -> 2015 - CA PARCELLE | GL2: =GL1&" - CEPAGE" -> 2016 - CEPAGE | GM2: =GM1 & " - SUPERFICIE" -> 2016 - SUPERFICIE | GN2: =GN1 & " - TONNES" -> 2016 - TONNES | GO2: =GO1 & " - HECTOS" -> 2016 - HECTOS | GP2: =GP1 & " - RENDEMENT" -> 2016 - RENDEMENT | GQ2: ANNEE | GR2: =GR1 & " - PLANTATION" -> 2016 - PLANTATION | GS2: =GS1 & " - PIEDS" -> 2016 - PIEDS | GT2: =GT1 & " - TAILLE" -> 2016 - TAILLE | GU2: =GU1 & " - PRIX HECTO" -> 2016 - PRIX HECTO | GV2: =GV1 & " - CA HECTO" -> 2016 - CA HECTO | GW2: =GW1 & " - CA PARCELLE" -> 2016 - CA PARCELLE | GX2: =GX1&" - CEPAGE" -> 2017 - CEPAGE | GY2: =GY1 & " - SUPERFICIE" -> 2017 - SUPERFICIE | GZ2: =GZ1 & " - TONNES" -> 2017 - TONNES | HA2: =HA1 & " - HECTOS" -> 2017 - HECTOS | HB2: =HB1 & " - RENDEMENT" -> 2017 - RENDEMENT | HC2: ANNEE | HD2: =HD1 & " - PLANTATION" -> 2017 - PLANTATION | HE2: =HE1 & " - PIEDS" -> 2017 - PIEDS | HF2: =HF1 & " - TAILLE" -> 2017 - TAILLE | HG2: =HG1 & " - PRIX HECTO" -> 2017 - PRIX HECTO | HH2: =HH1 & " - CA HECTO" -> 2017 - CA HECTO | HI2: =HI1 & " - CA PARCELLE" -> 2017 - CA PARCELLE | HJ2: =HJ1&" - CEPAGE" -> 2018 - CEPAGE | HK2: =HK1 & " - SUPERFICIE" -> 2018 - SUPERFICIE | HL2: =HL1 & " - TONNES" -> 2018 - TONNES | HM2: =HM1 & " - HECTOS" -> 2018 - HECTOS | HN2: =HN1 & " - RENDEMENT" -> 2018 - RENDEMENT | HO2: ANNEE | HP2: =HP1 & " - PLANTATION" -> 2018 - PLANTATION | HQ2: =HQ1 & " - PIEDS" -> 2018 - PIEDS | HR2: =HR1 & " - TAILLE" -> 2018 - TAILLE | HS2: =HS1 & " - PRIX HECTO" -> 2018 - PRIX HECTO | HT2: =HT1 & " - CA HECTO" -> 2018 - CA HECTO | HU2: =HU1 & " - CA PARCELLE" -> 2018 - CA PARCELLE | HV2: =HV1&" - CEPAGE" -> 2019 - CEPAGE | HW2: =HW1 & " - SUPERFICIE" -> 2019 - SUPERFICIE | HX2: =HX1 & " - TONNES" -> 2019 - TONNES | HY2: =HY1 & " - HECTOS" -> 2019 - HECTOS | HZ2: =HZ1 & " - RENDEMENT" -> 2019 - RENDEMENT | IA2: ANNEE | IB2: =IB1 & " - PLANTATION" -> 2019 - PLANTATION | IC2: =IC1 & " - PIEDS" -> 2019 - PIEDS | ID2: =ID1 & " - TAILLE" -> 2019 - TAILLE | IE2: =IE1 & " - PRIX HECTO" -> 2019 - PRIX HECTO | IF2: =IF1 & " - CA HECTO" -> 2019 - CA HECTO | IG2: =IG1 & " - CA PARCELLE" -> 2019 - CA PARCELLE | IH2: =IH1&" - CEPAGE" -> 2020 - CEPAGE | II2: =II1 & " - SUPERFICIE" -> 2020 - SUPERFICIE | IJ2: =IJ1 & " - TONNES" -> 2020 - TONNES | IK2: =IK1 & " - HECTOS" -> 2020 - HECTOS | IL2: =IL1 & " - RENDEMENT" -> 2020 - RENDEMENT | IM2: ANNEE | IN2: =IN1 & " - PLANTATION" -> 2020 - PLANTATION | IO2: =IO1 & " - PIEDS" -> 2020 - PIEDS | IP2: =IP1 & " - TAILLE" -> 2020 - TAILLE | IQ2: =IQ1 & " - PRIX HECTO" -> 2020 - PRIX HECTO | IR2: =IR1 & " - CA HECTO" -> 2020 - CA HECTO | IS2: =IS1 & " - CA PARCELLE" -> 2020 - CA PARCELLE | IT2: =IT1&" - CEPAGE" -> 2021 - CEPAGE | IU2: =IU1 & " - SUPERFICIE" -> 2021 - SUPERFICIE | IV2: =IV1 & " - TONNES" -> 2021 - TONNES | IW2: =IW1 & " - HECTOS" -> 2021 - HECTOS | IX2: =IX1 & " - RENDEMENT" -> 2021 - RENDEMENT | IY2: ANNEE | IZ2: =IZ1 & " - PLANTATION" -> 2021 - PLANTATION | JA2: =JA1 & " - PIEDS" -> 2021 - PIEDS | JB2: =JB1 & " - TAILLE" -> 2021 - TAILLE | JC2: =JC1 & " - PRIX HECTO" -> 2021 - PRIX HECTO | JD2: =JD1 & " - CA HECTO" -> 2021 - CA HECTO | JE2: =JE1 & " - CA PARCELLE" -> 2021 - CA PARCELLE | JF2: =JF1&" - CEPAGE" -> 2022 - CEPAGE | JG2: =JG1 & " - SUPERFICIE" -> 2022 - SUPERFICIE | JH2: =JH1 & " - TONNES" -> 2022 - TONNES | JI2: =JI1 & " - HECTOS" -> 2022 - HECTOS | JJ2: =JJ1 & " - RENDEMENT" -> 2022 - RENDEMENT | JK2: ANNEE | JL2: =JL1 & " - PLANTATION" -> 2022 - PLANTATION | JM2: =JM1 & " - PIEDS" -> 2022 - PIEDS | JN2: =JN1 & " - TAILLE" -> 2022 - TAILLE | JO2: =JO1 & " - PRIX HECTO" -> 2022 - PRIX HECTO | JP2: =JP1 & " - CA HECTO" -> 2022 - CA HECTO | JQ2: =JQ1 & " - CA PARCELLE" -> 2022 - CA PARCELLE | JR2: =JR1&" - CEPAGE" -> 2023 - CEPAGE | JS2: =JS1 & " - SUPERFICIE" -> 2023 - SUPERFICIE | JT2: =JT1 & " - TONNES" -> 2023 - TONNES | JU2: =JU1 & " - HECTOS" -> 2023 - HECTOS | JV2: =JV1 & " - RENDEMENT" -> 2023 - RENDEMENT | JW2: ANNEE | JX2: =JX1 & " - PLANTATION" -> 2023 - PLANTATION | JY2: =JY1 & " - PIEDS" -> 2023 - PIEDS | JZ2: =JZ1 & " - TAILLE" -> 2023 - TAILLE | KA2: =KA1 & " - PRIX HECTO" -> 2023 - PRIX HECTO | KB2: =KB1 & " - CA HECTO" -> 2023 - CA HECTO | KC2: =KC1 & " - CA PARCELLE" -> 2023 - CA PARCELLE
A3: AVEROUSSE | GY3: 0.825 | HA3: 37 | HB3: =HA3/GY3 -> 44.848485 | IT3: CINSAULT | IU3: 1.658 | IV3: Plantier | IY3: 2021 | IZ3: 2.50/1.00 | JA3: 6500 | JB3: Buisson | JF3: CINSAULT | JG3: 1.658 | JH3: Plantier | JK3: 2021 | JL3: 2.50/1.00 | JM3: 6500 | JN3: Buisson | JR3: CINSAULT | JS3: 1.658 | JT3: Plantier | JU3: 0 | JW3: 2021 | JX3: 2.50/1.00 | JY3: 6500 | JZ3: Buisson
A4: BOUDET | C4: 0.921 | E4: 100 | F4: =E4/C4 -> 108.57763 | G4: 1964 | O4: 0.921 | Q4: 94 | R4: =Q4/O4 -> 102.06298 | S4: 1964 | AM4: 0.921 | AO4: 96 | AP4: =AO4/AM4 -> 104.23453 | AQ4: 1964 | AY4: 0.921 | BA4: 96 | BB4: =BA4/AY4 -> 104.23453 | BC4: 1964 | BK4: 0.921 | BM4: 84 | BN4: =BM4/BK4 -> 91.205212 | BO4: 1964 | BW4: 0.921 | BY4: 68 | BZ4: =BY4/BW4 -> 73.83279 | CA4: 1964 | CI4: 0.921 | CK4: 74 | CL4: =CK4/CI4 -> 80.347448 | CU4: 0.921 | CW4: Arraché | DG4: 0.921 | DI4: Arraché | DS4: 0.921 | DU4: Arraché | EE4: 0.921 | EG4: Arraché | EQ4: 0.921 | ES4: Arraché | FC4: 0.921 | FE4: Arraché | FO4: 0.921 | FQ4: Arraché | GA4: 0.921 | GC4: Arraché | GM4: 0.921 | GO4: Arraché | GX4: MERLOT | GY4: 1.0426 | HA4: Plantier | HC4: 2017 | HD4: 2.50/1.00 | HE4: 2840 | HF4: Buisson | HJ4: MERLOT | HK4: 1.0426 | HM4: Plantier | HO4: 2017 | HP4: 2.50/1.00 | HQ4: 2840 | HR4: Buisson | HV4: MERLOT | HW4: 1.0426 | HY4: 19 | HZ4: =HY4/HW4 -> 18.223672 | IA4: 2017 | IB4: 2.50/1.00 | IC4: 2840 | ID4: Buisson | IH4: MERLOT | II4: 1.0426 | IK4: 52 | IL4: =IK4/II4 -> 49.875312 | IM4: 2017 | IN4: 2.50/1.00 | IO4: 2840 | IP4: Buisson | IT4: MERLOT | IU4: 1.0426 | IW4: 37 | IX4: 35.488203 | IY4: 2017 | IZ4: 2.50/1.00 | JA4: 2840 | JB4: Buisson | JF4: MERLOT | JG4: 1.0426 | JI4: 136 | JJ4: 130.44312 | JK4: 2017 | JL4: 2.50/1.00 | JM4: 2840 | JN4: Buisson | JR4: MERLOT | JS4: 1.0426 | JU4: 122 | JV4: =JU4/JS4 -> 117.01515 | JW4: 2017 | JX4: 2.50/1.00 | JY4: 2840 | JZ4: Buisson
A5: BOUTEILLOU | C5: 0.682 | E5: 100 | F5: =E5/C5 -> 146.62757 | G5: 1975 | O5: 0.682 | Q5: 64 | R5: =Q5/O5 -> 93.841642 | S5: 1975 | AM5: 0.682 | AO5: 48 | AP5: =AO5/AM5 -> 70.381232 | AQ5: 1975 | AY5: 0.682 | BA5: 60 | BB5: =BA5/AY5 -> 87.97654 | BC5: 1975 | BK5: 0.682 | BM5: 60 | BN5: =BM5/BK5 -> 87.97654 | BO5: 1975
A6: CHAMP BLANC | C6: 3.1975 | E6: 317 | F6: =E6/C6 -> 99.139953 | G6: 1966 | O6: 3.1975 | Q6: 293 | R6: =Q6/O6 -> 91.634089 | S6: 1966
A7: CHAMP BOSSU | C7: 1.9605 | E7: 236 | F7: =E7/C7 -> 120.37745 | G7: 1961 | O7: 1.9605 | Q7: 140 | R7: =Q7/O7 -> 71.410355 | S7: 1961 | AM7: 1.9605 | AO7: 144 | AP7: =AO7/AM7 -> 73.45065 | AQ7: 1961 | AY7: 1.9605 | BA7: 262 | BB7: =BA7/AY7 -> 133.63938 | BC7: 1961 | BK7: 1.9605 | BM7: 181 | BN7: =BM7/BK7 -> 92.323387 | BO7: 1961 | BW7: 1.9605 | BY7: 184 | BZ7: =BY7/BW7 -> 93.853609 | CA7: 1961 | CI7: 1.9605 | CK7: 197 | CL7: =CK7/CI7 -> 100.48457 | CT7: CINSAULT | CU7: 1.8533 | CW7: Arraché | DF7: CINSAULT | DG7: 1.8533 | DI7: Arraché | DR7: CINSAULT | DS7: 1.8533 | DU7: Arraché | EP7: CINSAULT | EQ7: 1.8533 | ES7: Arraché | FB7: CINSAULT | FC7: 1.8533 | FE7: Arraché | FN7: CINSAULT | FO7: 1.8533 | FQ7: Arraché | FZ7: CINSAULT | GA7: 1.8533 | GC7: Arraché | GL7: CINSAULT | GM7: 1.8533 | GO7: Arraché | GX7: CINSAULT | GY7: 1.8533 | HA7: Plantier | HC7: 2017 | HD7: 2.50/1.00 | HE7: 6114 | HF7: Buisson | HJ7: CINSAULT | HK7: 1.8533 | HM7: Plantier | HO7: 2017 | HP7: 2.50/1.00 | HQ7: 6114 | HR7: Buisson | HV7: CINSAULT | HW7: 1.8533 | HY7: 50 | HZ7: =HY7/HW7 -> 26.978902 | IA7: 2017 | IB7: 2.50/1.00 | IC7: 6114 | ID7: Buisson | IH7: CINSAULT | II7: 1.8533 | IK7: 118 | IL7: =IK7/II7 -> 63.67021 | IM7: 2017 | IN7: 2.50/1.00 | IO7: 6114 | IP7: Buisson | IT7: CINSAULT | IU7: 1.8533 | IW7: 130 | IX7: 70.145146 | IY7: 2017 | IZ7: 2.50/1.00 | JA7: 6114 | JB7: Buisson | JF7: CINSAULT | JG7: 1.8533 | JI7: 234 | JJ7: 126.26126 | JK7: 2017 | JL7: 2.50/1.00 | JM7: 6114 | JN7: Buisson | JR7: CINSAULT | JS7: 1.8533 | JU7: 315 | JV7: =JU7/JS7 -> 169.96709 | JW7: 2017 | JX7: 2.50/1.00 | JY7: 6114 | JZ7: Buisson
A8: CHAMP DU BŒUF | B8: CARIGNAN | C8: 4.6945 | E8: 670 | F8: =E8/C8 -> 142.7202 | G8: 1963 | N8: CARIGNAN | O8: 4.6945 | Q8: 533 | R8: =Q8/O8 -> 113.53712 | S8: 1963 | AL8: CARIGNAN | AM8: 4.6945 | AO8: 459 | AP8: =AO8/AM8 -> 97.773991 | AQ8: 1963 | AX8: CARIGNAN | AY8: 4.6945 | BA8: 560 | BB8: =BA8/AY8 -> 119.28853 | BC8: 1963 | BJ8: CARIGNAN | BK8: 4.6945 | BM8: 615 | BN8: =BM8/BK8 -> 131.00437 | BO8: 1963 | BV8: CARIGNAN | BW8: 4.6945 | BY8: 437 | BZ8: =BY8/BW8 -> 93.087656 | CA8: 1963 | CH8: CARIGNAN | CI8: 4.6945 | CK8: 467 | CL8: =CK8/CI8 -> 99.478113 | CT8: CARIGNAN | CU8: 4.6945 | CW8: 330 | CX8: =CW8/CU8 -> 70.295026 | DF8: CARIGNAN | DG8: 4.6945 | DI8: 316 | DJ8: =DI8/DG8 -> 67.312813 | DR8: CHARDONNAY | DS8: 4.7031 | DU8: Arraché | ED8: CHARDONNAY | EE8: 4.7031 | EG8: Arraché | EP8: CHARDONNAY | EQ8: 4.7031 | ES8: Plantier | EU8: 2012 | EV8: 2.50/1.00 | EW8: 4457 | EX8: Buisson | FB8: CHARDONNAY | FC8: 4.7031 | FE8: Plantier | FG8: 2012 | FH8: 2.50/1.00 | FI8: 4457 | FJ8: Buisson | FN8: CHARDONNAY | FO8: 4.7031 | FQ8: 239 | FR8: =FQ8/FO8 -> 50.817546 | FS8: 2012 | FT8: 2.50/1.00 | FU8: 4457 | FV8: Buisson | FZ8: CHARDONNAY | GA8: 4.7031 | GC8: 404 | GD8: =GC8/GA8 -> 85.900789 | GE8: 2012 | GF8: 2.50/1.00 | GG8: 4457 | GH8: Buisson | GL8: CHARDONNAY | GM8: 4.7031 | GO8: 673 | GP8: =GO8/GM8 -> 143.09711 | GQ8: 2012 | GR8: 2.50/1.00 | GS8: 4457 | GT8: Buisson | GX8: CHARDONNAY | GY8: 4.7031 | HA8: 263 | HB8: =HA8/GY8 -> 55.920563 | HC8: 2012 | HD8: 2.50/1.00 | HE8: 17678 | HF8: Buisson | HJ8: CHARDONNAY | HK8: 4.7031 | HM8: 419 | HN8: =HM8/HK8 -> 89.090175 | HO8: 2012 | HP8: 2.50/1.00 | HQ8: 17678 | HR8: Buisson | HV8: CHARDONNAY | HW8: 4.7031 | HY8: 525 | HZ8: =HY8/HW8 -> 111.6285 | IA8: 2012 | IB8: 2.50/1.00 | IC8: 17678 | ID8: Buisson | IH8: CHARDONNAY | II8: 4.7031 | IK8: 225 | IL8: =IK8/II8 -> 47.840786 | IM8: 2012 | IN8: 2.50/1.00 | IO8: 17678 | IP8: Buisson | IT8: CHARDONNAY | IU8: 4.7031 | IW8: 62 | IX8: 13.182794 | IY8: 2012 | IZ8: 2.50/1.00 | JA8: 17678 | JB8: Buisson | JF8: CHARDONNAY | JG8: 4.7031 | JI8: 691 | JJ8: 146.92437 | JK8: 2012 | JL8: 2.50/1.00 | JM8: 17678 | JN8: Buisson | JR8: CHARDONNAY | JS8: 4.7031 | JU8: 586 | JV8: =JU8/JS8 -> 124.59867 | JW8: 2012 | JX8: 2.50/1.00 | JY8: 17678 | JZ8: Buisson
A9: CHAMP DU VEAU | B9: CABERNET | C9: 1.1422 | E9: 188 | F9: =E9/C9 -> 164.59464 | G9: 1997 | N9: CABERNET | O9: 1.1422 | Q9: 152 | R9: =Q9/O9 -> 133.07652 | S9: 1997 | AL9: CABERNET | AM9: 1.1422 | AO9: 120 | AP9: =AO9/AM9 -> 105.06041 | AQ9: 1997 | AX9: CABERNET | AY9: 1.1422 | BA9: 143 | BB9: =BA9/AY9 -> 125.19699 | BC9: 1997 | BJ9: CABERNET | BK9: 1.1422 | BM9: 175 | BN9: =BM9/BK9 -> 153.2131 | BO9: 1997 | BV9: CABERNET | BW9: 1.1422 | BY9: 207 | BZ9: =BY9/BW9 -> 181.22921 | CA9: 1997 | CH9: CABERNET | CI9: 1.1422 | CK9: 197 | CL9: =CK9/CI9 -> 172.47417 | CM9: 1997 | CP9: Guyot | CT9: CABERNET | CU9: 1.1422 | CW9: 143 | CX9: =CW9/CU9 -> 125.19699 | CY9: 1997 | DB9: Guyot | DF9: CABERNET | DG9: 1.1422 | DI9: 141 | DJ9: =DI9/DG9 -> 123.44598 | DK9: 1997 | DN9: Guyot | DR9: CABERNET | DS9: 1.1422 | DU9: 172.57 | DV9: =DU9/DS9 -> 151.08562 | DW9: 1997 | DZ9: Guyot | ED9: CABERNET | EE9: 1.1422 | EG9: 143 | EH9: =EG9/EE9 -> 125.19699 | EI9: 1997 | EL9: Guyot | EP9: CABERNET | EQ9: 1.1422 | ES9: 134 | ET9: =ES9/EQ9 -> 117.31746 | EU9: 1997 | EX9: Guyot | FB9: CABERNET | FC9: 1.1422 | FE9: 110 | FF9: =FE9/FC9 -> 96.305376 | FG9: 1997 | FJ9: Guyot | FN9: CABERNET | FO9: 1.1422 | FQ9: 91 | FR9: =FQ9/FO9 -> 79.670811 | FS9: 1997 | FV9: Guyot | FZ9: CABERNET | GA9: 1.1422 | GC9: 139 | GD9: =GC9/GA9 -> 121.69497 | GE9: 1997 | GH9: Guyot | GL9: CABERNET | GM9: 1.1422 | GO9: 75 | GP9: =GO9/GM9 -> 65.662756 | GQ9: 1997 | GT9: Guyot | GX9: CABERNET | GY9: 1.1422 | HA9: 50 | HB9: =HA9/GY9 -> 43.775171 | HC9: 1997 | HF9: Guyot | HJ9: CABERNET | HK9: 1.1422 | HM9: 56 | HN9: =HM9/HK9 -> 49.028191 | HO9: 1997 | HR9: Guyot | HV9: CABERNET | HW9: 1.1422 | HY9: 50 | HZ9: =HY9/HW9 -> 43.775171 | IA9: 1997 | ID9: Guyot | IT9: CHARDONNAY | IU9: 1.1422 | IV9: Plantier | IY9: 2021 | IZ9: 2.50/1.00 | JA9: 4050 | JB9: Buisson | JF9: CHARDONNAY | JG9: 1.1422 | JH9: Plantier | JK9: 2021 | JL9: 2.50/1.00 | JM9: 4050 | JN9: Buisson | JR9: CHARDONNAY | JS9: 1.1422 | JT9: Plantier | JU9: 0 | JW9: 2021 | JX9: 2.50/1.00 | JY9: 4050 | JZ9: Buisson
A10: CHAP TERRASSEMENT | C10: 3.3 | E10: 294 | F10: =E10/C10 -> 89.090909 | G10: 1975 | O10: 3.3 | Q10: 269 | R10: =Q10/O10 -> 81.515152 | S10: 1975 | AM10: 3.3 | AO10: 217 | AP10: =AO10/AM10 -> 65.757576 | AQ10: 1975 | AY10: 3.3 | BA10: 381 | BB10: =BA10/AY10 -> 115.45455 | BC10: 1975 | BK10: 3.3 | BM10: 319 | BN10: =BM10/BK10 -> 96.666667 | BO10: 1975 | BW10: 3.3 | BY10: 68 | BZ10: =BY10/BW10 -> 20.606061 | CA10: 1975 | CI10: 0.7089 | CK10: 61 | CL10: =CK10/CI10 -> 86.048808
A11: CHAPITRE HAUT | C11: 0.884 | E11: 60 | F11: =E11/C11 -> 67.873303 | G11: 1961 | O11: 0.884 | Q11: 47 | R11: =Q11/O11 -> 53.167421 | S11: 1961
A12: CONDAMINE GRANDE | B12: MERLOT | C12: 2.7803 | E12: 329 | F12: =E12/C12 -> 118.33255 | G12: 1981 | N12: MERLOT | O12: 2.7803 | Q12: 293 | R12: =Q12/O12 -> 105.38431 | S12: 1981 | Z12: MERLOT | AA12: 2.7803 | AC12: 221 | AD12: =AC12/AA12 -> 79.487825 | AE12: 1981 | AL12: Merlot | AM12: 2.7803 | AO12: 211 | AP12: =AO12/AM12 -> 75.891091 | AQ12: 1981 | AX12: MERLOT | AY12: 2.7803 | BA12: 358 | BB12: =BA12/AY12 -> 128.76308 | BC12: 1981 | BJ12: MERLOT | BK12: 2.7803 | BM12: 313 | BN12: =BM12/BK12 -> 112.57778 | BO12: 1981 | BV12: MERLOT | BW12: 2.7803 | BY12: 322 | BZ12: =BY12/BW12 -> 115.81484 | CA12: 1981 | CH12: MERLOT | CI12: 2.4114 | CK12: 246 | CL12: =CK12/CI12 -> 102.01543 | CM12: 1981 | CP12: Guyot | CT12: MERLOT | CU12: 2.4114 | CW12: 220 | CX12: =CW12/CU12 -> 91.233308 | CY12: 1981 | DB12: Guyot | DF12: MERLOT | DG12: 2.4114 | DI12: 219 | DJ12: =DI12/DG12 -> 90.818612 | DK12: 1981 | DN12: Guyot | DR12: MERLOT | DS12: 2.4114 | DU12: 185.85 | DV12: =DU12/DS12 -> 77.071411 | DW12: 1981 | DZ12: Guyot | ED12: MERLOT | EE12: 2.4114 | EG12: 205 | EH12: =EG12/EE12 -> 85.012856 | EI12: 1981 | EL12: Guyot | EP12: MERLOT | EQ12: 2.4114 | ES12: 188 | ET12: =ES12/EQ12 -> 77.963009 | EU12: 1981 | EX12: Guyot | FB12: MERLOT | FC12: 2.4114 | FE12: 214 | FF12: =FE12/FC12 -> 88.745127 | FG12: 1981 | FJ12: Guyot | FN12: MERLOT | FO12: 2.4114 | FQ12: 84 | FR12: =FQ12/FO12 -> 34.834536 | FS12: 1981 | FV12: Guyot | FZ12: MERLOT | GA12: 2.4114 | GC12: 160 | GD12: =GC12/GA12 -> 66.351497 | GE12: 1981 | GH12: Guyot | GL12: MERLOT | GM12: 2.4114 | GO12: 129 | GP12: =GO12/GM12 -> 53.495895 | GQ12: 1981 | GT12: Guyot | GX12: MERLOT | GY12: 2.4114 | HA12: 113 | HB12: =HA12/GY12 -> 46.860745 | HC12: 1981 | HF12: Guyot | HJ12: MERLOT | HK12: 2.4114 | HM12: 100 | HN12: =HM12/HK12 -> 41.469686 | HO12: 1981 | HR12: Guyot | HV12: MERLOT | HW12: 2.4114 | HY12: 94 | HZ12: =HY12/HW12 -> 38.981505 | IA12: 1981 | ID12: Guyot
A13: CONDAMINE POINTE | B13: MERLOT | C13: 0.9404 | E13: 129 | F13: =E13/C13 -> 137.17567 | G13: 1981 | N13: MERLOT | O13: 0.9404 | Q13: 117 | R13: =Q13/O13 -> 124.41514 | S13: 1981 | Z13: MERLOT | AA13: 0.9404 | AC13: 81 | AD13: =AC13/AA13 -> 86.13356 | AE13: 1981 | AL13: MERLOT | AM13: 0.9404 | AO13: 60 | AP13: =AO13/AM13 -> 63.802637 | AQ13: 1981 | AX13: MERLOT | AY13: 0.9404 | BA13: 143 | BB13: =BA13/AY13 -> 152.06295 | BC13: 1981 | BJ13: MERLOT | BK13: 0.9404 | BM13: 108 | BN13: =BM13/BK13 -> 114.84475 | BO13: 1981 | BV13: MERLOT | BW13: 0.9404 | BY13: 104 | BZ13: =BY13/BW13 -> 110.59124 | CA13: 1981 | CH13: MERLOT | CI13: 0.9541 | CK13: 98 | CL13: =CK13/CI13 -> 102.7146 | CM13: 1981 | CP13: Guyot | CT13: MERLOT | CU13: 0.9541 | CW13: 77 | CX13: =CW13/CU13 -> 80.704329 | CY13: 1981 | DB13: Guyot | DF13: MERLOT | DG13: 0.9541 | DI13: 77.4 | DJ13: =DI13/DG13 -> 81.123572 | DK13: 1981 | DN13: Guyot | DR13: MERLOT | DS13: 0.9541 | DU13: 79.65 | DV13: =DU13/DS13 -> 83.481815 | DW13: 1981 | DZ13: Guyot | ED13: MERLOT | EE13: 0.9541 | EG13: 82 | EH13: =EG13/EE13 -> 85.94487 | EI13: 1981 | EL13: Guyot | EP13: MERLOT | EQ13: 0.9541 | ES13: 94 | ET13: =ES13/EQ13 -> 98.522167 | EU13: 1981 | EX13: Guyot | FB13: MERLOT | FC13: 0.9541 | FE13: 83 | FF13: =FE13/FC13 -> 86.992978 | FG13: 1981 | FJ13: Guyot | FN13: MERLOT | FO13: 0.9541 | FQ13: 49 | FR13: =FQ13/FO13 -> 51.3573 | FS13: 1981 | FV13: Guyot | FZ13: MERLOT | GA13: 0.9541 | GC13: 70 | GD13: =GC13/GA13 -> 73.367572 | GE13: 1981 | GH13: Guyot | GL13: MERLOT | GM13: 0.9541 | GO13: 41 | GP13: =GO13/GM13 -> 42.972435 | GQ13: 1981 | GT13: Guyot | GX13: MERLOT | GY13: 0.9541 | HA13: 38 | HB13: =HA13/GY13 -> 39.82811 | HC13: 1981 | HF13: Guyot | HJ13: MERLOT | HK13: 0.5971 | HM13: 25 | HN13: =HM13/HK13 -> 41.869034 | HO13: 1981 | HR13: Guyot | HV13: MERLOT | HW13: 0.5971 | HY13: 25 | HZ13: =HY13/HW13 -> 41.869034 | IA13: 1981 | ID13: Guyot
A14: GASCON | C14: 2.4234 | G14: 1999 | O14: 2.4234 | Q14: 23 | R14: =Q14/O14 -> 9.4907981 | S14: 1999 | AA14: 2.4234 | AC14: 128 | AD14: =AC14/AA14 -> 52.818354 | AE14: 1999 | AM14: 2.4234 | AO14: 120 | AP14: =AO14/AM14 -> 49.517207 | AQ14: 1999 | AY14: 2.4234 | BA14: 179 | BB14: =BA14/AY14 -> 73.863167 | BC14: 1999 | BK14: 2.4234 | BM14: 193 | BN14: =BM14/BK14 -> 79.640175 | BO14: 1999 | BW14: 2.4234 | BY14: 150 | BZ14: =BY14/BW14 -> 61.896509 | CA14: 1999 | CH14: CHARDONNAY | CI14: 2.4234 | CK14: 174 | CL14: =CK14/CI14 -> 71.79995 | CM14: 1999 | CN14: 2.50/1.00 | CO14: 9720 | CP14: Guyot | CT14: CHARDONNAY | CU14: 2.4234 | CW14: 160 | CX14: =CW14/CU14 -> 66.022943 | CY14: 1999 | CZ14: 2.50/1.00 | DA14: 9720 | DB14: Guyot | DF14: CHARDONNAY | DG14: 2.4234 | DI14: 129 | DJ14: =DI14/DG14 -> 53.230998 | DK14: 1999 | DL14: 2.50/1.00 | DM14: 9720 | DN14: Guyot | DR14: CHARDONNAY | DS14: 2.4234 | DU14: 212.4 | DV14: =DU14/DS14 -> 87.645457 | DW14: 1999 | DX14: 2.50/1.00 | DY14: 9720 | DZ14: Guyot | ED14: CHARDONNAY | EE14: 2.4234 | EG14: 225 | EH14: =EG14/EE14 -> 92.844764 | EI14: 1999 | EJ14: 2.50/1.00 | EK14: 9720 | EL14: Guyot | EP14: CHARDONNAY | EQ14: 2.4234 | ES14: 148 | ET14: =ES14/EQ14 -> 61.071222 | EU14: 1999 | EV14: 2.50/1.00 | EW14: 9720 | EX14: Guyot | FB14: CHARDONNAY | FC14: 2.4234 | FE14: 201 | FF14: =FE14/FC14 -> 82.941322 | FG14: 1999 | FH14: 2.50/1.00 | FI14: 9720 | FJ14: Guyot | FN14: CHARDONNAY | FO14: 2.4234 | FQ14: 98 | FR14: =FQ14/FO14 -> 40.439053 | FS14: 1999 | FT14: 2.50/1.00 | FU14: 9720 | FV14: Guyot | FZ14: CHARDONNAY | GA14: 2.4234 | GC14: 153 | GD14: =GC14/GA14 -> 63.134439 | GE14: 1999 | GF14: 2.50/1.00 | GG14: 9720 | GH14: Guyot | GL14: CHARDONNAY | GM14: 2.4234 | GO14: 95 | GP14: =GO14/GM14 -> 39.201122 | GQ14: 1999 | GR14: 2.50/1.00 | GS14: 9720 | GT14: Guyot | GX14: CHARDONNAY | GY14: 2.4234 | HA14: 125 | HB14: =HA14/GY14 -> 51.580424 | HC14: 1999 | HD14: 2.50/1.00 | HE14: 8170 | HF14: Guyot | HJ14: CHARDONNAY | HK14: 2.4234 | HM14: 131 | HN14: =HM14/HK14 -> 54.056285 | HO14: 1999 | HP14: 2.50/1.00 | HQ14: 8170 | HR14: Guyot | HV14: CHARDONNAY | HW14: 2.4234 | HY14: 88 | HZ14: =HY14/HW14 -> 36.312619 | IA14: 1999 | IB14: 2.50/1.00 | IC14: 8170 | ID14: Guyot | IH14: CHARDONNAY | II14: 2.4234 | IK14: 50 | IL14: =IK14/II14 -> 20.63217 | IM14: 1999 | IN14: 2.50/1.00 | IO14: 8170 | IP14: Guyot | IT14: CHARDONNAY | IU14: 2.4234 | IW14: 12 | IX14: 4.9517207 | IY14: 1999 | IZ14: 2.50/1.00 | JA14: 8170 | JB14: Guyot | JF14: CHARDONNAY | JG14: 2.4234 | JI14: 121 | JJ14: 49.929851 | JK14: 1999 | JL14: 2.50/1.00 | JM14: 8170 | JN14: Guyot | JR14: CHARDONNAY | JS14: 2.4234 | JU14: 106 | JV14: =JU14/JS14 -> 43.7402 | JW14: 1999 | JX14: 2.50/1.00 | JY14: 8170 | JZ14: Guyot
A15: GRANDE PIECE | C15: 6.541 | E15: 423 | F15: =E15/C15 -> 64.669011 | G15: 1990 | O15: 6.541 | Q15: 427 | R15: =Q15/O15 -> 65.280538 | S15: 1990 | AA15: 6.541 | AC15: 319 | AD15: =AC15/AA15 -> 48.769301 | AE15: 1990 | AM15: 6.541 | AO15: 290 | AP15: =AO15/AM15 -> 44.335728 | AQ15: 1990 | AY15: 6.541 | BA15: 702 | BB15: =BA15/AY15 -> 107.32304 | BC15: 1990 | BJ15: SAUVIGNON | BK15: 6.541 | BM15: 458 | BN15: =BM15/BK15 -> 70.019875 | BO15: 1990 | BV15: SAUVIGNON | BW15: 6.541 | BY15: 368 | BZ15: =BY15/BW15 -> 56.260511 | CA15: 1990 | CH15: SAUVIGNON | CI15: 6.541 | CK15: Arraché | CT15: MERLOT | CU15: 6.541 | CW15: Arraché | DG15: 6.541 | DI15: Arraché | DS15: 6.541 | DU15: Arraché | EE15: 6.541 | EG15: Arraché | EQ15: 6.541 | ES15: Arraché | FC15: 6.541 | FE15: Arraché | FO15: 6.541 | FQ15: Arraché | GA15: 6.541 | GC15: Arraché | GM15: 6.541 | GO15: Arraché | GY15: 6.541 | HA15: Arraché | HJ15: MERLOT | HK15: 6.541 | HM15: Plantier | HO15: 2018 | HP15: 2.50/1.00 | HQ15: 23976 | HR15: Buisson | HV15: MERLOT | HW15: 6.541 | HY15: Plantier | IA15: 2018 | IB15: 2.50/1.00 | IC15: 23976 | ID15: Buisson | IH15: MERLOT | II15: 6.541 | IK15: Plantier | IM15: 2018 | IN15: 2.50/1.00 | IO15: 23976 | IP15: Buisson | IT15: MERLOT | IU15: 6.541 | IW15: 87 | IX15: 13.300719 | IY15: 2018 | IZ15: 2.50/1.00 | JA15: 23976 | JB15: Buisson | JF15: MERLOT | JG15: 6.541 | JI15: 142 | JJ15: 21.709219 | JK15: 2018 | JL15: 2.50/1.00 | JM15: 23976 | JN15: Buisson | JR15: MERLOT | JS15: 6.541 | JU15: 410 | JV15: =JU15/JS15 -> 62.681547 | JW15: 2018 | JX15: 2.50/1.00 | JY15: 23976 | JZ15: Buisson
A16: GRANDE PLAINE | BV16: SYRAH | BW16: 2.7165 | BY16: Plantier | CA16: 2005 | CB16: 2.50/1.00 | CC16: 3665 | CD16: Guyot | CH16: SYRAH | CI16: 2.7165 | CK16: 172 | CL16: =CK16/CI16 -> 63.316768 | CM16: 2006 | CN16: 2.50/1.00 | CO16: 3665 | CP16: Guyot | CT16: SYRAH | CU16: 2.7165 | CW16: 374 | CX16: =CW16/CU16 -> 137.67716 | CY16: 2006 | CZ16: 2.50/1.00 | DA16: 3665 | DB16: Guyot | DF16: SYRAH | DG16: 2.7165 | DI16: 361 | DJ16: =DI16/DG16 -> 132.89159 | DK16: 2006 | DL16: 2.50/1.00 | DM16: 3665 | DN16: Guyot | DR16: SYRAH | DS16: 2.7165 | DU16: 272.13 | DV16: =DU16/DS16 -> 100.1767 | DW16: 2006 | DX16: 2.50/1.00 | DY16: 3665 | DZ16: Guyot | ED16: SYRAH | EE16: 2.7165 | EG16: 328 | EH16: =EG16/EE16 -> 120.7436 | EI16: 2006 | EJ16: 2.50/1.00 | EK16: 3665 | EL16: Guyot | EP16: SYRAH | EQ16: 2.7165 | ES16: 262 | ET16: =ES16/EQ16 -> 96.447635 | EU16: 2006 | EV16: 2.50/1.00 | EW16: 3665 | EX16: Guyot | FB16: SYRAH | FC16: 2.7165 | FE16: 291 | FF16: =FE16/FC16 -> 107.12314 | FG16: 2006 | FH16: 2.50/1.00 | FI16: 3665 | FJ16: Guyot | FN16: SYRAH | FO16: 2.7165 | FQ16: 211 | FR16: =FQ16/FO16 -> 77.673477 | FS16: 2006 | FT16: 2.50/1.00 | FU16: 3665 | FV16: Guyot | FZ16: SYRAH | GA16: 2.7165 | GC16: 376 | GD16: =GC16/GA16 -> 138.4134 | GE16: 2006 | GF16: 2.50/1.00 | GG16: 3665 | GH16: Guyot | GL16: SYRAH | GM16: 2.7165 | GO16: 170 | GP16: =GO16/GM16 -> 62.580526 | GQ16: 2006 | GR16: 2.50/1.00 | GS16: 3665 | GT16: Guyot | GX16: SYRAH | GY16: 2.7165 | HA16: 213 | HB16: =HA16/GY16 -> 78.409718 | HC16: 2005 | HD16: 2.50/1.00 | HE16: 9255 | HF16: Guyot | HJ16: SYRAH | HK16: 2.7165 | HM16: 156 | HN16: =HM16/HK16 -> 57.426836 | HO16: 2005 | HP16: 2.50/1.00 | HQ16: 9255 | HR16: Guyot | HV16: SYRAH | HW16: 2.7165 | HY16: 219 | HZ16: =HY16/HW16 -> 80.618443 | IA16: 2005 | IB16: 2.50/1.00 | IC16: 9255 | ID16: Guyot | IH16: SYRAH | II16: 2.7165 | IK16: 287 | IL16: =IK16/II16 -> 105.65065 | IM16: 2005 | IN16: 2.50/1.00 | IO16: 9255 | IP16: Guyot | IT16: SYRAH | IU16: 2.7165 | IW16: 150 | IX16: 55.218112 | IY16: 2005 | IZ16: 2.50/1.00 | JA16: 9255 | JB16: Guyot | JF16: SYRAH | JG16: 2.7165 | JI16: 251 | JJ16: 92.398307 | JK16: 2005 | JL16: 2.50/1.00 | JM16: 9255 | JN16: Guyot | JR16: SYRAH | JS16: 2.7165 | JU16: 133 | JV16: =JU16/JS16 -> 48.960059 | JW16: 2005 | JX16: 2.50/1.00 | JY16: 9255 | JZ16: Guyot
A17: GUIBERT | AY17: 1.711 | BA17: 24 | BB17: =BA17/AY17 -> 14.026885 | BC17: 2000 | BK17: 1.711 | BM17: 96 | BN17: =BM17/BK17 -> 56.107539 | BO17: 2000 | BW17: 1.711 | BY17: 132 | BZ17: =BY17/BW17 -> 77.147867 | CA17: 2000 | CH17: CHARDONNAY | CI17: 1.711 | CK17: 142 | CL17: =CK17/CI17 -> 82.992402 | CM17: 2005 | CN17: 2.50/1.00 | CO17: 3545 | CP17: Guyot | CT17: CHARDONNAY | CU17: 1.711 | CW17: 132 | CX17: =CW17/CU17 -> 77.147867 | CY17: 2005 | CZ17: 2.50/1.00 | DA17: 3545 | DB17: Guyot | DF17: CHARDONNAY | DG17: 1.711 | DI17: 103 | DJ17: =DI17/DG17 -> 60.198714 | DK17: 2005 | DL17: 2.50/1.00 | DM17: 3545 | DN17: Guyot | DR17: CHARDONNAY | DS17: 1.711 | DU17: 185.85 | DV17: =DU17/DS17 -> 108.62069 | DW17: 2005 | DX17: 2.50/1.00 | DY17: 3545 | DZ17: Guyot | ED17: CHARDONNAY | EE17: 1.711 | EG17: 273 | EH17: =EG17/EE17 -> 159.55582 | EI17: 2005 | EJ17: 2.50/1.00 | EK17: 3545 | EL17: Guyot | EP17: CHARDONNAY | EQ17: 1.711 | ES17: 121 | ET17: =ES17/EQ17 -> 70.718878 | EU17: 2005 | EV17: 2.50/1.00 | EW17: 3545 | EX17: Guyot | FB17: CHARDONNAY | FC17: 1.711 | FE17: 235 | FF17: =FE17/FC17 -> 137.34658 | FG17: 2005 | FH17: 2.50/1.00 | FI17: 3545 | FJ17: Guyot | FN17: CHARDONNAY | FO17: 1.711 | FQ17: 98 | FR17: =FQ17/FO17 -> 57.276447 | FS17: 2005 | FT17: 2.50/1.00 | FU17: 3545 | FV17: Guyot | FZ17: CHARDONNAY | GA17: 1.711 | GC17: 181 | GD17: =GC17/GA17 -> 105.78609 | GE17: 2005 | GF17: 2.50/1.00 | GG17: 3545 | GH17: Guyot | GL17: CHARDONNAY | GM17: 1.711 | GO17: 150 | GP17: =GO17/GM17 -> 87.66803 | GQ17: 2005 | GR17: 2.50/1.00 | GS17: 3545 | GT17: Guyot | GX17: CHARDONNAY | GY17: 1.711 | HA17: 138 | HB17: =HA17/GY17 -> 80.654588 | HC17: 2000 | HD17: 2.00/1.00 | HE17: 6400 | HF17: Guyot | HJ17: CHARDONNAY | HK17: 1.711 | HM17: 131 | HN17: =HM17/HK17 -> 76.563413 | HO17: 2000 | HP17: 2.00/1.00 | HQ17: 6400 | HR17: Guyot | HV17: CHARDONNAY | HW17: 1.711 | HY17: 100 | HZ17: =HY17/HW17 -> 58.445354 | IA17: 2000 | IB17: 2.00/1.00 | IC17: 6400 | ID17: Guyot | IH17: CHARDONNAY | II17: 1.711 | IK17: 125 | IL17: =IK17/II17 -> 73.056692 | IM17: 2000 | IN17: 2.00/1.00 | IO17: 6400 | IP17: Guyot | IT17: CHARDONNAY | IU17: 1.711 | IW17: 37 | IX17: 21.624781 | IY17: 2000 | IZ17: 2.00/1.00 | JA17: 6400 | JB17: Guyot | JF17: CHARDONNAY | JG17: 1.711 | JI17: 156 | JJ17: 91.174752 | JK17: 2000 | JL17: 2.00/1.00 | JM17: 6400 | JN17: Guyot | JR17: CHARDONNAY | JS17: 1.711 | JU17: 134 | JV17: =JU17/JS17 -> 78.316774 | JW17: 2000 | JX17: 2.00/1.00 | JY17: 6400 | JZ17: Guyot
A18: LA CAVE | BV18: SYRAH | BW18: 0.95 | BY18: Plantier | CA18: 2005 | CB18: 2.50/1.00 | CC18: 2859 | CD18: Guyot | CH18: SYRAH | CI18: 0.95 | CK18: 49 | CL18: =CK18/CI18 -> 51.578947 | CM18: 2005 | CN18: 2.50/1.00 | CO18: 2859 | CP18: Guyot | CT18: SYRAH | CU18: 0.95 | CW18: 110 | CX18: =CW18/CU18 -> 115.78947 | CY18: 2005 | CZ18: 2.50/1.00 | DA18: 2859 | DB18: Guyot | DF18: SYRAH | DG18: 0.95 | DI18: 60 | DJ18: =DI18/DG18 -> 63.157895 | DK18: 2005 | DL18: 2.50/1.00 | DM18: 2859 | DN18: Guyot | DR18: SYRAH | DS18: 0.95 | DU18: 92.92 | DV18: =DU18/DS18 -> 97.810526 | DW18: 2005 | DX18: 2.50/1.00 | DY18: 2859 | DZ18: Guyot | ED18: SYRAH | EE18: 0.95 | EG18: 109 | EH18: =EG18/EE18 -> 114.73684 | EI18: 2005 | EJ18: 2.50/1.00 | EK18: 2859 | EL18: Guyot | EP18: SYRAH | EQ18: 0.95 | ES18: 121 | ET18: =ES18/EQ18 -> 127.36842 | EU18: 2005 | EV18: 2.50/1.00 | EW18: 2859 | EX18: Guyot | FB18: SYRAH | FC18: 0.95 | FE18: 125 | FF18: =FE18/FC18 -> 131.57895 | FG18: 2005 | FH18: 2.50/1.00 | FI18: 2859 | FJ18: Guyot | FN18: SYRAH | FO18: 0.95 | FQ18: 84 | FR18: =FQ18/FO18 -> 88.421053 | FS18: 2005 | FT18: 2.50/1.00 | FU18: 2859 | FV18: Guyot | FZ18: SYRAH | GA18: 0.95 | GC18: 118 | GD18: =GC18/GA18 -> 124.21053 | GE18: 2005 | GF18: 2.50/1.00 | GG18: 2859 | GH18: Guyot | GL18: SYRAH | GM18: 0.95 | GO18: 34 | GP18: =GO18/GM18 -> 35.789474 | GQ18: 2005 | GR18: 2.50/1.00 | GS18: 2859 | GT18: Guyot | GX18: SYRAH | GY18: 0.95 | HA18: 106 | HB18: =HA18/GY18 -> 111.57895 | HC18: 2005 | HD18: 2.50/1.00 | HE18: 3057 | HF18: Guyot | HJ18: SYRAH | HK18: 0.95 | HM18: 100 | HN18: =HM18/HK18 -> 105.26316 | HO18: 2005 | HP18: 2.50/1.00 | HQ18: 3057 | HR18: Guyot | HV18: SYRAH | HW18: 0.95 | HY18: 75 | HZ18: =HY18/HW18 -> 78.947368 | IA18: 2005 | IB18: 2.50/1.00 | IC18: 3057 | ID18: Guyot | IH18: SYRAH | II18: 0.95 | IK18: 100 | IL18: =IK18/II18 -> 105.26316 | IM18: 2005 | IN18: 2.50/1.00 | IO18: 3057 | IP18: Guyot | IT18: SYRAH | IU18: 0.95 | IW18: 80 | IX18: 84.210526 | IY18: 2005 | IZ18: 2.50/1.00 | JA18: 3057 | JB18: Guyot | JF18: SYRAH | JG18: 0.95 | JI18: 63 | JJ18: 66.315789 | JK18: 2005 | JL18: 2.50/1.00 | JM18: 3057 | JN18: Guyot | JR18: SYRAH | JS18: 0.95 | JU18: 66 | JV18: =JU18/JS18 -> 69.473684 | JW18: 2005 | JX18: 2.50/1.00 | JY18: 3057 | JZ18: Guyot
A19: LA CROIX | ED19: SYRAH | EE19: 0.93 | EG19: 109 | EH19: =EG19/EE19 -> 117.2043 | EI19: 2005 | EJ19: 2.50/1.00 | EK19: 9255 | EL19: Guyot | HW19: 1.0315 | HY19: Arraché | IT19: MERLOT | IU19: 1.0315 | IV19: Plantier | IY19: 2021 | IZ19: 2.50/1.00 | JA19: 3200 | JB19: Buisson | JF19: MERLOT | JG19: 1.0315 | JH19: Plantier | JK19: 2021 | JL19: 2.50/1.00 | JM19: 3200 | JN19: Buisson | JR19: MERLOT | JS19: 1.0315 | JU19: 20 | JV19: =JU19/JS19 -> 19.389239 | JW19: 2021 | JX19: 2.50/1.00 | JY19: 3200 | JZ19: Buisson
A20: LA GRANDE PENTE | BV20: SYRAH | BW20: 0.93 | BY20: Plantier | CA20: 2005 | CB20: 2.50/1.00 | CC20: 9255 | CD20: Guyot | CH20: SYRAH | CI20: 0.93 | CK20: 49 | CL20: =CK20/CI20 -> 52.688172 | CM20: 2005 | CN20: 2.50/1.00 | CO20: 9255 | CP20: Guyot | CT20: SYRAH | CU20: 0.93 | CW20: 66 | CX20: =CW20/CU20 -> 70.967742 | CY20: 2005 | CZ20: 2.50/1.00 | DA20: 9255 | DB20: Guyot | DF20: SYRAH | DG20: 0.93 | DI20: 60 | DJ20: =DI20/DG20 -> 64.516129 | DK20: 2005 | DL20: 2.50/1.00 | DM20: 9255 | DN20: Guyot | DR20: SYRAH | DS20: 0.93 | DU20: 73.01 | DV20: =DU20/DS20 -> 78.505376 | DW20: 2005 | DX20: 2.50/1.00 | DY20: 9255 | DZ20: Guyot | EP20: SYRAH | EQ20: 0.93 | ES20: 81 | ET20: =ES20/EQ20 -> 87.096774 | EU20: 2005 | EV20: 2.50/1.00 | EW20: 9255 | EX20: Guyot | FB20: SYRAH | FC20: 0.93 | FE20: 104 | FF20: =FE20/FC20 -> 111.82796 | FG20: 2005 | FH20: 2.50/1.00 | FI20: 9255 | FJ20: Guyot | FN20: SYRAH | FO20: 0.93 | FQ20: 70 | FR20: =FQ20/FO20 -> 75.268817 | FS20: 2005 | FT20: 2.50/1.00 | FU20: 9255 | FV20: Guyot | FZ20: SYRAH | GA20: 0.93 | GC20: 90 | GD20: =GC20/GA20 -> 96.774194 | GE20: 2005 | GF20: 2.50/1.00 | GG20: 9255 | GH20: Guyot | GL20: SYRAH | GM20: 0.93 | GO20: 75 | GP20: =GO20/GM20 -> 80.645161 | GQ20: 2005 | GR20: 2.50/1.00 | GS20: 9255 | GT20: Guyot | GX20: SYRAH | GY20: 0.93 | HA20: 125 | HB20: =HA20/GY20 -> 134.4086 | HC20: 2005 | HD20: 2.50/1.00 | HE20: 2859 | HF20: Guyot | HJ20: SYRAH | HK20: 0.93 | HM20: 50 | HN20: =HM20/HK20 -> 53.763441 | HO20: 2005 | HP20: 2.50/1.00 | HQ20: 2859 | HR20: Guyot | HV20: SYRAH | HW20: 0.93 | HY20: 81 | HZ20: =HY20/HW20 -> 87.096774 | IA20: 2005 | IB20: 2.50/1.00 | IC20: 2859 | ID20: Guyot | IH20: SYRAH | II20: 0.93 | IK20: 100 | IL20: =IK20/II20 -> 107.52688 | IM20: 2005 | IN20: 2.50/1.00 | IO20: 2859 | IP20: Guyot | IT20: SYRAH | IU20: 0.93 | IW20: 80 | IX20: 86.021505 | IY20: 2005 | IZ20: 2.50/1.00 | JA20: 2859 | JB20: Guyot | JF20: SYRAH | JG20: 0.93 | JI20: 71 | JJ20: 76.344086 | JK20: 2005 | JL20: 2.50/1.00 | JM20: 2859 | JN20: Guyot | JR20: SYRAH | JS20: 0.93 | JU20: 73 | JV20: =JU20/JS20 -> 78.494624 | JW20: 2005 | JX20: 2.50/1.00 | JY20: 2859 | JZ20: Guyot
A21: LATAPIE | FZ21: CINSAULT | GA21: 5.1838 | GE21: 2015 | GF21: 2.50/1.00 | GG21: 2830 | GH21: Buisson | GL21: CINSAULT | GM21: 5.1838 | GO21: Plantier | GQ21: 2016 | GR21: 2.50/1.00 | GS21: 2830 | GT21: Buisson | GX21: CINSAULT | GY21: 5.2138 | HA21: 863 | HB21: =HA21/GY21 -> 165.52227 | HC21: 2015 | HD21: 2.50/1.00 | HE21: 18589 | HF21: Buisson | HJ21: CINSAULT | HK21: 5.2138 | HM21: 519 | HN21: =HM21/HK21 -> 99.543519 | HO21: 2015 | HP21: 2.50/1.00 | HQ21: 18589 | HR21: Buisson | HV21: CINSAULT | HW21: 5.2138 | HY21: 850 | HZ21: =HY21/HW21 -> 163.02888 | IA21: 2015 | IB21: 2.50/1.00 | IC21: 18589 | ID21: Buisson | IH21: CINSAULT | II21: 5.2138 | IK21: 912 | IL21: =IK21/II21 -> 174.9204 | IM21: 2015 | IN21: 2.50/1.00 | IO21: 18589 | IP21: Buisson | IT21: CINSAULT | IU21: 5.2138 | IW21: 737 | IX21: 141.35563 | IY21: 2015 | IZ21: 2.50/1.00 | JA21: 18589 | JB21: Buisson | JF21: CINSAULT | JG21: 5.2138 | JI21: 964 | JJ21: 184.89394 | JK21: 2015 | JL21: 2.50/1.00 | JM21: 18589 | JN21: Buisson | JR21: CINSAULT | JS21: 5.1838 | JU21: 993 | JV21: =JU21/JS21 -> 191.55832 | JW21: 2015 | JX21: 2.50/1.00 | JY21: 18589 | JZ21: Buisson
A22: LE CARRE | C22: 2.9876 | E22: 329 | F22: =E22/C22 -> 110.12184 | G22: 1999 | O22: 2.9876 | Q22: 456 | R22: =Q22/O22 -> 152.63087 | S22: 1999 | AA22: 2.9876 | AC22: 453 | AD22: =AC22/AA22 -> 151.62672 | AE22: 1999 | AM22: 2.9876 | AO22: 326 | AP22: =AO22/AM22 -> 109.11769 | AQ22: 1999 | AY22: 2.9876 | BA22: 524 | BB22: =BA22/AY22 -> 175.39162 | BC22: 1999 | BK22: 2.9876 | BM22: 410 | BN22: =BM22/BK22 -> 137.2339 | BO22: 1999 | BW22: 2.9876 | BY22: 437 | BZ22: =BY22/BW22 -> 146.27125 | CA22: 1999 | CH22: CALADOC | CI22: 2.9876 | CK22: 430 | CL22: =CK22/CI22 -> 143.92824 | CM22: 2000 | CN22: 2.00/1.00 | CO22: 6400 | CP22: Guyot | CT22: CALADOC | CU22: 2.9876 | CW22: 440 | CX22: =CW22/CU22 -> 147.27541 | CY22: 2000 | CZ22: 2.00/1.00 | DA22: 6400 | DB22: Guyot | DF22: CALADOC | DG22: 2.9876 | DI22: 252 | DJ22: =DI22/DG22 -> 84.348641 | DK22: 2000 | DL22: 2.00/1.00 | DM22: 6400 | DN22: Guyot | DR22: CALADOC | DS22: 2.9876 | DU22: 278.77 | DV22: =DU22/DS22 -> 93.309011 | DW22: 2000 | DX22: 2.00/1.00 | DY22: 6400 | DZ22: Guyot | ED22: CALADOC | EE22: 2.9876 | EG22: 417 | EH22: =EG22/EE22 -> 139.57692 | EI22: 2000 | EJ22: 2.00/1.00 | EK22: 6400 | EL22: Guyot | EP22: CALADOC | EQ22: 2.9876 | ES22: 202 | ET22: =ES22/EQ22 -> 67.6128 | EU22: 2000 | EV22: 2.00/1.00 | EW22: 6400 | EX22: Guyot | FB22: CALADOC | FC22: 2.9876 | FE22: 249 | FF22: =FE22/FC22 -> 83.344491 | FG22: 2000 | FH22: 2.00/1.00 | FI22: 6400 | FJ22: Guyot | FN22: CALADOC | FO22: 2.9876 | FQ22: 176 | FR22: =FQ22/FO22 -> 58.910162 | FS22: 2000 | FT22: 2.00/1.00 | FU22: 6400 | FV22: Guyot | FZ22: CALADOC | GA22: 2.9876 | GC22: 265 | GD22: =GC22/GA22 -> 88.69996 | GE22: 2000 | GF22: 2.00/1.00 | GG22: 6400 | GH22: Guyot | GL22: CALADOC | GM22: 3.2876 | GO22: 170 | GP22: =GO22/GM22 -> 51.709454 | GQ22: 2000 | GR22: 2.00/1.00 | GS22: 6400 | GT22: Guyot | GX22: CALADOC | GY22: 3.2876 | HA22: 44 | HB22: =HA22/GY22 -> 13.383623 | HC22: 1999 | HD22: 2.50/1.00 | HE22: 9720 | HF22: Guyot | HJ22: CALADOC | HK22: 3.2876 | HM22: 138 | HN22: =HM22/HK22 -> 41.975909 | HO22: 1999 | HP22: 2.50/1.00 | HQ22: 9720 | HR22: Guyot | HV22: CALADOC | HW22: 3.2876 | HY22: 275 | HZ22: =HY22/HW22 -> 83.647646 | IA22: 1999 | IB22: 2.50/1.00 | IC22: 9720 | ID22: Guyot | IH22: CALADOC | II22: 3.2876 | IK22: 188 | IL22: =IK22/II22 -> 57.184572 | IM22: 1999 | IN22: 2.50/1.00 | IO22: 9720 | IP22: Guyot | IT22: CALADOC | IU22: 3.2876 | IW22: 100 | IX22: 30.417326 | IY22: 1999 | IZ22: 2.50/1.00 | JA22: 9720 | JB22: Guyot | JF22: CALADOC | JG22: 3.2876 | JI22: 250 | JJ22: 76.043314 | JK22: 1999 | JL22: 2.50/1.00 | JM22: 9720 | JN22: Guyot | JR22: CALADOC | JS22: 2.9876 | JU22: 69 | JV22: =JU22/JS22 -> 23.095461 | JW22: 1999 | JX22: 2.50/1.00 | JY22: 9720 | JZ22: Guyot
A23: LE CHAT | C23: 1.884 | E23: 176 | F23: =E23/C23 -> 93.418259 | G23: 1964 | O23: 1.884 | Q23: 152 | R23: =Q23/O23 -> 80.679406 | S23: 1964 | AA23: 1.884 | AC23: 180 | AD23: =AC23/AA23 -> 95.541401 | AE23: 1964 | AM23: 1.884 | AO23: Arraché | AY23: 1.884 | BA23: Arraché | BK23: 1.884 | BM23: Arraché | BW23: 1.902 | BY23: Plantier | CA23: 2005 | CH23: GRENACHE | CI23: 1.902 | CK23: 123 | CL23: =CK23/CI23 -> 64.66877 | CM23: 2005 | CN23: 2.50/1.00 | CO23: 3057 | CP23: Guyot | CT23: GRENACHE | CU23: 1.902 | CW23: 330 | CX23: =CW23/CU23 -> 173.50158 | CY23: 2005 | CZ23: 2.50/1.00 | DA23: 3057 | DB23: Guyot | DF23: GRENACHE | DG23: 1.902 | DI23: 258 | DJ23: =DI23/DG23 -> 135.64669 | DK23: 2005 | DL23: 2.50/1.00 | DM23: 3057 | DN23: Guyot | DR23: GRENACHE | DS23: 1.902 | DU23: 292.05 | DV23: =DU23/DS23 -> 153.5489 | DW23: 2005 | DX23: 2.50/1.00 | DY23: 3057 | DZ23: Guyot | ED23: GRENACHE | EE23: 1.902 | EG23: 396 | EH23: =EG23/EE23 -> 208.20189 | EI23: 2005 | EJ23: 2.50/1.00 | EK23: 3057 | EL23: Guyot | EP23: GRENACHE | EQ23: 1.902 | ES23: 215 | ET23: =ES23/EQ23 -> 113.03891 | EU23: 2005 | EV23: 2.50/1.00 | EW23: 3057 | EX23: Guyot | FB23: GRENACHE | FC23: 1.902 | FE23: 304 | FF23: =FE23/FC23 -> 159.83176 | FG23: 2005 | FH23: 2.50/1.00 | FI23: 3057 | FJ23: Guyot | FN23: GRENACHE | FO23: 1.902 | FQ23: 148 | FR23: =FQ23/FO23 -> 77.812829 | FS23: 2005 | FT23: 2.50/1.00 | FU23: 3057 | FV23: Guyot | FZ23: GRENACHE | GA23: 1.902 | GC23: 286 | GD23: =GC23/GA23 -> 150.36803 | GE23: 2005 | GF23: 2.50/1.00 | GG23: 3057 | GH23: Guyot | GL23: GRENACHE | GM23: 1.902 | GO23: 177 | GP23: =GO23/GM23 -> 93.059937 | GQ23: 2005 | GR23: 2.50/1.00 | GS23: 3057 | GT23: Guyot | GX23: GRENACHE | GY23: 1.902 | HA23: 188 | HB23: =HA23/GY23 -> 98.843323 | HC23: 2005 | HD23: 2.50/1.00 | HE23: 7390 | HF23: Guyot | HJ23: GRENACHE | HK23: 1.902 | HM23: 175 | HN23: =HM23/HK23 -> 92.008412 | HO23: 2005 | HP23: 2.50/1.00 | HQ23: 7390 | HR23: Guyot | HV23: GRENACHE | HW23: 1.902 | HY23: 100 | HZ23: =HY23/HW23 -> 52.576236 | IA23: 2005 | IB23: 2.50/1.00 | IC23: 7390 | ID23: Guyot | IH23: GRENACHE | II23: 1.902 | IK23: 219 | IL23: =IK23/II23 -> 115.14196 | IM23: 2005 | IN23: 2.50/1.00 | IO23: 7390 | IP23: Guyot | IT23: GRENACHE | IU23: 1.902 | IW23: 87 | IX23: 45.741325 | IY23: 2005 | IZ23: 2.50/1.00 | JA23: 7390 | JB23: Guyot | JF23: GRENACHE | JG23: 1.902 | JI23: 244 | JJ23: 128.28601 | JK23: 2005 | JL23: 2.50/1.00 | JM23: 7390 | JN23: Guyot | JR23: GRENACHE | JS23: 1.902 | JU23: 117 | JV23: =JU23/JS23 -> 61.514196 | JW23: 2005 | JX23: 2.50/1.00 | JY23: 7390 | JZ23: Guyot
A24: NOUVELLE | CT24: MERLOT | CU24: 0.874 | CW24: 77 | CX24: =CW24/CU24 -> 88.100686 | CY24: 1990 | DF24: MERLOT | DG24: 0.874 | DI24: 96 | DJ24: =DI24/DG24 -> 109.83982 | DK24: 1990 | DR24: MERLOT | DS24: 0.874 | DU24: 92.92 | DV24: =DU24/DS24 -> 106.31579 | DW24: 1990 | ED24: MERLOT | EE24: 0.874 | EG24: 109 | EH24: =EG24/EE24 -> 124.71396 | EI24: 1990 | EP24: MERLOT | EQ24: 0.874 | ES24: 94 | ET24: =ES24/EQ24 -> 107.55149 | EU24: 1990 | FB24: MERLOT | FC24: 0.874 | FE24: 69 | FF24: =FE24/FC24 -> 78.947368 | FG24: 1990 | FN24: MERLOT | FO24: 0.874 | FQ24: 35 | FR24: =FQ24/FO24 -> 40.045767 | FS24: 1990 | FZ24: MERLOT | GA24: 0.874 | GC24: 90 | GD24: =GC24/GA24 -> 102.97483 | GE24: 1990 | GL24: MERLOT | GM24: 0.874 | GO24: 14 | GP24: =GO24/GM24 -> 16.018307 | GQ24: 1990 | GX24: MERLOT | GY24: 0.874 | HA24: 63 | HB24: =HA24/GY24 -> 72.08238 | HC24: 1999 | HD24: 2.20/1.00 | HE24: 3480 | HF24: Guyot | HJ24: MERLOT | HK24: 0.874 | HM24: 44 | HN24: =HM24/HK24 -> 50.343249 | HO24: 1999 | HP24: 2.20/1.00 | HQ24: 3480 | HR24: Guyot | HV24: MERLOT | HW24: 0.874 | HY24: 50 | HZ24: =HY24/HW24 -> 57.208238 | IA24: 1999 | IB24: 2.20/1.00 | IC24: 3480 | ID24: Guyot | IH24: MERLOT | II24: 0.874 | IK24: 62 | IL24: =IK24/II24 -> 70.938215 | IM24: 1999 | IN24: 2.20/1.00 | IO24: 3480 | IP24: Guyot | IT24: MERLOT | IU24: 0.874 | IW24: 25 | IX24: 28.604119 | IY24: 1999 | IZ24: 2.20/1.00 | JA24: 3480 | JB24: Guyot | JF24: MERLOT | JG24: 0.874 | JI24: 61 | JJ24: 69.79405 | JK24: 1999 | JL24: 2.20/1.00 | JM24: 3480 | JN24: Guyot | JR24: MERLOT | JS24: 0.874 | JU24: 34 | JV24: =JU24/JS24 -> 38.901602 | JW24: 1999 | JX24: 2.20/1.00 | JY24: 3480 | JZ24: Guyot
A25: NOUVELLE ARAMON | CT25: ARAMON | CU25: 0.4265 | CW25: 22 | CX25: =CW25/CU25 -> 51.582649 | DF25: ARAMON | DG25: 0.4265 | DI25: 6.4 | DJ25: =DI25/DG25 -> 15.005862
A26: NOUVELLE CAB | CT26: CABERNET | CU26: 0.359 | CW26: 22 | CX26: =CW26/CU26 -> 61.281337 | CY26: 2008 | CZ26: 2.50/1.00 | DA26: 18800 | DB26: Guyot | DF26: CABERNET | DG26: 0.359 | DI26: 25 | DJ26: =DI26/DG26 -> 69.637883 | DK26: 2008 | DL26: 2.50/1.00 | DM26: 18800 | DN26: Guyot | DR26: CABERNET | DS26: 0.359 | DU26: 33.18 | DV26: =DU26/DS26 -> 92.423398 | DW26: 2008 | DX26: 2.50/1.00 | DY26: 18800 | DZ26: Guyot | ED26: CABERNET | EE26: 0.359 | EG26: 27 | EH26: =EG26/EE26 -> 75.208914 | EI26: 2008 | EJ26: 2.50/1.00 | EK26: 18800 | EL26: Guyot | EP26: CABERNET | EQ26: 0.359 | ES26: 40 | ET26: 111.42061 | EU26: 2008 | EV26: 2.50/1.00 | EW26: 18800 | EX26: Guyot | FB26: CABERNET | FC26: 0.359 | FE26: 28 | FF26: =FE26/FC26 -> 77.994429 | FG26: 2008 | FH26: 2.50/1.00 | FI26: 18800 | FJ26: Guyot | FZ26: CABERNET | GA26: 0.359 | GC26: 21 | GD26: =GC26/GA26 -> 58.495822 | GE26: 2008 | GF26: 2.50/1.00 | GG26: 18800 | GH26: Guyot | GL26: CABERNET | GM26: 0.359 | GO26: 54 | GQ26: 2008 | GR26: 2.50/1.00 | GS26: 18800 | GT26: Guyot | GX26: CABERNET | GY26: 0.359 | HA26: 0 | HC26: 1990
A27: PLATEAU | BV27: SYRAH | BW27: 1.0359 | BY27: Plantier | CA27: 2006 | CB27: 2.20/1.00 | CC27: 3480 | CD27: Guyot | CH27: SYRAH | CI27: 1.0359 | CK27: Plantier | CM27: 2006 | CN27: 2.20/1.00 | CO27: 3480 | CP27: Guyot | CT27: SYRAH | CU27: 1.0359 | CW27: 77 | CX27: =CW27/CU27 -> 74.331499 | CY27: 1999 | CZ27: 2.20/1.00 | DA27: 3480 | DB27: Guyot | DF27: SYRAH | DG27: 1.0359 | DI27: 90 | DJ27: =DI27/DG27 -> 86.880973 | DK27: 1999 | DL27: 2.20/1.00 | DM27: 3480 | DN27: Guyot | DR27: SYRAH | DS27: 1.0359 | DU27: 106.2 | DV27: =DU27/DS27 -> 102.51955 | DW27: 1999 | DX27: 2.20/1.00 | DY27: 3480 | DZ27: Guyot | ED27: SYRAH | EE27: 1.0359 | EG27: 164 | EH27: =EG27/EE27 -> 158.31644 | EI27: 1999 | EJ27: 2.20/1.00 | EK27: 3480 | EL27: Guyot | EP27: SYRAH | EQ27: 1.0359 | ES27: 107 | ET27: 103.29182 | EU27: 1999 | EV27: 2.20/1.00 | EW27: 3480 | EX27: Guyot | FB27: SYRAH | FC27: 1.0359 | FE27: 138 | FF27: =FE27/FC27 -> 133.21749 | FG27: 1999 | FH27: 2.20/1.00 | FI27: 3480 | FJ27: Guyot | FN27: SYRAH | FO27: 1.0359 | FQ27: 98 | FR27: =FQ27/FO27 -> 94.603726 | FS27: 1999 | FT27: 2.20/1.00 | FU27: 3480 | FV27: Guyot | FZ27: SYRAH | GA27: 1.0359 | GC27: 181 | GD27: =GC27/GA27 -> 174.72729 | GE27: 1999 | GF27: 2.20/1.00 | GG27: 3480 | GH27: Guyot | GL27: SYRAH | GM27: 1.0359 | GO27: 150 | GP27: =GO27/GM27 -> 144.80162 | GQ27: 1999 | GR27: 2.20/1.00 | GS27: 3480 | GT27: Guyot | GX27: SYRAH | GY27: 1.0359 | HA27: 100 | HB27: =HA27/GY27 -> 96.534415 | HC27: 2006 | HD27: 2.50/1.00 | HE27: 3665 | HF27: Guyot | HJ27: SYRAH | HK27: 1.0359 | HM27: 94 | HN27: =HM27/HK27 -> 90.74235 | HO27: 2006 | HP27: 2.50/1.00 | HQ27: 3665 | HR27: Guyot | HV27: SYRAH | HW27: 1.0359 | HY27: 100 | HZ27: =HY27/HW27 -> 96.534415 | IA27: 2006 | IB27: 2.50/1.00 | IC27: 3665 | ID27: Guyot | IH27: SYRAH | II27: 1.0359 | IK27: 150 | IL27: =IK27/II27 -> 144.80162 | IM27: 2006 | IN27: 2.50/1.00 | IO27: 3665 | IP27: Guyot | IT27: SYRAH | IU27: 1.0359 | IW27: 100 | IX27: 96.534415 | IY27: 2006 | IZ27: 2.50/1.00 | JA27: 3665 | JB27: Guyot | JF27: SYRAH | JG27: 1.0359 | JI27: 83 | JJ27: 80.123564 | JK27: 2006 | JL27: 2.50/1.00 | JM27: 3665 | JN27: Guyot | JR27: SYRAH | JS27: 1.0359 | JU27: 75 | JV27: =JU27/JS27 -> 72.400811 | JW27: 2006 | JX27: 2.50/1.00 | JY27: 3665 | JZ27: Guyot
A28: PORTALE | C28: 2 | E28: 182 | F28: =E28/C28 -> 91 | G28: 1966 | O28: 2 | Q28: 152 | R28: =Q28/O28 -> 76 | S28: 1966 | AA28: 2 | AC28: 93 | AD28: =AC28/AA28 -> 46.5 | AE28: 1966 | AM28: 2 | AO28: Arraché | AY28: 2 | BA28: Arraché | BK28: 2 | BM28: Arraché | BW28: 2 | BY28: Arraché | CT28: GRENACHE BLANC | CU28: 5.17 | CW28: Plantier | CY28: 2008 | CZ28: 0.9541 | DA28: 10100 | DB28: Guyot | DF28: GRENACHE BLANC | DG28: 5.17 | DI28: Plantier | DK28: 2008 | DL28: 0.9541 | DM28: 10100 | DN28: Guyot | DR28: GRENACHE BLANC | DS28: 5.17 | DU28: 451.35 | DV28: =DU28/DS28 -> 87.301741 | DW28: 97/2000 | DX28: 0.9541 | DY28: 10100 | DZ28: Guyot | ED28: GRENACHE BLANC | EE28: 5.17 | EG28: 847 | EH28: =EG28/EE28 -> 163.82979 | EI28: 97/2000 | EJ28: 0.9541 | EK28: 10100 | EL28: Guyot | EP28: GRENACHE BLANC | EQ28: 5.17 | ES28: 551 | ET28: 106.5764 | EU28: 97/2000 | EV28: 0.9541 | EW28: 10100 | EX28: Guyot | FB28: GRENACHE BLANC | FC28: 5.17 | FE28: 443 | FF28: =FE28/FC28 -> 85.686654 | FG28: 97/2000 | FH28: 0.9541 | FI28: 10100 | FJ28: Guyot | FN28: GRENACHE BLANC | FO28: 5.17 | FQ28: 422 | FR28: =FQ28/FO28 -> 81.624758 | FS28: 97/2000 | FT28: 0.9541 | FU28: 10100 | FV28: Guyot | FZ28: GRENACHE BLANC | GA28: 5.17 | GC28: 920 | GD28: =GC28/GA28 -> 177.94971 | GE28: 97/2000 | GF28: 0.9541 | GG28: 10100 | GH28: Guyot | GL28: GRENACHE BLANC | GM28: 5.17 | GO28: 503 | GP28: =GO28/GM28 -> 97.29207 | GQ28: 97/2000 | GR28: 2.00/0.90 | GS28: 10100 | GT28: Guyot | GX28: GRENACHE BLANC | GY28: 5.17 | HA28: 463 | HB28: =HA28/GY28 -> 89.555126 | HC28: 2008 | HD28: 2.50/1.00 | HE28: 18800 | HF28: Guyot | HJ28: GRENACHE BLANC | HK28: 5.17 | HM28: 456 | HN28: =HM28/HK28 -> 88.201161 | HO28: 2008 | HP28: 2.50/1.00 | HQ28: 18800 | HR28: Guyot | HV28: GRENACHE BLANC | HW28: 5.17 | HY28: 388 | HZ28: =HY28/HW28 -> 75.048356 | IA28: 2008 | IB28: 2.50/1.00 | IC28: 18800 | ID28: Guyot | IH28: GRENACHE BLANC | II28: 5.17 | IK28: 544 | IL28: =IK28/II28 -> 105.22244 | IM28: 2008 | IN28: 2.50/1.00 | IO28: 18800 | IP28: Guyot | IT28: GRENACHE BLANC | IU28: 5.17 | IW28: 287 | IX28: 55.512573 | IY28: 2008 | IZ28: 2.50/1.00 | JA28: 18800 | JB28: Guyot | JF28: GRENACHE BLANC | JG28: 5.17 | JI28: 450 | JJ28: 87.040619 | JK28: 2008 | JL28: 2.50/1.00 | JM28: 18800 | JN28: Guyot | JR28: GRENACHE BLANC | JS28: 5.17 | JU28: 330 | JV28: =JU28/JS28 -> 63.829787 | JW28: 2008 | JX28: 2.50/1.00 | JY28: 18800 | JZ28: Guyot
A29: PUEL | FN29: GRENACHE NOIR | FO29: 0.853 | FQ29: Plantier | FS29: 2015 | FT29: 2.50/1.00 | FU29: 18589 | FV29: Buisson | FZ29: GRENACHE NOIR | GA29: 0.853 | GE29: 2015 | GF29: 2.50/1.00 | GG29: 18589 | GH29: Buisson | GL29: GRENACHE NOIR | GM29: 0.853 | GO29: 26 | GP29: =GO29/GM29 -> 30.480657 | GQ29: 2015 | GR29: 2.50/1.00 | GS29: 18589 | GT29: Buisson | GX29: GRENACHE NOIR | GY29: 0.853 | HA29: 44 | HB29: =HA29/GY29 -> 51.582649 | HC29: 2014 | HD29: 2.50/1.00 | HE29: 3324 | HF29: Buisson | HJ29: GRENACHE NOIR | HK29: 0.853 | HM29: 88 | HN29: =HM29/HK29 -> 103.1653 | HO29: 2014 | HP29: 2.50/1.00 | HQ29: 3324 | HR29: Buisson | HV29: GRENACHE NOIR | HW29: 0.853 | HY29: 119 | HZ29: =HY29/HW29 -> 139.50762 | IA29: 2014 | IB29: 2.50/1.00 | IC29: 3324 | ID29: Buisson | IH29: GRENACHE NOIR | II29: 0.853 | IK29: 93 | IL29: =IK29/II29 -> 109.02696 | IM29: 2014 | IN29: 2.50/1.00 | IO29: 3324 | IP29: Buisson | IT29: GRENACHE NOIR | IU29: 0.853 | IW29: 44 | IX29: 51.582649 | IY29: 2014 | IZ29: 2.50/1.00 | JA29: 3324 | JB29: Buisson | JF29: GRENACHE NOIR | JG29: 0.853 | JI29: 134 | JJ29: 157.09261 | JK29: 2014 | JL29: 2.50/1.00 | JM29: 3324 | JN29: Buisson | JR29: GRENACHE NOIR | JS29: 0.853 | JU29: 141 | JV29: =JU29/JS29 -> 165.29894 | JW29: 2014 | JX29: 2.50/1.00 | JY29: 3324 | JZ29: Buisson
A30: ROQUES SINGLA VIGOUR | C30: 0.501 | E30: 76 | F30: =E30/C30 -> 151.69661 | G30: 1995 | O30: 0.501 | Q30: 70 | R30: =Q30/O30 -> 139.72056 | S30: 1995 | AA30: 0.501 | AC30: 81 | AD30: =AC30/AA30 -> 161.67665 | AE30: 1995 | AM30: 0.501 | AO30: 72 | AP30: =AO30/AM30 -> 143.71257 | AQ30: 1995 | AY30: 0.501 | BA30: 83 | BB30: =BA30/AY30 -> 165.66866 | BC30: 1995 | BK30: 0.501 | BM30: 90 | BN30: =BM30/BK30 -> 179.64072 | BO30: 1995 | BW30: 0.501 | BY30: 92 | BZ30: =BY30/BW30 -> 183.63273 | CA30: 1995 | CH30: GRENACHE | CI30: 0.5511 | CK30: 111 | CL30: =CK30/CI30 -> 201.41535 | CM30: 95/97/98/99 | CN30: 2.50/1.00 | CO30: 7689 | CP30: Guyot | CT30: GRENACHE | CU30: 0.5511 | CW30: 88 | CX30: =CW30/CU30 -> 159.68064 | CY30: 95/97/98/99 | CZ30: 2.50/1.00 | DA30: 7689 | DB30: Guyot | DF30: GRENACHE | DG30: 0.5511 | DI30: 51 | DJ30: =DI30/DG30 -> 92.542188 | DK30: 95/97/98/99 | DL30: 2.50/1.00 | DM30: 7689 | DN30: Guyot | DR30: GRENACHE | DS30: 0.5511 | DU30: 59.73 | DV30: =DU30/DS30 -> 108.38323 | DW30: 95/97/98/99 | DX30: 2.50/1.00 | DY30: 7689 | DZ30: Guyot | ED30: GRENACHE | EE30: 0.5511 | EG30: 75 | EH30: =EG30/EE30 -> 136.09145 | EI30: 95/97/98/99 | EJ30: 2.50/1.00 | EK30: 7689 | EL30: Guyot | EP30: GRENACHE | EQ30: 0.5511 | ES30: 54 | ET30: =ES30/EQ30 -> 97.985846 | EU30: 95/97/98/99 | EV30: 2.50/1.00 | EW30: 7689 | EX30: Guyot | FB30: GRENACHE | FC30: 0.5511 | FE30: 55 | FF30: =FE30/FC30 -> 99.800399 | FG30: 95/97/98/99 | FH30: 2.50/1.00 | FI30: 7689 | FJ30: Guyot | FN30: GRENACHE | FO30: 0.5511 | FQ30: 56 | FR30: =FQ30/FO30 -> 101.61495 | FS30: 95/97/98/99 | FT30: 2.50/1.00 | FU30: 7689 | FV30: Guyot | FZ30: GRENACHE | GA30: 0.5511 | GC30: 111 | GD30: =GC30/GA30 -> 201.41535 | GE30: 95/97/98/99 | GF30: 2.50/1.00 | GG30: 7689 | GH30: Guyot | GL30: GRENACHE | GM30: 0.5511 | GO30: 75 | GP30: =GO30/GM30 -> 136.09145 | GQ30: 95/97/98/99 | GR30: 2.50/1.00 | GS30: 7689 | GT30: Guyot | GX30: GRENACHE | GY30: 1.5325 | HA30: 88 | HB30: =HA30/GY30 -> 57.422512 | HC30: 95/97/98/99 | HD30: 2.50/1.00 | HE30: 7689 | HF30: Guyot | HJ30: GRENACHE | HK30: 2.1755 | HM30: 63 | HN30: =HM30/HK30 -> 28.95886 | HO30: 95/97/98/99 | HP30: 2.50/1.00 | HQ30: 7689 | HR30: Guyot | HV30: GRENACHE | HW30: 2.1755 | HY30: 138 | HZ30: =HY30/HW30 -> 63.433693 | IA30: 95/97/98/99 | IB30: 2.50/1.00 | IC30: 7689 | ID30: Guyot | IH30: GRENACHE | II30: 2.1755 | IK30: 212 | IL30: =IK30/II30 -> 97.448862 | IM30: 95/97/98/99 | IN30: 2.50/1.00 | IO30: 7689 | IP30: Guyot | IT30: GRENACHE | IU30: 2.1755 | IW30: 117 | IX30: 53.78074 | IY30: 95/97/98/99 | IZ30: 2.50/1.00 | JA30: 7689 | JB30: Guyot | JF30: GRENACHE | JG30: 2.1755 | JI30: 249 | JJ30: 114.45645 | JK30: 95/97/98/99 | JL30: 2.50/1.00 | JM30: 7689 | JN30: Guyot | JR30: GRENACHE | JS30: 2.1865 | JU30: 138 | JV30: =JU30/JS30 -> 63.114567 | JW30: 95/97/98/99 | JX30: 2.50/1.00 | JY30: 7689 | JZ30: Guyot
A31: ROSSIGNOL | B31: CINSAULT | C31: 1.7 | E31: 352 | F31: =E31/C31 -> 207.05882 | G31: 1975 | N31: CINSAULT | O31: 1.7 | Q31: 316 | R31: =Q31/O31 -> 185.88235 | S31: 1975 | Z31: CINSAULT | AA31: 1.7 | AC31: 209 | AD31: =AC31/AA31 -> 122.94118 | AE31: 1975 | AL31: CINSAULT | AM31: 1.7 | AO31: 241 | AP31: =AO31/AM31 -> 141.76471 | AQ31: 1975 | AX31: CINSAULT | AY31: 1.7 | BA31: 262 | BB31: =BA31/AY31 -> 154.11765 | BC31: 1975 | BJ31: CINSAULT | BK31: 1.7 | BM31: 217 | BN31: =BM31/BK31 -> 127.64706 | BO31: 1975 | BV31: CINSAULT | BW31: 1.7 | BY31: 207 | BZ31: =BY31/BW31 -> 121.76471 | CA31: 1975 | CH31: CINSAULT | CI31: 1.7 | CK31: 215 | CL31: =CK31/CI31 -> 126.47059 | CW31: Arraché | DI31: Arraché | DU31: Arraché | EG31: Arraché | EP31: CALADOC | EQ31: 1.6902 | ES31: Plantier | EU31: 2012 | EV31: 2.50/1.00 | EW31: 17678 | EX31: Buisson | FB31: CALADOC | FC31: 1.6902 | FE31: Plantier | FG31: 2012 | FH31: 2.50/1.00 | FI31: 17678 | FJ31: Buisson | FN31: CALADOC | FO31: 1.6902 | FQ31: 155 | FR31: =FQ31/FO31 -> 91.705124 | FS31: 2012 | FT31: 2.50/1.00 | FU31: 17678 | FV31: Buisson | FZ31: CALADOC | GA31: 1.6902 | GC31: 369 | GD31: =GC31/GA31 -> 218.31736 | GE31: 2012 | GF31: 2.50/1.00 | GG31: 17678 | GH31: Buisson | GL31: CALADOC | GM31: 1.6902 | GO31: 340 | GP31: =GO31/GM31 -> 201.15963 | GQ31: 2012 | GR31: 2.50/1.00 | GS31: 17678 | GT31: Buisson | GX31: CALADOC | GY31: 1.6902 | HA31: 57 | HB31: =HA31/GY31 -> 33.72382 | HC31: 2012 | HD31: 2.50/1.00 | HE31: 7259 | HF31: Buisson | HJ31: CALADOC | HK31: 1.6902 | HM31: 325 | HN31: =HM31/HK31 -> 192.28494 | HO31: 2012 | HP31: 2.50/1.00 | HQ31: 7259 | HR31: Buisson | HV31: CALADOC | HW31: 1.6902 | HY31: 394 | HZ31: =HY31/HW31 -> 233.10851 | IA31: 2012 | IB31: 2.50/1.00 | IC31: 7259 | ID31: Buisson | IH31: CALADOC | II31: 1.6702 | IK31: 225 | IL31: =IK31/II31 -> 134.71441 | IM31: 2012 | IN31: 2.50/1.00 | IO31: 7259 | IP31: Buisson | IT31: CALADOC | IU31: 1.6902 | IW31: 125 | IX31: 73.955745 | IY31: 2012 | IZ31: 2.50/1.00 | JA31: 7259 | JB31: Buisson | JF31: CALADOC | JG31: 1.6902 | JI31: 489 | JJ31: 289.31487 | JK31: 2012 | JL31: 2.50/1.00 | JM31: 7259 | JN31: Buisson | JR31: CALADOC | JS31: 1.6902 | JU31: 381 | JV31: =JU31/JS31 -> 225.41711 | JW31: 2012 | JX31: 2.50/1.00 | JY31: 7259 | JZ31: Buisson
A32: ROUTE DE CAPESTANG | C32: 0.838 | E32: 59 | F32: =E32/C32 -> 70.405728 | G32: 1980 | O32: 0.838 | Q32: 81 | R32: =Q32/O32 -> 96.658711 | S32: 1980 | AA32: 0.838 | AC32: 52 | AD32: =AC32/AA32 -> 62.052506 | AE32: 1980 | AM32: 0.838 | AO32: 48 | AP32: =AO32/AM32 -> 57.279236 | AQ32: 1980 | AY32: 0.838 | BA32: 71 | BB32: =BA32/AY32 -> 84.725537 | BC32: 1980 | BK32: 0.838 | BM32: 60 | BN32: =BM32/BK32 -> 71.599045 | BO32: 1980 | BW32: 0.838 | BY32: 57 | BZ32: =BY32/BW32 -> 68.019093 | CA32: 1980 | CH32: SAUVIGNON | CI32: 0.838 | CK32: 57 | CL32: =CK32/CI32 -> 68.019093 | CT32: SAUVIGNON | CU32: 0.838 | CW32: 50 | CX32: =CW32/CU32 -> 59.665871 | DF32: SAUVIGNON | DG32: 0.838 | DI32: 34 | DJ32: =DI32/DG32 -> 40.572792 | DR32: SAUVIGNON | DS32: 0.838 | DU32: 53.1 | DV32: =DU32/DS32 -> 63.365155 | ED32: SAUVIGNON | EE32: 0.838 | EG32: 55 | EH32: =EG32/EE32 -> 65.632458 | EP32: SAUVIGNON | EQ32: 0.838 | ES32: 34 | ET32: =ES32/EQ32 -> 40.572792 | FB32: SAUVIGNON | FC32: 0.838 | FE32: 28 | FF32: =FE32/FC32 -> 33.412888 | FN32: CINSAULT | FO32: 0.838 | FQ32: Arraché | FZ32: CINSAULT | GA32: 0.838 | GC32: Arraché | GL32: CINSAULT | GM32: 0.838 | GO32: Plantier | GX32: CINSAULT | GY32: 0.838 | HA32: 0 | HB32: =HA32/GY32 -> 0 | HC32: 2016 | HD32: 2.50/1.00 | HE32: 2830 | HF32: Buisson | HJ32: CINSAULT | HK32: 0.838 | HM32: 56 | HN32: =HM32/HK32 -> 66.825776 | HO32: 2016 | HP32: 2.50/1.00 | HQ32: 2830 | HR32: Buisson | HV32: CINSAULT | HW32: 0.838 | HY32: 25 | HZ32: =HY32/HW32 -> 29.832936 | IA32: 2016 | IB32: 2.50/1.00 | IC32: 2830 | ID32: Buisson | IH32: CINSAULT | II32: 0.838 | IK32: 93 | IL32: =IK32/II32 -> 110.97852 | IM32: 2016 | IN32: 2.50/1.00 | IO32: 2830 | IP32: Buisson | IT32: CINSAULT | IU32: 0.838 | IW32: 75 | IX32: 89.498807 | IY32: 2016 | IZ32: 2.50/1.00 | JA32: 2830 | JB32: Buisson | JF32: CINSAULT | JG32: 0.838 | JI32: 53 | JJ32: 63.245823 | JK32: 2016 | JL32: 2.50/1.00 | JM32: 2830 | JN32: Buisson | JR32: CINSAULT | JS32: 0.838 | JU32: 125 | JV32: =JU32/JS32 -> 149.16468 | JW32: 2016 | JX32: 2.50/1.00 | JY32: 2830 | JZ32: Buisson
A33: SAINT AUGUSTIN | AY33: 0.877 | BA33: 83 | BB33: =BA33/AY33 -> 94.640821 | BC33: 1978 | BK33: 0.877 | BM33: Arraché | BW33: 0.877 | BY33: Arraché | DF33: CHARDONNAY | DG33: 2.0425 | DI33: 116 | DJ33: =DI33/DG33 -> 56.793146 | DK33: 1997 | DL33: 2.50/1.00 | DM33: 7911 | DN33: Buisson | DR33: CHARDONNAY | DS33: 2.0425 | DU33: 252.22 | DV33: =DU33/DS33 -> 123.48592 | DW33: 1997 | DX33: 2.50/1.00 | DY33: 7911 | DZ33: Buisson | ED33: CHARDONNAY | EE33: 2.0425 | EG33: 239 | EH33: =EG33/EE33 -> 117.01346 | EI33: 2012 | EJ33: 2.50/1.00 | EK33: 7911 | EL33: Buisson | EP33: CHARDONNAY | EQ33: 2.0425 | ES33: 202 | ET33: =ES33/EQ33 -> 98.898409 | EU33: 2012 | EV33: 2.50/1.00 | EW33: 7911 | EX33: Buisson | FB33: CHARDONNAY | FC33: 2.0425 | FE33: 303 | FF33: =FE33/FC33 -> 148.34761 | FG33: 2012 | FH33: 2.50/1.00 | FI33: 7911 | FJ33: Buisson | FN33: CHARDONNAY | FO33: 2.0425 | FQ33: 98 | FR33: =FQ33/FO33 -> 47.980416 | FS33: 2012 | FT33: 2.50/1.00 | FU33: 7911 | FV33: Buisson | FZ33: CHARDONNAY | GA33: 2.0425 | GC33: 195 | GD33: =GC33/GA33 -> 95.471236 | GE33: 2012 | GF33: 2.50/1.00 | GG33: 7911 | GH33: Buisson | GL33: CHARDONNAY | GM33: 2.0425 | GO33: 150 | GP33: =GO33/GM33 -> 73.439412 | GQ33: 2012 | GR33: 2.50/1.00 | GS33: 7911 | GT33: Buisson | GX33: CHARDONNAY | GY33: 2.0425 | HA33: 113 | HB33: =HA33/GY33 -> 55.324357 | HC33: 97/2000 | HD33: 2.00/0.90 | HE33: 10100 | HF33: Guyot | HJ33: CHARDONNAY | HK33: 2.0425 | HM33: 138 | HN33: =HM33/HK33 -> 67.564259 | HO33: 97/2000 | HP33: 2.00/0.90 | HQ33: 10100 | HR33: Guyot | HV33: CHARDONNAY | HW33: 2.0425 | HY33: 87 | HZ33: =HY33/HW33 -> 42.594859 | IA33: 97/2000 | IB33: 2.00/0.90 | IC33: 10100 | ID33: Guyot | IH33: CHARDONNAY | II33: 2.0425 | IK33: 125 | IL33: =IK33/II33 -> 61.19951 | IM33: 97/2000 | IN33: 2.00/0.90 | IO33: 10100 | IP33: Guyot | IT33: CHARDONNAY | IU33: 2.0425 | IW33: 25 | IX33: 12.239902 | IY33: 97/2000 | IZ33: 2.00/0.90 | JA33: 10100 | JB33: Guyot | JF33: CHARDONNAY | JG33: 2.0425 | JI33: 148 | JJ33: 72.46022 | JK33: 97/2000 | JL33: 2.00/0.90 | JM33: 10100 | JN33: Guyot | JR33: CHARDONNAY | JS33: 2.0425 | JU33: 136 | JV33: =JU33/JS33 -> 66.585067 | JW33: 97/2000 | JX33: 2.00/0.90 | JY33: 10100 | JZ33: Guyot
A34: SAINT PAUL | C34: 1.8 | E34: 223 | F34: =E34/C34 -> 123.88889 | G34: 1957 | O34: 1.8 | Q34: 222 | R34: =Q34/O34 -> 123.33333 | S34: 1957 | AA34: 1.8 | AC34: 221 | AD34: =AC34/AA34 -> 122.77778 | AE34: 1957 | AM34: 1.8 | AO34: 145 | AP34: =AO34/AM34 -> 80.555556 | AQ34: 1957 | AY34: 1.8 | BA34: 238 | BB34: =BA34/AY34 -> 132.22222 | BC34: 1957 | BK34: 1.8 | BM34: 223 | BN34: =BM34/BK34 -> 123.88889 | BO34: 1957 | BW34: 1.8 | BY34: 207 | BZ34: =BY34/BW34 -> 115 | CA34: 1957 | CI34: 1.8 | CK34: 221 | CL34: =CK34/CI34 -> 122.77778 | CU34: 1.8 | CW34: 198 | CX34: =CW34/CU34 -> 110 | DG34: 1.8 | DI34: 120 | DJ34: =DI34/DG34 -> 66.666667 | EP34: GRENACHE BLANC | EQ34: 2.2705 | ES34: Plantier | EU34: 2012 | EV34: 2.50/1.00 | EW34: 7259 | EX34: Buisson | FB34: GRENACHE BLANC | FC34: 2.2705 | FE34: Plantier | FG34: 2012 | FH34: 2.50/1.00 | FI34: 7259 | FJ34: Buisson | FN34: GRENACHE BLANC | FO34: 2.2705 | FQ34: 98 | FR34: =FQ34/FO34 -> 43.162299 | FS34: 2012 | FT34: 2.50/1.00 | FU34: 7259 | FV34: Buisson | FZ34: GRENACHE BLANC | GA34: 2.2705 | GC34: 223 | GD34: =GC34/GA34 -> 98.216252 | GE34: 2012 | GF34: 2.50/1.00 | GG34: 7259 | GH34: Buisson | GL34: GRENACHE BLANC | GM34: 2.2705 | GO34: 163 | GP34: =GO34/GM34 -> 71.790355 | GQ34: 2012 | GR34: 2.50/1.00 | GS34: 7259 | GT34: Buisson | GX34: GRENACHE BLANC | GY34: 2.2705 | HA34: 244 | HB34: =HA34/GY34 -> 107.46532 | HC34: 2012 | HD34: 2.50/1.00 | HE34: 7911 | HF34: Buisson | HJ34: GRENACHE BLANC | HK34: 2.2705 | HM34: 188 | HN34: =HM34/HK34 -> 82.801145 | HO34: 2012 | HP34: 2.50/1.00 | HQ34: 7911 | HR34: Buisson | HV34: GRENACHE BLANC | HW34: 2.2705 | HY34: 225 | HZ34: =HY34/HW34 -> 99.097115 | IA34: 2012 | IB34: 2.50/1.00 | IC34: 7911 | ID34: Buisson | IH34: GRENACHE BLANC | II34: 2.2705 | IK34: 206 | IL34: =IK34/II34 -> 90.728914 | IM34: 2012 | IN34: 2.50/1.00 | IO34: 7911 | IP34: Buisson | IT34: GRENACHE BLANC | IU34: 2.2705 | IW34: 162 | IX34: 71.349923 | IY34: 2012 | IZ34: 2.50/1.00 | JA34: 7911 | JB34: Buisson | JF34: GRENACHE BLANC | JG34: 2.2705 | JI34: 390 | JJ34: 171.76833 | JK34: 2012 | JL34: 2.50/1.00 | JM34: 7911 | JN34: Buisson | JR34: GRENACHE BLANC | JS34: 2.2705 | JU34: 282 | JV34: =JU34/JS34 -> 124.20172 | JW34: 2012 | JX34: 2.50/1.00 | JY34: 7911 | JZ34: Buisson
A35: SAINTE MARIE | B35: CABERNET | C35: 1.9855 | E35: 236 | F35: =E35/C35 -> 118.86175 | G35: 1994 | N35: CABERNET | O35: 1.9855 | Q35: 152 | R35: =Q35/O35 -> 76.555024 | S35: 1994 | Z35: CABERNET | AA35: 1.9855 | AC35: 104 | AD35: =AC35/AA35 -> 52.379753 | AE35: 1994 | AL35: CABERNET | AM35: 1.9855 | AO35: 146 | AP35: =AO35/AM35 -> 73.533115 | AQ35: 1994 | AX35: CABERNET | AY35: 1.9855 | BA35: 179 | BB35: =BA35/AY35 -> 90.153614 | BC35: 1994 | BJ35: CABERNET | BK35: 1.9855 | BM35: 193 | BN35: =BM35/BK35 -> 97.204734 | BO35: 1994 | BV35: CABERNET | BW35: 1.9855 | BY35: 207 | BZ35: =BY35/BW35 -> 104.25585 | CA35: 1994 | CH35: CABERNET | CI35: 1.9855 | CK35: 172 | CL35: =CK35/CI35 -> 86.628053 | CM35: 1994 | CP35: Guyot | CT35: CABERNET | CU35: 1.9855 | CW35: 165 | CX35: =CW35/CU35 -> 83.102493 | CY35: 1994 | DB35: Guyot | DF35: CABERNET | DG35: 1.9855 | DI35: 129 | DJ35: =DI35/DG35 -> 64.97104 | DK35: 1994 | DN35: Guyot | DR35: CABERNET | DS35: 1.9855 | DU35: 159.3 | DV35: =DU35/DS35 -> 80.23168 | DW35: 1994 | DZ35: Guyot | ED35: CABERNET | EE35: 1.9855 | EG35: 150 | EH35: =EG35/EE35 -> 75.547721 | EI35: 1994 | EL35: Guyot | EP35: CABERNET | EQ35: 1.9855 | ES35: 161 | ET35: =ES35/EQ35 -> 81.087887 | EU35: 1994 | EX35: Guyot | FB35: CABERNET | FC35: 1.9855 | FE35: 110 | FF35: =FE35/FC35 -> 55.401662 | FG35: 1994 | FJ35: Guyot | FN35: CABERNET | FO35: 1.9855 | FQ35: 77 | FR35: =FQ35/FO35 -> 38.781163 | FS35: 1994 | FV35: Guyot | FZ35: CABERNET | GA35: 1.9855 | GC35: 139 | GD35: =GC35/GA35 -> 70.007555 | GE35: 1994 | GH35: Guyot | GL35: CABERNET | GM35: 1.9855 | GO35: 82 | GP35: =GO35/GM35 -> 41.299421 | GQ35: 1994 | GT35: Guyot | GX35: CABERNET | GY35: 1.9855 | HA35: 75 | HB35: =HA35/GY35 -> 37.77386 | HC35: 1994 | HF35: Guyot | HJ35: CABERNET | HK35: 1.9855 | HM35: 75 | HN35: =HM35/HK35 -> 37.77386 | HO35: 1994 | HR35: Guyot | HV35: CABERNET | HW35: 1.9855 | HY35: 75 | HZ35: =HY35/HW35 -> 37.77386 | IA35: 1994 | ID35: Guyot | IT35: CALADOC | IU35: 1.9855 | IV35: Plantier | IY35: 2021 | IZ35: 2.50/1.00 | JA35: 7300 | JB35: Buisson | JF35: CALADOC | JG35: 1.9855 | JH35: Plantier | JK35: 2021 | JL35: 2.50/1.00 | JM35: 7300 | JN35: Buisson | JR35: CALADOC | JS35: 1.9855 | JU35: 108 | JV35: =JU35/JS35 -> 54.394359 | JW35: 2021 | JX35: 2.50/1.00 | JY35: 7300 | JZ35: Buisson
A36: SAINTE MARIE MOULOU | B36: CARIGNAN | C36: 3 | E36: 382 | F36: =E36/C36 -> 127.33333 | G36: 1966 | N36: CARIGNAN | O36: 3 | Q36: 205 | R36: =Q36/O36 -> 68.333333 | S36: 1966 | Z36: CARIGNAN | AA36: 3 | AC36: 215 | AD36: =AC36/AA36 -> 71.666667 | AE36: 1966 | AL36: CARIGNAN | AM36: 3 | AO36: 217 | AP36: =AO36/AM36 -> 72.333333 | AQ36: 1966 | AX36: CARIGNAN | AY36: 3 | BA36: 333 | BB36: =BA36/AY36 -> 111 | BC36: 1966 | BJ36: CARIGNAN | BK36: 3 | BM36: 271 | BN36: =BM36/BK36 -> 90.333333 | BO36: 1966 | BV36: CARIGNAN | BW36: 3 | BY36: 173 | BZ36: =BY36/BW36 -> 57.666667 | CA36: 1966 | CI36: 3 | CK36: 271 | CL36: =CK36/CI36 -> 90.333333 | CT36: CALADOC | CU36: 2.818 | CW36: Arraché | DF36: CALADOC | DG36: 2.818 | DI36: Arraché | DR36: CALADOC | DS36: 2.818 | DU36: Arraché | ED36: CALADOC | EE36: 2.818 | EG36: Arraché | EP36: CALADOC | EQ36: 2.818 | ES36: Arraché | FB36: CALADOC | FC36: 2.818 | FE36: Arraché | FN36: CALADOC | FO36: 2.818 | FQ36: Arraché | FZ36: CALADOC | GA36: 2.818 | GC36: Arraché | GL36: CALADOC | GM36: 2.818 | GO36: Arraché | GX36: CALADOC | GY36: 2.818 | HA36: Plantier | HC36: 2017 | HD36: 2.50/1.00 | HE36: 10750 | HF36: Buisson | HJ36: CALADOC | HK36: 2.818 | HM36: Plantier | HO36: 2017 | HP36: 2.50/1.00 | HQ36: 10750 | HR36: Buisson | HV36: CALADOC | HW36: 2.818 | HY36: 0 | IA36: 2017 | IB36: 2.50/1.00 | IC36: 10750 | ID36: Buisson | IH36: CALADOC | II36: 2.818 | IK36: 50 | IL36: =IK36/II36 -> 17.74308 | IM36: 2017 | IN36: 2.50/1.00 | IO36: 10750 | IP36: Buisson | IT36: CALADOC | IU36: 2.818 | IW36: 87 | IX36: 30.87296 | IY36: 2017 | IZ36: 2.50/1.00 | JA36: 10750 | JB36: Buisson | JF36: CALADOC | JG36: 2.818 | JI36: 63 | JJ36: 22.356281 | JK36: 2017 | JL36: 2.50/1.00 | JM36: 10750 | JN36: Buisson | JR36: CALADOC | JS36: 2.818 | JU36: 95 | JV36: =JU36/JS36 -> 33.711852 | JW36: 2017 | JX36: 2.50/1.00 | JY36: 10750 | JZ36: Buisson
A37: SINGLA | B37: CARIGNAN | C37: 1.058 | E37: 117 | F37: =E37/C37 -> 110.58601 | G37: 1958 | N37: CARIGNAN | O37: 1.058 | Q37: 105 | R37: =Q37/O37 -> 99.243856 | S37: 1958 | Z37: CARIGNAN | AA37: 1.058 | AC37: 116 | AD37: =AC37/AA37 -> 109.64083 | AE37: 1958 | AL37: CARIGNAN | AM37: 1.058 | AO37: 120 | AP37: =AO37/AM37 -> 113.42155 | AQ37: 1958 | AX37: CARIGNAN | AY37: 1.058 | BA37: 155 | BB37: =BA37/AY37 -> 146.50284 | BC37: 1958 | BJ37: CARIGNAN | BK37: 1.058 | BM37: 121 | BN37: =BM37/BK37 -> 114.36673 | BO37: 1958 | BV37: CARIGNAN | BW37: 1.058 | BY37: 92 | BZ37: =BY37/BW37 -> 86.956522 | CA37: 1958 | CH37: CARIGNAN | CI37: 0.8927 | CK37: 123 | CL37: =CK37/CI37 -> 137.78425 | CT37: CARIGNAN | CU37: 0.8927 | CW37: 99 | CX37: =CW37/CU37 -> 110.89952 | DF37: CARIGNAN | DG37: 0.8927 | DI37: 90 | DJ37: =DI37/DG37 -> 100.81774 | EP37: GRENACHE | EQ37: 0.643 | ES37: 81 | ET37: =ES37/EQ37 -> 125.97201 | EU37: 1999 | EV37: 2.50/1.00 | EW37: 8170 | EX37: Guyot | FN37: GRENACHE NOIR | FO37: 1.058 | FQ37: Plantier | FS37: 2014 | FT37: 2.50/1.00 | FU37: 3324 | FV37: Buisson | FZ37: GRENACHE NOIR | GA37: 1.058 | GE37: 2014 | GF37: 2.50/1.00 | GG37: 3324 | GH37: Buisson | GL37: GRENACHE NOIR | GM37: 1.058 | GO37: 14 | GP37: =GO37/GM37 -> 13.232514 | GQ37: 2014 | GR37: 2.50/1.00 | GS37: 3324 | GT37: Buisson | GX37: GRENACHE NOIR | GY37: 1.058 | HA37: 37 | HB37: =HA37/GY37 -> 34.971645 | HC37: 2014 | HD37: 2.50/1.00 | HE37: 3765 | HF37: Buisson | HJ37: GRENACHE NOIR | HK37: 1.058 | HM37: 38 | HN37: =HM37/HK37 -> 35.916824 | HO37: 2014 | HP37: 2.50/1.00 | HQ37: 3765 | HR37: Buisson | HV37: GRENACHE NOIR | HW37: 1.058 | HY37: 75 | HZ37: =HY37/HW37 -> 70.888469 | IA37: 2014 | IB37: 2.50/1.00 | IC37: 3765 | ID37: Buisson | IH37: GRENACHE NOIR | II37: 1.058 | IK37: 81 | IL37: =IK37/II37 -> 76.559546 | IM37: 2014 | IN37: 2.50/1.00 | IO37: 3765 | IP37: Buisson | IT37: GRENACHE NOIR | IU37: 1.058 | IW37: 68 | IX37: 64.272212 | IY37: 2014 | IZ37: 2.50/1.00 | JA37: 3765 | JB37: Buisson | JF37: GRENACHE NOIR | JG37: 1.058 | JI37: 160 | JJ37: 151.22873 | JK37: 2014 | JL37: 2.50/1.00 | JM37: 3765 | JN37: Buisson | JR37: GRENACHE NOIR | JS37: 1.058 | JU37: 140 | JV37: =JU37/JS37 -> 132.32514 | JW37: 2014 | JX37: 2.50/1.00 | JY37: 3765 | JZ37: Buisson
A38: SINGLA HAUT | C38: 0.643 | E38: 100 | F38: =E38/C38 -> 155.521 | G38: 1997 | O38: 0.643 | Q38: 105 | R38: =Q38/O38 -> 163.29705 | S38: 1997 | AA38: 0.643 | AC38: 104 | AD38: =AC38/AA38 -> 161.74184 | AE38: 1997 | AM38: 0.643 | AO38: 85 | AP38: =AO38/AM38 -> 132.19285 | AQ38: 1997 | AY38: 0.643 | BA38: 107 | BB38: =BA38/AY38 -> 166.40747 | BC38: 1997 | BK38: 0.643 | BM38: 121 | BN38: =BM38/BK38 -> 188.1804 | BO38: 1997 | BW38: 0.643 | BY38: 92 | BZ38: =BY38/BW38 -> 143.07932 | CA38: 1997 | CH38: GRENACHE | CI38: 0.643 | CK38: 135 | CL38: =CK38/CI38 -> 209.95334 | CM38: 1999 | CN38: 2.50/1.00 | CO38: 8170 | CP38: Guyot | CT38: GRENACHE | CU38: 0.643 | CW38: 110 | CX38: =CW38/CU38 -> 171.07309 | CY38: 1999 | CZ38: 2.50/1.00 | DA38: 8170 | DB38: Guyot | DF38: GRENACHE | DG38: 0.643 | DI38: 77 | DJ38: =DI38/DG38 -> 119.75117 | DK38: 1999 | DL38: 2.50/1.00 | DM38: 8170 | DN38: Guyot | DR38: GRENACHE | DS38: 0.643 | DU38: 86.28 | DV38: =DU38/DS38 -> 134.18351 | DW38: 1999 | DX38: 2.50/1.00 | DY38: 8170 | DZ38: Guyot | ED38: GRENACHE | EE38: 0.643 | EG38: 109 | EH38: =EG38/EE38 -> 169.51788 | EI38: 1999 | EJ38: 2.50/1.00 | EK38: 8170 | EL38: Guyot | EP38: GRENACHE | EQ38: 1.35 | ES38: Arraché | FB38: GRENACHE | FC38: 0.643 | FE38: 110 | FF38: =FE38/FC38 -> 171.07309 | FG38: 1999 | FH38: 2.50/1.00 | FI38: 8170 | FJ38: Guyot | FN38: GRENACHE | FO38: 0.643 | FQ38: 56 | FR38: =FQ38/FO38 -> 87.091757 | FS38: 1999 | FT38: 2.50/1.00 | FU38: 8170 | FV38: Guyot | FZ38: GRENACHE | GA38: 0.643 | GC38: 105 | GD38: =GC38/GA38 -> 163.29705 | GE38: 1999 | GF38: 2.50/1.00 | GG38: 8170 | GH38: Guyot | GL38: GRENACHE | GM38: 0.643 | GO38: 54 | GP38: =GO38/GM38 -> 83.981337 | GQ38: 1999 | GR38: 2.50/1.00 | GS38: 8170 | GT38: Guyot | GX38: GRENACHE | GY38: 0.643 | HA38: 50 | HB38: =HA38/GY38 -> 77.760498
A39: SOUS AMANDIER | B39: GRENACHE | C39: 1.865 | E39: 147 | F39: =E39/C39 -> 78.820375 | G39: 1961 | N39: GRENACHE | O39: 1.35 | Q39: 94 | R39: =Q39/O39 -> 69.62963 | S39: 1961 | Z39: GRENACHE | AA39: 1.35 | AC39: 105 | AD39: =AC39/AA39 -> 77.777778 | AE39: 1961 | AL39: GRENACHE | AM39: 1.35 | AO39: 86 | AP39: =AO39/AM39 -> 63.703704 | AQ39: 1961 | AX39: GRENACHE | AY39: 1.35 | BA39: 131 | BB39: =BA39/AY39 -> 97.037037 | BC39: 1961 | BJ39: GRENACHE | BK39: 1.35 | BM39: 96 | BN39: =BM39/BK39 -> 71.111111 | BO39: 1961 | BV39: GRENACHE | BW39: 1.35 | BY39: Arraché | CH39: GRENACHE | CI39: 1.35 | CK39: Arraché | CT39: GRENACHE | CU39: 1.35 | CW39: Arraché | DF39: GRENACHE | DG39: 1.35 | DI39: Arraché | DR39: GRENACHE | DS39: 1.35 | DU39: Arraché | ED39: GRENACHE | EE39: 1.35 | EG39: Arraché | FB39: GRENACHE | FC39: 1.35 | FE39: Arraché | FN39: CINSAULT | FO39: 1.35 | FQ39: Plantier | FS39: 2014 | FT39: 2.50/1.00 | FU39: 3765 | FV39: Buisson | FZ39: CINSAULT | GA39: 1.35 | GE39: 2014 | GF39: 2.50/1.00 | GG39: 3765 | GH39: Buisson | GL39: CINSAULT | GM39: 1.35 | GO39: 26 | GP39: =GO39/GM39 -> 19.259259 | GQ39: 2014 | GR39: 2.50/1.00 | GS39: 3765 | GT39: Buisson | GX39: CINSAULT | GY39: 1.35 | HA39: 250 | HB39: =HA39/GY39 -> 185.18519 | HC39: 2014 | HD39: 2.50/1.00 | HE39: 4457 | HF39: Buisson | HJ39: CINSAULT | HK39: 1.35 | HM39: 175 | HN39: =HM39/HK39 -> 129.62963 | HO39: 2014 | HP39: 2.50/1.00 | HQ39: 4457 | HR39: Buisson | HV39: CINSAULT | HW39: 1.35 | HY39: 156 | HZ39: =HY39/HW39 -> 115.55556 | IA39: 2014 | IB39: 2.50/1.00 | IC39: 4457 | ID39: Buisson | IH39: CINSAULT | II39: 1.35 | IK39: 237 | IL39: =IK39/II39 -> 175.55556 | IM39: 2014 | IN39: 2.50/1.00 | IO39: 4457 | IP39: Buisson | JF39: CINSAULT | JG39: 1.35 | JI39: 326 | JJ39: 241.48148 | JK39: 2014 | JL39: 2.50/1.00 | JM39: 4457 | JN39: Buisson | JR39: CINSAULT | JS39: 1.35 | JU39: 217 | JV39: =JU39/JS39 -> 160.74074 | JW39: 2014 | JX39: 2.50/1.00 | JY39: 4457 | JZ39: Buisson
A40: TERRET LONG FUMIER | C40: 0.9 | E40: 94 | F40: =E40/C40 -> 104.44444 | G40: 1961 | O40: 0.9 | Q40: 94 | R40: =Q40/O40 -> 104.44444 | S40: 1961 | AA40: 0.9 | AC40: 64 | AD40: =AC40/AA40 -> 71.111111 | AE40: 1961 | AM40: 0.9 | AO40: Arraché | AY40: 0.9 | BA40: Arraché | BK40: 0.9 | BM40: Arraché | BW40: 0.9821 | BY40: Plantier | CA40: 2005 | CH40: CABERNET SAUVIGNON | CI40: 0.9821 | CK40: 86 | CL40: =CK40/CI40 -> 87.567457 | CM40: 2005 | CN40: 2.50/1.00 | CO40: 7390 | CP40: Guyot | CT40: CABERNET SAUVIGNON | CU40: 0.9821 | CW40: 154 | CX40: =CW40/CU40 -> 156.80684 | CY40: 2005 | CZ40: 2.50/1.00 | DA40: 7390 | DB40: Guyot | DF40: CABERNET SAUVIGNON | DG40: 0.9821 | DI40: 109 | DJ40: =DI40/DG40 -> 110.98666 | DK40: 2005 | DL40: 2.50/1.00 | DM40: 7390 | DN40: Guyot | DR40: CABERNET SAUVIGNON | DS40: 0.9821 | DU40: 132.75 | DV40: =DU40/DS40 -> 135.16953 | DW40: 2005 | DX40: 2.50/1.00 | DY40: 7390 | DZ40: Guyot | ED40: CABERNET SAUVIGNON | EE40: 0.9821 | EG40: 150 | EH40: =EG40/EE40 -> 152.73394 | EI40: 2005 | EJ40: 2.50/1.00 | EK40: 7390 | EL40: Guyot | EP40: CABERNET SAUVIGNON | EQ40: 0.9821 | ES40: 121 | ET40: =ES40/EQ40 -> 123.20538 | EU40: 2005 | EV40: 2.50/1.00 | EW40: 7390 | EX40: Guyot | FB40: CABERNET SAUVIGNON | FC40: 0.9821 | FE40: 110 | FF40: =FE40/FC40 -> 112.00489 | FG40: 2005 | FH40: 2.50/1.00 | FI40: 7390 | FJ40: Guyot | FN40: CABERNET SAUVIGNON | FO40: 0.9821 | FQ40: 56 | FR40: =FQ40/FO40 -> 57.02067 | FS40: 2005 | FT40: 2.50/1.00 | FU40: 7390 | FV40: Guyot | FZ40: CABERNET SAUVIGNON | GA40: 0.9821 | GC40: 146 | GD40: =GC40/GA40 -> 148.66103 | GE40: 2005 | GF40: 2.50/1.00 | GG40: 7390 | GH40: Guyot | GL40: CABERNET SAUVIGNON | GM40: 0.9821 | GO40: 68 | GP40: =GO40/GM40 -> 69.239385 | GQ40: 2005 | GR40: 2.50/1.00 | GS40: 7390 | GT40: Guyot | GX40: CABERNET SAUVIGNON | GY40: 0.9821 | HA40: 100 | HB40: =HA40/GY40 -> 101.82262 | HC40: 2005 | HD40: 2.50/1.00 | HE40: 3070 | HF40: Guyot | HJ40: CABERNET SAUVIGNON | HK40: 0.9821 | HM40: 63 | HN40: =HM40/HK40 -> 64.148254 | HO40: 2005 | HP40: 2.50/1.00 | HQ40: 3070 | HR40: Guyot | HV40: CABERNET SAUVIGNON | HW40: 0.9821 | HY40: 50 | HZ40: =HY40/HW40 -> 50.911312 | IA40: 2005 | IB40: 2.50/1.00 | IC40: 3070 | ID40: Guyot | IH40: CABERNET SAUVIGNON | II40: 0.9821 | IK40: 75 | IL40: =IK40/II40 -> 76.366969 | IM40: 2005 | IN40: 2.50/1.00 | IO40: 3070 | IP40: Guyot | IT40: CABERNET SAUVIGNON | IU40: 0.9821 | IW40: 37 | IX40: 37.674371 | IY40: 2005 | IZ40: 2.50/1.00 | JA40: 3070 | JB40: Guyot | JF40: CABERNET SAUVIGNON | JG40: 0.9821 | JI40: 86 | JJ40: 87.567457 | JK40: 2005 | JL40: 2.50/1.00 | JM40: 3070 | JN40: Guyot | JR40: CABERNET SAUVIGNON | JS40: 0.9821 | JU40: 50 | JV40: =JU40/JS40 -> 50.911312 | JW40: 2005 | JX40: 2.50/1.00 | JY40: 3070 | JZ40: Guyot
A41: TERRET LONG HAUT | BW41: 1.1531 | BY41: Plantier | CA41: 2005 | CH41: GRENACHE | CI41: 1.1531 | CK41: 49 | CL41: =CK41/CI41 -> 42.494146 | CM41: 2005 | CN41: 2.50/1.00 | CO41: 3070 | CP41: Guyot | CT41: GRENACHE | CU41: 1.1531 | CW41: 88 | CX41: =CW41/CU41 -> 76.316018 | CY41: 2005 | CZ41: 2.50/1.00 | DA41: 3070 | DB41: Guyot | DF41: GRENACHE | DG41: 1.1531 | DI41: 103 | DJ41: =DI41/DG41 -> 89.32443 | DK41: 2005 | DL41: 2.50/1.00 | DM41: 3070 | DN41: Guyot | DR41: GRENACHE | DS41: 1.1531 | DU41: 92.92 | DV41: =DU41/DS41 -> 80.582777 | DW41: 2005 | DX41: 2.50/1.00 | DY41: 3070 | DZ41: Guyot | ED41: GRENACHE | EE41: 1.1531 | EG41: 137 | EH41: =EG41/EE41 -> 118.81016 | EI41: 2005 | EJ41: 2.50/1.00 | EK41: 3070 | EL41: Guyot | EP41: GRENACHE | EQ41: 1.1531 | ES41: 81 | ET41: =ES41/EQ41 -> 70.245425 | EU41: 2005 | EV41: 2.50/1.00 | EW41: 3070 | EX41: Guyot | FB41: GRENACHE | FC41: 1.1531 | FE41: 110 | FF41: =FE41/FC41 -> 95.395022 | FG41: 2005 | FH41: 2.50/1.00 | FI41: 3070 | FJ41: Guyot | FN41: GRENACHE | FO41: 1.1531 | FQ41: 63 | FR41: =FQ41/FO41 -> 54.635331 | FS41: 2005 | FT41: 2.50/1.00 | FU41: 3070 | FV41: Guyot | FZ41: GRENACHE | GA41: 1.1531 | GC41: 63 | GD41: =GC41/GA41 -> 54.635331 | GE41: 2005 | GF41: 2.50/1.00 | GG41: 3070 | GH41: Guyot | GL41: GRENACHE | GM41: 1.0931 | GO41: 82 | GP41: =GO41/GM41 -> 75.01601 | GQ41: 2005 | GR41: 2.50/1.00 | GS41: 3070 | GT41: Guyot | GX41: GRENACHE | GY41: 1.0931 | HA41: 125 | HB41: =HA41/GY41 -> 114.35367 | HC41: 2005 | HD41: 2.50/1.00 | HE41: 3545 | HF41: Guyot | HJ41: GRENACHE | HK41: 1.0931 | HM41: 75 | HN41: =HM41/HK41 -> 68.612204 | HO41: 2005 | HP41: 2.50/1.00 | HQ41: 3545 | HR41: Guyot | HV41: GRENACHE | HW41: 1.0931 | HY41: 50 | HZ41: =HY41/HW41 -> 45.741469 | IA41: 2005 | IB41: 2.50/1.00 | IC41: 3545 | ID41: Guyot | IH41: GRENACHE | II41: 1.0931 | IK41: 81 | IL41: =IK41/II41 -> 74.10118 | IM41: 2005 | IN41: 2.50/1.00 | IO41: 3545 | IP41: Guyot | IT41: GRENACHE | IU41: 1.0931 | IW41: 56 | IX41: 51.230446 | IY41: 2005 | IZ41: 2.50/1.00 | JA41: 3545 | JB41: Guyot | JF41: GRENACHE | JG41: 1.0931 | JI41: 160 | JJ41: 146.3727 | JK41: 2005 | JL41: 2.50/1.00 | JM41: 3545 | JN41: Guyot | JR41: GRENACHE | JS41: 1.0931 | JU41: 58 | JV41: =JU41/JS41 -> 53.060104 | JW41: 2005 | JX41: 2.50/1.00 | JY41: 3545 | JZ41: Guyot
A42: VIGOUROUX | C42: 0.9 | E42: 94 | F42: =E42/C42 -> 104.44444 | G42: 1961 | O42: 1.0315 | Q42: 87 | R42: =Q42/O42 -> 84.34319 | S42: 1999 | AA42: 1.0315 | AC42: 157 | AD42: =AC42/AA42 -> 152.20553 | AE42: 1999 | AM42: 1.0315 | AO42: 146 | AP42: =AO42/AM42 -> 141.54144 | AQ42: 1999 | AY42: 0.9 | BA42: Arraché | BK42: 1.0315 | BM42: 169 | BN42: =BM42/BK42 -> 163.83907 | BO42: 1999 | BW42: 1.0315 | BY42: 155 | BZ42: =BY42/BW42 -> 150.2666 | CA42: 1999 | CH42: GRENACHE | CI42: 1.0315 | CK42: 197 | CL42: =CK42/CI42 -> 190.984 | CT42: GRENACHE | CU42: 1.0315 | CW42: 187 | CX42: =CW42/CU42 -> 181.28938 | DF42: GRENACHE | DG42: 1.0315 | DI42: 116 | DJ42: =DI42/DG42 -> 112.45759 | DR42: GRENACHE | DS42: 1.0315 | DU42: 139.38 | DV42: =DU42/DS42 -> 135.12361 | ED42: GRENACHE | EE42: 1.0315 | EG42: 157 | EH42: =EG42/EE42 -> 152.20553 | EP42: GRENACHE | EQ42: 1.0315 | ES42: 108 | ET42: =ES42/EQ42 -> 104.70189 | FB42: GRENACHE | FC42: 1.0315 | FE42: 83 | FF42: =FE42/FC42 -> 80.465342 | FN42: GRENACHE | FO42: 1.0315 | FQ42: 56 | FR42: =FQ42/FO42 -> 54.289869 | FZ42: GRENACHE | GA42: 1.0315 | GC42: 83 | GD42: =GC42/GA42 -> 80.465342 | GL42: GRENACHE | GM42: 1.0205 | GO42: 54 | GP42: =GO42/GM42 -> 52.915238
A44: TOTAL ou MOYENNE | C44: =SUM(C3:C43) -> 51.5289 | E44: =SUM(E3:E43) -> 5413 | F44: =AVERAGE(F3:F42) -> 116.27122 | O44: =SUM(O3:O43) -> 51.1454 | Q44: =SUM(Q3:Q43) -> 4743 | R44: =AVERAGE(R3:R42) -> 98.675685 | AA44: =SUM(AA3:AA43) -> 34.3637 | AC44: =SUM(AC3:AC43) -> 2903 | AD44: =AVERAGE(AD3:AD42) -> 95.936043 | AM44: =SUM(AM3:AM43) -> 47.0639 | AO44: =SUM(AO3:AO43) -> 3397 | AP44: =AVERAGE(AP3:AP42) -> 89.493372 | AY44: =SUM(AY3:AY43) -> 49.5204 | BA44: =SUM(BA3:BA43) -> 5074 | BB44: =AVERAGE(BB3:BB42) -> 117.25896 | BK44: =SUM(BK3:BK43) -> 49.6519 | BM44: =SUM(BM3:BM43) -> 4573 | BN44: =AVERAGE(BN3:BN42) -> 111.39202 | BW44: =SUM(BW3:BW43) -> 55.8555 | BY44: =SUM(BY3:BY43) -> 3759 | BZ44: =AVERAGE(BZ3:BZ42) -> 103.06165 | CI44: =SUM(CI3:CI43) -> 49.917 | CK44: =SUM(CK3:CK43) -> 4116 | CL44: =AVERAGE(CL3:CL42) -> 105.55855 | CU44: =SUM(CU3:CU43) -> 54.0484 | CW44: =SUM(CW3:CW43) -> 3719 | CX44: =AVERAGE(CX3:CX42) -> 105.83091 | DG44: =SUM(DG3:DG43) -> 56.0909 | DI44: =SUM(DI3:DI43) -> 3138.8 | DJ44: =AVERAGE(DJ3:DJ42) -> 83.717583 | DS44: =SUM(DS3:DS43) -> 52.9803 | DU44: =SUM(DU3:DU43) -> 3504.53 | DV44: =AVERAGE(DV3:DV42) -> 103.65188 | EE44: =SUM(EE3:EE43) -> 51.127 | EG44: =SUM(EG3:EG43) -> 4506 | EH44: =AVERAGE(EH3:EH42) -> 125.39275 | EQ44: =SUM(EQ3:EQ43) -> 56.941 | ES44: =SUM(ES3:ES43) -> 3200 | ET44: =AVERAGE(ET3:ET42) -> 94.93942 | FC44: =SUM(FC3:FC43) -> 56.941 | FE44: =SUM(FE3:FE43) -> 3503 | FF44: =AVERAGE(FF3:FF42) -> 102.62657 | FO44: =SUM(FO3:FO43) -> 58.493 | FQ44: =SUM(FQ3:FQ43) -> 2618 | FR44: =AVERAGE(FR3:FR42) -> 64.566864 | GA44: =SUM(GA3:GA43) -> 64.0358 | GC44: =SUM(GC3:GC43) -> 4888 | GD44: =AVERAGE(GD3:GD42) -> 114.97232 | GM44: =SUM(GM3:GM43) -> 64.2648 | GO44: =SUM(GO3:GO43) -> 3644 | GP44: =AVERAGE(GP3:GP42) -> 72.380714 | GY44: =SUM(GY3:GY43) -> 65.2023 | HA44: =SUM(HA3:HA43) -> 4112 | HB44: =AVERAGE(HB3:HB42) -> 74.327594 | HK44: =SUM(HK3:HK43) -> 63.6613 | HM44: =SUM(HM3:HM43) -> 3878 | HN44: =AVERAGE(HN3:HN42) -> 73.424072 | HW44: =SUM(HW3:HW43) -> 64.6928 | HY44: =SUM(HY3:HY43) -> 4483 | HZ44: =AVERAGE(HZ3:HZ42) -> 74.26309 | II44: =SUM(II3:II43) -> 57.5051 | IK44: =SUM(IK3:IK43) -> 4610 | IL44: =AVERAGE(IL3:IL42) -> 90.645943 | IU44: =SUM(IU3:IU43) -> 61.9923 | IW44: =SUM(IW3:IW43) -> 2807 | IX44: =AVERAGE(IX3:IX42) -> 52.750666 | JG44: =SUM(JG3:JG43) -> 63.3423 | JI44: =SUM(JI3:JI43) -> 6175 | JJ44: =AVERAGE(JJ3:JJ43) -> 113.27028 | JS44: =SUM(JS3:JS43) -> 63.0233 | JU44: =SUM(JU3:JU43) -> 5454 | JV44: =AVERAGE(JV3:JV42) -> 90.816529

Sheet CROISE DYNAMIQUE
A3: Étiquettes de lignes | B3: Moyenne de 2000 - RENDEMENT | C3: Moyenne de 2001 - RENDEMENT | D3: Moyenne de 2002 - RENDEMENT | E3: Moyenne de 2003 - RENDEMENT | F3: Moyenne de 2004 - RENDEMENT | G3: Moyenne de 2005 - RENDEMENT | H3: Somme de 2006 - RENDEMENT | I3: Somme de 2007 - RENDEMENT | J3: Somme de 2008 - RENDEMENT | K3: Somme de 2009 - RENDEMENT | L3: Somme de 2010 - RENDEMENT | M3: Somme de 2011 - RENDEMENT | N3: Somme de 2012 - RENDEMENT | O3: Somme de 2013 - RENDEMENT | P3: Somme de 2014 - RENDEMENT | Q3: Somme de 2015 - RENDEMENT | R3: Somme de 2016 - RENDEMENT | S3: Somme de 2017 - RENDEMENT | T3: Somme de 2018 - RENDEMENT | U3: Somme de 2019 - RENDEMENT | V3: Somme de 2020 - RENDEMENT | W3: Somme de 2021 - RENDEMENT | X3: Somme de 2022 - RENDEMENT | Y3: Somme de 2023 - RENDEMENT
A4: Total général

Sheet Stat. Rentabilité
A1: NOM | B1: 2000 | C1: 2001 | D1: 2002 | E1: 2003 | F1: 2004 | G1: 2005 | H1: 2006 | I1: 2007 | J1: 2008 | K1: 2009 | L1: 2010 | M1: 2011 | N1: 2012 | O1: 2013 | P1: 2014 | Q1: 2015 | R1: 2016 | S1: 2017 | T1: 2018 | U1: 2019 | V1: 2020 | W1: 2021 | X1: 2022 | Y1: 2023
A2: AVEROUSSE | B2: =INDEX(Bilan_Global!$A$3:$AAC$71,MATCH($A2,Bilan_Global!$A$3:$A$71,0),MATCH(B$1&" - RENDEMENT",Bilan_Global!$A$2:$ACT$2,0)) -> 0 | C2: =INDEX(Bilan_Global!$A$3:$AAC$71,MATCH($A2,Bilan_Global!$A$3:$A$71,0),MATCH(C$1&" - RENDEMENT",Bilan_Global!$A$2:$ACT$2,0)) -> 0 | D2: =INDEX(Bilan_Global!$A$3:$AAC$71,MATCH($A2,Bilan_Global!$A$3:$A$71,0),MATCH(D$1&" - RENDEMENT",Bilan_Global!$A$2:$ACT$2,0)) -> 0 | E2: =INDEX(Bilan_Global!$A$3:$AAC$71,MATCH($A2,Bilan_Global!$A$3:$A$71,0),MATCH(E$1&" - RENDEMENT",Bilan_Global!$A$2:$ACT$2,0)) -> 0 | F2: =INDEX(Bilan_Global!$A$3:$AAC$71,MATCH($A2,Bilan_Global!$A$3:$A$71,0),MATCH(F$1&" - RENDEMENT",Bilan_Global!$A$2:$ACT$2,0)) -> 0 | G2: =INDEX(Bilan_Global!$A$3:$AAC$71,MATCH($A2,Bilan_Global!$A$3:$A$71,0),MATCH(G$1&" - RENDEMENT",Bilan_Global!$A$2:$ACT$2,0)) -> 0 | H2: =INDEX(Bilan_Global!$A$3:$AAC$71,MATCH($A2,Bilan_Global!$A$3:$A$71,0),MATCH(H$1&" - RENDEMENT",Bilan_Global!$A$2:$ACT$2,0)) -> 0 | I2: =INDEX(Bilan_Global!$A$3:$AAC$71,MATCH($A2,Bilan_Global!$A$3:$A$71,0),MATCH(I$1&" - RENDEMENT",Bilan_Global!$A$2:$ACT$2,0)) -> 0 | ... Y2: =INDEX(Bilan_Global!$A$3:$AAC$71,MATCH($A2,Bilan_Global!$A$3:$A$71,0),MATCH(Y$1&" - RENDEMENT",Bilan_Global!$A$2:$ACT$2,0)) -> 0
A3: BOUDET | B3: =INDEX(Bilan_Global!$A$3:$AAC$71,MATCH($A3,Bilan_Global!$A$3:$A$71,0),MATCH(B$1&" - RENDEMENT",Bilan_Global!$A$2:$ACT$2,0)) -> 108.57763 | C3: =INDEX(Bilan_Global!$A$3:$AAC$71,MATCH($A3,Bilan_Global!$A$3:$A$71,0),MATCH(C$1&" - RENDEMENT",Bilan_Global!$A$2:$ACT$2,0)) -> 102.06298 | D3: =INDEX(Bilan_Global!$A$3:$AAC$71,MATCH($A3,Bilan_Global!$A$3:$A$71,0),MATCH(D$1&" - RENDEMENT",Bilan_Global!$A$2:$ACT$2,0)) -> 0 | E3: =INDEX(Bilan_Global!$A$3:$AAC$71,MATCH($A3,Bilan_Global!$A$3:$A$71,0),MATCH(E$1&" - RENDEMENT",Bilan_Global!$A$2:$ACT$2,0)) -> 104.23453 | F3: =INDEX(Bilan_Global!$A$3:$AAC$71,MATCH($A3,Bilan_Global!$A$3:$A$71,0),MATCH(F$1&" - RENDEMENT",Bilan_Global!$A$2:$ACT$2,0)) -> 104.23453 | G3: =INDEX(Bilan_Global!$A$3:$AAC$71,MATCH($A3,Bilan_Global!$A$3:$A$71,0),MATCH(G$1&" - RENDEMENT",Bilan_Global!$A$2:$ACT$2,0)) -> 91.205212 | H3: =INDEX(Bilan_Global!$A$3:$AAC$71,MATCH($A3,Bilan_Global!$A$3:$A$71,0),MATCH(H$1&" - RENDEMENT",Bilan_Global!$A$2:$ACT$2,0)) -> 73.83279 | I3: =INDEX(Bilan_Global!$A$3:$AAC$71,MATCH($A3,Bilan_Global!$A$3:$A$71,0),MATCH(I$1&" - RENDEMENT",Bilan_Global!$A$2:$ACT$2,0)) -> 80.347448 | ... Y3: =INDEX(Bilan_Global!$A$3:$AAC$71,MATCH($A3,Bilan_Global!$A$3:$A$71,0),MATCH(Y$1&" - RENDEMENT",Bilan_Global!$A$2:$ACT$2,0)) -> 117.01515
A4: BOUTEILLOU | B4: =INDEX(Bilan_Global!$A$3:$AAC$71,MATCH($A4,Bilan_Global!$A$3:$A$71,0),MATCH(B$1&" - RENDEMENT",Bilan_Global!$A$2:$ACT$2,0)) -> 146.62757 | C4: =INDEX(Bilan_Global!$A$3:$AAC$71,MATCH($A4,Bilan_Global!$A$3:$A$71,0),MATCH(C$1&" - RENDEMENT",Bilan_Global!$A$2:$ACT$2,0)) -> 93.841642 | D4: =INDEX(Bilan_Global!$A$3:$AAC$71,MATCH($A4,Bilan_Global!$A$3:$A$71,0),MATCH(D$1&" - RENDEMENT",Bilan_Global!$A$2:$ACT$2,0)) -> 0 | E4: =INDEX(Bilan_Global!$A$3:$AAC$71,MATCH($A4,Bilan_Global!$A$3:$A$71,0),MATCH(E$1&" - RENDEMENT",Bilan_Global!$A$2:$ACT$2,0)) -> 70.381232 | F4: =INDEX(Bilan_Global!$A$3:$AAC$71,MATCH($A4,Bilan_Global!$A$3:$A$71,0),MATCH(F$1&" - RENDEMENT",Bilan_Global!$A$2:$ACT$2,0)) -> 87.97654 | G4: =INDEX(Bilan_Global!$A$3:$AAC$71,MATCH($A4,Bilan_Global!$A$3:$A$71,0),MATCH(G$1&" - RENDEMENT",Bilan_Global!$A$2:$ACT$2,0)) -> 87.97654 | H4: =INDEX(Bilan_Global!$A$3:$AAC$71,MATCH($A4,Bilan_Global!$A$3:$A$71,0),MATCH(H$1&" - RENDEMENT",Bilan_Global!$A$2:$ACT$2,0)) -> 0 | I4: =INDEX(Bilan_Global!$A$3:$AAC$71,MATCH($A4,Bilan_Global!$A$3:$A$71,0),MATCH(I$1&" - RENDEMENT",Bilan_Global!$A$2:$ACT$2,0)) -> 0 | ... Y4: =INDEX(Bilan_Global!$A$3:$AAC$71,MATCH($A4,Bilan_Global!$A$3:$A$71,0),MATCH(Y$1&" - RENDEMENT",Bilan_Global!$A$2:$ACT$2,0)) -> 0
A5: CHAMP BLANC | B5: =INDEX(Bilan_Global!$A$3:$AAC$71,MATCH($A5,Bilan_Global!$A$3:$A$71,0),MATCH(B$1&" - RENDEMENT",Bilan_Global!$A$2:$ACT$2,0)) -> 99.139953 | C5: =INDEX(Bilan_Global!$A$3:$AAC$71,MATCH($A5,Bilan_Global!$A$3:$A$71,0),MATCH(C$1&" - RENDEMENT",Bilan_Global!$A$2:$ACT$2,0)) -> 91.634089 | D5: =INDEX(Bilan_Global!$A$3:$AAC$71,MATCH($A5,Bilan_Global!$A$3:$A$71,0),MATCH(D$1&" - RENDEMENT",Bilan_Global!$A$2:$ACT$2,0)) -> 0 | E5: =INDEX(Bilan_Global!$A$3:$AAC$71,MATCH($A5,Bilan_Global!$A$3:$A$71,0),MATCH(E$1&" - RENDEMENT",Bilan_Global!$A$2:$ACT$2,0)) -> 0 | F5: =INDEX(Bilan_Global!$A$3:$AAC$71,MATCH($A5,Bilan_Global!$A$3:$A$71,0),MATCH(F$1&" - RENDEMENT",Bilan_Global!$A$2:$ACT$2,0)) -> 0 | G5: =INDEX(Bilan_Global!$A$3:$AAC$71,MATCH($A5,Bilan_Global!$A$3:$A$71,0),MATCH(G$1&" - RENDEMENT",Bilan_Global!$A$2:$ACT$2,0)) -> 0 | H5: =INDEX(Bilan_Global!$A$3:$AAC$71,MATCH($A5,Bilan_Global!$A$3:$A$71,0),MATCH(H$1&" - RENDEMENT",Bilan_Global!$A$2:$ACT$2,0)) -> 0 | I5: =INDEX(Bilan_Global!$A$3:$AAC$71,MATCH($A5,Bilan_Global!$A$3:$A$71,0),MATCH(I$1&" - RENDEMENT",Bilan_Global!$A$2:$ACT$2,0)) -> 0 | ... Y5: =INDEX(Bilan_Global!$A$3:$AAC$71,MATCH($A5,Bilan_Global!$A$3:$A$71,0),MATCH(Y$1&" - RENDEMENT",Bilan_Global!$A$2:$ACT$2,0)) -> 0
A6: CHAMP BOSSU | B6: =INDEX(Bilan_Global!$A$3:$AAC$71,MATCH($A6,Bilan_Global!$A$3:$A$71,0),MATCH(B$1&" - RENDEMENT",Bilan_Global!$A$2:$ACT$2,0)) -> 120.37745 | C6: =INDEX(Bilan_Global!$A$3:$AAC$71,MATCH($A6,Bilan_Global!$A$3:$A$71,0),MATCH(C$1&" - RENDEMENT",Bilan_Global!$A$2:$ACT$2,0)) -> 71.410355 | D6: =INDEX(Bilan_Global!$A$3:$AAC$71,MATCH($A6,Bilan_Global!$A$3:$A$71,0),MATCH(D$1&" - RENDEMENT",Bilan_Global!$A$2:$ACT$2,0)) -> 0 | E6: =INDEX(Bilan_Global!$A$3:$AAC$71,MATCH($A6,Bilan_Global!$A$3:$A$71,0),MATCH(E$1&" - RENDEMENT",Bilan_Global!$A$2:$ACT$2,0)) -> 73.45065 | F6: =INDEX(Bilan_Global!$A$3:$AAC$71,MATCH($A6,Bilan_Global!$A$3:$A$71,0),MATCH(F$1&" - RENDEMENT",Bilan_Global!$A$2:$ACT$2,0)) -> 133.63938 | G6: =INDEX(Bilan_Global!$A$3:$AAC$71,MATCH($A6,Bilan_Global!$A$3:$A$71,0),MATCH(G$1&" - RENDEMENT",Bilan_Global!$A$2:$ACT$2,0)) -> 92.323387 | H6: =INDEX(Bilan_Global!$A$3:$AAC$71,MATCH($A6,Bilan_Global!$A$3:$A$71,0),MATCH(H$1&" - RENDEMENT",Bilan_Global!$A$2:$ACT$2,0)) -> 93.853609 | I6: =INDEX(Bilan_Global!$A$3:$AAC$71,MATCH($A6,Bilan_Global!$A$3:$A$71,0),MATCH(I$1&" - RENDEMENT",Bilan_Global!$A$2:$ACT$2,0)) -> 100.48457 | ... Y6: =INDEX(Bilan_Global!$A$3:$AAC$71,MATCH($A6,Bilan_Global!$A$3:$A$71,0),MATCH(Y$1&" - RENDEMENT",Bilan_Global!$A$2:$ACT$2,0)) -> 169.96709
A7: CHAMP DU BŒUF | B7: =INDEX(Bilan_Global!$A$3:$AAC$71,MATCH($A7,Bilan_Global!$A$3:$A$71,0),MATCH(B$1&" - RENDEMENT",Bilan_Global!$A$2:$ACT$2,0)) -> 142.7202 | C7: =INDEX(Bilan_Global!$A$3:$AAC$71,MATCH($A7,Bilan_Global!$A$3:$A$71,0),MATCH(C$1&" - RENDEMENT",Bilan_Global!$A$2:$ACT$2,0)) -> 113.53712 | D7: =INDEX(Bilan_Global!$A$3:$AAC$71,MATCH($A7,Bilan_Global!$A$3:$A$71,0),MATCH(D$1&" - RENDEMENT",Bilan_Global!$A$2:$ACT$2,0)) -> 0 | E7: =INDEX(Bilan_Global!$A$3:$AAC$71,MATCH($A7,Bilan_Global!$A$3:$A$71,0),MATCH(E$1&" - RENDEMENT",Bilan_Global!$A$2:$ACT$2,0)) -> 97.773991 | F7: =INDEX(Bilan_Global!$A$3:$AAC$71,MATCH($A7,Bilan_Global!$A$3:$A$71,0),MATCH(F$1&" - RENDEMENT",Bilan_Global!$A$2:$ACT$2,0)) -> 119.28853 | G7: =INDEX(Bilan_Global!$A$3:$AAC$71,MATCH($A7,Bilan_Global!$A$3:$A$71,0),MATCH(G$1&" - RENDEMENT",Bilan_Global!$A$2:$ACT$2,0)) -> 131.00437 | H7: =INDEX(Bilan_Global!$A$3:$AAC$71,MATCH($A7,Bilan_Global!$A$3:$A$71,0),MATCH(H$1&" - RENDEMENT",Bilan_Global!$A$2:$ACT$2,0)) -> 93.087656 | I7: =INDEX(Bilan_Global!$A$3:$AAC$71,MATCH($A7,Bilan_Global!$A$3:$A$71,0),MATCH(I$1&" - RENDEMENT",Bilan_Global!$A$2:$ACT$2,0)) -> 99.478113 | ... Y7: =INDEX(Bilan_Global!$A$3:$AAC$71,MATCH($A7,Bilan_Global!$A$3:$A$71,0),MATCH(Y$1&" - RENDEMENT",Bilan_Global!$A$2:$ACT$2,0)) -> 124.59867
A8: CHAMP DU VEAU | B8: =INDEX(Bilan_Global!$A$3:$AAC$71,MATCH($A8,Bilan_Global!$A$3:$A$71,0),MATCH(B$1&" - RENDEMENT",Bilan_Global!$A$2:$ACT$2,0)) -> 164.59464 | C8: =INDEX(Bilan_Global!$A$3:$AAC$71,MATCH($A8,Bilan_Global!$A$3:$A$71,0),MATCH(C$1&" - RENDEMENT",Bilan_Global!$A$2:$ACT$2,0)) -> 133.07652 | D8: =INDEX(Bilan_Global!$A$3:$AAC$71,MATCH($A8,Bilan_Global!$A$3:$A$71,0),MATCH(D$1&" - RENDEMENT",Bilan_Global!$A$2:$ACT$2,0)) -> 0 | E8: =INDEX(Bilan_Global!$A$3:$AAC$71,MATCH($A8,Bilan_Global!$A$3:$A$71,0),MATCH(E$1&" - RENDEMENT",Bilan_Global!$A$2:$ACT$2,0)) -> 105.06041 | F8: =INDEX(Bilan_Global!$A$3:$AAC$71,MATCH($A8,Bilan_Global!$A$3:$A$71,0),MATCH(F$1&" - RENDEMENT",Bilan_Global!$A$2:$ACT$2,0)) -> 125.19699 | G8: =INDEX(Bilan_Global!$A$3:$AAC$71,MATCH($A8,Bilan_Global!$A$3:$A$71,0),MATCH(G$1&" - RENDEMENT",Bilan_Global!$A$2:$ACT$2,0)) -> 153.2131 | H8: =INDEX(Bilan_Global!$A$3:$AAC$71,MATCH($A8,Bilan_Global!$A$3:$A$71,0),MATCH(H$1&" - RENDEMENT",Bilan_Global!$A$2:$ACT$2,0)) -> 181.22921 | I8: =INDEX(Bilan_Global!$A$3:$AAC$71,MATCH($A8,Bilan_Global!$A$3:$A$71,0),MATCH(I$1&" - RENDEMENT",Bilan_Global!$A$2:$ACT$2,0)) -> 172.47417 | ... Y8: =INDEX(Bilan_Global!$A$3:$AAC$71,MATCH($A8,Bilan_Global!$A$3:$A$71,0),MATCH(Y$1&" - RENDEMENT",Bilan_Global!$A$2:$ACT$2,0)) -> 0
A9: CHAP TERRASSEMENT | B9: =INDEX(Bilan_Global!$A$3:$AAC$71,MATCH($A9,Bilan_Global!$A$3:$A$71,0),MATCH(B$1&" - RENDEMENT",Bilan_Global!$A$2:$ACT$2,0)) -> 89.090909 | C9: =INDEX(Bilan_Global!$A$3:$AAC$71,MATCH($A9,Bilan_Global!$A$3:$A$71,0),MATCH(C$1&" - RENDEMENT",Bilan_Global!$A$2:$ACT$2,0)) -> 81.515152 | D9: =INDEX(Bilan_Global!$A$3:$AAC$71,MATCH($A9,Bilan_Global!$A$3:$A$71,0),MATCH(D$1&" - RENDEMENT",Bilan_Global!$A$2:$ACT$2,0)) -> 0 | E9: =INDEX(Bilan_Global!$A$3:$AAC$71,MATCH($A9,Bilan_Global!$A$3:$A$71,0),MATCH(E$1&" - RENDEMENT",Bilan_Global!$A$2:$ACT$2,0)) -> 65.757576 | F9: =INDEX(Bilan_Global!$A$3:$AAC$71,MATCH($A9,Bilan_Global!$A$3:$A$71,0),MATCH(F$1&" - RENDEMENT",Bilan_Global!$A$2:$ACT$2,0)) -> 115.45455 | G9: =INDEX(Bilan_Global!$A$3:$AAC$71,MATCH($A9,Bilan_Global!$A$3:$A$71,0),MATCH(G$1&" - RENDEMENT",Bilan_Global!$A$2:$ACT$2,0)) -> 96.666667 | H9: =INDEX(Bilan_Global!$A$3:$AAC$71,MATCH($A9,Bilan_Global!$A$3:$A$71,0),MATCH(H$1&" - RENDEMENT",Bilan_Global!$A$2:$ACT$2,0)) -> 20.606061 | I9: =INDEX(Bilan_Global!$A$3:$AAC$71,MATCH($A9,Bilan_Global!$A$3:$A$71,0),MATCH(I$1&" - RENDEMENT",Bilan_Global!$A$2:$ACT$2,0)) -> 86.048808 | ... Y9: =INDEX(Bilan_Global!$A$3:$AAC$71,MATCH($A9,Bilan_Global!$A$3:$A$71,0),MATCH(Y$1&" - RENDEMENT",Bilan_Global!$A$2:$ACT$2,0)) -> 0
A10: CHAPITRE HAUT | B10: =INDEX(Bilan_Global!$A$3:$AAC$71,MATCH($A10,Bilan_Global!$A$3:$A$71,0),MATCH(B$1&" - RENDEMENT",Bilan_Global!$A$2:$ACT$2,0)) -> 67.873303 | C10: =INDEX(Bilan_Global!$A$3:$AAC$71,MATCH($A10,Bilan_Global!$A$3:$A$71,0),MATCH(C$1&" - RENDEMENT",Bilan_Global!$A$2:$ACT$2,0)) -> 53.167421 | D10: =INDEX(Bilan_Global!$A$3:$AAC$71,MATCH($A10,Bilan_Global!$A$3:$A$71,0),MATCH(D$1&" - RENDEMENT",Bilan_Global!$A$2:$ACT$2,0)) -> 0 | E10: =INDEX(Bilan_Global!$A$3:$AAC$71,MATCH($A10,Bilan_Global!$A$3:$A$71,0),MATCH(E$1&" - RENDEMENT",Bilan_Global!$A$2:$ACT$2,0)) -> 0 | F10: =INDEX(Bilan_Global!$A$3:$AAC$71,MATCH($A10,Bilan_Global!$A$3:$A$71,0),MATCH(F$1&" - RENDEMENT",Bilan_Global!$A$2:$ACT$2,0)) -> 0 | G10: =INDEX(Bilan_Global!$A$3:$AAC$71,MATCH($A10,Bilan_Global!$A$3:$A$71,0),MATCH(G$1&" - RENDEMENT",Bilan_Global!$A$2:$ACT$2,0)) -> 0 | H10: =INDEX(Bilan_Global!$A$3:$AAC$71,MATCH($A10,Bilan_Global!$A$3:$A$71,0),MATCH(H$1&" - RENDEMENT",Bilan_Global!$A$2:$ACT$2,0)) -> 0 | I10: =INDEX(Bilan_Global!$A$3:$AAC$71,MATCH($A10,Bilan_Global!$A$3:$A$71,0),MATCH(I$1&" - RENDEMENT",Bilan_Global!$A$2:$ACT$2,0)) -> 0 | ... Y10: =INDEX(Bilan_Global!$A$3:$AAC$71,MATCH($A10,Bilan_Global!$A$3:$A$71,0),MATCH(Y$1&" - RENDEMENT",Bilan_Global!$A$2:$ACT$2,0)) -> 0
A11: CONDAMINE GRANDE | B11: =INDEX(Bilan_Global!$A$3:$AAC$71,MATCH($A11,Bilan_Global!$A$3:$A$71,0),MATCH(B$1&" - RENDEMENT",Bilan_Global!$A$2:$ACT$2,0)) -> 118.33255 | C11: =INDEX(Bilan_Global!$A$3:$AAC$71,MATCH($A11,Bilan_Global!$A$3:$A$71,0),MATCH(C$1&" - RENDEMENT",Bilan_Global!$A$2:$ACT$2,0)) -> 105.38431 | D11: =INDEX(Bilan_Global!$A$3:$AAC$71,MATCH($A11,Bilan_Global!$A$3:$A$71,0),MATCH(D$1&" - RENDEMENT",Bilan_Global!$A$2:$ACT$2,0)) -> 79.487825 | E11: =INDEX(Bilan_Global!$A$3:$AAC$71,MATCH($A11,Bilan_Global!$A$3:$A$71,0),MATCH(E$1&" - RENDEMENT",Bilan_Global!$A$2:$ACT$2,0)) -> 75.891091 | F11: =INDEX(Bilan_Global!$A$3:$AAC$71,MATCH($A11,Bilan_Global!$A$3:$A$71,0),MATCH(F$1&" - RENDEMENT",Bilan_Global!$A$2:$ACT$2,0)) -> 128.76308 | G11: =INDEX(Bilan_Global!$A$3:$AAC$71,MATCH($A11,Bilan_Global!$A$3:$A$71,0),MATCH(G$1&" - RENDEMENT",Bilan_Global!$A$2:$ACT$2,0)) -> 112.57778 | H11: =INDEX(Bilan_Global!$A$3:$AAC$71,MATCH($A11,Bilan_Global!$A$3:$A$71,0),MATCH(H$1&" - RENDEMENT",Bilan_Global!$A$2:$ACT$2,0)) -> 115.81484 | I11: =INDEX(Bilan_Global!$A$3:$AAC$71,MATCH($A11,Bilan_Global!$A$3:$A$71,0),MATCH(I$1&" - RENDEMENT",Bilan_Global!$A$2:$ACT$2,0)) -> 102.01543 | ... Y11: =INDEX(Bilan_Global!$A$3:$AAC$71,MATCH($A11,Bilan_Global!$A$3:$A$71,0),MATCH(Y$1&" - RENDEMENT",Bilan_Global!$A$2:$ACT$2,0)) -> 0
A12: CONDAMINE POINTE | B12: =INDEX(Bilan_Global!$A$3:$AAC$71,MATCH($A12,Bilan_Global!$A$3:$A$71,0),MATCH(B$1&" - RENDEMENT",Bilan_Global!$A$2:$ACT$2,0)) -> 137.17567 | C12: =INDEX(Bilan_Global!$A$3:$AAC$71,MATCH($A12,Bilan_Global!$A$3:$A$71,0),MATCH(C$1&" - RENDEMENT",Bilan_Global!$A$2:$ACT$2,0)) -> 124.41514 | D12: =INDEX(Bilan_Global!$A$3:$AAC$71,MATCH($A12,Bilan_Global!$A$3:$A$71,0),MATCH(D$1&" - RENDEMENT",Bilan_Global!$A$2:$ACT$2,0)) -> 86.13356 | E12: =INDEX(Bilan_Global!$A$3:$AAC$71,MATCH($A12,Bilan_Global!$A$3:$A$71,0),MATCH(E$1&" - RENDEMENT",Bilan_Global!$A$2:$ACT$2,0)) -> 63.802637 | F12: =INDEX(Bilan_Global!$A$3:$AAC$71,MATCH($A12,Bilan_Global!$A$3:$A$71,0),MATCH(F$1&" - RENDEMENT",Bilan_Global!$A$2:$ACT$2,0)) -> 152.06295 | G12: =INDEX(Bilan_Global!$A$3:$AAC$71,MATCH($A12,Bilan_Global!$A$3:$A$71,0),MATCH(G$1&" - RENDEMENT",Bilan_Global!$A$2:$ACT$2,0)) -> 114.84475 | H12: =INDEX(Bilan_Global!$A$3:$AAC$71,MATCH($A12,Bilan_Global!$A$3:$A$71,0),MATCH(H$1&" - RENDEMENT",Bilan_Global!$A$2:$ACT$2,0)) -> 110.59124 | I12: =INDEX(Bilan_Global!$A$3:$AAC$71,MATCH($A12,Bilan_Global!$A$3:$A$71,0),MATCH(I$1&" - RENDEMENT",Bilan_Global!$A$2:$ACT$2,0)) -> 102.7146 | ... Y12: =INDEX(Bilan_Global!$A$3:$AAC$71,MATCH($A12,Bilan_Global!$A$3:$A$71,0),MATCH(Y$1&" - RENDEMENT",Bilan_Global!$A$2:$ACT$2,0)) -> 0
A13: GASCON | B13: =INDEX(Bilan_Global!$A$3:$AAC$71,MATCH($A13,Bilan_Global!$A$3:$A$71,0),MATCH(B$1&" - RENDEMENT",Bilan_Global!$A$2:$ACT$2,0)) -> 0 | C13: =INDEX(Bilan_Global!$A$3:$AAC$71,MATCH($A13,Bilan_Global!$A$3:$A$71,0),MATCH(C$1&" - RENDEMENT",Bilan_Global!$A$2:$ACT$2,0)) -> 9.4907981 | D13: =INDEX(Bilan_Global!$A$3:$AAC$71,MATCH($A13,Bilan_Global!$A$3:$A$71,0),MATCH(D$1&" - RENDEMENT",Bilan_Global!$A$2:$ACT$2,0)) -> 52.818354 | E13: =INDEX(Bilan_Global!$A$3:$AAC$71,MATCH($A13,Bilan_Global!$A$3:$A$71,0),MATCH(E$1&" - RENDEMENT",Bilan_Global!$A$2:$ACT$2,0)) -> 49.517207 | F13: =INDEX(Bilan_Global!$A$3:$AAC$71,MATCH($A13,Bilan_Global!$A$3:$A$71,0),MATCH(F$1&" - RENDEMENT",Bilan_Global!$A$2:$ACT$2,0)) -> 73.863167 | G13: =INDEX(Bilan_Global!$A$3:$AAC$71,MATCH($A13,Bilan_Global!$A$3:$A$71,0),MATCH(G$1&" - RENDEMENT",Bilan_Global!$A$2:$ACT$2,0)) -> 79.640175 | H13: =INDEX(Bilan_Global!$A$3:$AAC$71,MATCH($A13,Bilan_Global!$A$3:$A$71,0),MATCH(H$1&" - RENDEMENT",Bilan_Global!$A$2:$ACT$2,0)) -> 61.896509 | I13: =INDEX(Bilan_Global!$A$3:$AAC$71,MATCH($A13,Bilan_Global!$A$3:$A$71,0),MATCH(I$1&" - RENDEMENT",Bilan_Global!$A$2:$ACT$2,0)) -> 71.79995 | ... Y13: =INDEX(Bilan_Global!$A$3:$AAC$71,MATCH($A13,Bilan_Global!$A$3:$A$71,0),MATCH(Y$1&" - RENDEMENT",Bilan_Global!$A$2:$ACT$2,0)) -> 43.7402
... A41: VIGOUROUX | B41: =INDEX(Bilan_Global!$A$3:$AAC$71,MATCH($A41,Bilan_Global!$A$3:$A$71,0),MATCH(B$1&" - RENDEMENT",Bilan_Global!$A$2:$ACT$2,0)) -> 104.44444 | C41: =INDEX(Bilan_Global!$A$3:$AAC$71,MATCH($A41,Bilan_Global!$A$3:$A$71,0),MATCH(C$1&" - RENDEMENT",Bilan_Global!$A$2:$ACT$2,0)) -> 84.34319 | D41: =INDEX(Bilan_Global!$A$3:$AAC$71,MATCH($A41,Bilan_Global!$A$3:$A$71,0),MATCH(D$1&" - RENDEMENT",Bilan_Global!$A$2:$ACT$2,0)) -> 152.20553 | E41: =INDEX(Bilan_Global!$A$3:$AAC$71,MATCH($A41,Bilan_Global!$A$3:$A$71,0),MATCH(E$1&" - RENDEMENT",Bilan_Global!$A$2:$ACT$2,0)) -> 141.54144 | F41: =INDEX(Bilan_Global!$A$3:$AAC$71,MATCH($A41,Bilan_Global!$A$3:$A$71,0),MATCH(F$1&" - RENDEMENT",Bilan_Global!$A$2:$ACT$2,0)) -> 0 | G41: =INDEX(Bilan_Global!$A$3:$AAC$71,MATCH($A41,Bilan_Global!$A$3:$A$71,0),MATCH(G$1&" - RENDEMENT",Bilan_Global!$A$2:$ACT$2,0)) -> 163.83907 | H41: =INDEX(Bilan_Global!$A$3:$AAC$71,MATCH($A41,Bilan_Global!$A$3:$A$71,0),MATCH(H$1&" - RENDEMENT",Bilan_Global!$A$2:$ACT$2,0)) -> 150.2666 | I41: =INDEX(Bilan_Global!$A$3:$AAC$71,MATCH($A41,Bilan_Global!$A$3:$A$71,0),MATCH(I$1&" - RENDEMENT",Bilan_Global!$A$2:$ACT$2,0)) -> 190.984 | ... Y41: =INDEX(Bilan_Global!$A$3:$AAC$71,MATCH($A41,Bilan_Global!$A$3:$A$71,0),MATCH(Y$1&" - RENDEMENT",Bilan_Global!$A$2:$ACT$2,0)) -> 0
A42: TOTAL MOYENNE | B42: =AVERAGE(B2:B41) -> 72.66951 | C42: =AVERAGE(C2:C41) -> 64.139195 | D42: =AVERAGE(D2:D41) -> 43.171219 | E42: =AVERAGE(E2:E41) -> 46.98402 | F42: =AVERAGE(F2:F41) -> 64.492427 | G42: =AVERAGE(G2:G41) -> 61.265609 | H42: =AVERAGE(H2:H41) -> 51.530826 | I42: =AVERAGE(I2:I41) -> 65.974095 | ... Y42: =AVERAGE(Y2:Y41) -> 63.57157
A43: TOTAL MOYENNE sup à 0 | B43: =AVERAGEIF(B2:B42,">0") -> 114.59423 | C43: =AVERAGEIF(C2:C42,">0") -> 97.396556 | D43: =AVERAGEIF(D2:D42,">0") -> 93.158947 | E43: =AVERAGEIF(E2:E42,">0") -> 87.561128 | F43: =AVERAGEIF(F2:F42,">0") -> 114.96476 | G43: =AVERAGEIF(G2:G42,">0") -> 109.21261 | H43: =AVERAGEIF(H2:H42,">0") -> 100.6078 | I43: =AVERAGEIF(I2:I42,">0") -> 104.03607 | ... Y43: =AVERAGEIF(Y2:Y42,">0") -> 89.877047

Sheet Stat. Cépage
A1: NOM | B1: 2000 | C1: 2001 | D1: 2002 | E1: 2003 | F1: 2004 | G1: 2005 | H1: 2006 | I1: 2007 | J1: 2008 | K1: 2009 | L1: 2010 | M1: 2011 | N1: 2012 | O1: 2013 | P1: 2014 | Q1: 2015 | R1: 2016 | S1: 2017 | T1: 2018 | U1: 2019 | V1: 2020 | W1: 2021 | X1: 2022 | Y1: 2023
A2: CABERNET | B2: =INDEX(Bilan_Global!$A$3:$AAC$71,MATCH($A2,Bilan_Global!$A$2:$AAA$71,0),MATCH(B$1&" - RENDEMENT",Bilan_Global!$A$2:$ACT$2,0)) -> #N/A | C2: =INDEX(Bilan_Global!$A$3:$AAC$71,MATCH($A2,Bilan_Global!$A$2:$AAA$71,0),MATCH(C$1&" - RENDEMENT",Bilan_Global!$A$2:$ACT$2,0)) -> #N/A | D2: =INDEX(Bilan_Global!$A$3:$AAC$71,MATCH($A2,Bilan_Global!$A$2:$AAA$71,0),MATCH(D$1&" - RENDEMENT",Bilan_Global!$A$2:$ACT$2,0)) -> #N/A | E2: =INDEX(Bilan_Global!$A$3:$AAC$71,MATCH($A2,Bilan_Global!$A$2:$AAA$71,0),MATCH(E$1&" - RENDEMENT",Bilan_Global!$A$2:$ACT$2,0)) -> #N/A | F2: =INDEX(Bilan_Global!$A$3:$AAC$71,MATCH($A2,Bilan_Global!$A$2:$AAA$71,0),MATCH(F$1&" - RENDEMENT",Bilan_Global!$A$2:$ACT$2,0)) -> #N/A | G2: =INDEX(Bilan_Global!$A$3:$AAC$71,MATCH($A2,Bilan_Global!$A$2:$AAA$71,0),MATCH(G$1&" - RENDEMENT",Bilan_Global!$A$2:$ACT$2,0)) -> #N/A | H2: =INDEX(Bilan_Global!$A$3:$AAC$71,MATCH($A2,Bilan_Global!$A$2:$AAA$71,0),MATCH(H$1&" - RENDEMENT",Bilan_Global!$A$2:$ACT$2,0)) -> #N/A | I2: =INDEX(Bilan_Global!$A$3:$AAC$71,MATCH($A2,Bilan_Global!$A$2:$AAA$71,0),MATCH(I$1&" - RENDEMENT",Bilan_Global!$A$2:$ACT$2,0)) -> #N/A | ... Y2: =INDEX(Bilan_Global!$A$3:$AAC$71,MATCH($A2,Bilan_Global!$A$2:$AAA$71,0),MATCH(Y$1&" - RENDEMENT",Bilan_Global!$A$2:$ACT$2,0)) -> #N/A
A3: CABERNET SAUVIGNON | B3: =INDEX(Bilan_Global!$A$3:$AAC$71,MATCH($A3,Bilan_Global!$A$2:$AAA$71,0),MATCH(B$1&" - RENDEMENT",Bilan_Global!$A$2:$ACT$2,0)) -> #N/A | C3: =INDEX(Bilan_Global!$A$3:$AAC$71,MATCH($A3,Bilan_Global!$A$2:$AAA$71,0),MATCH(C$1&" - RENDEMENT",Bilan_Global!$A$2:$ACT$2,0)) -> #N/A | D3: =INDEX(Bilan_Global!$A$3:$AAC$71,MATCH($A3,Bilan_Global!$A$2:$AAA$71,0),MATCH(D$1&" - RENDEMENT",Bilan_Global!$A$2:$ACT$2,0)) -> #N/A | E3: =INDEX(Bilan_Global!$A$3:$AAC$71,MATCH($A3,Bilan_Global!$A$2:$AAA$71,0),MATCH(E$1&" - RENDEMENT",Bilan_Global!$A$2:$ACT$2,0)) -> #N/A | F3: =INDEX(Bilan_Global!$A$3:$AAC$71,MATCH($A3,Bilan_Global!$A$2:$AAA$71,0),MATCH(F$1&" - RENDEMENT",Bilan_Global!$A$2:$ACT$2,0)) -> #N/A | G3: =INDEX(Bilan_Global!$A$3:$AAC$71,MATCH($A3,Bilan_Global!$A$2:$AAA$71,0),MATCH(G$1&" - RENDEMENT",Bilan_Global!$A$2:$ACT$2,0)) -> #N/A | H3: =INDEX(Bilan_Global!$A$3:$AAC$71,MATCH($A3,Bilan_Global!$A$2:$AAA$71,0),MATCH(H$1&" - RENDEMENT",Bilan_Global!$A$2:$ACT$2,0)) -> #N/A | I3: =INDEX(Bilan_Global!$A$3:$AAC$71,MATCH($A3,Bilan_Global!$A$2:$AAA$71,0),MATCH(I$1&" - RENDEMENT",Bilan_Global!$A$2:$ACT$2,0)) -> #N/A | ... Y3: =INDEX(Bilan_Global!$A$3:$AAC$71,MATCH($A3,Bilan_Global!$A$2:$AAA$71,0),MATCH(Y$1&" - RENDEMENT",Bilan_Global!$A$2:$ACT$2,0)) -> #N/A
A4: CALADOC | B4: =INDEX(Bilan_Global!$A$3:$AAC$71,MATCH($A4,Bilan_Global!$A$2:$AAA$71,0),MATCH(B$1&" - RENDEMENT",Bilan_Global!$A$2:$ACT$2,0)) -> #N/A | C4: =INDEX(Bilan_Global!$A$3:$AAC$71,MATCH($A4,Bilan_Global!$A$2:$AAA$71,0),MATCH(C$1&" - RENDEMENT",Bilan_Global!$A$2:$ACT$2,0)) -> #N/A | D4: =INDEX(Bilan_Global!$A$3:$AAC$71,MATCH($A4,Bilan_Global!$A$2:$AAA$71,0),MATCH(D$1&" - RENDEMENT",Bilan_Global!$A$2:$ACT$2,0)) -> #N/A | E4: =INDEX(Bilan_Global!$A$3:$AAC$71,MATCH($A4,Bilan_Global!$A$2:$AAA$71,0),MATCH(E$1&" - RENDEMENT",Bilan_Global!$A$2:$ACT$2,0)) -> #N/A | F4: =INDEX(Bilan_Global!$A$3:$AAC$71,MATCH($A4,Bilan_Global!$A$2:$AAA$71,0),MATCH(F$1&" - RENDEMENT",Bilan_Global!$A$2:$ACT$2,0)) -> #N/A | G4: =INDEX(Bilan_Global!$A$3:$AAC$71,MATCH($A4,Bilan_Global!$A$2:$AAA$71,0),MATCH(G$1&" - RENDEMENT",Bilan_Global!$A$2:$ACT$2,0)) -> #N/A | H4: =INDEX(Bilan_Global!$A$3:$AAC$71,MATCH($A4,Bilan_Global!$A$2:$AAA$71,0),MATCH(H$1&" - RENDEMENT",Bilan_Global!$A$2:$ACT$2,0)) -> #N/A | I4: =INDEX(Bilan_Global!$A$3:$AAC$71,MATCH($A4,Bilan_Global!$A$2:$AAA$71,0),MATCH(I$1&" - RENDEMENT",Bilan_Global!$A$2:$ACT$2,0)) -> #N/A | ... Y4: =INDEX(Bilan_Global!$A$3:$AAC$71,MATCH($A4,Bilan_Global!$A$2:$AAA$71,0),MATCH(Y$1&" - RENDEMENT",Bilan_Global!$A$2:$ACT$2,0)) -> #N/A
A5: CHARDONNAY | B5: =INDEX(Bilan_Global!$A$3:$AAC$71,MATCH($A5,Bilan_Global!$A$2:$AAA$71,0),MATCH(B$1&" - RENDEMENT",Bilan_Global!$A$2:$ACT$2,0)) -> #N/A | C5: =INDEX(Bilan_Global!$A$3:$AAC$71,MATCH($A5,Bilan_Global!$A$2:$AAA$71,0),MATCH(C$1&" - RENDEMENT",Bilan_Global!$A$2:$ACT$2,0)) -> #N/A | D5: =INDEX(Bilan_Global!$A$3:$AAC$71,MATCH($A5,Bilan_Global!$A$2:$AAA$71,0),MATCH(D$1&" - RENDEMENT",Bilan_Global!$A$2:$ACT$2,0)) -> #N/A | E5: =INDEX(Bilan_Global!$A$3:$AAC$71,MATCH($A5,Bilan_Global!$A$2:$AAA$71,0),MATCH(E$1&" - RENDEMENT",Bilan_Global!$A$2:$ACT$2,0)) -> #N/A | F5: =INDEX(Bilan_Global!$A$3:$AAC$71,MATCH($A5,Bilan_Global!$A$2:$AAA$71,0),MATCH(F$1&" - RENDEMENT",Bilan_Global!$A$2:$ACT$2,0)) -> #N/A | G5: =INDEX(Bilan_Global!$A$3:$AAC$71,MATCH($A5,Bilan_Global!$A$2:$AAA$71,0),MATCH(G$1&" - RENDEMENT",Bilan_Global!$A$2:$ACT$2,0)) -> #N/A | H5: =INDEX(Bilan_Global!$A$3:$AAC$71,MATCH($A5,Bilan_Global!$A$2:$AAA$71,0),MATCH(H$1&" - RENDEMENT",Bilan_Global!$A$2:$ACT$2,0)) -> #N/A | I5: =INDEX(Bilan_Global!$A$3:$AAC$71,MATCH($A5,Bilan_Global!$A$2:$AAA$71,0),MATCH(I$1&" - RENDEMENT",Bilan_Global!$A$2:$ACT$2,0)) -> #N/A | ... Y5: =INDEX(Bilan_Global!$A$3:$AAC$71,MATCH($A5,Bilan_Global!$A$2:$AAA$71,0),MATCH(Y$1&" - RENDEMENT",Bilan_Global!$A$2:$ACT$2,0)) -> #N/A
A6: CINSAULT | B6: =INDEX(Bilan_Global!$A$3:$AAC$71,MATCH($A6,Bilan_Global!$A$2:$AAA$71,0),MATCH(B$1&" - RENDEMENT",Bilan_Global!$A$2:$ACT$2,0)) -> #N/A | C6: =INDEX(Bilan_Global!$A$3:$AAC$71,MATCH($A6,Bilan_Global!$A$2:$AAA$71,0),MATCH(C$1&" - RENDEMENT",Bilan_Global!$A$2:$ACT$2,0)) -> #N/A | D6: =INDEX(Bilan_Global!$A$3:$AAC$71,MATCH($A6,Bilan_Global!$A$2:$AAA$71,0),MATCH(D$1&" - RENDEMENT",Bilan_Global!$A$2:$ACT$2,0)) -> #N/A | E6: =INDEX(Bilan_Global!$A$3:$AAC$71,MATCH($A6,Bilan_Global!$A$2:$AAA$71,0),MATCH(E$1&" - RENDEMENT",Bilan_Global!$A$2:$ACT$2,0)) -> #N/A | F6: =INDEX(Bilan_Global!$A$3:$AAC$71,MATCH($A6,Bilan_Global!$A$2:$AAA$71,0),MATCH(F$1&" - RENDEMENT",Bilan_Global!$A$2:$ACT$2,0)) -> #N/A | G6: =INDEX(Bilan_Global!$A$3:$AAC$71,MATCH($A6,Bilan_Global!$A$2:$AAA$71,0),MATCH(G$1&" - RENDEMENT",Bilan_Global!$A$2:$ACT$2,0)) -> #N/A | H6: =INDEX(Bilan_Global!$A$3:$AAC$71,MATCH($A6,Bilan_Global!$A$2:$AAA$71,0),MATCH(H$1&" - RENDEMENT",Bilan_Global!$A$2:$ACT$2,0)) -> #N/A | I6: =INDEX(Bilan_Global!$A$3:$AAC$71,MATCH($A6,Bilan_Global!$A$2:$AAA$71,0),MATCH(I$1&" - RENDEMENT",Bilan_Global!$A$2:$ACT$2,0)) -> #N/A | ... Y6: =INDEX(Bilan_Global!$A$3:$AAC$71,MATCH($A6,Bilan_Global!$A$2:$AAA$71,0),MATCH(Y$1&" - RENDEMENT",Bilan_Global!$A$2:$ACT$2,0)) -> #N/A
A7: GRENACHE | B7: =INDEX(Bilan_Global!$A$3:$AAC$71,MATCH($A7,Bilan_Global!$A$2:$AAA$71,0),MATCH(B$1&" - RENDEMENT",Bilan_Global!$A$2:$ACT$2,0)) -> #N/A | C7: =INDEX(Bilan_Global!$A$3:$AAC$71,MATCH($A7,Bilan_Global!$A$2:$AAA$71,0),MATCH(C$1&" - RENDEMENT",Bilan_Global!$A$2:$ACT$2,0)) -> #N/A | D7: =INDEX(Bilan_Global!$A$3:$AAC$71,MATCH($A7,Bilan_Global!$A$2:$AAA$71,0),MATCH(D$1&" - RENDEMENT",Bilan_Global!$A$2:$ACT$2,0)) -> #N/A | E7: =INDEX(Bilan_Global!$A$3:$AAC$71,MATCH($A7,Bilan_Global!$A$2:$AAA$71,0),MATCH(E$1&" - RENDEMENT",Bilan_Global!$A$2:$ACT$2,0)) -> #N/A | F7: =INDEX(Bilan_Global!$A$3:$AAC$71,MATCH($A7,Bilan_Global!$A$2:$AAA$71,0),MATCH(F$1&" - RENDEMENT",Bilan_Global!$A$2:$ACT$2,0)) -> #N/A | G7: =INDEX(Bilan_Global!$A$3:$AAC$71,MATCH($A7,Bilan_Global!$A$2:$AAA$71,0),MATCH(G$1&" - RENDEMENT",Bilan_Global!$A$2:$ACT$2,0)) -> #N/A | H7: =INDEX(Bilan_Global!$A$3:$AAC$71,MATCH($A7,Bilan_Global!$A$2:$AAA$71,0),MATCH(H$1&" - RENDEMENT",Bilan_Global!$A$2:$ACT$2,0)) -> #N/A | I7: =INDEX(Bilan_Global!$A$3:$AAC$71,MATCH($A7,Bilan_Global!$A$2:$AAA$71,0),MATCH(I$1&" - RENDEMENT",Bilan_Global!$A$2:$ACT$2,0)) -> #N/A | ... Y7: =INDEX(Bilan_Global!$A$3:$AAC$71,MATCH($A7,Bilan_Global!$A$2:$AAA$71,0),MATCH(Y$1&" - RENDEMENT",Bilan_Global!$A$2:$ACT$2,0)) -> #N/A
A8: GRENACHE BLANC | B8: =INDEX(Bilan_Global!$A$3:$AAC$71,MATCH($A8,Bilan_Global!$A$2:$AAA$71,0),MATCH(B$1&" - RENDEMENT",Bilan_Global!$A$2:$ACT$2,0)) -> #N/A | C8: =INDEX(Bilan_Global!$A$3:$AAC$71,MATCH($A8,Bilan_Global!$A$2:$AAA$71,0),MATCH(C$1&" - RENDEMENT",Bilan_Global!$A$2:$ACT$2,0)) -> #N/A | D8: =INDEX(Bilan_Global!$A$3:$AAC$71,MATCH($A8,Bilan_Global!$A$2:$AAA$71,0),MATCH(D$1&" - RENDEMENT",Bilan_Global!$A$2:$ACT$2,0)) -> #N/A | E8: =INDEX(Bilan_Global!$A$3:$AAC$71,MATCH($A8,Bilan_Global!$A$2:$AAA$71,0),MATCH(E$1&" - RENDEMENT",Bilan_Global!$A$2:$ACT$2,0)) -> #N/A | F8: =INDEX(Bilan_Global!$A$3:$AAC$71,MATCH($A8,Bilan_Global!$A$2:$AAA$71,0),MATCH(F$1&" - RENDEMENT",Bilan_Global!$A$2:$ACT$2,0)) -> #N/A | G8: =INDEX(Bilan_Global!$A$3:$AAC$71,MATCH($A8,Bilan_Global!$A$2:$AAA$71,0),MATCH(G$1&" - RENDEMENT",Bilan_Global!$A$2:$ACT$2,0)) -> #N/A | H8: =INDEX(Bilan_Global!$A$3:$AAC$71,MATCH($A8,Bilan_Global!$A$2:$AAA$71,0),MATCH(H$1&" - RENDEMENT",Bilan_Global!$A$2:$ACT$2,0)) -> #N/A | I8: =INDEX(Bilan_Global!$A$3:$AAC$71,MATCH($A8,Bilan_Global!$A$2:$AAA$71,0),MATCH(I$1&" - RENDEMENT",Bilan_Global!$A$2:$ACT$2,0)) -> #N/A | ... Y8: =INDEX(Bilan_Global!$A$3:$AAC$71,MATCH($A8,Bilan_Global!$A$2:$AAA$71,0),MATCH(Y$1&" - RENDEMENT",Bilan_Global!$A$2:$ACT$2,0)) -> #N/A
A9: GRENACHE NOIR | B9: =INDEX(Bilan_Global!$A$3:$AAC$71,MATCH($A9,Bilan_Global!$A$2:$AAA$71,0),MATCH(B$1&" - RENDEMENT",Bilan_Global!$A$2:$ACT$2,0)) -> #N/A | C9: =INDEX(Bilan_Global!$A$3:$AAC$71,MATCH($A9,Bilan_Global!$A$2:$AAA$71,0),MATCH(C$1&" - RENDEMENT",Bilan_Global!$A$2:$ACT$2,0)) -> #N/A | D9: =INDEX(Bilan_Global!$A$3:$AAC$71,MATCH($A9,Bilan_Global!$A$2:$AAA$71,0),MATCH(D$1&" - RENDEMENT",Bilan_Global!$A$2:$ACT$2,0)) -> #N/A | E9: =INDEX(Bilan_Global!$A$3:$AAC$71,MATCH($A9,Bilan_Global!$A$2:$AAA$71,0),MATCH(E$1&" - RENDEMENT",Bilan_Global!$A$2:$ACT$2,0)) -> #N/A | F9: =INDEX(Bilan_Global!$A$3:$AAC$71,MATCH($A9,Bilan_Global!$A$2:$AAA$71,0),MATCH(F$1&" - RENDEMENT",Bilan_Global!$A$2:$ACT$2,0)) -> #N/A | G9: =INDEX(Bilan_Global!$A$3:$AAC$71,MATCH($A9,Bilan_Global!$A$2:$AAA$71,0),MATCH(G$1&" - RENDEMENT",Bilan_Global!$A$2:$ACT$2,0)) -> #N/A | H9: =INDEX(Bilan_Global!$A$3:$AAC$71,MATCH($A9,Bilan_Global!$A$2:$AAA$71,0),MATCH(H$1&" - RENDEMENT",Bilan_Global!$A$2:$ACT$2,0)) -> #N/A | I9: =INDEX(Bilan_Global!$A$3:$AAC$71,MATCH($A9,Bilan_Global!$A$2:$AAA$71,0),MATCH(I$1&" - RENDEMENT",Bilan_Global!$A$2:$ACT$2,0)) -> #N/A | ... Y9: =INDEX(Bilan_Global!$A$3:$AAC$71,MATCH($A9,Bilan_Global!$A$2:$AAA$71,0),MATCH(Y$1&" - RENDEMENT",Bilan_Global!$A$2:$ACT$2,0)) -> #N/A
A10: MERLOT | B10: =INDEX(Bilan_Global!$A$3:$AAC$71,MATCH($A10,Bilan_Global!$A$2:$AAA$71,0),MATCH(B$1&" - RENDEMENT",Bilan_Global!$A$2:$ACT$2,0)) -> #N/A | C10: =INDEX(Bilan_Global!$A$3:$AAC$71,MATCH($A10,Bilan_Global!$A$2:$AAA$71,0),MATCH(C$1&" - RENDEMENT",Bilan_Global!$A$2:$ACT$2,0)) -> #N/A | D10: =INDEX(Bilan_Global!$A$3:$AAC$71,MATCH($A10,Bilan_Global!$A$2:$AAA$71,0),MATCH(D$1&" - RENDEMENT",Bilan_Global!$A$2:$ACT$2,0)) -> #N/A | E10: =INDEX(Bilan_Global!$A$3:$AAC$71,MATCH($A10,Bilan_Global!$A$2:$AAA$71,0),MATCH(E$1&" - RENDEMENT",Bilan_Global!$A$2:$ACT$2,0)) -> #N/A | F10: =INDEX(Bilan_Global!$A$3:$AAC$71,MATCH($A10,Bilan_Global!$A$2:$AAA$71,0),MATCH(F$1&" - RENDEMENT",Bilan_Global!$A$2:$ACT$2,0)) -> #N/A | G10: =INDEX(Bilan_Global!$A$3:$AAC$71,MATCH($A10,Bilan_Global!$A$2:$AAA$71,0),MATCH(G$1&" - RENDEMENT",Bilan_Global!$A$2:$ACT$2,0)) -> #N/A | H10: =INDEX(Bilan_Global!$A$3:$AAC$71,MATCH($A10,Bilan_Global!$A$2:$AAA$71,0),MATCH(H$1&" - RENDEMENT",Bilan_Global!$A$2:$ACT$2,0)) -> #N/A | I10: =INDEX(Bilan_Global!$A$3:$AAC$71,MATCH($A10,Bilan_Global!$A$2:$AAA$71,0),MATCH(I$1&" - RENDEMENT",Bilan_Global!$A$2:$ACT$2,0)) -> #N/A | ... Y10: =INDEX(Bilan_Global!$A$3:$AAC$71,MATCH($A10,Bilan_Global!$A$2:$AAA$71,0),MATCH(Y$1&" - RENDEMENT",Bilan_Global!$A$2:$ACT$2,0)) -> #N/A
A11: SAUVIGNON | B11: =INDEX(Bilan_Global!$A$3:$AAC$71,MATCH($A11,Bilan_Global!$A$2:$AAA$71,0),MATCH(B$1&" - RENDEMENT",Bilan_Global!$A$2:$ACT$2,0)) -> #N/A | C11: =INDEX(Bilan_Global!$A$3:$AAC$71,MATCH($A11,Bilan_Global!$A$2:$AAA$71,0),MATCH(C$1&" - RENDEMENT",Bilan_Global!$A$2:$ACT$2,0)) -> #N/A | D11: =INDEX(Bilan_Global!$A$3:$AAC$71,MATCH($A11,Bilan_Global!$A$2:$AAA$71,0),MATCH(D$1&" - RENDEMENT",Bilan_Global!$A$2:$ACT$2,0)) -> #N/A | E11: =INDEX(Bilan_Global!$A$3:$AAC$71,MATCH($A11,Bilan_Global!$A$2:$AAA$71,0),MATCH(E$1&" - RENDEMENT",Bilan_Global!$A$2:$ACT$2,0)) -> #N/A | F11: =INDEX(Bilan_Global!$A$3:$AAC$71,MATCH($A11,Bilan_Global!$A$2:$AAA$71,0),MATCH(F$1&" - RENDEMENT",Bilan_Global!$A$2:$ACT$2,0)) -> #N/A | G11: =INDEX(Bilan_Global!$A$3:$AAC$71,MATCH($A11,Bilan_Global!$A$2:$AAA$71,0),MATCH(G$1&" - RENDEMENT",Bilan_Global!$A$2:$ACT$2,0)) -> #N/A | H11: =INDEX(Bilan_Global!$A$3:$AAC$71,MATCH($A11,Bilan_Global!$A$2:$AAA$71,0),MATCH(H$1&" - RENDEMENT",Bilan_Global!$A$2:$ACT$2,0)) -> #N/A | I11: =INDEX(Bilan_Global!$A$3:$AAC$71,MATCH($A11,Bilan_Global!$A$2:$AAA$71,0),MATCH(I$1&" - RENDEMENT",Bilan_Global!$A$2:$ACT$2,0)) -> #N/A | ... Y11: =INDEX(Bilan_Global!$A$3:$AAC$71,MATCH($A11,Bilan_Global!$A$2:$AAA$71,0),MATCH(Y$1&" - RENDEMENT",Bilan_Global!$A$2:$ACT$2,0)) -> #N/A
A12: SYRAH | B12: =INDEX(Bilan_Global!$A$3:$AAC$71,MATCH($A12,Bilan_Global!$A$2:$AAA$71,0),MATCH(B$1&" - RENDEMENT",Bilan_Global!$A$2:$ACT$2,0)) -> #N/A | C12: =INDEX(Bilan_Global!$A$3:$AAC$71,MATCH($A12,Bilan_Global!$A$2:$AAA$71,0),MATCH(C$1&" - RENDEMENT",Bilan_Global!$A$2:$ACT$2,0)) -> #N/A | D12: =INDEX(Bilan_Global!$A$3:$AAC$71,MATCH($A12,Bilan_Global!$A$2:$AAA$71,0),MATCH(D$1&" - RENDEMENT",Bilan_Global!$A$2:$ACT$2,0)) -> #N/A | E12: =INDEX(Bilan_Global!$A$3:$AAC$71,MATCH($A12,Bilan_Global!$A$2:$AAA$71,0),MATCH(E$1&" - RENDEMENT",Bilan_Global!$A$2:$ACT$2,0)) -> #N/A | F12: =INDEX(Bilan_Global!$A$3:$AAC$71,MATCH($A12,Bilan_Global!$A$2:$AAA$71,0),MATCH(F$1&" - RENDEMENT",Bilan_Global!$A$2:$ACT$2,0)) -> #N/A | G12: =INDEX(Bilan_Global!$A$3:$AAC$71,MATCH($A12,Bilan_Global!$A$2:$AAA$71,0),MATCH(G$1&" - RENDEMENT",Bilan_Global!$A$2:$ACT$2,0)) -> #N/A | H12: =INDEX(Bilan_Global!$A$3:$AAC$71,MATCH($A12,Bilan_Global!$A$2:$AAA$71,0),MATCH(H$1&" - RENDEMENT",Bilan_Global!$A$2:$ACT$2,0)) -> #N/A | I12: =INDEX(Bilan_Global!$A$3:$AAC$71,MATCH($A12,Bilan_Global!$A$2:$AAA$71,0),MATCH(I$1&" - RENDEMENT",Bilan_Global!$A$2:$ACT$2,0)) -> #N/A | ... Y12: =INDEX(Bilan_Global!$A$3:$AAC$71,MATCH($A12,Bilan_Global!$A$2:$AAA$71,0),MATCH(Y$1&" - RENDEMENT",Bilan_Global!$A$2:$ACT$2,0)) -> #N/A
A13: CARIGNAN | B13: =INDEX(Bilan_Global!$A$3:$AAC$71,MATCH($A13,Bilan_Global!$A$2:$AAA$71,0),MATCH(B$1&" - RENDEMENT",Bilan_Global!$A$2:$ACT$2,0)) -> #N/A | C13: =INDEX(Bilan_Global!$A$3:$AAC$71,MATCH($A13,Bilan_Global!$A$2:$AAA$71,0),MATCH(C$1&" - RENDEMENT",Bilan_Global!$A$2:$ACT$2,0)) -> #N/A | D13: =INDEX(Bilan_Global!$A$3:$AAC$71,MATCH($A13,Bilan_Global!$A$2:$AAA$71,0),MATCH(D$1&" - RENDEMENT",Bilan_Global!$A$2:$ACT$2,0)) -> #N/A | E13: =INDEX(Bilan_Global!$A$3:$AAC$71,MATCH($A13,Bilan_Global!$A$2:$AAA$71,0),MATCH(E$1&" - RENDEMENT",Bilan_Global!$A$2:$ACT$2,0)) -> #N/A | F13: =INDEX(Bilan_Global!$A$3:$AAC$71,MATCH($A13,Bilan_Global!$A$2:$AAA$71,0),MATCH(F$1&" - RENDEMENT",Bilan_Global!$A$2:$ACT$2,0)) -> #N/A | G13: =INDEX(Bilan_Global!$A$3:$AAC$71,MATCH($A13,Bilan_Global!$A$2:$AAA$71,0),MATCH(G$1&" - RENDEMENT",Bilan_Global!$A$2:$ACT$2,0)) -> #N/A | H13: =INDEX(Bilan_Global!$A$3:$AAC$71,MATCH($A13,Bilan_Global!$A$2:$AAA$71,0),MATCH(H$1&" - RENDEMENT",Bilan_Global!$A$2:$ACT$2,0)) -> #N/A | I13: =INDEX(Bilan_Global!$A$3:$AAC$71,MATCH($A13,Bilan_Global!$A$2:$AAA$71,0),MATCH(I$1&" - RENDEMENT",Bilan_Global!$A$2:$ACT$2,0)) -> #N/A | ... Y13: =INDEX(Bilan_Global!$A$3:$AAC$71,MATCH($A13,Bilan_Global!$A$2:$AAA$71,0),MATCH(Y$1&" - RENDEMENT",Bilan_Global!$A$2:$ACT$2,0)) -> #N/A
A14: ARAMON | B14: =INDEX(Bilan_Global!$A$3:$AAC$71,MATCH($A14,Bilan_Global!$A$2:$AAA$71,0),MATCH(B$1&" - RENDEMENT",Bilan_Global!$A$2:$ACT$2,0)) -> #N/A | C14: =INDEX(Bilan_Global!$A$3:$AAC$71,MATCH($A14,Bilan_Global!$A$2:$AAA$71,0),MATCH(C$1&" - RENDEMENT",Bilan_Global!$A$2:$ACT$2,0)) -> #N/A | D14: =INDEX(Bilan_Global!$A$3:$AAC$71,MATCH($A14,Bilan_Global!$A$2:$AAA$71,0),MATCH(D$1&" - RENDEMENT",Bilan_Global!$A$2:$ACT$2,0)) -> #N/A | E14: =INDEX(Bilan_Global!$A$3:$AAC$71,MATCH($A14,Bilan_Global!$A$2:$AAA$71,0),MATCH(E$1&" - RENDEMENT",Bilan_Global!$A$2:$ACT$2,0)) -> #N/A | F14: =INDEX(Bilan_Global!$A$3:$AAC$71,MATCH($A14,Bilan_Global!$A$2:$AAA$71,0),MATCH(F$1&" - RENDEMENT",Bilan_Global!$A$2:$ACT$2,0)) -> #N/A | G14: =INDEX(Bilan_Global!$A$3:$AAC$71,MATCH($A14,Bilan_Global!$A$2:$AAA$71,0),MATCH(G$1&" - RENDEMENT",Bilan_Global!$A$2:$ACT$2,0)) -> #N/A | H14: =INDEX(Bilan_Global!$A$3:$AAC$71,MATCH($A14,Bilan_Global!$A$2:$AAA$71,0),MATCH(H$1&" - RENDEMENT",Bilan_Global!$A$2:$ACT$2,0)) -> #N/A | I14: =INDEX(Bilan_Global!$A$3:$AAC$71,MATCH($A14,Bilan_Global!$A$2:$AAA$71,0),MATCH(I$1&" - RENDEMENT",Bilan_Global!$A$2:$ACT$2,0)) -> #N/A | ... Y14: =INDEX(Bilan_Global!$A$3:$AAC$71,MATCH($A14,Bilan_Global!$A$2:$AAA$71,0),MATCH(Y$1&" - RENDEMENT",Bilan_Global!$A$2:$ACT$2,0)) -> #N/A
A42: TOTAL MOYENNE
A43: TOTAL MOYENNE sup à 0 | B43: =AVERAGEIF(B2:B42,">0") -> #DIV/0! | C43: =AVERAGEIF(C2:C42,">0") -> #DIV/0! | D43: =AVERAGEIF(D2:D42,">0") -> #DIV/0! | E43: =AVERAGEIF(E2:E42,">0") -> #DIV/0! | F43: =AVERAGEIF(F2:F42,">0") -> #DIV/0! | G43: =AVERAGEIF(G2:G42,">0") -> #DIV/0! | H43: =AVERAGEIF(H2:H42,">0") -> #DIV/0! | I43: =AVERAGEIF(I2:I42,">0") -> #DIV/0! | ... Y43: =AVERAGEIF(Y2:Y42,">0") -> #DIV/0!

Sheet GRAPH RENDEMENT GLOBAL

Sheet GRAPH RENDEMENT PARCELLAIRE IND

Sheet GRAPH RENDEMENT PAR CEPAGE

Sheet GRAPH RENDEMENT AGE VIGNE CEPAG
