Workbook

Sheet eur
A4: devise | B4: EUR
A5: cours | B5: 1
A6: compte | B6: compte
A7: date | B7: =+[1]Statistique!D1 -> 45230
A11: fonds/devise | B11: Date du suspens le plus important analysé | C11: Fonds | D11: Devise | E11: Montant en devise 2023 | F11: Montant en contrevaleur 2023
A12: =CONCATENATE(C12,D12) -> 1EUR | B12: =IF(ISBLANK(C12),"",IFERROR(LARGE(INDEX('détail justificatifs'!A:G,(MATCH(A12,'détail justificatifs'!E:E)),4),1),$B$7)) -> 45230 | C12: 1 | D12: EUR | E12: 380000 | F12: =+E12/$B$5 -> 380000
A13: =CONCATENATE(C13,D13) -> 2EUR | B13: =IF(ISBLANK(C13),"",IFERROR(LARGE(INDEX('détail justificatifs'!A:G,(MATCH(A13,'détail justificatifs'!E:E)),4),1),$B$7)) -> 45230 | C13: 2 | D13: EUR | E13: -15000 | F13: =+E13/$B$5 -> -15000
A14: =CONCATENATE(C14,D14) -> 3EUR | B14: =IF(ISBLANK(C14),"",IFERROR(LARGE(INDEX('détail justificatifs'!A:G,(MATCH(A14,'détail justificatifs'!E:E)),4),1),$B$7)) -> 45230 | C14: 3 | D14: EUR | E14: 10 | F14: =+E14/$B$5 -> 10
A15: =CONCATENATE(C15,D15) -> 4EUR | B15: =IF(ISBLANK(C15),"",IFERROR(LARGE(INDEX('détail justificatifs'!A:G,(MATCH(A15,'détail justificatifs'!E:E)),4),1),$B$7)) -> 45230 | C15: 4 | D15: EUR | E15: 100 | F15: =+E15/$B$5 -> 100
A16: =CONCATENATE(C16,D16) -> 5EUR | B16: =IF(ISBLANK(C16),"",IFERROR(LARGE(INDEX('détail justificatifs'!A:G,(MATCH(A16,'détail justificatifs'!E:E)),4),1),$B$7)) -> 45230 | C16: 5 | D16: EUR | E16: 0 | F16: =+E16/$B$5 -> 0

Sheet détail justificatifs
A1: n° portefeuille | B1: Devise | C1: fonds/devise | D1: Date du suspens | E1: Montant devises | F1: Montant eur | G1: Type de suspens
A2: 1 | B2: EUR | C2: =CONCATENATE(A2,B2) -> 1EUR | D2: 45017 | E2: 3497.24 | F2: 3497.24 | G2: Défaut Balance
A3: 1 | B3: EUR | C3: =CONCATENATE(A3,B3) -> 1EUR | D3: 45078 | E3: -8152.21 | F3: -8152.21 | G3: Ecart équivalent 2023
A4: 1 | B4: EUR | C4: =CONCATENATE(A4,B4) -> 1EUR | D4: 45047 | E4: -8514.73 | F4: -8514.73 | G4: Défaut Balance
A5: 1 | B5: EUR | C5: =CONCATENATE(A5,B5) -> 1EUR | D5: 45047 | E5: 979.68 | F5: 979.68 | G5: Transfert
A6: 1 | B6: EUR | C6: =CONCATENATE(A6,B6) -> 1EUR | D6: 45047 | E6: -1568.65 | F6: -1568.65 | G6: Frais de gestion passif
A7: 1 | B7: EUR | C7: =CONCATENATE(A7,B7) -> 1EUR | D7: 45017 | E7: -1562.38 | F7: -1562.38 | G7: Frais de gestion passif
A8: 1 | B8: EUR | C8: =CONCATENATE(A8,B8) -> 1EUR | D8: 44986 | E8: -1572.44 | F8: -1572.44 | G8: Frais de gestion passif
A9: 1 | B9: EUR | C9: =CONCATENATE(A9,B9) -> 1EUR | D9: 45078 | E9: -173335.1 | F9: -173335.1 | G9: Transfert
A10: 1 | B10: EUR | C10: =CONCATENATE(A10,B10) -> 1EUR | D10: 44682 | E10: -180360.63 | F10: -180360.63 | G10: Flux Financier manquant
A11: 2 | B11: USD | C11: =CONCATENATE(A11,B11) -> 2USD | D11: 45188 | E11: 10000 | F11: 80000 | G11: Flux Financier manquant
A12: 3 | B12: EUR | C12: =CONCATENATE(A12,B12) -> 3EUR | D12: 44941 | E12: 10 | F12: 10 | G12: Flux Financier manquant
A13: 5 | B13: EUR | C13: =CONCATENATE(A13,B13) -> 5EUR | D13: 44927 | E13: 100 | F13: 100 | G13: A extourner
