Workbook

Sheet Feuil1
A1: Données | B1: Longueur en mm
A2: Distance inter onde | B2: 333.33
A3: Taille onde | B3: 72
A4: taille demi onde | B4: 36
A5: taille côté de l'onde | B5: =(B3-B6)/2 -> 25
A6: Taille hauteur de l'onde | B6: 22
A7: Longueur panneau | B7: 1630
A8: Largeur panneau | B8: 982
A10: Longueur toit | B10: 70000
A11: Nb d'ondes | B11: =B10/B2 -> 210.0021

Sheet Feuil2
A1: N° rail | B1: Distance des rails (mm) | C1: N° panneau | D1: Début panneau | E1: Fin panneau | F1: Position du 1er rail/panneau | G1: Position du 2è rail/panneau | H1: =1650/4 -> 412.5
A2: 1 | B2: =Feuil1!$B$2*C2 -> 333.33 | C2: 1 | D2: =Feuil1!B5+Feuil1!B6 -> 47 | E2: =D2+Feuil1!$B$7 -> 1677 | F2: =D2+$H$1 -> 459.5 | G2: =E2-$H$1 -> 1264.5 | I2: =MIN(IF(ABS(B2:B210-F2)=MIN(ABS(B2:B210-F2)),B2:B210)) -> 333.33
A3: 2 | B3: =Feuil1!$B$2*C3 -> 666.66 | C3: 2 | D3: =E2 -> 1677 | E3: =D3+Feuil1!$B$7+20 -> 3327 | F3: =D3+$H$1 -> 2089.5 | G3: =E3-$H$1 -> 2914.5
A4: 3 | B4: =Feuil1!$B$2*C4 -> 999.99 | C4: 3 | D4: =E3 -> 3327 | E4: =D4+Feuil1!$B$7+20 -> 4977 | F4: =D4+$H$1 -> 3739.5 | G4: =E4-$H$1 -> 4564.5
A5: 4 | B5: =Feuil1!$B$2*C5 -> 1333.32 | C5: 4 | D5: =E4 -> 4977 | E5: =D5+Feuil1!$B$7+20 -> 6627 | F5: =D5+$H$1 -> 5389.5 | G5: =E5-$H$1 -> 6214.5
A6: 5 | B6: =Feuil1!$B$2*C6 -> 1666.65 | C6: 5 | D6: =E5 -> 6627 | E6: =D6+Feuil1!$B$7+20 -> 8277 | F6: =D6+$H$1 -> 7039.5 | G6: =E6-$H$1 -> 7864.5
A7: 6 | B7: =Feuil1!$B$2*C7 -> 1999.98 | C7: 6 | D7: =E6 -> 8277 | E7: =D7+Feuil1!$B$7+20 -> 9927 | F7: =D7+$H$1 -> 8689.5 | G7: =E7-$H$1 -> 9514.5
A8: 7 | B8: =Feuil1!$B$2*C8 -> 2333.31 | C8: 7 | D8: =E7 -> 9927 | E8: =D8+Feuil1!$B$7+20 -> 11577 | F8: =D8+$H$1 -> 10339.5 | G8: =E8-$H$1 -> 11164.5
A9: 8 | B9: =Feuil1!$B$2*C9 -> 2666.64 | C9: 8 | D9: =E8 -> 11577 | E9: =D9+Feuil1!$B$7+20 -> 13227 | F9: =D9+$H$1 -> 11989.5 | G9: =E9-$H$1 -> 12814.5
A10: 9 | B10: =Feuil1!$B$2*C10 -> 2999.97 | C10: 9 | D10: =E9 -> 13227 | E10: =D10+Feuil1!$B$7+20 -> 14877 | F10: =D10+$H$1 -> 13639.5 | G10: =E10-$H$1 -> 14464.5
A11: 10 | B11: =Feuil1!$B$2*C11 -> 3333.3 | C11: 10 | D11: =E10 -> 14877 | E11: =D11+Feuil1!$B$7+20 -> 16527 | F11: =D11+$H$1 -> 15289.5 | G11: =E11-$H$1 -> 16114.5
A12: 11 | B12: =Feuil1!$B$2*C12 -> 3666.63 | C12: 11 | D12: =E11 -> 16527 | E12: =D12+Feuil1!$B$7+20 -> 18177 | F12: =D12+$H$1 -> 16939.5 | G12: =E12-$H$1 -> 17764.5
A13: 12 | B13: =Feuil1!$B$2*C13 -> 3999.96 | C13: 12 | D13: =E12 -> 18177 | E13: =D13+Feuil1!$B$7+20 -> 19827 | F13: =D13+$H$1 -> 18589.5 | G13: =E13-$H$1 -> 19414.5
A14: 13 | B14: =Feuil1!$B$2*C14 -> 4333.29 | C14: 13 | D14: =E13 -> 19827 | E14: =D14+Feuil1!$B$7+20 -> 21477 | F14: =D14+$H$1 -> 20239.5 | G14: =E14-$H$1 -> 21064.5
... A43: 42 | B43: =Feuil1!$B$2*C43 -> 13999.86 | C43: 42 | D43: =E42 -> 67677 | E43: =D43+Feuil1!$B$7+20 -> 69327 | F43: =D43+$H$1 -> 68089.5 | G43: =E43-$H$1 -> 68914.5
A44: 43 | B44: =Feuil1!$B$2*C44 -> 14333.19 | C44: 43
A45: 44 | B45: =Feuil1!$B$2*C45 -> 14666.52 | C45: 44
A46: 45 | B46: =Feuil1!$B$2*C46 -> 14999.85 | C46: 45
A47: 46 | B47: =Feuil1!$B$2*C47 -> 15333.18 | C47: 46
A48: 47 | B48: =Feuil1!$B$2*C48 -> 15666.51 | C48: 47
A49: 48 | B49: =Feuil1!$B$2*C49 -> 15999.84 | C49: 48
A50: 49 | B50: =Feuil1!$B$2*C50 -> 16333.17 | C50: 49
A51: 50 | B51: =Feuil1!$B$2*C51 -> 16666.5 | C51: 50
A52: 51 | B52: =Feuil1!$B$2*C52 -> 16999.83 | C52: 51
A53: 52 | B53: =Feuil1!$B$2*C53 -> 17333.16 | C53: 52
A54: 53 | B54: =Feuil1!$B$2*C54 -> 17666.49 | C54: 53
A55: 54 | B55: =Feuil1!$B$2*C55 -> 17999.82 | C55: 54
... A210: 209 | B210: =Feuil1!$B$2*C210 -> 69665.97 | C210: 209

Sheet Feuil3
