Workbook
Name airline: '[1]NE PAS TOUCHER'!$M$1:$M$4
Name charnieres: '[2]NE PAS TOUCHER'!$A$11:$A$14
Name epaisseur_panneaux: '[2]NE PAS TOUCHER'!$C$2:$C$3
Name Etat: '[2]NE PAS TOUCHER'!$A$2:$A$4
Name fermetures: '[2]NE PAS TOUCHER'!$B$11:$B$19
Name liaison_arr: '[1]NE PAS TOUCHER'!$E$7:$E$11
Name Liaison_avant: '[1]NE PAS TOUCHER'!$E$1:$E$5
Name Marqueveh: '[1]NE PAS TOUCHER'!$O$6:$O$21
Name nb_fermetures: '[2]NE PAS TOUCHER'!$B$2:$B$3
Name oui_non: '[2]NE PAS TOUCHER'!$C$10:$C$11
Name remplissage_panneaux: '[2]NE PAS TOUCHER'!$D$2:$D$4
Name ridelles: '[1]NE PAS TOUCHER'!$H$1:$H$4
Name Segment_supplémentaire: '[2]NE PAS TOUCHER'!$G$2:$G$3
Name tubes_fenetre: '[1]NE PAS TOUCHER'!$K$1:$K$2
Name type_poches: '[2]NE PAS TOUCHER'!$E$2:$E$3
Name type_revetement: '[2]NE PAS TOUCHER'!$F$2:$F$4
Name type_soudure: '[2]NE PAS TOUCHER'!$D$10:$D$11
Name typologie: '[1]NE PAS TOUCHER'!$H$7:$H$9

Sheet Porte arrière Sandwich
B1: Formulaire de commande de portes - Classique - arrière | K1: Coût Matière | L1: =+M302+M293+M264+M254+M171+M151+M133+M111+M100+M84+M63+M41+M33+M260+M122+M226+M248+M188+M206 -> #REF! | M1: Poids total | N1: =+I302+I293+I264+I254+I171+I151+I133+I111+I100+I84+I63+I41+I33+I122+I226+I248+I260+I188+I206 -> #REF! | P1: Prix de vente BRUT | R1: Marge | S1: Unitairement
K2: Coût MOD | L2: =+M331 -> 683.1 | P2: SUI-CHF | Q2: =+L3*2.6 -> #REF! | R2: =+($Q$2*0.7-$L$3)/($Q$2*0.7) -> #REF! | S2: =+Q2/$F$4 -> #REF!
B3: Date | E3: Références | K3: Coût TOTAL | L3: =+L1+L2 -> #REF! | M3: Unitairement | N3: =+L3/F4 -> #REF! | P3: EXP-EUR | Q3: =+L3*2.36 -> #REF! | R3: =+($Q$3*0.5*1.1-$L$3)/($Q$3*0.5*1.1) -> #REF! | S3: =+Q3/$F$4 -> #REF!
B4: Client | E4: Quantité | F4: 1 | P4: EXP-CHF | Q4: =+Q3*1.15 -> #REF! | R4: =+($Q$4*0.5-$L$3)/($Q$4*0.5) -> #REF! | S4: =+Q4/$F$4 -> #REF!
B6: Hauteur cadre arrière | C6: Ht = (en mm) | D6: 2001 | F6: =+D6 -> 2001 | G6: Segments | H6: =+IF(F6<'[2]NE PAS TOUCHER'!A24,3,IF(F6<'[2]NE PAS TOUCHER'!A25,4,5)) -> 3 | N6: numéro article à commander
B7: Largeur exterieure du véhicule | C7: BA = (en mm) | D7: 2532 | N7: {=INDEX('[2]NE PAS TOUCHER'!$K$4:$V$220,MATCH(1,('Porte arrière Sandwich'!$D$13='[2]NE PAS TOUCHER'!K4:K220)*('Porte arrière Sandwich'!$D$15='[2]NE PAS TOUCHER'!M4:M220)*('Porte arrière Sandwich'!$D$26='[2]NE PAS TOUCHER'!N4:N220)*('Porte arrière Sandwich'!$G$17='[2]NE PAS TOUCHER'!O4:O220)*('Porte arrière Sandwich'!$G$13='[2]NE PAS TOUCHER'!P4:P220)*('Porte arrière Sandwich'!$H$6='[2]NE PAS TOUCHER'!R4:R220),0),IF(G19="non",11,9))} -> 2 016 920.201
B9: Souhait de segments supplémentaires
B10: Entre Axe segments | C10: A= (en mm)
B11: Nb de segments supplémentaire | C11: Exprimé par porte
N12: Doit il être créé?
B13: Nombre de vantaux | D13: 4 | F13: Exécution | G13: Sandwich | N13: =+IF(IFERROR(VLOOKUP($N$7,[2]!Tableau__192.168.29.23_APSSQL_Arizona_v_Addr_Employee_F[N° Article],1,),"oui")=N7,"non","oui") -> oui
B15: Nombre de fermetures | D15: 4 | F15: Revêtement | G15: Brut
B17: Etat | D17: Montée | F17: type de poches | G17: poches à souder | J17: =IF($D$19=30,"Attention, l'épaisseur des panneaux en 30mm n'est pour le moment pas prévu dans ce fichier.","")
B19: Epaisseur des panneaux | D19: 25 | F19: Linteau contact | G19: non
J20: =+IF($D$6>3099,"Attention la HI maximale est de 3099mm","")
B21: Charnières | D21: Std | F21: Montage des joints | G21: oui
B23: Fermetures | D23: Encastrée - MRF | F23: Soudure de la porte | G23: non
F25: Type de soudure | G25: Angles uniquement
D26: =IF(IFERROR(VLOOKUP(D23,'[2]NE PAS TOUCHER'!B14:B19,1,),"boxer")<>"boxer","Encastrée","boxer") -> Encastrée
B27: Qté | C27: Qte tot | D27: Désignation | E27: N° article | F27: L | G27: Poids | H27: unité de poids | I27: Poids total | K27: Coût unitaire | L27: unité du coût | M27: coût total
A28: Bordure std
B29: =+IF($G$19="oui ","0",IF($D$13=2,"1","5")) -> 5 | C29: =+B29*$F$4 -> 5 | D29: =+VLOOKUP(E29,[2]!Tableau__192.168.29.23_APSSQL_Arizona_v_Addr_Employee_F[[N° Article]:[Description courte]],3,) -> PROFIL PORTE 25 MM | E29: =+IF($G$15="Brut",'[2]Don''t touch'!$A$2,IF($G$15="eloxé",'[2]Don''t touch'!$B$2,'[2]Don''t touch'!$C$2)) -> 5 232 356 | F29: =+$F$6/1000 -> 2.001 | G29: =+VLOOKUP(E29,[2]!Tableau__192.168.29.23_APSSQL_Arizona_v_Addr_Employee_F[[N° Article]:[Poids net]],32,) -> 2.241 | H29: kg/m | I29: =C29*G29*F29 -> 22.421205 | J29: kg | K29: =+VLOOKUP(E29,[2]!Tableau__192.168.29.23_APSSQL_Arizona_v_Addr_Employee_F[[N° Article]:[Cout total]],9,) -> 4.36 | L29: =+VLOOKUP(E29,[2]!Tableau__192.168.29.23_APSSQL_Arizona_v_Addr_Employee_F[[N° Article]:[UC_code]],10,) -> KG | M29: =IF(L29="CENT",C29*K29/100,IF(L29="KG",K29*I29,K29*C29)) -> 97.756454
B30: =+IF($G$19="oui ","0","1") -> 1 | C30: =+B30*$F$4 -> 1 | D30: =+VLOOKUP(E30,[2]!Tableau__192.168.29.23_APSSQL_Arizona_v_Addr_Employee_F[[N° Article]:[Description courte]],3,) -> PROFIL PORTE 25 MM AVEC BATTUE | E30: =+IF($G$15="Brut",'[2]Don''t touch'!$A$3,IF($G$15="eloxé",'[2]Don''t touch'!$B$3,'[2]Don''t touch'!$C$3)) -> 5 232 325 | F30: =+$F$6/1000 -> 2.001 | G30: =+VLOOKUP(E30,[2]!Tableau__192.168.29.23_APSSQL_Arizona_v_Addr_Employee_F[[N° Article]:[Poids net]],32,) -> 2.286 | H30: kg/m | I30: =C30*G30*F30 -> 4.574286 | J30: kg | K30: =+VLOOKUP(E30,[2]!Tableau__192.168.29.23_APSSQL_Arizona_v_Addr_Employee_F[[N° Article]:[Cout total]],9,) -> 4.48 | L30: =+VLOOKUP(E30,[2]!Tableau__192.168.29.23_APSSQL_Arizona_v_Addr_Employee_F[[N° Article]:[UC_code]],10,) -> KG | M30: =IF(L30="CENT",C30*K30/100,IF(L30="KG",K30*I30,K30*C30)) -> 20.492801
B31: =+IF($G$19="oui ","0","2") -> 2 | C31: =+B31*$F$4 -> 2 | D31: =+VLOOKUP(E31,[2]!Tableau__192.168.29.23_APSSQL_Arizona_v_Addr_Employee_F[[N° Article]:[Description courte]],3,) -> PR.PORTE 25 RENFORCE | E31: =+IF($G$15="Brut",'[2]Don''t touch'!$A$4,IF($G$15="eloxé",'[2]Don''t touch'!$B$4,'[2]Don''t touch'!$C$4)) -> 5 232 376 | F31: =+$F$6/1000 -> 2.001 | G31: =+VLOOKUP(E31,[2]!Tableau__192.168.29.23_APSSQL_Arizona_v_Addr_Employee_F[[N° Article]:[Poids net]],32,) -> 2.395 | H31: kg/m | I31: =C31*G31*F31 -> 9.58479 | J31: kg | K31: =+VLOOKUP(E31,[2]!Tableau__192.168.29.23_APSSQL_Arizona_v_Addr_Employee_F[[N° Article]:[Cout total]],9,) -> 4.02 | L31: =+VLOOKUP(E31,[2]!Tableau__192.168.29.23_APSSQL_Arizona_v_Addr_Employee_F[[N° Article]:[UC_code]],10,) -> KG | M31: =IF(L31="CENT",C31*K31/100,IF(L31="KG",K31*I31,K31*C31)) -> 38.530856
B32: =+IF($G$19="oui ","0",IF($D$13=2,"4","8")) -> 8 | C32: =+B32*$F$4 -> 8 | D32: =+VLOOKUP(E32,[2]!Tableau__192.168.29.23_APSSQL_Arizona_v_Addr_Employee_F[[N° Article]:[Description courte]],3,) -> PROFIL PORTE 25 MM | E32: =+IF($G$15="Brut",'[2]Don''t touch'!$A$2,IF($G$15="eloxé",'[2]Don''t touch'!$B$2,'[2]Don''t touch'!$C$2)) -> 5 232 356 | F32: =+IF($D$13=2,($D$7-60)/2/1000,($D$7-78)/4/1000) -> 0.6135 | G32: =+VLOOKUP(E32,[2]!Tableau__192.168.29.23_APSSQL_Arizona_v_Addr_Employee_F[[N° Article]:[Poids net]],32,) -> 2.241 | H32: kg/m | I32: =C32*G32*F32 -> 10.998828 | J32: kg | K32: =+VLOOKUP(E32,[2]!Tableau__192.168.29.23_APSSQL_Arizona_v_Addr_Employee_F[[N° Article]:[Cout total]],9,) -> 4.36 | L32: =+VLOOKUP(E32,[2]!Tableau__192.168.29.23_APSSQL_Arizona_v_Addr_Employee_F[[N° Article]:[UC_code]],10,) -> KG | M32: =IF(L32="CENT",C32*K32/100,IF(L32="KG",K32*I32,K32*C32)) -> 47.95489
A33: =+A28 -> Bordure std | I33: =+SUM(I29:I32) -> 47.579109 | M33: =+SUM(M29:M32) -> 204.735
A35: Bordure contact
B36: =+IF($G$19="oui ",IF($D$13=2,"1","5"),"0") -> 0 | C36: =+B36*$F$4 -> 0 | D36: =+VLOOKUP(E36,[2]!Tableau__192.168.29.23_APSSQL_Arizona_v_Addr_Employee_F[[N° Article]:[Description courte]],3,) -> PROFIL PORTE 25 MM | E36: =+IF($G$15="Brut",'[2]Don''t touch'!$A$2,IF($G$15="eloxé",'[2]Don''t touch'!$B$2,'[2]Don''t touch'!$C$2)) -> 5 232 356 | F36: =+$F$6/1000 -> 2.001 | G36: =+VLOOKUP(E36,[2]!Tableau__192.168.29.23_APSSQL_Arizona_v_Addr_Employee_F[[N° Article]:[Poids net]],32,) -> 2.241 | H36: kg/m | I36: =C36*G36*F36 -> 0 | J36: kg | K36: =+VLOOKUP(E36,[2]!Tableau__192.168.29.23_APSSQL_Arizona_v_Addr_Employee_F[[N° Article]:[Cout total]],9,) -> 4.36 | L36: =+VLOOKUP(E36,[2]!Tableau__192.168.29.23_APSSQL_Arizona_v_Addr_Employee_F[[N° Article]:[UC_code]],10,) -> KG | M36: =I36*K36 -> 0
B37: =+IF($G$19="oui ","1","0") -> 0 | C37: =+B37*$F$4 -> 0 | D37: =+VLOOKUP(E37,[2]!Tableau__192.168.29.23_APSSQL_Arizona_v_Addr_Employee_F[[N° Article]:[Description courte]],3,) -> PROFIL PORTE 25 MM AVEC BATTUE | E37: =+IF($G$15="Brut",'[2]Don''t touch'!$A$3,IF($G$15="eloxé",'[2]Don''t touch'!$B$3,'[2]Don''t touch'!$C$3)) -> 5 232 325 | F37: =+$F$6/1000 -> 2.001 | G37: =+VLOOKUP(E37,[2]!Tableau__192.168.29.23_APSSQL_Arizona_v_Addr_Employee_F[[N° Article]:[Poids net]],32,) -> 2.286 | H37: kg/m | I37: =C37*G37*F37 -> 0 | J37: kg | K37: =+VLOOKUP(E37,[2]!Tableau__192.168.29.23_APSSQL_Arizona_v_Addr_Employee_F[[N° Article]:[Cout total]],9,) -> 4.48 | L37: =+VLOOKUP(E37,[2]!Tableau__192.168.29.23_APSSQL_Arizona_v_Addr_Employee_F[[N° Article]:[UC_code]],10,) -> KG | M37: =I37*K37 -> 0
B38: =+IF($G$19="oui ","2","0") -> 0 | C38: =+B38*$F$4 -> 0 | D38: =+VLOOKUP(E38,[2]!Tableau__192.168.29.23_APSSQL_Arizona_v_Addr_Employee_F[[N° Article]:[Description courte]],3,) -> PR.PORTE 25 RENFORCE | E38: =+IF($G$15="Brut",'[2]Don''t touch'!$A$4,IF($G$15="eloxé",'[2]Don''t touch'!$B$4,'[2]Don''t touch'!$C$4)) -> 5 232 376 | F38: =+$F$6/1000 -> 2.001 | G38: =+VLOOKUP(E38,[2]!Tableau__192.168.29.23_APSSQL_Arizona_v_Addr_Employee_F[[N° Article]:[Poids net]],32,) -> 2.395 | H38: kg/m | I38: =C38*G38*F38 -> 0 | J38: kg | K38: =+VLOOKUP(E38,[2]!Tableau__192.168.29.23_APSSQL_Arizona_v_Addr_Employee_F[[N° Article]:[Cout total]],9,) -> 4.02 | L38: =+VLOOKUP(E38,[2]!Tableau__192.168.29.23_APSSQL_Arizona_v_Addr_Employee_F[[N° Article]:[UC_code]],10,) -> KG | M38: =I38*K38 -> 0
B39: =+IF($G$19="oui ",IF($D$13=2,"2","4"),"0") -> 0 | C39: =+B39*$F$4 -> 0 | D39: =+VLOOKUP(E39,[2]!Tableau__192.168.29.23_APSSQL_Arizona_v_Addr_Employee_F[[N° Article]:[Description courte]],3,) -> PROFIL PORTE 25 MM | E39: =+IF($G$15="Brut",'[2]Don''t touch'!$A$2,IF($G$15="eloxé",'[2]Don''t touch'!$B$2,'[2]Don''t touch'!$C$2)) -> 5 232 356 | F39: =+IF($D$13=2,($D$7-60)/2/1000,($D$7-78)/4/1000) -> 0.6135 | G39: =+VLOOKUP(E39,[2]!Tableau__192.168.29.23_APSSQL_Arizona_v_Addr_Employee_F[[N° Article]:[Poids net]],32,) -> 2.241 | H39: kg/m | I39: =C39*G39*F39 -> 0 | J39: kg | K39: =+VLOOKUP(E39,[2]!Tableau__192.168.29.23_APSSQL_Arizona_v_Addr_Employee_F[[N° Article]:[Cout total]],9,) -> 4.36 | L39: =+VLOOKUP(E39,[2]!Tableau__192.168.29.23_APSSQL_Arizona_v_Addr_Employee_F[[N° Article]:[UC_code]],10,) -> KG | M39: =I39*K39 -> 0
B40: =+IF($G$19="oui ",IF($D$13=2,"2","4"),"0") -> 0 | C40: =+B40*$F$4 -> 0 | D40: =+VLOOKUP(E40,[2]!Tableau__192.168.29.23_APSSQL_Arizona_v_Addr_Employee_F[[N° Article]:[Description courte]],3,) -> PROFIL CONTACT 25 MM, COUPE | E40: =+IF($G$15="Brut",'[2]Don''t touch'!$A$5,IF($G$15="eloxé",'[2]Don''t touch'!$B$5,'[2]Don''t touch'!$C$5)) -> 5 232 345 | F40: =+IF($D$13=2,($D$7-60)/2/1000,($D$7-78)/4/1000) -> 0.6135 | G40: =+VLOOKUP(E40,[2]!Tableau__192.168.29.23_APSSQL_Arizona_v_Addr_Employee_F[[N° Article]:[Poids net]],32,) -> 2.272 | H40: kg/m | I40: =C40*G40*F40 -> 0 | J40: kg | K40: =+VLOOKUP(E40,[2]!Tableau__192.168.29.23_APSSQL_Arizona_v_Addr_Employee_F[[N° Article]:[Cout total]],9,) -> 4.45 | L40: =+VLOOKUP(E40,[2]!Tableau__192.168.29.23_APSSQL_Arizona_v_Addr_Employee_F[[N° Article]:[UC_code]],10,) -> KG | M40: =I40*K40 -> 0
A41: =+A35 -> Bordure contact | I41: =+SUM(I36:I40) -> 0 | M41: =+SUM(M36:M40) -> 0
A43: Base snap lock
B44: =+IF($G$13="Snap-lock",IF($D$13=2,"2","4"),"0") -> 0 | C44: =+B44*$F$4 -> 0 | D44: =+VLOOKUP(E44,[2]!Tableau__192.168.29.23_APSSQL_Arizona_v_Addr_Employee_F[[N° Article]:[Description courte]],3,) -> PR.SNAP 25 MM LA=75 | E44: =+IF($G$15="Brut",'[2]Don''t touch'!$A$7,IF($G$15="eloxé",'[2]Don''t touch'!$B$7,'[2]Don''t touch'!$C$7)) -> 5 212 952 | F44: =+($F$6-170)/1000 -> 1.831 | G44: =+VLOOKUP(E44,[2]!Tableau__192.168.29.23_APSSQL_Arizona_v_Addr_Employee_F[[N° Article]:[Poids net]],32,) -> 1.017 | H44: kg/m | I44: =(F44)*C44*G44 -> 0 | J44: kg | K44: =+VLOOKUP(E44,[2]!Tableau__192.168.29.23_APSSQL_Arizona_v_Addr_Employee_F[[N° Article]:[Cout total]],9,) -> 4.32 | L44: =+VLOOKUP(E44,[2]!Tableau__192.168.29.23_APSSQL_Arizona_v_Addr_Employee_F[[N° Article]:[UC_code]],10,) -> KG | M44: =IF(L44="CENT",C44*K44/100,IF(L44="KG",K44*I44,K44*C44)) -> 0
B45: =+IF($G$13="Snap-lock",IF($D$13=2,"8","4"),"0") -> 0 | C45: =+B45*$F$4 -> 0 | D45: =+VLOOKUP(E45,[2]!Tableau__192.168.29.23_APSSQL_Arizona_v_Addr_Employee_F[[N° Article]:[Description courte]],3,) -> PR.SNAP 25 MM LA=200 | E45: =+IF($G$15="Brut",'[2]Don''t touch'!$A$8,IF($G$15="eloxé",'[2]Don''t touch'!$B$8,'[2]Don''t touch'!$C$8)) -> 5 212 943 | F45: =+($F$6-170)/1000 -> 1.831 | G45: =+VLOOKUP(E45,[2]!Tableau__192.168.29.23_APSSQL_Arizona_v_Addr_Employee_F[[N° Article]:[Poids net]],32,) -> 2.58 | H45: kg/m | I45: =(F45)*C45*G45 -> 0 | J45: kg | K45: =+VLOOKUP(E45,[2]!Tableau__192.168.29.23_APSSQL_Arizona_v_Addr_Employee_F[[N° Article]:[Cout total]],9,) -> 4.22 | L45: =+VLOOKUP(E45,[2]!Tableau__192.168.29.23_APSSQL_Arizona_v_Addr_Employee_F[[N° Article]:[UC_code]],10,) -> KG | M45: =IF(L45="CENT",C45*K45/100,IF(L45="KG",K45*I45,K45*C45)) -> 0
B46: =+IF($G$13="Snap-lock",IF($D$13=2,"2","4"),"0") -> 0 | C46: =+B46*$F$4 -> 0 | D46: =+VLOOKUP(E46,[2]!Tableau__192.168.29.23_APSSQL_Arizona_v_Addr_Employee_F[[N° Article]:[Description courte]],3,) -> PR.SNAP 25 MM LA=200 | E46: =+IF($G$15="Brut",'[2]Don''t touch'!$A$9,IF($G$15="eloxé",'[2]Don''t touch'!$B$9,'[2]Don''t touch'!$C$9)) -> 5 212 937 | F46: =+($F$6-170)/1000 -> 1.831 | G46: =+VLOOKUP(E46,[2]!Tableau__192.168.29.23_APSSQL_Arizona_v_Addr_Employee_F[[N° Article]:[Poids net]],32,) -> 2.59 | H46: kg/m | I46: =(F46)*C46*G46 -> 0 | J46: kg | K46: =+VLOOKUP(E46,[2]!Tableau__192.168.29.23_APSSQL_Arizona_v_Addr_Employee_F[[N° Article]:[Cout total]],9,) -> 4.37 | L46: =+VLOOKUP(E46,[2]!Tableau__192.168.29.23_APSSQL_Arizona_v_Addr_Employee_F[[N° Article]:[UC_code]],10,) -> KG | M46: =IF(L46="CENT",C46*K46/100,IF(L46="KG",K46*I46,K46*C46)) -> 0
B47: =+IF($G$13="Snap-lock",IF($D$13=2,"2","6"),"0") -> 0 | C47: =+B47*$F$4 -> 0 | D47: =+VLOOKUP(E47,[2]!Tableau__192.168.29.23_APSSQL_Arizona_v_Addr_Employee_F[[N° Article]:[Description courte]],3,) -> AXE DE CHARNIERE ELOXE, CO | E47: 5 432 319 | F47: =+(($H$6-1)*600+180)/1000 -> 1.38 | G47: =+VLOOKUP(E47,[2]!Tableau__192.168.29.23_APSSQL_Arizona_v_Addr_Employee_F[[N° Article]:[Poids net]],32,) -> 0.556 | H47: kg/m | I47: =(F47)*C47*G47 -> 0 | J47: kg | K47: =+VLOOKUP(E47,[2]!Tableau__192.168.29.23_APSSQL_Arizona_v_Addr_Employee_F[[N° Article]:[Cout total]],9,) -> 5.75 | L47: =+VLOOKUP(E47,[2]!Tableau__192.168.29.23_APSSQL_Arizona_v_Addr_Employee_F[[N° Article]:[UC_code]],10,) -> KG | M47: =IF(L47="CENT",C47*K47/100,IF(L47="KG",K47*I47,K47*C47)) -> 0
B48: =+IF($G$13="Snap-lock",IF($D$13=2,"2","6"),"0") -> 0 | C48: =+B48*$F$4 -> 0 | D48: =+VLOOKUP(E48,[2]!Tableau__192.168.29.23_APSSQL_Arizona_v_Addr_Employee_F[[N° Article]:[Description courte]],3,) -> GOUPILLE SPIRALE 5 X 20 MM | E48: 2 019 006 | G48: =+VLOOKUP(E48,[2]!Tableau__192.168.29.23_APSSQL_Arizona_v_Addr_Employee_F[[N° Article]:[Poids net]],32,) -> 0.003 | H48: kg/pce | I48: =C48*G48 -> 0 | J48: kg | K48: =+VLOOKUP(E48,[2]!Tableau__192.168.29.23_APSSQL_Arizona_v_Addr_Employee_F[[N° Article]:[Cout total]],9,) -> 7.1 | L48: =+VLOOKUP(E48,[2]!Tableau__192.168.29.23_APSSQL_Arizona_v_Addr_Employee_F[[N° Article]:[UC_code]],10,) -> CENT | M48: =IF(L48="CENT",C48*K48/100,IF(L48="KG",K48*I48,K48*C48)) -> 0
B49: =+IF($G$13="Snap-lock",IF($D$13=2,"24","176"),"0") -> 0 | C49: =+B49*$F$4 -> 0 | D49: =+VLOOKUP(E49,[2]!Tableau__192.168.29.23_APSSQL_Arizona_v_Addr_Employee_F[[N° Article]:[Description courte]],3,) -> RIVET POP ALU 4,8 X 12 MM | E49: 2 029 139 | G49: =+VLOOKUP(E49,[2]!Tableau__192.168.29.23_APSSQL_Arizona_v_Addr_Employee_F[[N° Article]:[Poids net]],32,) -> 0.005 | H49: kg/pce | I49: =C49*G49 -> 0 | J49: kg | K49: =+VLOOKUP(E49,[2]!Tableau__192.168.29.23_APSSQL_Arizona_v_Addr_Employee_F[[N° Article]:[Cout total]],9,) -> 5.08 | L49: =+VLOOKUP(E49,[2]!Tableau__192.168.29.23_APSSQL_Arizona_v_Addr_Employee_F[[N° Article]:[UC_code]],10,) -> CENT | M49: =IF(L49="CENT",C49*K49/100,IF(L49="KG",K49*I49,K49*C49)) -> 0
...
