Workbook

Sheet S40
A1: Gare_Origine | B1: nb T 4-7 | C1: dont non ponctuel | D1: PO 4-7 | E1: PO4-7-PO | F1: part non ponctu 4-7 | G1: Orig | H1: Dest | J1: Gare_Origine | K1: nb T 4-7 | L1: dont non ponctuel | M1: PO 4-7 | N1: PO4-7-PO | O1: part non ponctu 4-7 | P1: Orig | Q1: Dest | U1: Période | X1: Cumul | AD1: Objectif | AE1: Hebdo | AF1: Cumul | AG1: Tendance | AH1: Diff
A2: STRASBOURG-VILLE - BV | J2: STRASBOURG-VILLE - BV | S2: DRG | T2: Gare | U2: nb T 4-7 | V2: dont non ponctuel | W2: PO 4-7 | X2: nb T 4-7 | Y2: dont non ponctuel | Z2: PO 4-7 | AC2: Total | AD2: 0.91 | AE2: =SUMIFS($W:$W,$S:$S,$AC$2) -> 0 | AF2: =SUMIFS($Z:$Z,$S:$S,$AC$2) -> 0 | AG2: =IF(AE2>#REF!,"↗",IF(AE2<#REF!,"↘","→")) -> #REF! | AH2: =AE2-#REF! -> #REF!
A3: BORDEAUX ST JEAN - BV | J3: LYON-PERRACHE-VOYAGEURS - BV | S3: DRG AURA-BFC | T3: Total | U3: =SUM(U4:U12) -> 0 | V3: =SUM(V4:V12) -> 0 | W3: =IF(OR(U3=0,U3=""),"",(U3-V3)/U3) | X3: =SUM(X4:X12) -> 0 | Y3: =SUM(Y4:Y12) -> 0 | Z3: =IF(OR(X3=0,X3=""),"",(X3-Y3)/X3) | AC3: DRG Nlle Aquitaine | AD3: 0.91 | AE3: =SUMIFS($W:$W,$S:$S,$AC3,$T:$T,$AC$2) -> 0 | AF3: =SUMIFS($Z:$Z,$S:$S,$AC3,$T:$T,$AC$2) -> 0 | AG3: =IF(AE3>#REF!,"↗",IF(AE3<#REF!,"↘","→")) -> #REF! | AH3: =AE3-#REF! -> #REF!
A4: LILLE FLANDRES - BV | J4: AMIENS - BV | T4: BESANCON-FRANCHE-COMTE-TGV - BV | U4: =_xlfn.IFNA(VLOOKUP(T4,A:C,2,FALSE),"") -> 0 | V4: =_xlfn.IFNA(VLOOKUP(T4,A:C,3,FALSE),"") -> 0 | W4: =IF(OR(U4=0,U4=""),"",(U4-V4)/U4) | X4: =_xlfn.IFNA(VLOOKUP(T4,J:L,2,FALSE),"") -> 0 | Y4: =_xlfn.IFNA(VLOOKUP(T4,J:L,3,FALSE),"") -> 0 | Z4: =IF(OR(X4=0,X4=""),"",(X4-Y4)/X4) | AC4: DRG B-CVL-PDL | AD4: 0.91 | AE4: =SUMIFS($W:$W,$S:$S,$AC4,$T:$T,$AC$2) -> 0 | AF4: =SUMIFS($Z:$Z,$S:$S,$AC4,$T:$T,$AC$2) -> 0 | AG4: =IF(AE4>#REF!,"↗",IF(AE4<#REF!,"↘","→")) -> #REF! | AH4: =AE4-#REF! -> #REF!
A5: LYON-PERRACHE-VOYAGEURS - BV | J5: TOULOUSE-MATABIAU - BV | T5: DIJON VILLE - BV | U5: =_xlfn.IFNA(VLOOKUP(T5,A:C,2,FALSE),"") -> 0 | V5: =_xlfn.IFNA(VLOOKUP(T5,A:C,3,FALSE),"") -> 0 | W5: =IF(OR(U5=0,U5=""),"",(U5-V5)/U5) | X5: =_xlfn.IFNA(VLOOKUP(T5,J:L,2,FALSE),"") -> 0 | Y5: =_xlfn.IFNA(VLOOKUP(T5,J:L,3,FALSE),"") -> 0 | Z5: =IF(OR(X5=0,X5=""),"",(X5-Y5)/X5) | AC5: DRG AURA-BFC | AD5: 0.91 | AE5: =SUMIFS($W:$W,$S:$S,$AC5,$T:$T,$AC$2) -> 0 | AF5: =SUMIFS($Z:$Z,$S:$S,$AC5,$T:$T,$AC$2) -> 0 | AG5: =IF(AE5>#REF!,"↗",IF(AE5<#REF!,"↘","→")) -> #REF! | AH5: =AE5-#REF! -> #REF!
A6: LYON PART DIEU - BV | J6: BORDEAUX ST JEAN - BV | T6: GRENOBLE - BV | U6: =_xlfn.IFNA(VLOOKUP(T6,A:C,2,FALSE),"") -> 0 | V6: =_xlfn.IFNA(VLOOKUP(T6,A:C,3,FALSE),"") -> 0 | W6: =IF(OR(U6=0,U6=""),"",(U6-V6)/U6) | X6: =_xlfn.IFNA(VLOOKUP(T6,J:L,2,FALSE),"") -> 0 | Y6: =_xlfn.IFNA(VLOOKUP(T6,J:L,3,FALSE),"") -> 0 | Z6: =IF(OR(X6=0,X6=""),"",(X6-Y6)/X6) | AC6: DRG HDF-Normandie | AD6: 0.91 | AE6: =SUMIFS($W:$W,$S:$S,$AC6,$T:$T,$AC$2) -> 0 | AF6: =SUMIFS($Z:$Z,$S:$S,$AC6,$T:$T,$AC$2) -> 0 | AG6: =IF(AE6>#REF!,"↗",IF(AE6<#REF!,"↘","→")) -> #REF! | AH6: =AE6-#REF! -> #REF!
A7: METZ-VILLE - BV | J7: LILLE FLANDRES - BV | T7: LE CREUSOT-MONTCEAU-MONTCHANIN - 00 | U7: =_xlfn.IFNA(VLOOKUP(T7,A:C,2,FALSE),"") | V7: =_xlfn.IFNA(VLOOKUP(T7,A:C,3,FALSE),"") | W7: =IF(OR(U7=0,U7=""),"",(U7-V7)/U7) | X7: =_xlfn.IFNA(VLOOKUP(T7,J:L,2,FALSE),"") -> 0 | Y7: =_xlfn.IFNA(VLOOKUP(T7,J:L,3,FALSE),"") -> 0 | Z7: =IF(OR(X7=0,X7=""),"",(X7-Y7)/X7) | AC7: DRG Grand Est | AD7: 0.91 | AE7: =SUMIFS($W:$W,$S:$S,$AC7,$T:$T,$AC$2) -> 0 | AF7: =SUMIFS($Z:$Z,$S:$S,$AC7,$T:$T,$AC$2) -> 0 | AG7: =IF(AE7>#REF!,"↗",IF(AE7<#REF!,"↘","→")) -> #REF! | AH7: =AE7-#REF! -> #REF!
A8: TOULOUSE-MATABIAU - BV | J8: LYON PART DIEU - BV | T8: LYON PART DIEU - BV | U8: =_xlfn.IFNA(VLOOKUP(T8,A:C,2,FALSE),"") -> 0 | V8: =_xlfn.IFNA(VLOOKUP(T8,A:C,3,FALSE),"") -> 0 | W8: =IF(OR(U8=0,U8=""),"",(U8-V8)/U8) | X8: =_xlfn.IFNA(VLOOKUP(T8,J:L,2,FALSE),"") -> 0 | Y8: =_xlfn.IFNA(VLOOKUP(T8,J:L,3,FALSE),"") -> 0 | Z8: =IF(OR(X8=0,X8=""),"",(X8-Y8)/X8) | AC8: DRG Occitanie Sud | AD8: 0.91 | AE8: =SUMIFS($W:$W,$S:$S,$AC8,$T:$T,$AC$2) -> 0 | AF8: =SUMIFS($Z:$Z,$S:$S,$AC8,$T:$T,$AC$2) -> 0 | AG8: =IF(AE8>#REF!,"↗",IF(AE8<#REF!,"↘","→")) -> #REF! | AH8: =AE8-#REF! -> #REF!
A9: AMIENS - BV | J9: METZ-VILLE - BV | T9: LYON-PERRACHE-VOYAGEURS - BV | U9: =_xlfn.IFNA(VLOOKUP(T9,A:C,2,FALSE),"") -> 0 | V9: =_xlfn.IFNA(VLOOKUP(T9,A:C,3,FALSE),"") -> 0 | W9: =IF(OR(U9=0,U9=""),"",(U9-V9)/U9) | X9: =_xlfn.IFNA(VLOOKUP(T9,J:L,2,FALSE),"") -> 0 | Y9: =_xlfn.IFNA(VLOOKUP(T9,J:L,3,FALSE),"") -> 0 | Z9: =IF(OR(X9=0,X9=""),"",(X9-Y9)/X9) | AC9: ETAB GARES PARIS | AD9: 0.91 | AE9: =SUMIFS($W:$W,$S:$S,$AC9,$T:$T,$AC$2) -> 0 | AF9: =SUMIFS($Z:$Z,$S:$S,$AC9,$T:$T,$AC$2) -> 0 | AG9: =IF(AE9>#REF!,"↗",IF(AE9<#REF!,"↘","→")) -> #REF! | AH9: =AE9-#REF! -> #REF!
A10: NANTES - BV | J10: NANCY-VILLE - BV | T10: LYON-ST EXUPERY TGV - 00 | U10: =_xlfn.IFNA(VLOOKUP(T10,A:C,2,FALSE),"") -> 0 | V10: =_xlfn.IFNA(VLOOKUP(T10,A:C,3,FALSE),"") -> 0 | W10: =IF(OR(U10=0,U10=""),"",(U10-V10)/U10) | X10: =_xlfn.IFNA(VLOOKUP(T10,J:L,2,FALSE),"") -> 0 | Y10: =_xlfn.IFNA(VLOOKUP(T10,J:L,3,FALSE),"") -> 0 | Z10: =IF(OR(X10=0,X10=""),"",(X10-Y10)/X10)
A11: PARIS EST - 00 | J11: MARSEILLE-ST-CHARLES - BV | T11: MACON LOCHE - BV | U11: =_xlfn.IFNA(VLOOKUP(T11,A:C,2,FALSE),"") | V11: =_xlfn.IFNA(VLOOKUP(T11,A:C,3,FALSE),"") | W11: =IF(OR(U11=0,U11=""),"",(U11-V11)/U11) | X11: =_xlfn.IFNA(VLOOKUP(T11,J:L,2,FALSE),"") -> 0 | Y11: =_xlfn.IFNA(VLOOKUP(T11,J:L,3,FALSE),"") -> 0 | Z11: =IF(OR(X11=0,X11=""),"",(X11-Y11)/X11) | AB11: {=_xlfn.UNIQUE(A:A)} -> Gare_Origine | AC11: Gare | AD11: Objectif | AE11: Hebdo | AF11: Cumul | AG11: Diff
A12: NICE-VILLE - 00 | J12: NANTES - BV | T12: VALENCE-TGV - BV | U12: =_xlfn.IFNA(VLOOKUP(T12,A:C,2,FALSE),"") -> 0 | V12: =_xlfn.IFNA(VLOOKUP(T12,A:C,3,FALSE),"") -> 0 | W12: =IF(OR(U12=0,U12=""),"",(U12-V12)/U12) | X12: =_xlfn.IFNA(VLOOKUP(T12,J:L,2,FALSE),"") -> 0 | Y12: =_xlfn.IFNA(VLOOKUP(T12,J:L,3,FALSE),"") -> 0 | Z12: =IF(OR(X12=0,X12=""),"",(X12-Y12)/X12) | AB12: STRASBOURG-VILLE - BV | AC12: CANNES VOYAGEURS - 00 | AD12: =IF(OR(AC12="",AC12=0,AC12="Total"),"",91%) -> 0.91 | AE12: =IF(AD12="","",VLOOKUP(AC12,T:W,4,FALSE)) | AF12: =IF(AD12="","",VLOOKUP(AC12,T:Z,7,FALSE)) | AG12: =IF(AE12="","",AE12-VLOOKUP(AC12,#REF!,3,FALSE))
A13: GRENOBLE - BV | J13: PARIS EST - 00 | S13: DRG B-CVL-PDL | T13: Total | U13: =SUM(U14:U18) -> 0 | V13: =SUM(V14:V18) -> 0 | W13: =IF(OR(U13=0,U13=""),"",(U13-V13)/U13) | X13: =SUM(X14:X18) -> 0 | Y13: =SUM(Y14:Y18) -> 0 | Z13: =IF(OR(X13=0,X13=""),"",(X13-Y13)/X13) | AB13: BORDEAUX ST JEAN - BV | AC13: PARIS AUSTERLITZ - BV | AD13: =IF(OR(AC13="",AC13=0,AC13="Total"),"",91%) -> 0.91 | AE13: =IF(AD13="","",VLOOKUP(AC13,T:W,4,FALSE)) | AF13: =IF(AD13="","",VLOOKUP(AC13,T:Z,7,FALSE)) | AG13: =IF(AE13="","",AE13-VLOOKUP(AC13,#REF!,3,FALSE))
A14: RENNES - BV | J14: PARIS-LYON - BV | T14: ANGERS SAINT LAUD - BV | U14: =_xlfn.IFNA(VLOOKUP(T14,A:C,2,FALSE),"") -> 0 | V14: =_xlfn.IFNA(VLOOKUP(T14,A:C,3,FALSE),"") -> 0 | W14: =IF(OR(U14=0,U14=""),"",(U14-V14)/U14) | X14: =_xlfn.IFNA(VLOOKUP(T14,J:L,2,FALSE),"") -> 0 | Y14: =_xlfn.IFNA(VLOOKUP(T14,J:L,3,FALSE),"") -> 0 | Z14: =IF(OR(X14=0,X14=""),"",(X14-Y14)/X14) | AB14: LILLE FLANDRES - BV | AC14: BORDEAUX ST JEAN - BV | AD14: =IF(OR(AC14="",AC14=0,AC14="Total"),"",91%) -> 0.91 | AE14: =IF(AD14="","",VLOOKUP(AC14,T:W,4,FALSE)) | AF14: =IF(AD14="","",VLOOKUP(AC14,T:Z,7,FALSE)) | AG14: =IF(AE14="","",AE14-VLOOKUP(AC14,#REF!,3,FALSE))
A15: MARSEILLE-ST-CHARLES - BV | J15: DIJON VILLE - BV | T15: NANTES - BV | U15: =_xlfn.IFNA(VLOOKUP(T15,A:C,2,FALSE),"") -> 0 | V15: =_xlfn.IFNA(VLOOKUP(T15,A:C,3,FALSE),"") -> 0 | W15: =IF(OR(U15=0,U15=""),"",(U15-V15)/U15) | X15: =_xlfn.IFNA(VLOOKUP(T15,J:L,2,FALSE),"") -> 0 | Y15: =_xlfn.IFNA(VLOOKUP(T15,J:L,3,FALSE),"") -> 0 | Z15: =IF(OR(X15=0,X15=""),"",(X15-Y15)/X15) | AB15: LYON-PERRACHE-VOYAGEURS - BV | AC15: ANGERS SAINT LAUD - BV | AD15: =IF(OR(AC15="",AC15=0,AC15="Total"),"",91%) -> 0.91 | AE15: =IF(AD15="","",VLOOKUP(AC15,T:W,4,FALSE)) | AF15: =IF(AD15="","",VLOOKUP(AC15,T:Z,7,FALSE)) | AG15: =IF(AE15="","",AE15-VLOOKUP(AC15,#REF!,3,FALSE))
A16: PARIS MONTPARNASSE - BV | J16: NICE-VILLE - 00 | T16: RENNES - BV | U16: =_xlfn.IFNA(VLOOKUP(T16,A:C,2,FALSE),"") -> 0 | V16: =_xlfn.IFNA(VLOOKUP(T16,A:C,3,FALSE),"") -> 0 | W16: =IF(OR(U16=0,U16=""),"",(U16-V16)/U16) | X16: =_xlfn.IFNA(VLOOKUP(T16,J:L,2,FALSE),"") -> 0 | Y16: =_xlfn.IFNA(VLOOKUP(T16,J:L,3,FALSE),"") -> 0 | Z16: =IF(OR(X16=0,X16=""),"",(X16-Y16)/X16) | AB16: LYON PART DIEU - BV | AC16: LILLE FLANDRES - BV | AD16: =IF(OR(AC16="",AC16=0,AC16="Total"),"",91%) -> 0.91 | AE16: =IF(AD16="","",VLOOKUP(AC16,T:W,4,FALSE)) | AF16: =IF(AD16="","",VLOOKUP(AC16,T:Z,7,FALSE)) | AG16: =IF(AE16="","",AE16-VLOOKUP(AC16,#REF!,3,FALSE))
A17: NANCY-VILLE - BV | J17: PARIS MONTPARNASSE - BV | T17: ST PIERRE DES CORPS - BV | U17: =_xlfn.IFNA(VLOOKUP(T17,A:C,2,FALSE),"") -> 0 | V17: =_xlfn.IFNA(VLOOKUP(T17,A:C,3,FALSE),"") -> 0 | W17: =IF(OR(U17=0,U17=""),"",(U17-V17)/U17) | X17: =_xlfn.IFNA(VLOOKUP(T17,J:L,2,FALSE),"") -> 0 | Y17: =_xlfn.IFNA(VLOOKUP(T17,J:L,3,FALSE),"") -> 0 | Z17: =IF(OR(X17=0,X17=""),"",(X17-Y17)/X17) | AB17: METZ-VILLE - BV | AC17: GRENOBLE - BV | AD17: =IF(OR(AC17="",AC17=0,AC17="Total"),"",91%) -> 0.91 | AE17: =IF(AD17="","",VLOOKUP(AC17,T:W,4,FALSE)) | AF17: =IF(AD17="","",VLOOKUP(AC17,T:Z,7,FALSE)) | AG17: =IF(AE17="","",AE17-VLOOKUP(AC17,#REF!,3,FALSE))
A18: DIJON VILLE - BV | J18: RENNES - BV | T18: TOURS - BV | U18: =_xlfn.IFNA(VLOOKUP(T18,A:C,2,FALSE),"") -> 0 | V18: =_xlfn.IFNA(VLOOKUP(T18,A:C,3,FALSE),"") -> 0 | W18: =IF(OR(U18=0,U18=""),"",(U18-V18)/U18) | X18: =_xlfn.IFNA(VLOOKUP(T18,J:L,2,FALSE),"") -> 0 | Y18: =_xlfn.IFNA(VLOOKUP(T18,J:L,3,FALSE),"") -> 0 | Z18: =IF(OR(X18=0,X18=""),"",(X18-Y18)/X18) | AB18: TOULOUSE-MATABIAU - BV | AC18: PARIS MONTPARNASSE - BV | AD18: =IF(OR(AC18="",AC18=0,AC18="Total"),"",91%) -> 0.91 | AE18: =IF(AD18="","",VLOOKUP(AC18,T:W,4,FALSE)) | AF18: =IF(AD18="","",VLOOKUP(AC18,T:Z,7,FALSE)) | AG18: =IF(AE18="","",AE18-VLOOKUP(AC18,#REF!,3,FALSE))
A19: PARIS AUSTERLITZ - BV | J19: ROUEN R.D. - 00 | S19: DRG Grand Est | T19: Total | U19: =SUM(U20:U22) -> 0 | V19: =SUM(V20:V22) -> 0 | W19: =IF(OR(U19=0,U19=""),"",(U19-V19)/U19) | X19: =SUM(X20:X22) -> 0 | Y19: =SUM(Y20:Y22) -> 0 | Z19: =IF(OR(X19=0,X19=""),"",(X19-Y19)/X19) | AB19: AMIENS - BV | AC19: NICE-VILLE - 00 | AD19: =IF(OR(AC19="",AC19=0,AC19="Total"),"",91%) -> 0.91 | AE19: =IF(AD19="","",VLOOKUP(AC19,T:W,4,FALSE)) | AF19: =IF(AD19="","",VLOOKUP(AC19,T:Z,7,FALSE)) | AG19: =IF(AE19="","",AE19-VLOOKUP(AC19,#REF!,3,FALSE))
A20: PARIS-LYON - BV | J20: PARIS AUSTERLITZ - BV | T20: METZ-VILLE - BV | U20: =_xlfn.IFNA(VLOOKUP(T20,A:C,2,FALSE),"") -> 0 | V20: =_xlfn.IFNA(VLOOKUP(T20,A:C,3,FALSE),"") -> 0 | W20: =IF(OR(U20=0,U20=""),"",(U20-V20)/U20) | X20: =_xlfn.IFNA(VLOOKUP(T20,J:L,2,FALSE),"") -> 0 | Y20: =_xlfn.IFNA(VLOOKUP(T20,J:L,3,FALSE),"") -> 0 | Z20: =IF(OR(X20=0,X20=""),"",(X20-Y20)/X20) | AB20: NANTES - BV | AC20: PARIS EST - 00 | AD20: =IF(OR(AC20="",AC20=0,AC20="Total"),"",91%) -> 0.91 | AE20: =IF(AD20="","",VLOOKUP(AC20,T:W,4,FALSE)) | AF20: =IF(AD20="","",VLOOKUP(AC20,T:Z,7,FALSE)) | AG20: =IF(AE20="","",AE20-VLOOKUP(AC20,#REF!,3,FALSE))
A21: TOURS - BV | J21: PARIS-NORD - BV | T21: NANCY-VILLE - BV | U21: =_xlfn.IFNA(VLOOKUP(T21,A:C,2,FALSE),"") -> 0 | V21: =_xlfn.IFNA(VLOOKUP(T21,A:C,3,FALSE),"") -> 0 | W21: =IF(OR(U21=0,U21=""),"",(U21-V21)/U21) | X21: =_xlfn.IFNA(VLOOKUP(T21,J:L,2,FALSE),"") -> 0 | Y21: =_xlfn.IFNA(VLOOKUP(T21,J:L,3,FALSE),"") -> 0 | Z21: =IF(OR(X21=0,X21=""),"",(X21-Y21)/X21) | AB21: PARIS EST - 00 | AC21: TOURS - BV | AD21: =IF(OR(AC21="",AC21=0,AC21="Total"),"",91%) -> 0.91 | AE21: =IF(AD21="","",VLOOKUP(AC21,T:W,4,FALSE)) | AF21: =IF(AD21="","",VLOOKUP(AC21,T:Z,7,FALSE)) | AG21: =IF(AE21="","",AE21-VLOOKUP(AC21,#REF!,3,FALSE))
A22: TOULON - BV | J22: TOURS - BV | T22: STRASBOURG-VILLE - BV | U22: =_xlfn.IFNA(VLOOKUP(T22,A:C,2,FALSE),"") -> 0 | V22: =_xlfn.IFNA(VLOOKUP(T22,A:C,3,FALSE),"") -> 0 | W22: =IF(OR(U22=0,U22=""),"",(U22-V22)/U22) | X22: =_xlfn.IFNA(VLOOKUP(T22,J:L,2,FALSE),"") -> 0 | Y22: =_xlfn.IFNA(VLOOKUP(T22,J:L,3,FALSE),"") -> 0 | Z22: =IF(OR(X22=0,X22=""),"",(X22-Y22)/X22) | AB22: NICE-VILLE - 00 | AC22: TOULOUSE-MATABIAU - BV | AD22: =IF(OR(AC22="",AC22=0,AC22="Total"),"",91%) -> 0.91 | AE22: =IF(AD22="","",VLOOKUP(AC22,T:W,4,FALSE)) | AF22: =IF(AD22="","",VLOOKUP(AC22,T:Z,7,FALSE)) | AG22: =IF(AE22="","",AE22-VLOOKUP(AC22,#REF!,3,FALSE))
A23: PARIS-NORD - BV | J23: GRENOBLE - BV | S23: DRG HDF-Normandie | T23: Total | U23: =SUM(U24:U28) -> 0 | V23: =SUM(V24:V28) -> 0 | W23: =IF(OR(U23=0,U23=""),"",(U23-V23)/U23) | X23: =SUM(X24:X28) -> 0 | Y23: =SUM(Y24:Y28) -> 0 | Z23: =IF(OR(X23=0,X23=""),"",(X23-Y23)/X23) | AB23: GRENOBLE - BV | AC23: AEROP 2 CH DE GAULLE - TGV - BV | AD23: =IF(OR(AC23="",AC23=0,AC23="Total"),"",91%) -> 0.91 | AE23: =IF(AD23="","",VLOOKUP(AC23,T:W,4,FALSE)) | AF23: =IF(AD23="","",VLOOKUP(AC23,T:Z,7,FALSE)) | AG23: =IF(AE23="","",AE23-VLOOKUP(AC23,#REF!,3,FALSE))
A24: ROUEN R.D. - 00 | J24: TOULON - BV | T24: AMIENS - BV | U24: =_xlfn.IFNA(VLOOKUP(T24,A:C,2,FALSE),"") -> 0 | V24: =_xlfn.IFNA(VLOOKUP(T24,A:C,3,FALSE),"") -> 0 | W24: =IF(OR(U24=0,U24=""),"",(U24-V24)/U24) | X24: =_xlfn.IFNA(VLOOKUP(T24,J:L,2,FALSE),"") -> 0 | Y24: =_xlfn.IFNA(VLOOKUP(T24,J:L,3,FALSE),"") -> 0 | Z24: =IF(OR(X24=0,X24=""),"",(X24-Y24)/X24) | AB24: RENNES - BV | AC24: LYON-PERRACHE-VOYAGEURS - BV | AD24: =IF(OR(AC24="",AC24=0,AC24="Total"),"",91%) -> 0.91 | AE24: =IF(AD24="","",VLOOKUP(AC24,T:W,4,FALSE)) | AF24: =IF(AD24="","",VLOOKUP(AC24,T:Z,7,FALSE)) | AG24: =IF(AE24="","",AE24-VLOOKUP(AC24,#REF!,3,FALSE))
A25: ANGERS SAINT LAUD - BV | J25: PARIS BERCY (VOYAGEURS) - BV | T25: TGV HAUTE PICARDIE - BV | U25: =_xlfn.IFNA(VLOOKUP(T25,A:C,2,FALSE),"") | V25: =_xlfn.IFNA(VLOOKUP(T25,A:C,3,FALSE),"") | W25: =IF(OR(U25=0,U25=""),"",(U25-V25)/U25) | X25: =_xlfn.IFNA(VLOOKUP(T25,J:L,2,FALSE),"") | Y25: =_xlfn.IFNA(VLOOKUP(T25,J:L,3,FALSE),"") | Z25: =IF(OR(X25=0,X25=""),"",(X25-Y25)/X25) | AB25: MARSEILLE-ST-CHARLES - BV | AC25: PARIS-NORD - BV | AD25: =IF(OR(AC25="",AC25=0,AC25="Total"),"",91%) -> 0.91 | AE25: =IF(AD25="","",VLOOKUP(AC25,T:W,4,FALSE)) | AF25: =IF(AD25="","",VLOOKUP(AC25,T:Z,7,FALSE)) | AG25: =IF(AE25="","",AE25-VLOOKUP(AC25,#REF!,3,FALSE))
A26: AEROP 2 CH DE GAULLE - TGV - BV | J26: AEROP 2 CH DE GAULLE - TGV - BV | T26: LILLE-EUROPE - BV | U26: =_xlfn.IFNA(VLOOKUP(T26,A:C,2,FALSE),"") -> 0 | V26: =_xlfn.IFNA(VLOOKUP(T26,A:C,3,FALSE),"") -> 0 | W26: =IF(OR(U26=0,U26=""),"",(U26-V26)/U26) | X26: =_xlfn.IFNA(VLOOKUP(T26,J:L,2,FALSE),"") -> 0 | Y26: =_xlfn.IFNA(VLOOKUP(T26,J:L,3,FALSE),"") -> 0 | Z26: =IF(OR(X26=0,X26=""),"",(X26-Y26)/X26) | AB26: PARIS MONTPARNASSE - BV | AC26: PARIS-LYON - BV | AD26: =IF(OR(AC26="",AC26=0,AC26="Total"),"",91%) -> 0.91 | AE26: =IF(AD26="","",VLOOKUP(AC26,T:W,4,FALSE)) | AF26: =IF(AD26="","",VLOOKUP(AC26,T:Z,7,FALSE)) | AG26: =IF(AE26="","",AE26-VLOOKUP(AC26,#REF!,3,FALSE))
A27: CANNES VOYAGEURS - 00 | J27: ANGERS SAINT LAUD - BV | T27: LILLE FLANDRES - BV | U27: =_xlfn.IFNA(VLOOKUP(T27,A:C,2,FALSE),"") -> 0 | V27: =_xlfn.IFNA(VLOOKUP(T27,A:C,3,FALSE),"") -> 0 | W27: =IF(OR(U27=0,U27=""),"",(U27-V27)/U27) | X27: =_xlfn.IFNA(VLOOKUP(T27,J:L,2,FALSE),"") -> 0 | Y27: =_xlfn.IFNA(VLOOKUP(T27,J:L,3,FALSE),"") -> 0 | Z27: =IF(OR(X27=0,X27=""),"",(X27-Y27)/X27) | AB27: NANCY-VILLE - BV | AC27: TOULON - BV | AD27: =IF(OR(AC27="",AC27=0,AC27="Total"),"",91%) -> 0.91 | AE27: =IF(AD27="","",VLOOKUP(AC27,T:W,4,FALSE)) | AF27: =IF(AD27="","",VLOOKUP(AC27,T:Z,7,FALSE)) | AG27: =IF(AE27="","",AE27-VLOOKUP(AC27,#REF!,3,FALSE))
A28: LILLE-EUROPE - BV | J28: LILLE-EUROPE - BV | T28: ROUEN R.D. - 00 | U28: =_xlfn.IFNA(VLOOKUP(T28,A:C,2,FALSE),"") -> 0 | V28: =_xlfn.IFNA(VLOOKUP(T28,A:C,3,FALSE),"") -> 0 | W28: =IF(OR(U28=0,U28=""),"",(U28-V28)/U28) | X28: =_xlfn.IFNA(VLOOKUP(T28,J:L,2,FALSE),"") -> 0 | Y28: =_xlfn.IFNA(VLOOKUP(T28,J:L,3,FALSE),"") -> 0 | Z28: =IF(OR(X28=0,X28=""),"",(X28-Y28)/X28) | AB28: DIJON VILLE - BV | AC28: RENNES - BV | AD28: =IF(OR(AC28="",AC28=0,AC28="Total"),"",91%) -> 0.91 | AE28: =IF(AD28="","",VLOOKUP(AC28,T:W,4,FALSE)) | AF28: =IF(AD28="","",VLOOKUP(AC28,T:Z,7,FALSE)) | AG28: =IF(AE28="","",AE28-VLOOKUP(AC28,#REF!,3,FALSE))
A29: PARIS BERCY (VOYAGEURS) - BV | J29: MONTPELLIER-ST-ROCH - BV | S29: DRG Nlle Aquitaine | T29: Total | U29: =U30 -> 0 | V29: =V30 -> 0 | W29: =IF(OR(U29=0,U29=""),"",(U29-V29)/U29) | X29: =X30 -> 0 | Y29: =Y30 -> 0 | Z29: =IF(OR(X29=0,X29=""),"",(X29-Y29)/X29) | AB29: PARIS AUSTERLITZ - BV | AC29: PARIS BERCY (VOYAGEURS) - BV | AD29: =IF(OR(AC29="",AC29=0,AC29="Total"),"",91%) -> 0.91 | AE29: =IF(AD29="","",VLOOKUP(AC29,T:W,4,FALSE)) | AF29: =IF(AD29="","",VLOOKUP(AC29,T:Z,7,FALSE)) | AG29: =IF(AE29="","",AE29-VLOOKUP(AC29,#REF!,3,FALSE))
A30: AVIGNON TGV - BV | J30: AVIGNON TGV - BV | T30: BORDEAUX ST JEAN - BV | U30: =_xlfn.IFNA(VLOOKUP(T30,A:C,2,FALSE),"") -> 0 | V30: =_xlfn.IFNA(VLOOKUP(T30,A:C,3,FALSE),"") -> 0 | W30: =IF(OR(U30=0,U30=""),"",(U30-V30)/U30) | X30: =_xlfn.IFNA(VLOOKUP(T30,J:L,2,FALSE),"") -> 0 | Y30: =_xlfn.IFNA(VLOOKUP(T30,J:L,3,FALSE),"") -> 0 | Z30: =IF(OR(X30=0,X30=""),"",(X30-Y30)/X30) | AB30: PARIS-LYON - BV | AC30: BESANCON-FRANCHE-COMTE-TGV - BV | AD30: =IF(OR(AC30="",AC30=0,AC30="Total"),"",91%) -> 0.91 | AE30: =IF(AD30="","",VLOOKUP(AC30,T:W,4,FALSE)) | AF30: =IF(AD30="","",VLOOKUP(AC30,T:Z,7,FALSE)) | AG30: =IF(AE30="","",AE30-VLOOKUP(AC30,#REF!,3,FALSE))
A31: BESANCON-FRANCHE-COMTE-TGV - BV | J31: CANNES VOYAGEURS - 00 | S31: DRG Occitanie Sud | T31: Total | U31: =SUM(U32:U43) -> 0 | V31: =SUM(V32:V43) -> 0 | W31: =IF(OR(U31=0,U31=""),"",(U31-V31)/U31) | X31: =SUM(X32:X43) -> 0 | Y31: =SUM(Y32:Y43) -> 0 | Z31: =IF(OR(X31=0,X31=""),"",(X31-Y31)/X31) | AB31: TOURS - BV | AC31: MONTPELLIER-ST-ROCH - BV | AD31: =IF(OR(AC31="",AC31=0,AC31="Total"),"",91%) -> 0.91 | AE31: =IF(AD31="","",VLOOKUP(AC31,T:W,4,FALSE)) | AF31: =IF(AD31="","",VLOOKUP(AC31,T:Z,7,FALSE)) | AG31: =IF(AE31="","",AE31-VLOOKUP(AC31,#REF!,3,FALSE))
A32: LYON-ST EXUPERY TGV - 00 | J32: BESANCON-FRANCHE-COMTE-TGV - BV | T32: AIX-EN-PROVENCE-TGV - 00 | U32: =_xlfn.IFNA(VLOOKUP(T32,A:C,2,FALSE),"") | V32: =_xlfn.IFNA(VLOOKUP(T32,A:C,3,FALSE),"") | W32: =IF(OR(U32=0,U32=""),"",(U32-V32)/U32) | X32: =_xlfn.IFNA(VLOOKUP(T32,J:L,2,FALSE),"") -> 0 | Y32: =_xlfn.IFNA(VLOOKUP(T32,J:L,3,FALSE),"") -> 0 | Z32: =IF(OR(X32=0,X32=""),"",(X32-Y32)/X32) | AB32: TOULON - BV | AC32: STRASBOURG-VILLE - BV | AD32: =IF(OR(AC32="",AC32=0,AC32="Total"),"",91%) -> 0.91 | AE32: =IF(AD32="","",VLOOKUP(AC32,T:W,4,FALSE)) | AF32: =IF(AD32="","",VLOOKUP(AC32,T:Z,7,FALSE)) | AG32: =IF(AE32="","",AE32-VLOOKUP(AC32,#REF!,3,FALSE))
A33: MARNE LA VALLEE-CHESSY - BV | J33: AIX-EN-PROVENCE-TGV - 00 | T33: AVIGNON TGV - BV | U33: =_xlfn.IFNA(VLOOKUP(T33,A:C,2,FALSE),"") -> 0 | V33: =_xlfn.IFNA(VLOOKUP(T33,A:C,3,FALSE),"") -> 0 | W33: =IF(OR(U33=0,U33=""),"",(U33-V33)/U33) | X33: =_xlfn.IFNA(VLOOKUP(T33,J:L,2,FALSE),"") -> 0 | Y33: =_xlfn.IFNA(VLOOKUP(T33,J:L,3,FALSE),"") -> 0 | Z33: =IF(OR(X33=0,X33=""),"",(X33-Y33)/X33) | AB33: PARIS-NORD - BV | AC33: NANCY-VILLE - BV | AD33: =IF(OR(AC33="",AC33=0,AC33="Total"),"",91%) -> 0.91 | AE33: =IF(AD33="","",VLOOKUP(AC33,T:W,4,FALSE)) | AF33: =IF(AD33="","",VLOOKUP(AC33,T:Z,7,FALSE)) | AG33: =IF(AE33="","",AE33-VLOOKUP(AC33,#REF!,3,FALSE))
A34: MASSY TGV - BV | J34: ANTIBES - 00 | T34: CANNES VOYAGEURS - 00 | U34: =_xlfn.IFNA(VLOOKUP(T34,A:C,2,FALSE),"") -> 0 | V34: =_xlfn.IFNA(VLOOKUP(T34,A:C,3,FALSE),"") -> 0 | W34: =IF(OR(U34=0,U34=""),"",(U34-V34)/U34) | X34: =_xlfn.IFNA(VLOOKUP(T34,J:L,2,FALSE),"") -> 0 | Y34: =_xlfn.IFNA(VLOOKUP(T34,J:L,3,FALSE),"") -> 0 | Z34: =IF(OR(X34=0,X34=""),"",(X34-Y34)/X34) | AB34: ROUEN R.D. - 00 | AC34: AMIENS - BV | AD34: =IF(OR(AC34="",AC34=0,AC34="Total"),"",91%) -> 0.91 | AE34: =IF(AD34="","",VLOOKUP(AC34,T:W,4,FALSE)) | AF34: =IF(AD34="","",VLOOKUP(AC34,T:Z,7,FALSE)) | AG34: =IF(AE34="","",AE34-VLOOKUP(AC34,#REF!,3,FALSE))
A35: MONTPELLIER(CNM) - BV | J35: LE CREUSOT-MONTCEAU-MONTCHANIN - 00 | T35: MARSEILLE-ST-CHARLES - BV | U35: =_xlfn.IFNA(VLOOKUP(T35,A:C,2,FALSE),"") -> 0 | V35: =_xlfn.IFNA(VLOOKUP(T35,A:C,3,FALSE),"") -> 0 | W35: =IF(OR(U35=0,U35=""),"",(U35-V35)/U35) | X35: =_xlfn.IFNA(VLOOKUP(T35,J:L,2,FALSE),"") -> 0 | Y35: =_xlfn.IFNA(VLOOKUP(T35,J:L,3,FALSE),"") -> 0 | Z35: =IF(OR(X35=0,X35=""),"",(X35-Y35)/X35) | AB35: ANGERS SAINT LAUD - BV | AC35: NANTES - BV | AD35: =IF(OR(AC35="",AC35=0,AC35="Total"),"",91%) -> 0.91 | AE35: =IF(AD35="","",VLOOKUP(AC35,T:W,4,FALSE)) | AF35: =IF(AD35="","",VLOOKUP(AC35,T:Z,7,FALSE)) | AG35: =IF(AE35="","",AE35-VLOOKUP(AC35,#REF!,3,FALSE))
A36: MONTPELLIER-ST-ROCH - BV | J36: LYON-ST EXUPERY TGV - 00 | T36: MONACO MONTE CARLO - 00 | U36: =_xlfn.IFNA(VLOOKUP(T36,A:C,2,FALSE),"") | V36: =_xlfn.IFNA(VLOOKUP(T36,A:C,3,FALSE),"") | W36: =IF(OR(U36=0,U36=""),"",(U36-V36)/U36) | X36: =_xlfn.IFNA(VLOOKUP(T36,J:L,2,FALSE),"") -> 0 | Y36: =_xlfn.IFNA(VLOOKUP(T36,J:L,3,FALSE),"") -> 0 | Z36: =IF(OR(X36=0,X36=""),"",(X36-Y36)/X36) | AB36: AEROP 2 CH DE GAULLE - TGV - BV | AC36: LYON PART DIEU - BV | AD36: =IF(OR(AC36="",AC36=0,AC36="Total"),"",91%) -> 0.91 | AE36: =IF(AD36="","",VLOOKUP(AC36,T:W,4,FALSE)) | AF36: =IF(AD36="","",VLOOKUP(AC36,T:Z,7,FALSE)) | AG36: =IF(AE36="","",AE36-VLOOKUP(AC36,#REF!,3,FALSE))
A37: ST PIERRE DES CORPS - BV | J37: MACON LOCHE - BV | T37: MONTPELLIER-ST-ROCH - BV | U37: =_xlfn.IFNA(VLOOKUP(T37,A:C,2,FALSE),"") -> 0 | V37: =_xlfn.IFNA(VLOOKUP(T37,A:C,3,FALSE),"") -> 0 | W37: =IF(OR(U37=0,U37=""),"",(U37-V37)/U37) | X37: =_xlfn.IFNA(VLOOKUP(T37,J:L,2,FALSE),"") -> 0 | Y37: =_xlfn.IFNA(VLOOKUP(T37,J:L,3,FALSE),"") -> 0 | Z37: =IF(OR(X37=0,X37=""),"",(X37-Y37)/X37) | AB37: CANNES VOYAGEURS - 00 | AC37: DIJON VILLE - BV | AD37: =IF(OR(AC37="",AC37=0,AC37="Total"),"",91%) -> 0.91 | AE37: =IF(AD37="","",VLOOKUP(AC37,T:W,4,FALSE)) | AF37: =IF(AD37="","",VLOOKUP(AC37,T:Z,7,FALSE)) | AG37: =IF(AE37="","",AE37-VLOOKUP(AC37,#REF!,3,FALSE))
A38: VALENCE-TGV - BV | J38: MARNE LA VALLEE-CHESSY - BV | T38: MONTPELLIER(CNM) - BV | U38: =_xlfn.IFNA(VLOOKUP(T38,A:C,2,FALSE),"") -> 0 | V38: =_xlfn.IFNA(VLOOKUP(T38,A:C,3,FALSE),"") -> 0 | W38: =IF(OR(U38=0,U38=""),"",(U38-V38)/U38) | X38: =_xlfn.IFNA(VLOOKUP(T38,J:L,2,FALSE),"") -> 0 | Y38: =_xlfn.IFNA(VLOOKUP(T38,J:L,3,FALSE),"") -> 0 | Z38: =IF(OR(X38=0,X38=""),"",(X38-Y38)/X38) | AB38: LILLE-EUROPE - BV | AC38: AVIGNON TGV - BV | AD38: =IF(OR(AC38="",AC38=0,AC38="Total"),"",91%) -> 0.91 | AE38: =IF(AD38="","",VLOOKUP(AC38,T:W,4,FALSE)) | AF38: =IF(AD38="","",VLOOKUP(AC38,T:Z,7,FALSE)) | AG38: =IF(AE38="","",AE38-VLOOKUP(AC38,#REF!,3,FALSE))
A39: Total | J39: MASSY TGV - BV | T39: NICE-VILLE - 00 | U39: =_xlfn.IFNA(VLOOKUP(T39,A:C,2,FALSE),"") -> 0 | V39: =_xlfn.IFNA(VLOOKUP(T39,A:C,3,FALSE),"") -> 0 | W39: =IF(OR(U39=0,U39=""),"",(U39-V39)/U39) | X39: =_xlfn.IFNA(VLOOKUP(T39,J:L,2,FALSE),"") -> 0 | Y39: =_xlfn.IFNA(VLOOKUP(T39,J:L,3,FALSE),"") -> 0 | Z39: =IF(OR(X39=0,X39=""),"",(X39-Y39)/X39) | AB39: PARIS BERCY (VOYAGEURS) - BV | AC39: ROUEN R.D. - 00 | AD39: =IF(OR(AC39="",AC39=0,AC39="Total"),"",91%) -> 0.91 | AE39: =IF(AD39="","",VLOOKUP(AC39,T:W,4,FALSE)) | AF39: =IF(AD39="","",VLOOKUP(AC39,T:Z,7,FALSE)) | AG39: =IF(AE39="","",AE39-VLOOKUP(AC39,#REF!,3,FALSE))
J40: MONACO MONTE CARLO - 00 | T40: Nîmes Pont du Gard | U40: =_xlfn.IFNA(VLOOKUP(T40,A:C,2,FALSE),"") | V40: =_xlfn.IFNA(VLOOKUP(T40,A:C,3,FALSE),"") | W40: =IF(OR(U40=0,U40=""),"",(U40-V40)/U40) | X40: =_xlfn.IFNA(VLOOKUP(T40,J:L,2,FALSE),"") | Y40: =_xlfn.IFNA(VLOOKUP(T40,J:L,3,FALSE),"") | Z40: =IF(OR(X40=0,X40=""),"",(X40-Y40)/X40) | AB40: AVIGNON TGV - BV | AC40: METZ-VILLE - BV | AD40: =IF(OR(AC40="",AC40=0,AC40="Total"),"",91%) -> 0.91 | AE40: =IF(AD40="","",VLOOKUP(AC40,T:W,4,FALSE)) | AF40: =IF(AD40="","",VLOOKUP(AC40,T:Z,7,FALSE)) | AG40: =IF(AE40="","",AE40-VLOOKUP(AC40,#REF!,3,FALSE))
A41: Filtres appliqués : NbrTrainsOrigine_TOT est supérieur à 0 Type_Trafic est Commercial Date est le ou après le 25/09/2023 et est avant le 02/10/2023 Type_Trafic est Commercial Point Frontières (à exclure) n'est pas OUI BUs_Lignes n'est pas Navette gare TGV Activites n'est pas (Vide) Libellé ZP n'est pas (Vide) Gares detoureés GC est oui Type Trafic est Commercial Point Frontières (à exclure) est NON Neutralisation_Gare n'est pas OUI Neutralisation_Date n'est pas OUI | J41: MONTPELLIER(CNM) - BV | T41: SAINT RAPHAEL VALESCURE - BV | U41: =_xlfn.IFNA(VLOOKUP(T41,A:C,2,FALSE),"") | V41: =_xlfn.IFNA(VLOOKUP(T41,A:C,3,FALSE),"") | W41: =IF(OR(U41=0,U41=""),"",(U41-V41)/U41) | X41: =_xlfn.IFNA(VLOOKUP(T41,J:L,2,FALSE),"") -> 0 | Y41: =_xlfn.IFNA(VLOOKUP(T41,J:L,3,FALSE),"") -> 0 | Z41: =IF(OR(X41=0,X41=""),"",(X41-Y41)/X41) | AB41: BESANCON-FRANCHE-COMTE-TGV - BV | AC41: LILLE-EUROPE - BV | AD41: =IF(OR(AC41="",AC41=0,AC41="Total"),"",91%) -> 0.91 | AE41: =IF(AD41="","",VLOOKUP(AC41,T:W,4,FALSE)) | AF41: =IF(AD41="","",VLOOKUP(AC41,T:Z,7,FALSE)) | AG41: =IF(AE41="","",AE41-VLOOKUP(AC41,#REF!,3,FALSE))
J42: SAINT RAPHAEL VALESCURE - BV | T42: TOULON - BV | U42: =_xlfn.IFNA(VLOOKUP(T42,A:C,2,FALSE),"") -> 0 | V42: =_xlfn.IFNA(VLOOKUP(T42,A:C,3,FALSE),"") -> 0 | W42: =IF(OR(U42=0,U42=""),"",(U42-V42)/U42) | X42: =_xlfn.IFNA(VLOOKUP(T42,J:L,2,FALSE),"") -> 0 | Y42: =_xlfn.IFNA(VLOOKUP(T42,J:L,3,FALSE),"") -> 0 | Z42: =IF(OR(X42=0,X42=""),"",(X42-Y42)/X42) | AB42: LYON-ST EXUPERY TGV - 00 | AC42: MARSEILLE-ST-CHARLES - BV | AD42: =IF(OR(AC42="",AC42=0,AC42="Total"),"",91%) -> 0.91 | AE42: =IF(AD42="","",VLOOKUP(AC42,T:W,4,FALSE)) | AF42: =IF(AD42="","",VLOOKUP(AC42,T:Z,7,FALSE)) | AG42: =IF(AE42="","",AE42-VLOOKUP(AC42,#REF!,3,FALSE))
J43: ST PIERRE DES CORPS - BV | T43: TOULOUSE-MATABIAU - BV | U43: =_xlfn.IFNA(VLOOKUP(T43,A:C,2,FALSE),"") -> 0 | V43: =_xlfn.IFNA(VLOOKUP(T43,A:C,3,FALSE),"") -> 0 | W43: =IF(OR(U43=0,U43=""),"",(U43-V43)/U43) | X43: =_xlfn.IFNA(VLOOKUP(T43,J:L,2,FALSE),"") -> 0 | Y43: =_xlfn.IFNA(VLOOKUP(T43,J:L,3,FALSE),"") -> 0 | Z43: =IF(OR(X43=0,X43=""),"",(X43-Y43)/X43) | AB43: MARNE LA VALLEE-CHESSY - BV | AC43: MONACO MONTE CARLO - 00 | AD43: =IF(OR(AC43="",AC43=0,AC43="Total"),"",91%) -> 0.91 | AE43: =IF(AD43="","",VLOOKUP(AC43,T:W,4,FALSE)) | AF43: =IF(AD43="","",VLOOKUP(AC43,T:Z,7,FALSE)) | AG43: =IF(AE43="","",AE43-VLOOKUP(AC43,#REF!,3,FALSE))
J44: VALENCE-TGV - BV | S44: ETAB GARES PARIS | T44: Total | U44: =SUM(U45:U53) -> 0 | V44: =SUM(V45:V53) -> 0 | W44: =IF(OR(U44=0,U44=""),"",(U44-V44)/U44) | X44: =SUM(X45:X53) -> 0 | Y44: =SUM(Y45:Y53) -> 0 | Z44: =IF(OR(X44=0,X44=""),"",(X44-Y44)/X44) | AB44: MASSY TGV - BV | AC44: ST PIERRE DES CORPS - BV | AD44: =IF(OR(AC44="",AC44=0,AC44="Total"),"",91%) -> 0.91 | AE44: =IF(AD44="","",VLOOKUP(AC44,T:W,4,FALSE)) | AF44: =IF(AD44="","",VLOOKUP(AC44,T:Z,7,FALSE)) | AG44: =IF(AE44="","",AE44-VLOOKUP(AC44,#REF!,3,FALSE))
J45: Total | T45: AEROP 2 CH DE GAULLE - TGV - BV | U45: =_xlfn.IFNA(VLOOKUP($T45,$A:$C,2,FALSE),"") -> 0 | V45: =_xlfn.IFNA(VLOOKUP($T45,$A:$C,3,FALSE),"") -> 0 | W45: =IF(OR(U45=0,U45=""),"",(U45-V45)/U45) | X45: =_xlfn.IFNA(VLOOKUP(T45,J:L,2,FALSE),"") -> 0 | Y45: =_xlfn.IFNA(VLOOKUP(T45,J:L,3,FALSE),"") -> 0 | Z45: =IF(OR(X45=0,X45=""),"",(X45-Y45)/X45) | AB45: MONTPELLIER(CNM) - BV | AC45: LYON-ST EXUPERY TGV - 00 | AD45: =IF(OR(AC45="",AC45=0,AC45="Total"),"",91%) -> 0.91 | AE45: =IF(AD45="","",VLOOKUP(AC45,T:W,4,FALSE)) | AF45: =IF(AD45="","",VLOOKUP(AC45,T:Z,7,FALSE)) | AG45: =IF(AE45="","",AE45-VLOOKUP(AC45,#REF!,3,FALSE))
T46: MARNE LA VALLEE-CHESSY - BV | U46: =_xlfn.IFNA(VLOOKUP($T46,$A:$C,2,FALSE),"") -> 0 | V46: =_xlfn.IFNA(VLOOKUP($T46,$A:$C,3,FALSE),"") -> 0 | W46: =IF(OR(U46=0,U46=""),"",(U46-V46)/U46) | X46: =_xlfn.IFNA(VLOOKUP(T46,J:L,2,FALSE),"") -> 0 | Y46: =_xlfn.IFNA(VLOOKUP(T46,J:L,3,FALSE),"") -> 0 | Z46: =IF(OR(X46=0,X46=""),"",(X46-Y46)/X46) | AB46: MONTPELLIER-ST-ROCH - BV | AC46: MARNE LA VALLEE-CHESSY - BV | AD46: =IF(OR(AC46="",AC46=0,AC46="Total"),"",91%) -> 0.91 | AE46: =IF(AD46="","",VLOOKUP(AC46,T:W,4,FALSE)) | AF46: =IF(AD46="","",VLOOKUP(AC46,T:Z,7,FALSE)) | AG46: =IF(AE46="","",AE46-VLOOKUP(AC46,#REF!,3,FALSE))
J47: Filtres appliqués : NbrTrainsOrigine_TOT est supérieur à 0 Type_Trafic est Commercial Date est le ou après le 01/01/2023 et est avant le 02/10/2023 Type_Trafic est Commercial Point Frontières (à exclure) n'est pas OUI BUs_Lignes n'est pas Navette gare TGV Activites n'est pas (Vide) Libellé ZP n'est pas (Vide) Gares detoureés GC est oui Type Trafic est Commercial Point Frontières (à exclure) est NON Neutralisation_Gare n'est pas OUI Neutralisation_Date n'est pas OUI | T47: MASSY TGV - BV | U47: =_xlfn.IFNA(VLOOKUP($T47,$A:$C,2,FALSE),"") -> 0 | V47: =_xlfn.IFNA(VLOOKUP($T47,$A:$C,3,FALSE),"") -> 0 | W47: =IF(OR(U47=0,U47=""),"",(U47-V47)/U47) | X47: =_xlfn.IFNA(VLOOKUP(T47,J:L,2,FALSE),"") -> 0 | Y47: =_xlfn.IFNA(VLOOKUP(T47,J:L,3,FALSE),"") -> 0 | Z47: =IF(OR(X47=0,X47=""),"",(X47-Y47)/X47) | AB47: ST PIERRE DES CORPS - BV | AC47: MASSY TGV - BV | AD47: =IF(OR(AC47="",AC47=0,AC47="Total"),"",91%) -> 0.91 | AE47: =IF(AD47="","",VLOOKUP(AC47,T:W,4,FALSE)) | AF47: =IF(AD47="","",VLOOKUP(AC47,T:Z,7,FALSE)) | AG47: =IF(AE47="","",AE47-VLOOKUP(AC47,#REF!,3,FALSE))
T48: PARIS AUSTERLITZ - BV | U48: =_xlfn.IFNA(VLOOKUP($T48,$A:$C,2,FALSE),"") -> 0 | V48: =_xlfn.IFNA(VLOOKUP($T48,$A:$C,3,FALSE),"") -> 0 | W48: =IF(OR(U48=0,U48=""),"",(U48-V48)/U48) | X48: =_xlfn.IFNA(VLOOKUP(T48,J:L,2,FALSE),"") -> 0 | Y48: =_xlfn.IFNA(VLOOKUP(T48,J:L,3,FALSE),"") -> 0 | Z48: =IF(OR(X48=0,X48=""),"",(X48-Y48)/X48) | AB48: VALENCE-TGV - BV | AC48: MONTPELLIER(CNM) - BV | AD48: =IF(OR(AC48="",AC48=0,AC48="Total"),"",91%) -> 0.91 | AE48: =IF(AD48="","",VLOOKUP(AC48,T:W,4,FALSE)) | AF48: =IF(AD48="","",VLOOKUP(AC48,T:Z,7,FALSE)) | AG48: =IF(AE48="","",AE48-VLOOKUP(AC48,#REF!,3,FALSE))
T49: PARIS BERCY (VOYAGEURS) - BV | U49: =_xlfn.IFNA(VLOOKUP($T49,$A:$C,2,FALSE),"") -> 0 | V49: =_xlfn.IFNA(VLOOKUP($T49,$A:$C,3,FALSE),"") -> 0 | W49: =IF(OR(U49=0,U49=""),"",(U49-V49)/U49) | X49: =_xlfn.IFNA(VLOOKUP(T49,J:L,2,FALSE),"") -> 0 | Y49: =_xlfn.IFNA(VLOOKUP(T49,J:L,3,FALSE),"") -> 0 | Z49: =IF(OR(X49=0,X49=""),"",(X49-Y49)/X49) | AB49: Total | AC49: VALENCE-TGV - BV | AD49: =IF(OR(AC49="",AC49=0,AC49="Total"),"",91%) -> 0.91 | AE49: =IF(AD49="","",VLOOKUP(AC49,T:W,4,FALSE)) | AF49: =IF(AD49="","",VLOOKUP(AC49,T:Z,7,FALSE)) | AG49: =IF(AE49="","",AE49-VLOOKUP(AC49,#REF!,3,FALSE))
T50: PARIS EST - 00 | U50: =_xlfn.IFNA(VLOOKUP($T50,$A:$C,2,FALSE),"") -> 0 | V50: =_xlfn.IFNA(VLOOKUP($T50,$A:$C,3,FALSE),"") -> 0 | W50: =IF(OR(U50=0,U50=""),"",(U50-V50)/U50) | X50: =_xlfn.IFNA(VLOOKUP(T50,J:L,2,FALSE),"") -> 0 | Y50: =_xlfn.IFNA(VLOOKUP(T50,J:L,3,FALSE),"") -> 0 | Z50: =IF(OR(X50=0,X50=""),"",(X50-Y50)/X50) | AB50: 0 | AC50: Total | AD50: =IF(OR(AC50="",AC50=0,AC50="Total"),"",91%) | AE50: =IF(AD50="","",VLOOKUP(AC50,T:W,4,FALSE)) | AF50: =IF(AD50="","",VLOOKUP(AC50,T:Z,7,FALSE)) | AG50: =IF(AE50="","",AE50-VLOOKUP(AC50,#REF!,3,FALSE))
T51: PARIS-LYON - BV | U51: =_xlfn.IFNA(VLOOKUP($T51,$A:$C,2,FALSE),"") -> 0 | V51: =_xlfn.IFNA(VLOOKUP($T51,$A:$C,3,FALSE),"") -> 0 | W51: =IF(OR(U51=0,U51=""),"",(U51-V51)/U51) | X51: =_xlfn.IFNA(VLOOKUP(T51,J:L,2,FALSE),"") -> 0 | Y51: =_xlfn.IFNA(VLOOKUP(T51,J:L,3,FALSE),"") -> 0 | Z51: =IF(OR(X51=0,X51=""),"",(X51-Y51)/X51) | AB51: Filtres appliqués : NbrTrainsOrigine_TOT est supérieur à 0 Type_Trafic est Commercial Date est le ou après le 25/09/2023 et est avant le 02/10/2023 Type_Trafic est Commercial Point Frontières (à exclure) n'est pas OUI BUs_Lignes n'est pas Navette gare TGV Activites n'est pas (Vide) Libellé ZP n'est pas (Vide) Gares detoureés GC est oui Type Trafic est Commercial Point Frontières (à exclure) est NON Neutralisation_Gare n'est pas OUI Neutralisation_Date n'est pas OUI | AC51: 0 | AD51: =IF(OR(AC51="",AC51=0,AC51="Total"),"",91%) | AE51: =IF(AD51="","",VLOOKUP(AC51,T:W,4,FALSE)) | AF51: =IF(AD51="","",VLOOKUP(AC51,T:Z,7,FALSE)) | AG51: =IF(AE51="","",AE51-VLOOKUP(AC51,#REF!,3,FALSE))
T52: PARIS-NORD - BV | U52: =_xlfn.IFNA(VLOOKUP($T52,$A:$C,2,FALSE),"") -> 0 | V52: =_xlfn.IFNA(VLOOKUP($T52,$A:$C,3,FALSE),"") -> 0 | W52: =IF(OR(U52=0,U52=""),"",(U52-V52)/U52) | X52: =_xlfn.IFNA(VLOOKUP(T52,J:L,2,FALSE),"") -> 0 | Y52: =_xlfn.IFNA(VLOOKUP(T52,J:L,3,FALSE),"") -> 0 | Z52: =IF(OR(X52=0,X52=""),"",(X52-Y52)/X52) | AD52: =IF(OR(AC52="",AC52=0,AC52="Total"),"",91%) | AE52: =IF(AD52="","",VLOOKUP(AC52,T:W,4,FALSE)) | AF52: =IF(AD52="","",VLOOKUP(AC52,T:Z,7,FALSE)) | AG52: =IF(AE52="","",AE52-VLOOKUP(AC52,#REF!,3,FALSE))
T53: PARIS MONTPARNASSE - BV | U53: =_xlfn.IFNA(VLOOKUP($T53,$A:$C,2,FALSE),"") -> 0 | V53: =_xlfn.IFNA(VLOOKUP($T53,$A:$C,3,FALSE),"") -> 0 | W53: =IF(OR(U53=0,U53=""),"",(U53-V53)/U53) | X53: =_xlfn.IFNA(VLOOKUP(T53,J:L,2,FALSE),"") -> 0 | Y53: =_xlfn.IFNA(VLOOKUP(T53,J:L,3,FALSE),"") -> 0 | Z53: =IF(OR(X53=0,X53=""),"",(X53-Y53)/X53) | AD53: =IF(OR(AC53="",AC53=0,AC53="Total"),"",91%) | AE53: =IF(AD53="","",VLOOKUP(AC53,T:W,4,FALSE)) | AF53: =IF(AD53="","",VLOOKUP(AC53,T:Z,7,FALSE)) | AG53: =IF(AE53="","",AE53-VLOOKUP(AC53,#REF!,3,FALSE))
S54: Total | U54: =SUM(U3,U13,U19,U23,U29,U31,U44) -> 0 | V54: =SUM(V3,V13,V19,V23,V29,V31,V44) -> 0 | W54: =IF(OR(U54=0,U54=""),"",(U54-V54)/U54) | X54: =SUM(X3,X13,X19,X23,X29,X31,X44) -> 0 | Y54: =SUM(Y3,Y13,Y19,Y23,Y29,Y31,Y44) -> 0 | Z54: =IF(OR(X54=0,X54=""),"",(X54-Y54)/X54) | AD54: =IF(OR(AC54="",AC54=0,AC54="Total"),"",91%) | AE54: =IF(AD54="","",VLOOKUP(AC54,T:W,4,FALSE)) | AF54: =IF(AD54="","",VLOOKUP(AC54,T:Z,7,FALSE)) | AG54: =IF(AE54="","",AE54-VLOOKUP(AC54,#REF!,3,FALSE))
AD55: =IF(OR(AC55="",AC55=0,AC55="Total"),"",91%) | AE55: =IF(AD55="","",VLOOKUP(AC55,T:W,4,FALSE)) | AF55: =IF(AD55="","",VLOOKUP(AC55,#REF!,4,FALSE)) | AG55: =IF(AE55="","",AE55-VLOOKUP(AC55,#REF!,3,FALSE))
AD56: =IF(OR(AC56="",AC56=0,AC56="Total"),"",91%) | AE56: =IF(AD56="","",VLOOKUP(AC56,T:W,4,FALSE)) | AF56: =IF(AD56="","",VLOOKUP(AC56,#REF!,4,FALSE)) | AG56: =IF(AE56="","",AE56-VLOOKUP(AC56,#REF!,3,FALSE))
AD57: =IF(OR(AC57="",AC57=0,AC57="Total"),"",91%) | AE57: =IF(AD57="","",VLOOKUP(AC57,T:W,4,FALSE)) | AF57: =IF(AD57="","",VLOOKUP(AC57,#REF!,4,FALSE)) | AG57: =IF(AE57="","",AE57-VLOOKUP(AC57,#REF!,3,FALSE))
AD58: =IF(OR(AC58="",AC58=0,AC58="Total"),"",91%) | AE58: =IF(AD58="","",VLOOKUP(AC58,T:W,4,FALSE)) | AF58: =IF(AD58="","",VLOOKUP(AC58,#REF!,4,FALSE)) | AG58: =IF(AE58="","",AE58-VLOOKUP(AC58,#REF!,3,FALSE))
AC59: Filtres appliqués : NbrTrainsOrigine_TOT est supérieur à 0 Date est le ou après le 14/08/2023 et est avant le 21/08/2023 Type_Trafic est Commercial Type_Trafic est Commercial Point Frontières (à exclure) n'est pas OUI BUs_Lignes n'est pas Navette gare TGV Activites n'est pas (Vide) Libellé ZP n'est pas (Vide) Gares detoureés GC est oui Type Trafic est Commercial Neutralisation_Gare n'est pas OUI Neutralisation_Date n'est pas OUI | AD59: =IF(OR(AC59="",AC59=0,AC59="Total"),"",91%) -> 0.91 | AE59: =IF(AD59="","",VLOOKUP(AC59,T:W,4,FALSE)) -> #VALUE! | AF59: =IF(AD59="","",VLOOKUP(AC59,T:Z,7,FALSE)) -> #VALUE! | AG59: =IF(AE59="","",AE59-VLOOKUP(AC59,#REF!,3,FALSE)) -> #VALUE!

Sheet S41
A1: Gare_Origine | B1: nb T 4-7 | C1: dont non ponctuel | D1: PO 4-7 | E1: PO4-7-PO | F1: part non ponctu 4-7 | G1: Orig | H1: Dest | J1: Gare_Origine | K1: nb T 4-7 | L1: dont non ponctuel | M1: PO 4-7 | N1: PO4-7-PO | O1: part non ponctu 4-7 | P1: Orig | Q1: Dest | U1: Période | X1: Cumul | AD1: Objectif | AE1: Hebdo | AF1: Cumul | AG1: Tendance | AH1: Diff vs S-1
A2: STRASBOURG-VILLE - BV | B2: 186 | C2: 22 | D2: 0.88172043 | E2: 14.123384 | F2: 0.10837438 | G2: STRASBOURG-VILLE - BV | H2: BAR-LE-DUC - BV | J2: STRASBOURG-VILLE - BV | K2: 6223 | L2: 1037 | M2: 0.83336012 | N2: 6.8844216 | O2: 0.1175737 | P2: STRASBOURG-VILLE - BV | Q2: AEROP 2 CH DE GAULLE - TGV - BV | S2: DRG | T2: Gare | U2: nb T 4-7 | V2: dont non ponctuel | W2: PO 4-7 | X2: nb T 4-7 | Y2: dont non ponctuel | Z2: PO 4-7 | AC2: Total | AD2: 0.91 | AE2: =SUMIFS($W:$W,$S:$S,$AC$2) -> 0.89399478 | AF2: =SUMIFS($Z:$Z,$S:$S,$AC$2) -> 0.87165495 | AG2: =IF(AE2>'S40'!AE2,"↗",IF(AE2<'S40'!AE2,"↘","→")) -> ↗ | AH2: =AE2-'S40'!AE2 -> 0.89399478 | AJ2: =AE2 | AK2: -'S | AL2: {=RIGHT(CELL("nomfichier"),2)-1} -> 40 | AM2: '!AE2 | AN2: =AJ2&AK2&AL2&AM2 -> =AE2-'S40'!AE2
A3: METZ-VILLE - BV | B3: 94 | C3: 18 | D3: 0.80851064 | E3: 0.82407328 | F3: 0.088669951 | G3: METZ-VILLE - BV | H3: APACH (MOSELLE) - XD | J3: LYON-PERRACHE-VOYAGEURS - BV | K3: 3143 | L3: 560 | M3: 0.82182628 | N3: -2.0153648 | O3: 0.063492063 | P3: LYON-PERRACHE-VOYAGEURS - BV | Q3: AEROP 2 CH DE GAULLE - TGV - BV | S3: DRG AURA-BFC | T3: Total | U3: =SUM(U4:U12) -> 264 | V3: =SUM(V4:V12) -> 24 | W3: =IF(OR(U3=0,U3=""),"",(U3-V3)/U3) -> 0.90909091 | X3: =SUM(X4:X12) -> 9378 | Y3: =SUM(Y4:Y12) -> 1407 | Z3: =IF(OR(X3=0,X3=""),"",(X3-Y3)/X3) -> 0.84996801 | AC3: DRG Nlle Aquitaine | AD3: 0.91 | AE3: =SUMIFS($W:$W,$S:$S,$AC3,$T:$T,$AC$2) -> 0.91262136 | AF3: =SUMIFS($Z:$Z,$S:$S,$AC3,$T:$T,$AC$2) -> 0.86137507 | AG3: =IF(AE3>'S40'!AE3,"↗",IF(AE3<'S40'!AE3,"↘","→")) -> ↗ | AH3: =AE3-'S40'!AE3 -> 0.91262136 | AJ3: =AE3 | AK3: -'S | AL3: {=RIGHT(CELL("nomfichier"),2)-1} -> 40 | AM3: '!AE3 | AN3: =AJ3&AK3&AL3&AM3 -> =AE3-'S40'!AE3
A4: MARSEILLE-ST-CHARLES - BV | B4: 67 | C4: 15 | D4: 0.7761194 | E4: -0.96808377 | F4: 0.073891626 | G4: MARSEILLE-ST-CHARLES - BV | H4: AEROP 2 CH DE GAULLE - TGV - BV | J4: AMIENS - BV | K4: 3908 | L4: 520 | M4: 0.86693961 | N4: 1.4470901 | O4: 0.058956916 | P4: AMIENS - BV | Q4: ABANCOURT - 00 | T4: BESANCON-FRANCHE-COMTE-TGV - BV | U4: =_xlfn.IFNA(VLOOKUP(T4,A:C,2,FALSE),"") -> 6 | V4: =_xlfn.IFNA(VLOOKUP(T4,A:C,3,FALSE),"") -> 0 | W4: =IF(OR(U4=0,U4=""),"",(U4-V4)/U4) -> 1 | X4: =_xlfn.IFNA(VLOOKUP(T4,J:L,2,FALSE),"") -> 198 | Y4: =_xlfn.IFNA(VLOOKUP(T4,J:L,3,FALSE),"") -> 12 | Z4: =IF(OR(X4=0,X4=""),"",(X4-Y4)/X4) -> 0.93939394 | AC4: DRG B-CVL-PDL | AD4: 0.91 | AE4: =SUMIFS($W:$W,$S:$S,$AC4,$T:$T,$AC$2) -> 0.90510949 | AF4: =SUMIFS($Z:$Z,$S:$S,$AC4,$T:$T,$AC$2) -> 0.90931914 | AG4: =IF(AE4>'S40'!AE4,"↗",IF(AE4<'S40'!AE4,"↘","→")) -> ↗ | AH4: =AE4-'S40'!AE4 -> 0.90510949 | AJ4: =AE4 | AK4: -'S | AL4: {=RIGHT(CELL("nomfichier"),2)-1} -> 40 | AM4: '!AE4 | AN4: =AJ4&AK4&AL4&AM4 -> =AE4-'S40'!AE4
A5: LYON-PERRACHE-VOYAGEURS - BV | B5: 90 | C5: 12 | D5: 0.86666667 | E5: 3.2116788 | F5: 0.0591133 | G5: LYON-PERRACHE-VOYAGEURS - BV | H5: AEROP 2 CH DE GAULLE - TGV - BV | J5: TOULOUSE-MATABIAU - BV | K5: 2966 | L5: 507 | M5: 0.82906271 | N5: 0.11224673 | O5: 0.057482993 | P5: TOULOUSE-MATABIAU - BV | Q5: AGEN - BV | T5: DIJON VILLE - BV | U5: =_xlfn.IFNA(VLOOKUP(T5,A:C,2,FALSE),"") -> 56 | V5: =_xlfn.IFNA(VLOOKUP(T5,A:C,3,FALSE),"") -> 2 | W5: =IF(OR(U5=0,U5=""),"",(U5-V5)/U5) -> 0.96428571 | X5: =_xlfn.IFNA(VLOOKUP(T5,J:L,2,FALSE),"") -> 2162 | Y5: =_xlfn.IFNA(VLOOKUP(T5,J:L,3,FALSE),"") -> 286 | Z5: =IF(OR(X5=0,X5=""),"",(X5-Y5)/X5) -> 0.86771508 | AC5: DRG AURA-BFC | AD5: 0.91 | AE5: =SUMIFS($W:$W,$S:$S,$AC5,$T:$T,$AC$2) -> 0.90909091 | AF5: =SUMIFS($Z:$Z,$S:$S,$AC5,$T:$T,$AC$2) -> 0.84996801 | AG5: =IF(AE5>'S40'!AE5,"↗",IF(AE5<'S40'!AE5,"↘","→")) -> ↗ | AH5: =AE5-'S40'!AE5 -> 0.90909091 | AJ5: =AE5 | AK5: -'S | AL5: {=RIGHT(CELL("nomfichier"),2)-1} -> 40 | AM5: '!AE5 | AN5: =AJ5&AK5&AL5&AM5 -> =AE5-'S40'!AE5
A6: TOULOUSE-MATABIAU - BV | B6: 92 | C6: 11 | D6: 0.88043478 | E6: 5.7588703 | F6: 0.054187192 | G6: TOULOUSE-MATABIAU - BV | H6: AGEN - BV | J6: BORDEAUX ST JEAN - BV | K6: 3578 | L6: 496 | M6: 0.86137507 | N6: 5.0421006 | O6: 0.056235828 | P6: BORDEAUX ST JEAN - BV | Q6: AGEN - BV | T6: GRENOBLE - BV | U6: =_xlfn.IFNA(VLOOKUP(T6,A:C,2,FALSE),"") -> 69 | V6: =_xlfn.IFNA(VLOOKUP(T6,A:C,3,FALSE),"") -> 0 | W6: =IF(OR(U6=0,U6=""),"",(U6-V6)/U6) -> 1 | X6: =_xlfn.IFNA(VLOOKUP(T6,J:L,2,FALSE),"") -> 2301 | Y6: =_xlfn.IFNA(VLOOKUP(T6,J:L,3,FALSE),"") -> 125 | Z6: =IF(OR(X6=0,X6=""),"",(X6-Y6)/X6) -> 0.94567579 | AC6: DRG HDF-Normandie | AD6: 0.91 | AE6: =SUMIFS($W:$W,$S:$S,$AC6,$T:$T,$AC$2) -> 0.94117647 | AF6: =SUMIFS($Z:$Z,$S:$S,$AC6,$T:$T,$AC$2) -> 0.88047349 | AG6: =IF(AE6>'S40'!AE6,"↗",IF(AE6<'S40'!AE6,"↘","→")) -> ↗ | AH6: =AE6-'S40'!AE6 -> 0.94117647 | AJ6: =AE6 | AK6: -'S | AL6: {=RIGHT(CELL("nomfichier"),2)-1} -> 40 | AM6: '!AE6 | AN6: =AJ6&AK6&AL6&AM6 -> =AE6-'S40'!AE6
A7: LILLE FLANDRES - BV | B7: 136 | C7: 10 | D7: 0.92647059 | E7: 10.974006 | F7: 0.049261084 | G7: LILLE FLANDRES - BV | H7: AMIENS - BV | J7: LILLE FLANDRES - BV | K7: 4233 | L7: 444 | M7: 0.89510985 | N7: 4.7332719 | O7: 0.050340136 | P7: LILLE FLANDRES - BV | Q7: AEROP 2 CH DE GAULLE - TGV - BV | T7: LE CREUSOT-MONTCEAU-MONTCHANIN - 00 | U7: =_xlfn.IFNA(VLOOKUP(T7,A:C,2,FALSE),"") | V7: =_xlfn.IFNA(VLOOKUP(T7,A:C,3,FALSE),"") | W7: =IF(OR(U7=0,U7=""),"",(U7-V7)/U7) | X7: =_xlfn.IFNA(VLOOKUP(T7,J:L,2,FALSE),"") -> 0 | Y7: =_xlfn.IFNA(VLOOKUP(T7,J:L,3,FALSE),"") -> 0 | Z7: =IF(OR(X7=0,X7=""),"",(X7-Y7)/X7) | AC7: DRG Grand Est | AD7: 0.91 | AE7: =SUMIFS($W:$W,$S:$S,$AC7,$T:$T,$AC$2) -> 0.86554622 | AF7: =SUMIFS($Z:$Z,$S:$S,$AC7,$T:$T,$AC$2) -> 0.84733767 | AG7: =IF(AE7>'S40'!AE7,"↗",IF(AE7<'S40'!AE7,"↘","→")) -> ↗ | AH7: =AE7-'S40'!AE7 -> 0.86554622 | AJ7: =AE7 | AK7: -'S | AL7: {=RIGHT(CELL("nomfichier"),2)-1} -> 40 | AM7: '!AE7 | AN7: =AJ7&AK7&AL7&AM7 -> =AE7-'S40'!AE7
A8: LYON PART DIEU - BV | B8: 43 | C8: 10 | D8: 0.76744186 | E8: 9.1010436 | F8: 0.049261084 | G8: LYON PART DIEU - BV | H8: AIX-LES-BAINS-LE REVARD - BV | J8: LYON PART DIEU - BV | K8: 1574 | L8: 424 | M8: 0.73062262 | N8: 8.3753439 | O8: 0.048072562 | P8: LYON PART DIEU - BV | Q8: AEROP 2 CH DE GAULLE - TGV - BV | T8: LYON PART DIEU - BV | U8: =_xlfn.IFNA(VLOOKUP(T8,A:C,2,FALSE),"") -> 43 | V8: =_xlfn.IFNA(VLOOKUP(T8,A:C,3,FALSE),"") -> 10 | W8: =IF(OR(U8=0,U8=""),"",(U8-V8)/U8) -> 0.76744186 | X8: =_xlfn.IFNA(VLOOKUP(T8,J:L,2,FALSE),"") -> 1574 | Y8: =_xlfn.IFNA(VLOOKUP(T8,J:L,3,FALSE),"") -> 424 | Z8: =IF(OR(X8=0,X8=""),"",(X8-Y8)/X8) -> 0.73062262 | AC8: DRG Occitanie Sud | AD8: 0.91 | AE8: =SUMIFS($W:$W,$S:$S,$AC8,$T:$T,$AC$2) -> 0.84452297 | AF8: =SUMIFS($Z:$Z,$S:$S,$AC8,$T:$T,$AC$2) -> 0.86894127 | AG8: =IF(AE8>'S40'!AE8,"↗",IF(AE8<'S40'!AE8,"↘","→")) -> ↗ | AH8: =AE8-'S40'!AE8 -> 0.84452297 | AJ8: =AE8 | AK8: -'S | AL8: {=RIGHT(CELL("nomfichier"),2)-1} -> 40 | AM8: '!AE8 | AN8: =AJ8&AK8&AL8&AM8 -> =AE8-'S40'!AE8
A9: NANTES - BV | B9: 114 | C9: 10 | D9: 0.9122807 | E9: 3.2188465 | F9: 0.049261084 | G9: NANTES - BV | H9: ANCENIS - 00 | J9: METZ-VILLE - BV | K9: 3237 | L9: 417 | M9: 0.87117702 | N9: 3.9994095 | O9: 0.047278912 | P9: METZ-VILLE - BV | Q9: APACH (MOSELLE) - 00 | T9: LYON-PERRACHE-VOYAGEURS - BV | U9: =_xlfn.IFNA(VLOOKUP(T9,A:C,2,FALSE),"") -> 90 | V9: =_xlfn.IFNA(VLOOKUP(T9,A:C,3,FALSE),"") -> 12 | W9: =IF(OR(U9=0,U9=""),"",(U9-V9)/U9) -> 0.86666667 | X9: =_xlfn.IFNA(VLOOKUP(T9,J:L,2,FALSE),"") -> 3143 | Y9: =_xlfn.IFNA(VLOOKUP(T9,J:L,3,FALSE),"") -> 560 | Z9: =IF(OR(X9=0,X9=""),"",(X9-Y9)/X9) -> 0.82182628 | AC9: ETAB GARES PARIS | AD9: 0.91 | AE9: =SUMIFS($W:$W,$S:$S,$AC9,$T:$T,$AC$2) -> 0.89634146 | AF9: =SUMIFS($Z:$Z,$S:$S,$AC9,$T:$T,$AC$2) -> 0.87930629 | AG9: =IF(AE9>'S40'!AE9,"↗",IF(AE9<'S40'!AE9,"↘","→")) -> ↗ | AH9: =AE9-'S40'!AE9 -> 0.89634146 | AJ9: =AE9 | AK9: -'S | AL9: {=RIGHT(CELL("nomfichier"),2)-1} -> 40 | AM9: '!AE9 | AN9: =AJ9&AK9&AL9&AM9 -> =AE9-'S40'!AE9
A10: RENNES - BV | B10: 71 | C10: 10 | D10: 0.85915493 | E10: 6.5252491 | F10: 0.049261084 | G10: RENNES - BV | H10: BREST - BV | J10: NANCY-VILLE - BV | K10: 2691 | L10: 401 | M10: 0.85098476 | N10: 0.1984296 | O10: 0.045464853 | P10: NANCY-VILLE - BV | Q10: ANTIBES - 00 | T10: LYON-ST EXUPERY TGV - 00 | U10: =_xlfn.IFNA(VLOOKUP(T10,A:C,2,FALSE),"") -> 0 | V10: =_xlfn.IFNA(VLOOKUP(T10,A:C,3,FALSE),"") -> 0 | W10: =IF(OR(U10=0,U10=""),"",(U10-V10)/U10) | X10: =_xlfn.IFNA(VLOOKUP(T10,J:L,2,FALSE),"") -> 0 | Y10: =_xlfn.IFNA(VLOOKUP(T10,J:L,3,FALSE),"") -> 0 | Z10: =IF(OR(X10=0,X10=""),"",(X10-Y10)/X10)
A11: BORDEAUX ST JEAN - BV | B11: 103 | C11: 9 | D11: 0.91262136 | E11: 9.4341789 | F11: 0.044334975 | G11: BORDEAUX ST JEAN - BV | H11: AGEN - BV | J11: MARSEILLE-ST-CHARLES - BV | K11: 3156 | L11: 389 | M11: 0.87674271 | N11: 4.7045554 | O11: 0.044104308 | P11: MARSEILLE-ST-CHARLES - BV | Q11: AEROP 2 CH DE GAULLE - TGV - AS | T11: MACON LOCHE - BV | U11: =_xlfn.IFNA(VLOOKUP(T11,A:C,2,FALSE),"") | V11: =_xlfn.IFNA(VLOOKUP(T11,A:C,3,FALSE),"") | W11: =IF(OR(U11=0,U11=""),"",(U11-V11)/U11) | X11: =_xlfn.IFNA(VLOOKUP(T11,J:L,2,FALSE),"") -> 0 | Y11: =_xlfn.IFNA(VLOOKUP(T11,J:L,3,FALSE),"") -> 0 | Z11: =IF(OR(X11=0,X11=""),"",(X11-Y11)/X11) | AB11: {=_xlfn.UNIQUE(A:A)} -> Gare_Origine | AC11: Gare | AD11: Objectif | AE11: Hebdo | AF11: Cumul | AG11: Diff vs S-1
A12: NICE-VILLE - 00 | B12: 58 | C12: 9 | D12: 0.84482759 | E12: 0.40112597 | F12: 0.044334975 | G12: NICE-VILLE - 00 | H12: BREIL-SUR-ROYA - BV | J12: NANTES - BV | K12: 4048 | L12: 376 | M12: 0.90711462 | N12: 3.1755358 | O12: 0.042630385 | P12: NANTES - BV | Q12: AEROP 2 CH DE GAULLE - TGV - BV | T12: VALENCE-TGV - BV | U12: =_xlfn.IFNA(VLOOKUP(T12,A:C,2,FALSE),"") -> 0 | V12: =_xlfn.IFNA(VLOOKUP(T12,A:C,3,FALSE),"") -> 0 | W12: =IF(OR(U12=0,U12=""),"",(U12-V12)/U12) | X12: =_xlfn.IFNA(VLOOKUP(T12,J:L,2,FALSE),"") -> 0 | Y12: =_xlfn.IFNA(VLOOKUP(T12,J:L,3,FALSE),"") -> 0 | Z12: =IF(OR(X12=0,X12=""),"",(X12-Y12)/X12) | AB12: STRASBOURG-VILLE - BV | AC12: AEROP 2 CH DE GAULLE - TGV - BV | AD12: =IF(OR(AC12="",AC12=0,AC12="Total"),"",91%) -> 0.91 | AE12: =IF(AD12="","",VLOOKUP(AC12,T:W,4,FALSE)) -> 0.71428571 | AF12: =IF(AD12="","",VLOOKUP(AC12,T:Z,7,FALSE)) -> 0.73563218 | AG12: =IF(AE12="","",AE12-VLOOKUP(AC12,'S40'!$AC$12:$AG$56,3,FALSE)) -> #VALUE!
A13: PARIS MONTPARNASSE - BV | B13: 108 | C13: 9 | D13: 0.91666667 | E13: 3.2529808 | F13: 0.044334975 | G13: PARIS MONTPARNASSE - BV | H13: ARCACHON - 00 | J13: PARIS EST - 00 | K13: 2560 | L13: 368 | M13: 0.85625 | N13: -0.46131276 | O13: 0.041723356 | P13: PARIS EST - 00 | Q13: BAR-LE-DUC - BV | S13: DRG B-CVL-PDL | T13: Total | U13: =SUM(U14:U18) -> 274 | V13: =SUM(V14:V18) -> 26 | W13: =IF(OR(U13=0,U13=""),"",(U13-V13)/U13) -> 0.90510949 | X13: =SUM(X14:X18) -> 9958 | Y13: =SUM(Y14:Y18) -> 903 | Z13: =IF(OR(X13=0,X13=""),"",(X13-Y13)/X13) -> 0.90931914 | AB13: METZ-VILLE - BV | AC13: LYON PART DIEU - BV | AD13: =IF(OR(AC13="",AC13=0,AC13="Total"),"",91%) -> 0.91 | AE13: =IF(AD13="","",VLOOKUP(AC13,T:W,4,FALSE)) -> 0.76744186 | AF13: =IF(AD13="","",VLOOKUP(AC13,T:Z,7,FALSE)) -> 0.73062262 | AG13: =IF(AE13="","",AE13-VLOOKUP(AC13,'S40'!$AC$12:$AG$56,3,FALSE)) -> #VALUE!
A14: NANCY-VILLE - BV | B14: 77 | C14: 8 | D14: 0.8961039 | E14: 4.0573422 | F14: 0.039408867 | G14: NANCY-VILLE - BV | H14: BACCARAT - 00 | J14: PARIS-LYON - BV | K14: 2784 | L14: 318 | M14: 0.88577586 | N14: 2.776844 | O14: 0.036054422 | P14: PARIS-LYON - BV | Q14: AIX-LES-BAINS-LE REVARD - BV | T14: ANGERS SAINT LAUD - BV | U14: =_xlfn.IFNA(VLOOKUP(T14,A:C,2,FALSE),"") -> 25 | V14: =_xlfn.IFNA(VLOOKUP(T14,A:C,3,FALSE),"") -> 4 | W14: =IF(OR(U14=0,U14=""),"",(U14-V14)/U14) -> 0.84 | X14: =_xlfn.IFNA(VLOOKUP(T14,J:L,2,FALSE),"") -> 855 | Y14: =_xlfn.IFNA(VLOOKUP(T14,J:L,3,FALSE),"") -> 58 | Z14: =IF(OR(X14=0,X14=""),"",(X14-Y14)/X14) -> 0.93216374 | AB14: MARSEILLE-ST-CHARLES - BV | AC14: TOULON - BV | AD14: =IF(OR(AC14="",AC14=0,AC14="Total"),"",91%) -> 0.91 | AE14: =IF(AD14="","",VLOOKUP(AC14,T:W,4,FALSE)) -> 0.77142857 | AF14: =IF(AD14="","",VLOOKUP(AC14,T:Z,7,FALSE)) -> 0.89030612 | AG14: =IF(AE14="","",AE14-VLOOKUP(AC14,'S40'!$AC$12:$AG$56,3,FALSE)) -> #VALUE!
A15: PARIS-NORD - BV | B15: 52 | C15: 8 | D15: 0.84615385 | E15: -0.85209506 | F15: 0.039408867 | G15: PARIS-NORD - BV | H15: ABBEVILLE - 00 | J15: DIJON VILLE - BV | K15: 2162 | L15: 286 | M15: 0.86771508 | N15: 2.4130388 | O15: 0.032426304 | P15: DIJON VILLE - BV | Q15: AUXERRE ST GERVAIS - BV | T15: NANTES - BV | U15: =_xlfn.IFNA(VLOOKUP(T15,A:C,2,FALSE),"") -> 114 | V15: =_xlfn.IFNA(VLOOKUP(T15,A:C,3,FALSE),"") -> 10 | W15: =IF(OR(U15=0,U15=""),"",(U15-V15)/U15) -> 0.9122807 | X15: =_xlfn.IFNA(VLOOKUP(T15,J:L,2,FALSE),"") -> 4048 | Y15: =_xlfn.IFNA(VLOOKUP(T15,J:L,3,FALSE),"") -> 376 | Z15: =IF(OR(X15=0,X15=""),"",(X15-Y15)/X15) -> 0.90711462 | AB15: LYON-PERRACHE-VOYAGEURS - BV | AC15: MARSEILLE-ST-CHARLES - BV | AD15: =IF(OR(AC15="",AC15=0,AC15="Total"),"",91%) -> 0.91 | AE15: =IF(AD15="","",VLOOKUP(AC15,T:W,4,FALSE)) -> 0.7761194 | AF15: =IF(AD15="","",VLOOKUP(AC15,T:Z,7,FALSE)) -> 0.87674271 | AG15: =IF(AE15="","",AE15-VLOOKUP(AC15,'S40'!$AC$12:$AG$56,3,FALSE)) -> #VALUE!
A16: TOULON - BV | B16: 35 | C16: 8 | D16: 0.77142857 | E16: 2.7678571 | F16: 0.039408867 | G16: TOULON - BV | H16: HYERES - BV | J16: NICE-VILLE - 00 | K16: 2122 | L16: 274 | M16: 0.87087653 | N16: 2.6681012 | O16: 0.03106576 | P16: NICE-VILLE - 00 | Q16: ANTHEOR CAP ROUX - VA | T16: RENNES - BV | U16: =_xlfn.IFNA(VLOOKUP(T16,A:C,2,FALSE),"") -> 71 | V16: =_xlfn.IFNA(VLOOKUP(T16,A:C,3,FALSE),"") -> 10 | W16: =IF(OR(U16=0,U16=""),"",(U16-V16)/U16) -> 0.85915493 | X16: =_xlfn.IFNA(VLOOKUP(T16,J:L,2,FALSE),"") -> 2639 | Y16: =_xlfn.IFNA(VLOOKUP(T16,J:L,3,FALSE),"") -> 252 | Z16: =IF(OR(X16=0,X16=""),"",(X16-Y16)/X16) -> 0.90450928 | AB16: TOULOUSE-MATABIAU - BV | AC16: METZ-VILLE - BV | AD16: =IF(OR(AC16="",AC16=0,AC16="Total"),"",91%) -> 0.91 | AE16: =IF(AD16="","",VLOOKUP(AC16,T:W,4,FALSE)) -> 0.80851064 | AF16: =IF(AD16="","",VLOOKUP(AC16,T:Z,7,FALSE)) -> 0.87117702 | AG16: =IF(AE16="","",AE16-VLOOKUP(AC16,'S40'!$AC$12:$AG$56,3,FALSE)) -> #VALUE!
A17: PARIS-LYON - BV | B17: 73 | C17: 6 | D17: 0.91780822 | E17: 4.0955312 | F17: 0.02955665 | G17: PARIS-LYON - BV | H17: ALLAN TGV - PR | J17: PARIS MONTPARNASSE - BV | K17: 4090 | L17: 259 | M17: 0.93667482 | N17: 1.8506907 | O17: 0.029365079 | P17: PARIS MONTPARNASSE - BV | Q17: AGEN - BV | T17: ST PIERRE DES CORPS - BV | U17: =_xlfn.IFNA(VLOOKUP(T17,A:C,2,FALSE),"") -> 0 | V17: =_xlfn.IFNA(VLOOKUP(T17,A:C,3,FALSE),"") -> 0 | W17: =IF(OR(U17=0,U17=""),"",(U17-V17)/U17) | X17: =_xlfn.IFNA(VLOOKUP(T17,J:L,2,FALSE),"") -> 14 | Y17: =_xlfn.IFNA(VLOOKUP(T17,J:L,3,FALSE),"") -> 0 | Z17: =IF(OR(X17=0,X17=""),"",(X17-Y17)/X17) -> 1 | AB17: LILLE FLANDRES - BV | AC17: PARIS BERCY (VOYAGEURS) - BV | AD17: =IF(OR(AC17="",AC17=0,AC17="Total"),"",91%) -> 0.91 | AE17: =IF(AD17="","",VLOOKUP(AC17,T:W,4,FALSE)) -> 0.81818182 | AF17: =IF(AD17="","",VLOOKUP(AC17,T:Z,7,FALSE)) -> 0.80381471 | AG17: =IF(AE17="","",AE17-VLOOKUP(AC17,'S40'!$AC$12:$AG$56,3,FALSE)) -> #VALUE!
A18: AMIENS - BV | B18: 106 | C18: 4 | D18: 0.96226415 | E18: 9.735187 | F18: 0.019704433 | G18: AMIENS - BV | H18: ABANCOURT - 00 | J18: RENNES - BV | K18: 2639 | L18: 252 | M18: 0.90450928 | N18: 8.3756163 | O18: 0.028571429 | P18: RENNES - BV | Q18: ANCENIS - 00 | T18: TOURS - BV | U18: =_xlfn.IFNA(VLOOKUP(T18,A:C,2,FALSE),"") -> 64 | V18: =_xlfn.IFNA(VLOOKUP(T18,A:C,3,FALSE),"") -> 2 | W18: =IF(OR(U18=0,U18=""),"",(U18-V18)/U18) -> 0.96875 | X18: =_xlfn.IFNA(VLOOKUP(T18,J:L,2,FALSE),"") -> 2402 | Y18: =_xlfn.IFNA(VLOOKUP(T18,J:L,3,FALSE),"") -> 217 | Z18: =IF(OR(X18=0,X18=""),"",(X18-Y18)/X18) -> 0.90965862 | AB18: LYON PART DIEU - BV | AC18: ANGERS SAINT LAUD - BV | AD18: =IF(OR(AC18="",AC18=0,AC18="Total"),"",91%) -> 0.91 | AE18: =IF(AD18="","",VLOOKUP(AC18,T:W,4,FALSE)) -> 0.84 | AF18: =IF(AD18="","",VLOOKUP(AC18,T:Z,7,FALSE)) -> 0.93216374 | AG18: =IF(AE18="","",AE18-VLOOKUP(AC18,'S40'!$AC$12:$AG$56,3,FALSE)) -> #VALUE!
A19: ANGERS SAINT LAUD - BV | B19: 25 | C19: 4 | D19: 0.84 | E19: 2.6956522 | F19: 0.019704433 | G19: ANGERS SAINT LAUD - BV | H19: CHOLET - BV | J19: ROUEN R.D. - 00 | K19: 1860 | L19: 232 | M19: 0.87526882 | N19: 1.0647439 | O19: 0.026303855 | P19: ROUEN R.D. - 00 | Q19: ABANCOURT - 00 | S19: DRG Grand Est | T19: Total | U19: =SUM(U20:U22) -> 357 | V19: =SUM(V20:V22) -> 48 | W19: =IF(OR(U19=0,U19=""),"",(U19-V19)/U19) -> 0.86554622 | X19: =SUM(X20:X22) -> 12151 | Y19: =SUM(Y20:Y22) -> 1855 | Z19: =IF(OR(X19=0,X19=""),"",(X19-Y19)/X19) -> 0.84733767 | AB19: NANTES - BV | AC19: NICE-VILLE - 00 | AD19: =IF(OR(AC19="",AC19=0,AC19="Total"),"",91%) -> 0.91 | AE19: =IF(AD19="","",VLOOKUP(AC19,T:W,4,FALSE)) -> 0.84482759 | AF19: =IF(AD19="","",VLOOKUP(AC19,T:Z,7,FALSE)) -> 0.87087653 | AG19: =IF(AE19="","",AE19-VLOOKUP(AC19,'S40'!$AC$12:$AG$56,3,FALSE)) -> #VALUE!
A20: PARIS EST - 00 | B20: 55 | C20: 4 | D20: 0.92727273 | E20: 7.2418816 | F20: 0.019704433 | G20: PARIS EST - 00 | H20: BAR-LE-DUC - BV | J20: PARIS-NORD - BV | K20: 1696 | L20: 227 | M20: 0.86615566 | N20: 3.5891669 | O20: 0.025736961 | P20: PARIS-NORD - BV | Q20: ABANCOURT - 00 | T20: METZ-VILLE - BV | U20: =_xlfn.IFNA(VLOOKUP(T20,A:C,2,FALSE),"") -> 94 | V20: =_xlfn.IFNA(VLOOKUP(T20,A:C,3,FALSE),"") -> 18 | W20: =IF(OR(U20=0,U20=""),"",(U20-V20)/U20) -> 0.80851064 | X20: =_xlfn.IFNA(VLOOKUP(T20,J:L,2,FALSE),"") -> 3237 | Y20: =_xlfn.IFNA(VLOOKUP(T20,J:L,3,FALSE),"") -> 417 | Z20: =IF(OR(X20=0,X20=""),"",(X20-Y20)/X20) -> 0.87117702 | AB20: RENNES - BV | AC20: PARIS-NORD - BV | AD20: =IF(OR(AC20="",AC20=0,AC20="Total"),"",91%) -> 0.91 | AE20: =IF(AD20="","",VLOOKUP(AC20,T:W,4,FALSE)) -> 0.84615385 | AF20: =IF(AD20="","",VLOOKUP(AC20,T:Z,7,FALSE)) -> 0.86615566 | AG20: =IF(AE20="","",AE20-VLOOKUP(AC20,'S40'!$AC$12:$AG$56,3,FALSE)) -> #VALUE!
A21: PARIS AUSTERLITZ - BV | B21: 22 | C21: 3 | D21: 0.86363636 | E21: -0.54545455 | F21: 0.014778325 | G21: PARIS AUSTERLITZ - BV | H21: ANGERVILLE - BV | J21: PARIS AUSTERLITZ - BV | K21: 985 | L21: 225 | M21: 0.7715736 | N21: -4.3077215 | O21: 0.025510204 | P21: PARIS AUSTERLITZ - BV | Q21: AGEN - BV | T21: NANCY-VILLE - BV | U21: =_xlfn.IFNA(VLOOKUP(T21,A:C,2,FALSE),"") -> 77 | V21: =_xlfn.IFNA(VLOOKUP(T21,A:C,3,FALSE),"") -> 8 | W21: =IF(OR(U21=0,U21=""),"",(U21-V21)/U21) -> 0.8961039 | X21: =_xlfn.IFNA(VLOOKUP(T21,J:L,2,FALSE),"") -> 2691 | Y21: =_xlfn.IFNA(VLOOKUP(T21,J:L,3,FALSE),"") -> 401 | Z21: =IF(OR(X21=0,X21=""),"",(X21-Y21)/X21) -> 0.85098476 | AB21: BORDEAUX ST JEAN - BV | AC21: RENNES - BV | AD21: =IF(OR(AC21="",AC21=0,AC21="Total"),"",91%) -> 0.91 | AE21: =IF(AD21="","",VLOOKUP(AC21,T:W,4,FALSE)) -> 0.85915493 | AF21: =IF(AD21="","",VLOOKUP(AC21,T:Z,7,FALSE)) -> 0.90450928 | AG21: =IF(AE21="","",AE21-VLOOKUP(AC21,'S40'!$AC$12:$AG$56,3,FALSE)) -> #VALUE!
A22: ROUEN R.D. - 00 | B22: 53 | C22: 3 | D22: 0.94339623 | E22: 8.0896226 | F22: 0.014778325 | G22: ROUEN R.D. - 00 | H22: AMIENS - BV | J22: TOURS - BV | K22: 2402 | L22: 217 | M22: 0.90965862 | N22: 3.7714072 | O22: 0.024603175 | P22: TOURS - BV | Q22: ALENCON - BV | T22: STRASBOURG-VILLE - BV | U22: =_xlfn.IFNA(VLOOKUP(T22,A:C,2,FALSE),"") -> 186 | V22: =_xlfn.IFNA(VLOOKUP(T22,A:C,3,FALSE),"") -> 22 | W22: =IF(OR(U22=0,U22=""),"",(U22-V22)/U22) -> 0.88172043 | X22: =_xlfn.IFNA(VLOOKUP(T22,J:L,2,FALSE),"") -> 6223 | Y22: =_xlfn.IFNA(VLOOKUP(T22,J:L,3,FALSE),"") -> 1037 | Z22: =IF(OR(X22=0,X22=""),"",(X22-Y22)/X22) -> 0.83336012 | AB22: NICE-VILLE - 00 | AC22: PARIS AUSTERLITZ - BV | AD22: =IF(OR(AC22="",AC22=0,AC22="Total"),"",91%) -> 0.91 | AE22: =IF(AD22="","",VLOOKUP(AC22,T:W,4,FALSE)) -> 0.86363636 | AF22: =IF(AD22="","",VLOOKUP(AC22,T:Z,7,FALSE)) -> 0.7715736 | AG22: =IF(AE22="","",AE22-VLOOKUP(AC22,'S40'!$AC$12:$AG$56,3,FALSE)) -> #VALUE!
A23: AEROP 2 CH DE GAULLE - TGV - BV | B23: 7 | C23: 2 | D23: 0.71428571 | E23: 14.285714 | F23: 0.0098522167 | G23: AEROP 2 CH DE GAULLE - TGV - BV | H23: MARNE LA VALLEE-CHESSY - BV | J23: TOULON - BV | K23: 1176 | L23: 129 | M23: 0.89030612 | N23: 14.247689 | O23: 0.01462585 | P23: TOULON - BV | Q23: AUBAGNE - 00 | S23: DRG HDF-Normandie | T23: Total | U23: =SUM(U24:U28) -> 306 | V23: =SUM(V24:V28) -> 18 | W23: =IF(OR(U23=0,U23=""),"",(U23-V23)/U23) -> 0.94117647 | X23: =SUM(X24:X28) -> 10391 | Y23: =SUM(Y24:Y28) -> 1242 | Z23: =IF(OR(X23=0,X23=""),"",(X23-Y23)/X23) -> 0.88047349 | AB23: PARIS MONTPARNASSE - BV | AC23: LYON-PERRACHE-VOYAGEURS - BV | AD23: =IF(OR(AC23="",AC23=0,AC23="Total"),"",91%) -> 0.91 | AE23: =IF(AD23="","",VLOOKUP(AC23,T:W,4,FALSE)) -> 0.86666667 | AF23: =IF(AD23="","",VLOOKUP(AC23,T:Z,7,FALSE)) -> 0.82182628 | AG23: =IF(AE23="","",AE23-VLOOKUP(AC23,'S40'!$AC$12:$AG$56,3,FALSE)) -> #VALUE!
A24: DIJON VILLE - BV | B24: 56 | C24: 2 | D24: 0.96428571 | E24: 8.6815359 | F24: 0.0098522167 | G24: DIJON VILLE - BV | H24: BESANCON VIOTTE - BV | J24: GRENOBLE - BV | K24: 2301 | L24: 125 | M24: 0.94567579 | N24: 6.4182937 | O24: 0.014172336 | P24: GRENOBLE - BV | Q24: AIX-LES-BAINS-LE REVARD - BV | T24: AMIENS - BV | U24: =_xlfn.IFNA(VLOOKUP(T24,A:C,2,FALSE),"") -> 106 | V24: =_xlfn.IFNA(VLOOKUP(T24,A:C,3,FALSE),"") -> 4 | W24: =IF(OR(U24=0,U24=""),"",(U24-V24)/U24) -> 0.96226415 | X24: =_xlfn.IFNA(VLOOKUP(T24,J:L,2,FALSE),"") -> 3908 | Y24: =_xlfn.IFNA(VLOOKUP(T24,J:L,3,FALSE),"") -> 520 | Z24: =IF(OR(X24=0,X24=""),"",(X24-Y24)/X24) -> 0.86693961 | AB24: NANCY-VILLE - BV | AC24: TOULOUSE-MATABIAU - BV | AD24: =IF(OR(AC24="",AC24=0,AC24="Total"),"",91%) -> 0.91 | AE24: =IF(AD24="","",VLOOKUP(AC24,T:W,4,FALSE)) -> 0.88043478 | AF24: =IF(AD24="","",VLOOKUP(AC24,T:Z,7,FALSE)) -> 0.82906271 | AG24: =IF(AE24="","",AE24-VLOOKUP(AC24,'S40'!$AC$12:$AG$56,3,FALSE)) -> #VALUE!
A25: PARIS BERCY (VOYAGEURS) - BV | B25: 11 | C25: 2 | D25: 0.81818182 | E25: 8.5197525 | F25: 0.0098522167 | G25: PARIS BERCY (VOYAGEURS) - BV | H25: BOURGES - BV | J25: PARIS BERCY (VOYAGEURS) - BV | K25: 367 | L25: 72 | M25: 0.80381471 | N25: 10.101343 | O25: 0.0081632653 | P25: PARIS BERCY (VOYAGEURS) - BV | Q25: AUXERRE ST GERVAIS - BV | T25: TGV HAUTE PICARDIE - BV | U25: =_xlfn.IFNA(VLOOKUP(T25,A:C,2,FALSE),"") | V25: =_xlfn.IFNA(VLOOKUP(T25,A:C,3,FALSE),"") | W25: =IF(OR(U25=0,U25=""),"",(U25-V25)/U25) | X25: =_xlfn.IFNA(VLOOKUP(T25,J:L,2,FALSE),"") | Y25: =_xlfn.IFNA(VLOOKUP(T25,J:L,3,FALSE),"") | Z25: =IF(OR(X25=0,X25=""),"",(X25-Y25)/X25) | AB25: PARIS-NORD - BV | AC25: STRASBOURG-VILLE - BV | AD25: =IF(OR(AC25="",AC25=0,AC25="Total"),"",91%) -> 0.91 | AE25: =IF(AD25="","",VLOOKUP(AC25,T:W,4,FALSE)) -> 0.88172043 | AF25: =IF(AD25="","",VLOOKUP(AC25,T:Z,7,FALSE)) -> 0.83336012 | AG25: =IF(AE25="","",AE25-VLOOKUP(AC25,'S40'!$AC$12:$AG$56,3,FALSE)) -> #VALUE!
A26: TOURS - BV | B26: 64 | C26: 2 | D26: 0.96875 | E26: 7.0444915 | F26: 0.0098522167 | G26: TOURS - BV | H26: ALENCON - BV | J26: AEROP 2 CH DE GAULLE - TGV - BV | K26: 261 | L26: 69 | M26: 0.73563218 | N26: 22.60168 | O26: 0.0078231293 | P26: AEROP 2 CH DE GAULLE - TGV - BV | Q26: BOURG-SAINT-MAURICE - 00 | T26: LILLE-EUROPE - BV | U26: =_xlfn.IFNA(VLOOKUP(T26,A:C,2,FALSE),"") -> 11 | V26: =_xlfn.IFNA(VLOOKUP(T26,A:C,3,FALSE),"") -> 1 | W26: =IF(OR(U26=0,U26=""),"",(U26-V26)/U26) -> 0.90909091 | X26: =_xlfn.IFNA(VLOOKUP(T26,J:L,2,FALSE),"") -> 390 | Y26: =_xlfn.IFNA(VLOOKUP(T26,J:L,3,FALSE),"") -> 46 | Z26: =IF(OR(X26=0,X26=""),"",(X26-Y26)/X26) -> 0.88205128 | AB26: TOULON - BV | AC26: NANCY-VILLE - BV | AD26: =IF(OR(AC26="",AC26=0,AC26="Total"),"",91%) -> 0.91 | AE26: =IF(AD26="","",VLOOKUP(AC26,T:W,4,FALSE)) -> 0.8961039 | AF26: =IF(AD26="","",VLOOKUP(AC26,T:Z,7,FALSE)) -> 0.85098476 | AG26: =IF(AE26="","",AE26-VLOOKUP(AC26,'S40'!$AC$12:$AG$56,3,FALSE)) -> #VALUE!
A27: AVIGNON TGV - BV | B27: 12 | C27: 1 | D27: 0.91666667 | E27: 1.6666667 | F27: 0.0049261084 | G27: AVIGNON TGV - BV | H27: AVIGNON - BV | J27: ANGERS SAINT LAUD - BV | K27: 855 | L27: 58 | M27: 0.93216374 | N27: 8.1879619 | O27: 0.0065759637 | P27: ANGERS SAINT LAUD - BV | Q27: CHALONNES - 00 | T27: LILLE FLANDRES - BV | U27: =_xlfn.IFNA(VLOOKUP(T27,A:C,2,FALSE),"") -> 136 | V27: =_xlfn.IFNA(VLOOKUP(T27,A:C,3,FALSE),"") -> 10 | W27: =IF(OR(U27=0,U27=""),"",(U27-V27)/U27) -> 0.92647059 | X27: =_xlfn.IFNA(VLOOKUP(T27,J:L,2,FALSE),"") -> 4233 | Y27: =_xlfn.IFNA(VLOOKUP(T27,J:L,3,FALSE),"") -> 444 | Z27: =IF(OR(X27=0,X27=""),"",(X27-Y27)/X27) -> 0.89510985 | AB27: PARIS-LYON - BV | AC27: LILLE-EUROPE - BV | AD27: =IF(OR(AC27="",AC27=0,AC27="Total"),"",91%) -> 0.91 | AE27: =IF(AD27="","",VLOOKUP(AC27,T:W,4,FALSE)) -> 0.90909091 | AF27: =IF(AD27="","",VLOOKUP(AC27,T:Z,7,FALSE)) -> 0.88205128 | AG27: =IF(AE27="","",AE27-VLOOKUP(AC27,'S40'!$AC$12:$AG$56,3,FALSE)) -> #VALUE!
A28: LILLE-EUROPE - BV | B28: 11 | C28: 1 | D28: 0.90909091 | E28: 6.0606061 | F28: 0.0049261084 | G28: LILLE-EUROPE - BV | H28: AEROP 2 CH DE GAULLE - TGV - BV | J28: LILLE-EUROPE - BV | K28: 390 | L28: 46 | M28: 0.88205128 | N28: 3.6215793 | O28: 0.0052154195 | P28: LILLE-EUROPE - BV | Q28: AEROP 2 CH DE GAULLE - TGV - BV | T28: ROUEN R.D. - 00 | U28: =_xlfn.IFNA(VLOOKUP(T28,A:C,2,FALSE),"") -> 53 | V28: =_xlfn.IFNA(VLOOKUP(T28,A:C,3,FALSE),"") -> 3 | W28: =IF(OR(U28=0,U28=""),"",(U28-V28)/U28) -> 0.94339623 | X28: =_xlfn.IFNA(VLOOKUP(T28,J:L,2,FALSE),"") -> 1860 | Y28: =_xlfn.IFNA(VLOOKUP(T28,J:L,3,FALSE),"") -> 232 | Z28: =IF(OR(X28=0,X28=""),"",(X28-Y28)/X28) -> 0.87526882 | AB28: AMIENS - BV | AC28: NANTES - BV | AD28: =IF(OR(AC28="",AC28=0,AC28="Total"),"",91%) -> 0.91 | AE28: =IF(AD28="","",VLOOKUP(AC28,T:W,4,FALSE)) -> 0.9122807 | AF28: =IF(AD28="","",VLOOKUP(AC28,T:Z,7,FALSE)) -> 0.90711462 | AG28: =IF(AE28="","",AE28-VLOOKUP(AC28,'S40'!$AC$12:$AG$56,3,FALSE)) -> #VALUE!
A29: BESANCON-FRANCHE-COMTE-TGV - BV | B29: 6 | C29: 0 | D29: 1 | E29: 11 | F29: 0 | G29: BESANCON-FRANCHE-COMTE-TGV - BV | H29: BESANCON VIOTTE - BV | J29: MONTPELLIER-ST-ROCH - BV | K29: 630 | L29: 32 | M29: 0.94920635 | N29: 12.398726 | O29: 0.0036281179 | P29: MONTPELLIER-ST-ROCH - BV | Q29: AEROP 2 CH DE GAULLE - TGV - BV | S29: DRG Nlle Aquitaine | T29: Total | U29: =U30 -> 103 | V29: =V30 -> 9 | W29: =IF(OR(U29=0,U29=""),"",(U29-V29)/U29) -> 0.91262136 | X29: =X30 -> 3578 | Y29: =Y30 -> 496 | Z29: =IF(OR(X29=0,X29=""),"",(X29-Y29)/X29) -> 0.86137507 | AB29: ANGERS SAINT LAUD - BV | AC29: BORDEAUX ST JEAN - BV | AD29: =IF(OR(AC29="",AC29=0,AC29="Total"),"",91%) -> 0.91 | AE29: =IF(AD29="","",VLOOKUP(AC29,T:W,4,FALSE)) -> 0.91262136 | AF29: =IF(AD29="","",VLOOKUP(AC29,T:Z,7,FALSE)) -> 0.86137507 | AG29: =IF(AE29="","",AE29-VLOOKUP(AC29,'S40'!$AC$12:$AG$56,3,FALSE)) -> #VALUE!
A30: CANNES VOYAGEURS - 00 | B30: 1 | C30: 0 | D30: 1 | E30: 22.857143 | F30: 0 | G30: CANNES VOYAGEURS - 00 | H30: GRASSE - 00 | J30: AVIGNON TGV - BV | K30: 388 | L30: 31 | M30: 0.92010309 | N30: 0.42996399 | O30: 0.0035147392 | P30: AVIGNON TGV - BV | Q30: AVIGNON - BV | T30: BORDEAUX ST JEAN - BV | U30: =_xlfn.IFNA(VLOOKUP(T30,A:C,2,FALSE),"") -> 103 | V30: =_xlfn.IFNA(VLOOKUP(T30,A:C,3,FALSE),"") -> 9 | W30: =IF(OR(U30=0,U30=""),"",(U30-V30)/U30) -> 0.91262136 | X30: =_xlfn.IFNA(VLOOKUP(T30,J:L,2,FALSE),"") -> 3578 | Y30: =_xlfn.IFNA(VLOOKUP(T30,J:L,3,FALSE),"") -> 496 | Z30: =IF(OR(X30=0,X30=""),"",(X30-Y30)/X30) -> 0.86137507 | AB30: PARIS EST - 00 | AC30: AVIGNON TGV - BV | AD30: =IF(OR(AC30="",AC30=0,AC30="Total"),"",91%) -> 0.91 | AE30: =IF(AD30="","",VLOOKUP(AC30,T:W,4,FALSE)) -> 0.91666667 | AF30: =IF(AD30="","",VLOOKUP(AC30,T:Z,7,FALSE)) -> 0.92010309 | AG30: =IF(AE30="","",AE30-VLOOKUP(AC30,'S40'!$AC$12:$AG$56,3,FALSE)) -> #VALUE!
A31: GRENOBLE - BV | B31: 69 | C31: 0 | D31: 1 | E31: 12.114014 | F31: 0 | G31: GRENOBLE - BV | H31: ANNECY - BV | J31: CANNES VOYAGEURS - 00 | K31: 83 | L31: 17 | M31: 0.79518072 | N31: 5.484125 | O31: 0.0019274376 | P31: CANNES VOYAGEURS - 00 | Q31: ANTIBES - 00 | S31: DRG Occitanie Sud | T31: Total | U31: =SUM(U32:U43) -> 283 | V31: =SUM(V32:V43) -> 44 | W31: =IF(OR(U31=0,U31=""),"",(U31-V31)/U31) -> 0.84452297 | X31: =SUM(X32:X43) -> 10522 | Y31: =SUM(Y32:Y43) -> 1379 | Z31: =IF(OR(X31=0,X31=""),"",(X31-Y31)/X31) -> 0.86894127 | AB31: PARIS AUSTERLITZ - BV | AC31: PARIS MONTPARNASSE - BV | AD31: =IF(OR(AC31="",AC31=0,AC31="Total"),"",91%) -> 0.91 | AE31: =IF(AD31="","",VLOOKUP(AC31,T:W,4,FALSE)) -> 0.91666667 | AF31: =IF(AD31="","",VLOOKUP(AC31,T:Z,7,FALSE)) -> 0.93667482 | AG31: =IF(AE31="","",AE31-VLOOKUP(AC31,'S40'!$AC$12:$AG$56,3,FALSE)) -> #VALUE!
A32: LYON-ST EXUPERY TGV - 00 | B32: 0 | C32: 0 | E32: -58.333333 | F32: 0 | G32: LYON-ST EXUPERY TGV - 00 | H32: ARLES - BV | J32: BESANCON-FRANCHE-COMTE-TGV - BV | K32: 198 | L32: 12 | M32: 0.93939394 | N32: 6.4995071 | O32: 0.0013605442 | P32: BESANCON-FRANCHE-COMTE-TGV - BV | Q32: BESANCON VIOTTE - BV | T32: AIX-EN-PROVENCE-TGV - 00 | U32: =_xlfn.IFNA(VLOOKUP(T32,A:C,2,FALSE),"") | V32: =_xlfn.IFNA(VLOOKUP(T32,A:C,3,FALSE),"") | W32: =IF(OR(U32=0,U32=""),"",(U32-V32)/U32) | X32: =_xlfn.IFNA(VLOOKUP(T32,J:L,2,FALSE),"") -> 0 | Y32: =_xlfn.IFNA(VLOOKUP(T32,J:L,3,FALSE),"") -> 0 | Z32: =IF(OR(X32=0,X32=""),"",(X32-Y32)/X32) | AB32: ROUEN R.D. - 00 | AC32: PARIS-LYON - BV | AD32: =IF(OR(AC32="",AC32=0,AC32="Total"),"",91%) -> 0.91 | AE32: =IF(AD32="","",VLOOKUP(AC32,T:W,4,FALSE)) -> 0.91780822 | AF32: =IF(AD32="","",VLOOKUP(AC32,T:Z,7,FALSE)) -> 0.88577586 | AG32: =IF(AE32="","",AE32-VLOOKUP(AC32,'S40'!$AC$12:$AG$56,3,FALSE)) -> #VALUE!
A33: MARNE LA VALLEE-CHESSY - BV | B33: 0 | C33: 0 | E33: -41.666667 | F33: 0 | G33: MARNE LA VALLEE-CHESSY - BV | H33: NANCY-VILLE - BV | J33: AIX-EN-PROVENCE-TGV - 00 | K33: 0 | L33: 0 | N33: -50 | O33: 0 | P33: AIX-EN-PROVENCE-TGV - 00 | Q33: MARSEILLE-ST-CHARLES - BV | T33: AVIGNON TGV - BV | U33: =_xlfn.IFNA(VLOOKUP(T33,A:C,2,FALSE),"") -> 12 | V33: =_xlfn.IFNA(VLOOKUP(T33,A:C,3,FALSE),"") -> 1 | W33: =IF(OR(U33=0,U33=""),"",(U33-V33)/U33) -> 0.91666667 | X33: =_xlfn.IFNA(VLOOKUP(T33,J:L,2,FALSE),"") -> 388 | Y33: =_xlfn.IFNA(VLOOKUP(T33,J:L,3,FALSE),"") -> 31 | Z33: =IF(OR(X33=0,X33=""),"",(X33-Y33)/X33) -> 0.92010309 | AB33: AEROP 2 CH DE GAULLE - TGV - BV | AC33: LILLE FLANDRES - BV | AD33: =IF(OR(AC33="",AC33=0,AC33="Total"),"",91%) -> 0.91 | AE33: =IF(AD33="","",VLOOKUP(AC33,T:W,4,FALSE)) -> 0.92647059 | AF33: =IF(AD33="","",VLOOKUP(AC33,T:Z,7,FALSE)) -> 0.89510985 | AG33: =IF(AE33="","",AE33-VLOOKUP(AC33,'S40'!$AC$12:$AG$56,3,FALSE)) -> #VALUE!
A34: MASSY TGV - BV | B34: 0 | C34: 0 | E34: -100 | F34: 0 | G34: MASSY TGV - BV | H34: NANTES - BV | J34: ANTIBES - 00 | K34: 0 | L34: 0 | N34: 0 | O34: 0 | P34: ANTIBES - 00 | Q34: MARSEILLE-ST-CHARLES - BV | T34: CANNES VOYAGEURS - 00 | U34: =_xlfn.IFNA(VLOOKUP(T34,A:C,2,FALSE),"") -> 1 | V34: =_xlfn.IFNA(VLOOKUP(T34,A:C,3,FALSE),"") -> 0 | W34: =IF(OR(U34=0,U34=""),"",(U34-V34)/U34) -> 1 | X34: =_xlfn.IFNA(VLOOKUP(T34,J:L,2,FALSE),"") -> 83 | Y34: =_xlfn.IFNA(VLOOKUP(T34,J:L,3,FALSE),"") -> 17 | Z34: =IF(OR(X34=0,X34=""),"",(X34-Y34)/X34) -> 0.79518072 | AB34: DIJON VILLE - BV | AC34: PARIS EST - 00 | AD34: =IF(OR(AC34="",AC34=0,AC34="Total"),"",91%) -> 0.91 | AE34: =IF(AD34="","",VLOOKUP(AC34,T:W,4,FALSE)) -> 0.92727273 | AF34: =IF(AD34="","",VLOOKUP(AC34,T:Z,7,FALSE)) -> 0.85625 | AG34: =IF(AE34="","",AE34-VLOOKUP(AC34,'S40'!$AC$12:$AG$56,3,FALSE)) -> #VALUE!
A35: MONTPELLIER(CNM) - BV | B35: 0 | C35: 0 | E35: -97.058824 | F35: 0 | G35: MONTPELLIER(CNM) - BV | H35: LILLE FLANDRES - BV | J35: LE CREUSOT-MONTCEAU-MONTCHANIN - 00 | K35: 0 | L35: 0 | N35: 0 | O35: 0 | P35: LE CREUSOT-MONTCEAU-MONTCHANIN - 00 | Q35: MACON LOCHE - BV | T35: MARSEILLE-ST-CHARLES - BV | U35: =_xlfn.IFNA(VLOOKUP(T35,A:C,2,FALSE),"") -> 67 | V35: =_xlfn.IFNA(VLOOKUP(T35,A:C,3,FALSE),"") -> 15 | W35: =IF(OR(U35=0,U35=""),"",(U35-V35)/U35) -> 0.7761194 | X35: =_xlfn.IFNA(VLOOKUP(T35,J:L,2,FALSE),"") -> 3156 | Y35: =_xlfn.IFNA(VLOOKUP(T35,J:L,3,FALSE),"") -> 389 | Z35: =IF(OR(X35=0,X35=""),"",(X35-Y35)/X35) -> 0.87674271 | AB35: PARIS BERCY (VOYAGEURS) - BV | AC35: ROUEN R.D. - 00 | AD35: =IF(OR(AC35="",AC35=0,AC35="Total"),"",91%) -> 0.91 | AE35: =IF(AD35="","",VLOOKUP(AC35,T:W,4,FALSE)) -> 0.94339623 | AF35: =IF(AD35="","",VLOOKUP(AC35,T:Z,7,FALSE)) -> 0.87526882 | AG35: =IF(AE35="","",AE35-VLOOKUP(AC35,'S40'!$AC$12:$AG$56,3,FALSE)) -> #VALUE!
A36: MONTPELLIER-ST-ROCH - BV | B36: 18 | C36: 0 | D36: 1 | E36: 18.644068 | F36: 0 | G36: MONTPELLIER-ST-ROCH - BV | H36: AEROP 2 CH DE GAULLE - TGV - BV | J36: LYON-ST EXUPERY TGV - 00 | K36: 0 | L36: 0 | N36: -54.901961 | O36: 0 | P36: LYON-ST EXUPERY TGV - 00 | Q36: ARLES - BV | T36: MONACO MONTE CARLO - 00 | U36: =_xlfn.IFNA(VLOOKUP(T36,A:C,2,FALSE),"") | V36: =_xlfn.IFNA(VLOOKUP(T36,A:C,3,FALSE),"") | W36: =IF(OR(U36=0,U36=""),"",(U36-V36)/U36) | X36: =_xlfn.IFNA(VLOOKUP(T36,J:L,2,FALSE),"") -> 1 | Y36: =_xlfn.IFNA(VLOOKUP(T36,J:L,3,FALSE),"") -> 0 | Z36: =IF(OR(X36=0,X36=""),"",(X36-Y36)/X36) -> 1 | AB36: TOURS - BV | AC36: AMIENS - BV | AD36: =IF(OR(AC36="",AC36=0,AC36="Total"),"",91%) -> 0.91 | AE36: =IF(AD36="","",VLOOKUP(AC36,T:W,4,FALSE)) -> 0.96226415 | AF36: =IF(AD36="","",VLOOKUP(AC36,T:Z,7,FALSE)) -> 0.86693961 | AG36: =IF(AE36="","",AE36-VLOOKUP(AC36,'S40'!$AC$12:$AG$56,3,FALSE)) -> #VALUE!
A37: ST PIERRE DES CORPS - BV | B37: 0 | C37: 0 | E37: -43.478261 | F37: 0 | G37: ST PIERRE DES CORPS - BV | H37: LA ROCHELLE VILLE - BV | J37: MACON LOCHE - BV | K37: 0 | L37: 0 | N37: -33.333333 | O37: 0 | P37: MACON LOCHE - BV | Q37: ANNECY - BV | T37: MONTPELLIER-ST-ROCH - BV | U37: =_xlfn.IFNA(VLOOKUP(T37,A:C,2,FALSE),"") -> 18 | V37: =_xlfn.IFNA(VLOOKUP(T37,A:C,3,FALSE),"") -> 0 | W37: =IF(OR(U37=0,U37=""),"",(U37-V37)/U37) -> 1 | X37: =_xlfn.IFNA(VLOOKUP(T37,J:L,2,FALSE),"") -> 630 | Y37: =_xlfn.IFNA(VLOOKUP(T37,J:L,3,FALSE),"") -> 32 | Z37: =IF(OR(X37=0,X37=""),"",(X37-Y37)/X37) -> 0.94920635 | AB37: AVIGNON TGV - BV | AC37: DIJON VILLE - BV | AD37: =IF(OR(AC37="",AC37=0,AC37="Total"),"",91%) -> 0.91 | AE37: =IF(AD37="","",VLOOKUP(AC37,T:W,4,FALSE)) -> 0.96428571 | AF37: =IF(AD37="","",VLOOKUP(AC37,T:Z,7,FALSE)) -> 0.86771508 | AG37: =IF(AE37="","",AE37-VLOOKUP(AC37,'S40'!$AC$12:$AG$56,3,FALSE)) -> #VALUE!
A38: VALENCE-TGV - BV | B38: 0 | C38: 0 | E38: -30 | F38: 0 | G38: VALENCE-TGV - BV | H38: MARSEILLE-ST-CHARLES - BV | J38: MARNE LA VALLEE-CHESSY - BV | K38: 0 | L38: 0 | N38: -64.305949 | O38: 0 | P38: MARNE LA VALLEE-CHESSY - BV | Q38: AEROP 2 CH DE GAULLE - TGV - BV | T38: MONTPELLIER(CNM) - BV | U38: =_xlfn.IFNA(VLOOKUP(T38,A:C,2,FALSE),"") -> 0 | V38: =_xlfn.IFNA(VLOOKUP(T38,A:C,3,FALSE),"") -> 0 | W38: =IF(OR(U38=0,U38=""),"",(U38-V38)/U38) | X38: =_xlfn.IFNA(VLOOKUP(T38,J:L,2,FALSE),"") -> 0 | Y38: =_xlfn.IFNA(VLOOKUP(T38,J:L,3,FALSE),"") -> 0 | Z38: =IF(OR(X38=0,X38=""),"",(X38-Y38)/X38) | AB38: LILLE-EUROPE - BV | AC38: TOURS - BV | AD38: =IF(OR(AC38="",AC38=0,AC38="Total"),"",91%) -> 0.91 | AE38: =IF(AD38="","",VLOOKUP(AC38,T:W,4,FALSE)) -> 0.96875 | AF38: =IF(AD38="","",VLOOKUP(AC38,T:Z,7,FALSE)) -> 0.90965862 | AG38: =IF(AE38="","",AE38-VLOOKUP(AC38,'S40'!$AC$12:$AG$56,3,FALSE)) -> #VALUE!
A39: Total | B39: 1915 | C39: 203 | D39: 0.89399478 | E39: 6.6980439 | F39: 1 | G39: AEROP 2 CH DE GAULLE - TGV - BV | H39: ABANCOURT - 00 | J39: MASSY TGV - BV | K39: 0 | L39: 0 | N39: -60.454545 | O39: 0 | P39: MASSY TGV - BV | Q39: ANGERS SAINT LAUD - BV | T39: NICE-VILLE - 00 | U39: =_xlfn.IFNA(VLOOKUP(T39,A:C,2,FALSE),"") -> 58 | V39: =_xlfn.IFNA(VLOOKUP(T39,A:C,3,FALSE),"") -> 9 | W39: =IF(OR(U39=0,U39=""),"",(U39-V39)/U39) -> 0.84482759 | X39: =_xlfn.IFNA(VLOOKUP(T39,J:L,2,FALSE),"") -> 2122 | Y39: =_xlfn.IFNA(VLOOKUP(T39,J:L,3,FALSE),"") -> 274 | Z39: =IF(OR(X39=0,X39=""),"",(X39-Y39)/X39) -> 0.87087653 | AB39: BESANCON-FRANCHE-COMTE-TGV - BV | AC39: BESANCON-FRANCHE-COMTE-TGV - BV | AD39: =IF(OR(AC39="",AC39=0,AC39="Total"),"",91%) -> 0.91 | AE39: =IF(AD39="","",VLOOKUP(AC39,T:W,4,FALSE)) -> 1 | AF39: =IF(AD39="","",VLOOKUP(AC39,T:Z,7,FALSE)) -> 0.93939394 | AG39: =IF(AE39="","",AE39-VLOOKUP(AC39,'S40'!$AC$12:$AG$56,3,FALSE)) -> #VALUE!
J40: MONACO MONTE CARLO - 00 | K40: 1 | L40: 0 | M40: 1 | N40: 34.722222 | O40: 0 | P40: MONACO MONTE CARLO - 00 | Q40: ANTIBES - 00 | T40: Nîmes Pont du Gard | U40: =_xlfn.IFNA(VLOOKUP(T40,A:C,2,FALSE),"") | V40: =_xlfn.IFNA(VLOOKUP(T40,A:C,3,FALSE),"") | W40: =IF(OR(U40=0,U40=""),"",(U40-V40)/U40) | X40: =_xlfn.IFNA(VLOOKUP(T40,J:L,2,FALSE),"") | Y40: =_xlfn.IFNA(VLOOKUP(T40,J:L,3,FALSE),"") | Z40: =IF(OR(X40=0,X40=""),"",(X40-Y40)/X40) | AB40: CANNES VOYAGEURS - 00 | AC40: MONTPELLIER-ST-ROCH - BV | AD40: =IF(OR(AC40="",AC40=0,AC40="Total"),"",91%) -> 0.91 | AE40: =IF(AD40="","",VLOOKUP(AC40,T:W,4,FALSE)) -> 1 | AF40: =IF(AD40="","",VLOOKUP(AC40,T:Z,7,FALSE)) -> 0.94920635 | AG40: =IF(AE40="","",AE40-VLOOKUP(AC40,'S40'!$AC$12:$AG$56,3,FALSE)) -> #VALUE!
A41: Filtres appliqués : NbrTrainsOrigine_TOT est supérieur à 0 Type_Trafic est Commercial Date est le ou après le 02/10/2023 et est avant le 09/10/2023 Type_Trafic est Commercial Point Frontières (à exclure) n'est pas OUI BUs_Lignes n'est pas Navette gare TGV Activites n'est pas (Vide) Libellé ZP n'est pas (Vide) Gares detoureés GC est oui Type Trafic est Commercial Neutralisation_Gare n'est pas OUI Neutralisation_Date n'est pas OUI | J41: MONTPELLIER(CNM) - BV | K41: 0 | L41: 0 | N41: -91.404255 | O41: 0 | P41: MONTPELLIER(CNM) - BV | Q41: ANGERS SAINT LAUD - BV | T41: SAINT RAPHAEL VALESCURE - BV | U41: =_xlfn.IFNA(VLOOKUP(T41,A:C,2,FALSE),"") | V41: =_xlfn.IFNA(VLOOKUP(T41,A:C,3,FALSE),"") | W41: =IF(OR(U41=0,U41=""),"",(U41-V41)/U41) | X41: =_xlfn.IFNA(VLOOKUP(T41,J:L,2,FALSE),"") -> 0 | Y41: =_xlfn.IFNA(VLOOKUP(T41,J:L,3,FALSE),"") -> 0 | Z41: =IF(OR(X41=0,X41=""),"",(X41-Y41)/X41) | AB41: GRENOBLE - BV | AC41: GRENOBLE - BV | AD41: =IF(OR(AC41="",AC41=0,AC41="Total"),"",91%) -> 0.91 | AE41: =IF(AD41="","",VLOOKUP(AC41,T:W,4,FALSE)) -> 1 | AF41: =IF(AD41="","",VLOOKUP(AC41,T:Z,7,FALSE)) -> 0.94567579 | AG41: =IF(AE41="","",AE41-VLOOKUP(AC41,'S40'!$AC$12:$AG$56,3,FALSE)) -> #VALUE!
J42: SAINT RAPHAEL VALESCURE - BV | K42: 0 | L42: 0 | N42: 0 | O42: 0 | P42: SAINT RAPHAEL VALESCURE - BV | Q42: CANNES VOYAGEURS - 00 | T42: TOULON - BV | U42: =_xlfn.IFNA(VLOOKUP(T42,A:C,2,FALSE),"") -> 35 | V42: =_xlfn.IFNA(VLOOKUP(T42,A:C,3,FALSE),"") -> 8 | W42: =IF(OR(U42=0,U42=""),"",(U42-V42)/U42) -> 0.77142857 | X42: =_xlfn.IFNA(VLOOKUP(T42,J:L,2,FALSE),"") -> 1176 | Y42: =_xlfn.IFNA(VLOOKUP(T42,J:L,3,FALSE),"") -> 129 | Z42: =IF(OR(X42=0,X42=""),"",(X42-Y42)/X42) -> 0.89030612 | AB42: LYON-ST EXUPERY TGV - 00 | AC42: CANNES VOYAGEURS - 00 | AD42: =IF(OR(AC42="",AC42=0,AC42="Total"),"",91%) -> 0.91 | AE42: =IF(AD42="","",VLOOKUP(AC42,T:W,4,FALSE)) -> 1 | AF42: =IF(AD42="","",VLOOKUP(AC42,T:Z,7,FALSE)) -> 0.79518072 | AG42: =IF(AE42="","",AE42-VLOOKUP(AC42,'S40'!$AC$12:$AG$56,3,FALSE)) -> #VALUE!
J43: ST PIERRE DES CORPS - BV | K43: 14 | L43: 0 | M43: 1 | N43: 56.274256 | O43: 0 | P43: ST PIERRE DES CORPS - BV | Q43: BORDEAUX ST JEAN - BV | T43: TOULOUSE-MATABIAU - BV | U43: =_xlfn.IFNA(VLOOKUP(T43,A:C,2,FALSE),"") -> 92 | V43: =_xlfn.IFNA(VLOOKUP(T43,A:C,3,FALSE),"") -> 11 | W43: =IF(OR(U43=0,U43=""),"",(U43-V43)/U43) -> 0.88043478 | X43: =_xlfn.IFNA(VLOOKUP(T43,J:L,2,FALSE),"") -> 2966 | Y43: =_xlfn.IFNA(VLOOKUP(T43,J:L,3,FALSE),"") -> 507 | Z43: =IF(OR(X43=0,X43=""),"",(X43-Y43)/X43) -> 0.82906271 | AB43: MARNE LA VALLEE-CHESSY - BV | AC43: MONACO MONTE CARLO - 00 | AD43: =IF(OR(AC43="",AC43=0,AC43="Total"),"",91%) -> 0.91 | AE43: =IF(AD43="","",VLOOKUP(AC43,T:W,4,FALSE)) | AF43: =IF(AD43="","",VLOOKUP(AC43,T:Z,7,FALSE)) -> 1 | AG43: =IF(AE43="","",AE43-VLOOKUP(AC43,'S40'!$AC$12:$AG$56,3,FALSE))
J44: VALENCE-TGV - BV | K44: 0 | L44: 0 | N44: -36.697248 | O44: 0 | P44: VALENCE-TGV - BV | Q44: AVIGNON TGV - BF | S44: ETAB GARES PARIS | T44: Total | U44: =SUM(U45:U53) -> 328 | V44: =SUM(V45:V53) -> 34 | W44: =IF(OR(U44=0,U44=""),"",(U44-V44)/U44) -> 0.89634146 | X44: =SUM(X45:X53) -> 12743 | Y44: =SUM(Y45:Y53) -> 1538 | Z44: =IF(OR(X44=0,X44=""),"",(X44-Y44)/X44) -> 0.87930629 | AB44: MASSY TGV - BV | AC44: ST PIERRE DES CORPS - BV | AD44: =IF(OR(AC44="",AC44=0,AC44="Total"),"",91%) -> 0.91 | AE44: =IF(AD44="","",VLOOKUP(AC44,T:W,4,FALSE)) | AF44: =IF(AD44="","",VLOOKUP(AC44,T:Z,7,FALSE)) -> 1 | AG44: =IF(AE44="","",AE44-VLOOKUP(AC44,'S40'!$AC$12:$AG$56,3,FALSE))
J45: Total | K45: 68721 | L45: 8820 | M45: 0.87165495 | N45: 3.8524992 | O45: 1 | P45: AEROP 2 CH DE GAULLE - TGV - BV | Q45: ABANCOURT - 00 | T45: AEROP 2 CH DE GAULLE - TGV - BV | U45: =_xlfn.IFNA(VLOOKUP($T45,$A:$C,2,FALSE),"") -> 7 | V45: =_xlfn.IFNA(VLOOKUP($T45,$A:$C,3,FALSE),"") -> 2 | W45: =IF(OR(U45=0,U45=""),"",(U45-V45)/U45) -> 0.71428571 | X45: =_xlfn.IFNA(VLOOKUP(T45,J:L,2,FALSE),"") -> 261 | Y45: =_xlfn.IFNA(VLOOKUP(T45,J:L,3,FALSE),"") -> 69 | Z45: =IF(OR(X45=0,X45=""),"",(X45-Y45)/X45) -> 0.73563218 | AB45: MONTPELLIER(CNM) - BV | AC45: LYON-ST EXUPERY TGV - 00 | AD45: =IF(OR(AC45="",AC45=0,AC45="Total"),"",91%) -> 0.91 | AE45: =IF(AD45="","",VLOOKUP(AC45,T:W,4,FALSE)) | AF45: =IF(AD45="","",VLOOKUP(AC45,T:Z,7,FALSE)) | AG45: =IF(AE45="","",AE45-VLOOKUP(AC45,'S40'!$AC$12:$AG$56,3,FALSE))
T46: MARNE LA VALLEE-CHESSY - BV | U46: =_xlfn.IFNA(VLOOKUP($T46,$A:$C,2,FALSE),"") -> 0 | V46: =_xlfn.IFNA(VLOOKUP($T46,$A:$C,3,FALSE),"") -> 0 | W46: =IF(OR(U46=0,U46=""),"",(U46-V46)/U46) | X46: =_xlfn.IFNA(VLOOKUP(T46,J:L,2,FALSE),"") -> 0 | Y46: =_xlfn.IFNA(VLOOKUP(T46,J:L,3,FALSE),"") -> 0 | Z46: =IF(OR(X46=0,X46=""),"",(X46-Y46)/X46) | AB46: MONTPELLIER-ST-ROCH - BV | AC46: MARNE LA VALLEE-CHESSY - BV | AD46: =IF(OR(AC46="",AC46=0,AC46="Total"),"",91%) -> 0.91 | AE46: =IF(AD46="","",VLOOKUP(AC46,T:W,4,FALSE)) | AF46: =IF(AD46="","",VLOOKUP(AC46,T:Z,7,FALSE)) | AG46: =IF(AE46="","",AE46-VLOOKUP(AC46,'S40'!$AC$12:$AG$56,3,FALSE))
J47: Filtres appliqués : NbrTrainsOrigine_TOT est supérieur à 0 Type_Trafic est Commercial Date est le ou après le 01/01/2023 et est avant le 09/10/2023 Type_Trafic est Commercial Point Frontières (à exclure) n'est pas OUI BUs_Lignes n'est pas Navette gare TGV Activites n'est pas (Vide) Libellé ZP n'est pas (Vide) Gares detoureés GC est oui Type Trafic est Commercial Neutralisation_Gare n'est pas OUI Neutralisation_Date n'est pas OUI | T47: MASSY TGV - BV | U47: =_xlfn.IFNA(VLOOKUP($T47,$A:$C,2,FALSE),"") -> 0 | V47: =_xlfn.IFNA(VLOOKUP($T47,$A:$C,3,FALSE),"") -> 0 | W47: =IF(OR(U47=0,U47=""),"",(U47-V47)/U47) | X47: =_xlfn.IFNA(VLOOKUP(T47,J:L,2,FALSE),"") -> 0 | Y47: =_xlfn.IFNA(VLOOKUP(T47,J:L,3,FALSE),"") -> 0 | Z47: =IF(OR(X47=0,X47=""),"",(X47-Y47)/X47) | AB47: ST PIERRE DES CORPS - BV | AC47: MASSY TGV - BV | AD47: =IF(OR(AC47="",AC47=0,AC47="Total"),"",91%) -> 0.91 | AE47: =IF(AD47="","",VLOOKUP(AC47,T:W,4,FALSE)) | AF47: =IF(AD47="","",VLOOKUP(AC47,T:Z,7,FALSE)) | AG47: =IF(AE47="","",AE47-VLOOKUP(AC47,'S40'!$AC$12:$AG$56,3,FALSE))
T48: PARIS AUSTERLITZ - BV | U48: =_xlfn.IFNA(VLOOKUP($T48,$A:$C,2,FALSE),"") -> 22 | V48: =_xlfn.IFNA(VLOOKUP($T48,$A:$C,3,FALSE),"") -> 3 | W48: =IF(OR(U48=0,U48=""),"",(U48-V48)/U48) -> 0.86363636 | X48: =_xlfn.IFNA(VLOOKUP(T48,J:L,2,FALSE),"") -> 985 | Y48: =_xlfn.IFNA(VLOOKUP(T48,J:L,3,FALSE),"") -> 225 | Z48: =IF(OR(X48=0,X48=""),"",(X48-Y48)/X48) -> 0.7715736 | AB48: VALENCE-TGV - BV | AC48: MONTPELLIER(CNM) - BV | AD48: =IF(OR(AC48="",AC48=0,AC48="Total"),"",91%) -> 0.91 | AE48: =IF(AD48="","",VLOOKUP(AC48,T:W,4,FALSE)) | AF48: =IF(AD48="","",VLOOKUP(AC48,T:Z,7,FALSE)) | AG48: =IF(AE48="","",AE48-VLOOKUP(AC48,'S40'!$AC$12:$AG$56,3,FALSE))
T49: PARIS BERCY (VOYAGEURS) - BV | U49: =_xlfn.IFNA(VLOOKUP($T49,$A:$C,2,FALSE),"") -> 11 | V49: =_xlfn.IFNA(VLOOKUP($T49,$A:$C,3,FALSE),"") -> 2 | W49: =IF(OR(U49=0,U49=""),"",(U49-V49)/U49) -> 0.81818182 | X49: =_xlfn.IFNA(VLOOKUP(T49,J:L,2,FALSE),"") -> 367 | Y49: =_xlfn.IFNA(VLOOKUP(T49,J:L,3,FALSE),"") -> 72 | Z49: =IF(OR(X49=0,X49=""),"",(X49-Y49)/X49) -> 0.80381471 | AB49: Total | AC49: VALENCE-TGV - BV | AD49: =IF(OR(AC49="",AC49=0,AC49="Total"),"",91%) -> 0.91 | AE49: =IF(AD49="","",VLOOKUP(AC49,T:W,4,FALSE)) | AF49: =IF(AD49="","",VLOOKUP(AC49,T:Z,7,FALSE)) | AG49: =IF(AE49="","",AE49-VLOOKUP(AC49,'S40'!$AC$12:$AG$56,3,FALSE))
T50: PARIS EST - 00 | U50: =_xlfn.IFNA(VLOOKUP($T50,$A:$C,2,FALSE),"") -> 55 | V50: =_xlfn.IFNA(VLOOKUP($T50,$A:$C,3,FALSE),"") -> 4 | W50: =IF(OR(U50=0,U50=""),"",(U50-V50)/U50) -> 0.92727273 | X50: =_xlfn.IFNA(VLOOKUP(T50,J:L,2,FALSE),"") -> 2560 | Y50: =_xlfn.IFNA(VLOOKUP(T50,J:L,3,FALSE),"") -> 368 | Z50: =IF(OR(X50=0,X50=""),"",(X50-Y50)/X50) -> 0.85625 | AB50: 0 | AD50: =IF(OR(AC50="",AC50=0,AC50="Total"),"",91%) | AE50: =IF(AD50="","",VLOOKUP(AC50,T:W,4,FALSE)) | AF50: =IF(AD50="","",VLOOKUP(AC50,T:Z,7,FALSE)) | AG50: =IF(AE50="","",AE50-VLOOKUP(AC50,'S40'!$AC$12:$AG$56,3,FALSE))
T51: PARIS-LYON - BV | U51: =_xlfn.IFNA(VLOOKUP($T51,$A:$C,2,FALSE),"") -> 73 | V51: =_xlfn.IFNA(VLOOKUP($T51,$A:$C,3,FALSE),"") -> 6 | W51: =IF(OR(U51=0,U51=""),"",(U51-V51)/U51) -> 0.91780822 | X51: =_xlfn.IFNA(VLOOKUP(T51,J:L,2,FALSE),"") -> 2784 | Y51: =_xlfn.IFNA(VLOOKUP(T51,J:L,3,FALSE),"") -> 318 | Z51: =IF(OR(X51=0,X51=""),"",(X51-Y51)/X51) -> 0.88577586 | AB51: Filtres appliqués : NbrTrainsOrigine_TOT est supérieur à 0 Type_Trafic est Commercial Date est le ou après le 02/10/2023 et est avant le 09/10/2023 Type_Trafic est Commercial Point Frontières (à exclure) n'est pas OUI BUs_Lignes n'est pas Navette gare TGV Activites n'est pas (Vide) Libellé ZP n'est pas (Vide) Gares detoureés GC est oui Type Trafic est Commercial Neutralisation_Gare n'est pas OUI Neutralisation_Date n'est pas OUI | AD51: =IF(OR(AC51="",AC51=0,AC51="Total"),"",91%) | AE51: =IF(AD51="","",VLOOKUP(AC51,T:W,4,FALSE)) | AF51: =IF(AD51="","",VLOOKUP(AC51,T:Z,7,FALSE)) | AG51: =IF(AE51="","",AE51-VLOOKUP(AC51,'S40'!$AC$12:$AG$56,3,FALSE))
T52: PARIS-NORD - BV | U52: =_xlfn.IFNA(VLOOKUP($T52,$A:$C,2,FALSE),"") -> 52 | V52: =_xlfn.IFNA(VLOOKUP($T52,$A:$C,3,FALSE),"") -> 8 | W52: =IF(OR(U52=0,U52=""),"",(U52-V52)/U52) -> 0.84615385 | X52: =_xlfn.IFNA(VLOOKUP(T52,J:L,2,FALSE),"") -> 1696 | Y52: =_xlfn.IFNA(VLOOKUP(T52,J:L,3,FALSE),"") -> 227 | Z52: =IF(OR(X52=0,X52=""),"",(X52-Y52)/X52) -> 0.86615566 | AD52: =IF(OR(AC52="",AC52=0,AC52="Total"),"",91%) | AE52: =IF(AD52="","",VLOOKUP(AC52,T:W,4,FALSE)) | AF52: =IF(AD52="","",VLOOKUP(AC52,T:Z,7,FALSE)) | AG52: =IF(AE52="","",AE52-VLOOKUP(AC52,'S40'!$AC$12:$AG$56,3,FALSE))
T53: PARIS MONTPARNASSE - BV | U53: =_xlfn.IFNA(VLOOKUP($T53,$A:$C,2,FALSE),"") -> 108 | V53: =_xlfn.IFNA(VLOOKUP($T53,$A:$C,3,FALSE),"") -> 9 | W53: =IF(OR(U53=0,U53=""),"",(U53-V53)/U53) -> 0.91666667 | X53: =_xlfn.IFNA(VLOOKUP(T53,J:L,2,FALSE),"") -> 4090 | Y53: =_xlfn.IFNA(VLOOKUP(T53,J:L,3,FALSE),"") -> 259 | Z53: =IF(OR(X53=0,X53=""),"",(X53-Y53)/X53) -> 0.93667482 | AD53: =IF(OR(AC53="",AC53=0,AC53="Total"),"",91%) | AE53: =IF(AD53="","",VLOOKUP(AC53,T:W,4,FALSE)) | AF53: =IF(AD53="","",VLOOKUP(AC53,T:Z,7,FALSE)) | AG53: =IF(AE53="","",AE53-VLOOKUP(AC53,'S40'!$AC$12:$AG$56,3,FALSE))
S54: Total | U54: =SUM(U3,U13,U19,U23,U29,U31,U44) -> 1915 | V54: =SUM(V3,V13,V19,V23,V29,V31,V44) -> 203 | W54: =IF(OR(U54=0,U54=""),"",(U54-V54)/U54) -> 0.89399478 | X54: =SUM(X3,X13,X19,X23,X29,X31,X44) -> 68721 | Y54: =SUM(Y3,Y13,Y19,Y23,Y29,Y31,Y44) -> 8820 | Z54: =IF(OR(X54=0,X54=""),"",(X54-Y54)/X54) -> 0.87165495 | AD54: =IF(OR(AC54="",AC54=0,AC54="Total"),"",91%) | AE54: =IF(AD54="","",VLOOKUP(AC54,T:W,4,FALSE)) | AF54: =IF(AD54="","",VLOOKUP(AC54,T:Z,7,FALSE)) | AG54: =IF(AE54="","",AE54-VLOOKUP(AC54,'S40'!$AC$12:$AG$56,3,FALSE))
AD55: =IF(OR(AC55="",AC55=0,AC55="Total"),"",91%) | AE55: =IF(AD55="","",VLOOKUP(AC55,T:W,4,FALSE)) | AF55: =IF(AD55="","",VLOOKUP(AC55,#REF!,4,FALSE)) | AG55: =IF(AE55="","",AE55-VLOOKUP(AC55,'S40'!$AC$12:$AG$56,3,FALSE))
AD56: =IF(OR(AC56="",AC56=0,AC56="Total"),"",91%) | AE56: =IF(AD56="","",VLOOKUP(AC56,T:W,4,FALSE)) | AF56: =IF(AD56="","",VLOOKUP(AC56,#REF!,4,FALSE)) | AG56: =IF(AE56="","",AE56-VLOOKUP(AC56,'S40'!$AC$12:$AG$56,3,FALSE))
AD57: =IF(OR(AC57="",AC57=0,AC57="Total"),"",91%) | AE57: =IF(AD57="","",VLOOKUP(AC57,T:W,4,FALSE)) | AF57: =IF(AD57="","",VLOOKUP(AC57,#REF!,4,FALSE)) | AG57: =IF(AE57="","",AE57-VLOOKUP(AC57,'S40'!$AC$12:$AG$56,3,FALSE))
AD58: =IF(OR(AC58="",AC58=0,AC58="Total"),"",91%) | AE58: =IF(AD58="","",VLOOKUP(AC58,T:W,4,FALSE)) | AF58: =IF(AD58="","",VLOOKUP(AC58,#REF!,4,FALSE)) | AG58: =IF(AE58="","",AE58-VLOOKUP(AC58,'S40'!$AC$12:$AG$56,3,FALSE))
AC59: Filtres appliqués : NbrTrainsOrigine_TOT est supérieur à 0 Date est le ou après le 14/08/2023 et est avant le 21/08/2023 Type_Trafic est Commercial Type_Trafic est Commercial Point Frontières (à exclure) n'est pas OUI BUs_Lignes n'est pas Navette gare TGV Activites n'est pas (Vide) Libellé ZP n'est pas (Vide) Gares detoureés GC est oui Type Trafic est Commercial Neutralisation_Gare n'est pas OUI Neutralisation_Date n'est pas OUI | AD59: =IF(OR(AC59="",AC59=0,AC59="Total"),"",91%) -> 0.91 | AE59: =IF(AD59="","",VLOOKUP(AC59,T:W,4,FALSE)) -> #VALUE! | AF59: =IF(AD59="","",VLOOKUP(AC59,T:Z,7,FALSE)) -> #VALUE! | AG59: =IF(AE59="","",AE59-VLOOKUP(AC59,'S40'!$AC$12:$AG$56,3,FALSE)) -> #VALUE!
