Workbook
Name EssLatest: "JAN"
Name EssOptions: "A1000001100110000000001100020_010010"
Name EssSamplingValue: 100
Name Lancer_la_requête_à_partir_de_D01_xp_eu: Output!#REF!

Sheet Cognos_Office_Connection_Cache

Sheet DataBase
A1: Report | B1: Category | C1: Store | D1: Stock Amount | E1: Repricing | F1: COGS Loss | G1: Dep Reversal | H1: Btq name | I1: Category Name
A2: Transfers Out | B2: EOL | C2: AE001-AE Dubai Mall | D2: 1839800 | E2: 275970 | F2: -1563830 | G2: 895953.6 | H2: =VLOOKUP(C2,$L$20:$M$44,2,FALSE) -> Dubai Mall | I2: =VLOOKUP(B2,$N$20:$O$25,2,FALSE) -> End Of Life
A3: Transfers Out | B3: EOL | C3: AE002-AE Dubai Mall Baby | D3: 330584.4 | E3: 49587.66 | F3: -280996.74 | G3: 113978.89 | H3: =VLOOKUP(C3,$L$20:$M$44,2,FALSE) -> Dubai Mall Baby | I3: =VLOOKUP(B3,$N$20:$O$25,2,FALSE) -> End Of Life
A4: Transfers Out | B4: EOL | C4: AE003-AE Dubai Mall Shoes | D4: 268837.27 | E4: 40325.59 | F4: -228511.68 | G4: 174667.73 | H4: =VLOOKUP(C4,$L$20:$M$44,2,FALSE) -> Dubai Mall Level Shoe District | I4: =VLOOKUP(B4,$N$20:$O$25,2,FALSE) -> End Of Life
A5: Transfers Out | B5: EOL | C5: AE004-AE Dubai Mall of Emirates | D5: 457543.33 | E5: 68631.499 | F5: -388911.83 | G5: 224241.35 | H5: =VLOOKUP(C5,$L$20:$M$44,2,FALSE) -> Dubai Mall of the Emirates Women | I5: =VLOOKUP(B5,$N$20:$O$25,2,FALSE) -> End Of Life
A6: Transfers Out | B6: EOL | C6: AE005-AE Dubai Mall Of Emirates Men | D6: 673164.5 | E6: 100974.68 | F6: -572189.83 | G6: 250354.59 | H6: =VLOOKUP(C6,$L$20:$M$44,2,FALSE) -> Dubai Mall of the Emirates Men | I6: =VLOOKUP(B6,$N$20:$O$25,2,FALSE) -> End Of Life
A7: Transfers Out | B7: EOL | C7: AE006-AE Abu Dhabi Marina Mall | D7: 133225.54 | E7: 19983.831 | F7: -113241.71 | G7: 95660.717 | H7: =VLOOKUP(C7,$L$20:$M$44,2,FALSE) -> Abu Dhabi Marina Mall | I7: =VLOOKUP(B7,$N$20:$O$25,2,FALSE) -> End Of Life
A8: Transfers Out | B8: EOL | C8: AE007-AE Abu Dhabi Sowwah | D8: 776526.32 | E8: 116478.95 | F8: -660047.37 | G8: 362888.19 | H8: =VLOOKUP(C8,$L$20:$M$44,2,FALSE) -> Abu Dhabi Sowwah Island | I8: =VLOOKUP(B8,$N$20:$O$25,2,FALSE) -> End Of Life
A9: Transfers Out | B9: EOL | C9: AE009-AE Dubai Galeries Lafayette | D9: 119458.4 | E9: 17918.759 | F9: -101539.64 | G9: 97809.385 | H9: =VLOOKUP(C9,$L$20:$M$44,2,FALSE) -> Dubai Mall Galeries Lafayette | I9: =VLOOKUP(B9,$N$20:$O$25,2,FALSE) -> End Of Life
A10: Transfers Out | B10: EOL | C10: AE201-AE Ecommerce Middle East | D10: 1608.9 | E10: 241.335 | F10: -1367.565 | G10: 643.56 | H10: =VLOOKUP(C10,$L$20:$M$44,2,FALSE) -> E-commerce | I10: =VLOOKUP(B10,$N$20:$O$25,2,FALSE) -> End Of Life
A11: Transfers Out | B11: EOL | C11: KW001-KW Kuwait Avenues | D11: 81642.527 | E11: 12246.379 | F11: -69396.148 | G11: 42570.654 | H11: =VLOOKUP(C11,$L$20:$M$44,2,FALSE) -> Kuwait Avenues | I11: =VLOOKUP(B11,$N$20:$O$25,2,FALSE) -> End Of Life
A12: Transfers Out | B12: EOL | C12: QA001-QA Doha Villagio Mall | D12: 916281.75 | E12: 137442.26 | F12: -778839.49 | G12: 527579.05 | H12: =VLOOKUP(C12,$L$20:$M$44,2,FALSE) -> Doha Villagio | I12: =VLOOKUP(B12,$N$20:$O$25,2,FALSE) -> End Of Life
A13: Transfers Out | B13: EOL | C13: QA002-QA Doha Villagio Mall Baby | D13: 389944.06 | E13: 58491.609 | F13: -331452.45 | G13: 126049.22 | H13: =VLOOKUP(C13,$L$20:$M$44,2,FALSE) -> Doha Villagio Baby | I13: =VLOOKUP(B13,$N$20:$O$25,2,FALSE) -> End Of Life
... A18: Transfers Out | B18: EOL | C18: AE071-AE Dubai Airport TA | D18: 9186.14 | E18: 1377.921 | F18: -7808.219 | G18: 6889.605 | H18: =VLOOKUP(C18,$L$20:$M$44,2,FALSE) -> Dubai Airport Terminal A | I18: =VLOOKUP(B18,$N$20:$O$25,2,FALSE) -> End Of Life
A19: Transfers Out | B19: EOL | C19: AE072-AE Dubai Airport TB | D19: 19982.15 | E19: 2997.3225 | F19: -16984.827 | G19: 4995.5375 | H19: =VLOOKUP(C19,$L$20:$M$44,2,FALSE) -> Dubai Airport Terminal B | I19: =VLOOKUP(B19,$N$20:$O$25,2,FALSE) -> End Of Life | L19: EOL File | M19: Stock Transfer By Btq | N19: EOL File | O19: Stock Transfer By Btq
A20: Transfers Out | B20: Local Warehouse | C20: AE001-AE Dubai Mall | D20: 2491457 | E20: 373718.55 | F20: -2117738.5 | G20: 1457154.3 | H20: =VLOOKUP(C20,$L$20:$M$44,2,FALSE) -> Dubai Mall | I20: =VLOOKUP(B20,$N$20:$O$25,2,FALSE) -> Family Sales | L20: AE001-AE Dubai Mall | M20: Dubai Mall | N20: FR Family Sales | O20: Braderie (FR Family Sales)
A21: Transfers Out | B21: Local Warehouse | C21: AE002-AE Dubai Mall Baby | D21: 66429.613 | E21: 9964.4419 | F21: -56465.171 | G21: 25941.506 | H21: =VLOOKUP(C21,$L$20:$M$44,2,FALSE) -> Dubai Mall Baby | I21: =VLOOKUP(B21,$N$20:$O$25,2,FALSE) -> Family Sales | L21: AE002-AE Dubai Mall Baby | M21: Dubai Mall Baby | O21: Outlet
A22: Transfers Out | B22: Local Warehouse | C22: AE003-AE Dubai Mall Shoes | D22: 322735.85 | E22: 48410.378 | F22: -274325.48 | G22: 262277.05 | H22: =VLOOKUP(C22,$L$20:$M$44,2,FALSE) -> Dubai Mall Level Shoe District | I22: =VLOOKUP(B22,$N$20:$O$25,2,FALSE) -> Family Sales | L22: AE003-AE Dubai Mall Shoes | M22: Dubai Mall Level Shoe District | N22: Baby | O22: Baby Outlet
A23: Transfers Out | B23: Local Warehouse | C23: AE004-AE Dubai Mall of Emirates | D23: 865763.61 | E23: 129864.54 | F23: -735899.07 | G23: 512213.71 | H23: =VLOOKUP(C23,$L$20:$M$44,2,FALSE) -> Dubai Mall of the Emirates Women | I23: =VLOOKUP(B23,$N$20:$O$25,2,FALSE) -> Family Sales | L23: AE004-AE Dubai Mall of Emirates | M23: Dubai Mall of the Emirates Women | N23: EOL | O23: End Of Life
A24: Transfers Out | B24: Local Warehouse | C24: AE005-AE Dubai Mall Of Emirates Men | D24: 336194.84 | E24: 50429.226 | F24: -285765.61 | G24: 149019.75 | H24: =VLOOKUP(C24,$L$20:$M$44,2,FALSE) -> Dubai Mall of the Emirates Men | I24: =VLOOKUP(B24,$N$20:$O$25,2,FALSE) -> Family Sales | L24: AE005-AE Dubai Mall Of Emirates Men | M24: Dubai Mall of the Emirates Men | N24: DCG | O24: Depreciated Credit Granted
A25: Transfers Out | B25: Local Warehouse | C25: AE006-AE Abu Dhabi Marina Mall | D25: 341735.64 | E25: 51260.346 | F25: -290475.3 | G25: 266205.37 | H25: =VLOOKUP(C25,$L$20:$M$44,2,FALSE) -> Abu Dhabi Marina Mall | I25: =VLOOKUP(B25,$N$20:$O$25,2,FALSE) -> Family Sales | L25: AE006-AE Abu Dhabi Marina Mall | M25: Abu Dhabi Marina Mall | N25: Local Warehouse | O25: Family Sales
A26: Transfers Out | B26: Local Warehouse | C26: AE007-AE Abu Dhabi Sowwah | D26: 1041087.2 | E26: 156163.08 | F26: -884924.11 | G26: 629994.42 | H26: =VLOOKUP(C26,$L$20:$M$44,2,FALSE) -> Abu Dhabi Sowwah Island | I26: =VLOOKUP(B26,$N$20:$O$25,2,FALSE) -> Family Sales | L26: AE007-AE Abu Dhabi Sowwah | M26: Abu Dhabi Sowwah Island
A27: Transfers Out | B27: Local Warehouse | C27: AE009-AE Dubai Galeries Lafayette | D27: 275146.23 | E27: 41271.935 | F27: -233874.3 | G27: 216636.46 | H27: =VLOOKUP(C27,$L$20:$M$44,2,FALSE) -> Dubai Mall Galeries Lafayette | I27: =VLOOKUP(B27,$N$20:$O$25,2,FALSE) -> Family Sales | L27: AE009-AE Dubai Galeries Lafayette | M27: Dubai Mall Galeries Lafayette
A28: Transfers Out | B28: Local Warehouse | C28: AE201-AE Ecommerce Middle East | D28: 43863.778 | E28: 6579.5668 | F28: -37284.212 | G28: 28325.053 | H28: =VLOOKUP(C28,$L$20:$M$44,2,FALSE) -> E-commerce | I28: =VLOOKUP(B28,$N$20:$O$25,2,FALSE) -> Family Sales | L28: AE201-AE Ecommerce Middle East | M28: E-commerce
A29: Transfers Out | B29: Local Warehouse | C29: KW001-KW Kuwait Avenues | D29: 92982.204 | E29: 13947.331 | F29: -79034.873 | G29: 65530.389 | H29: =VLOOKUP(C29,$L$20:$M$44,2,FALSE) -> Kuwait Avenues | I29: =VLOOKUP(B29,$N$20:$O$25,2,FALSE) -> Family Sales | L29: KW001-KW Kuwait Avenues | M29: Kuwait Avenues
A30: Transfers Out | B30: Local Warehouse | C30: QA001-QA Doha Villagio Mall | D30: 1324594.9 | E30: 198689.23 | F30: -1125905.6 | G30: 993286.4 | H30: =VLOOKUP(C30,$L$20:$M$44,2,FALSE) -> Doha Villagio | I30: =VLOOKUP(B30,$N$20:$O$25,2,FALSE) -> Family Sales | L30: QA001-QA Doha Villagio Mall | M30: Doha Villagio
A31: Transfers Out | B31: Local Warehouse | C31: QA002-QA Doha Villagio Mall Baby | D31: 76558.732 | E31: 11483.81 | F31: -65074.922 | G31: 22092.409 | H31: =VLOOKUP(C31,$L$20:$M$44,2,FALSE) -> Doha Villagio Baby | I31: =VLOOKUP(B31,$N$20:$O$25,2,FALSE) -> Family Sales | L31: QA002-QA Doha Villagio Mall Baby | M31: Doha Villagio Baby
A32: Transfers Out | B32: Local Warehouse | C32: KW002-KW Kuwait Avenues Baby | D32: 2237.4523 | E32: 335.61784 | F32: -1901.8345 | G32: 1120.2654 | H32: =VLOOKUP(C32,$L$20:$M$44,2,FALSE) -> Kuwait Avenues Baby | I32: =VLOOKUP(B32,$N$20:$O$25,2,FALSE) -> Family Sales | L32: KW002-KW Kuwait Avenues Baby | M32: Kuwait Avenues Baby
A33: Transfers Out | B33: Local Warehouse | C33: KW003-KW Kuwait Salhiya | D33: 36466.464 | E33: 5469.9696 | F33: -30996.494 | G33: 28287.92 | H33: =VLOOKUP(C33,$L$20:$M$44,2,FALSE) -> Kuwait Salhiya | I33: =VLOOKUP(B33,$N$20:$O$25,2,FALSE) -> Family Sales | L33: KW003-KW Kuwait Salhiya | M33: Kuwait Salhiya
A34: Transfers Out | B34: Local Warehouse | C34: BH001-BH Manama Moda Mall | D34: 30674.135 | E34: 4601.1202 | F34: -26073.015 | G34: 23867.988 | H34: =VLOOKUP(C34,$L$20:$M$44,2,FALSE) -> Bahrain Moda Mall | I34: =VLOOKUP(B34,$N$20:$O$25,2,FALSE) -> Family Sales | L34: BH001-BH Manama Moda Mall | M34: Bahrain Moda Mall
A35: Transfers Out | B35: Local Warehouse | C35: SA011-SA Jeddah El Khayyat | D35: 638513.82 | E35: 95777.074 | F35: -542736.75 | G35: 478175.92 | H35: =VLOOKUP(C35,$L$20:$M$44,2,FALSE) -> Jeddah Al Khayyat | I35: =VLOOKUP(B35,$N$20:$O$25,2,FALSE) -> Family Sales | L35: SA002-SA Riyadh Centria Mall | M35: Riyadh Centria
A36: Transfers Out | B36: Local Warehouse | C36: SA002-SA Riyadh Centria Mall | D36: 716063.07 | E36: 107409.46 | F36: -608653.61 | G36: 541836.49 | H36: =VLOOKUP(C36,$L$20:$M$44,2,FALSE) -> Riyadh Centria | I36: =VLOOKUP(B36,$N$20:$O$25,2,FALSE) -> Family Sales | L36: AE071-AE Dubai Airport TA | M36: Dubai Airport Terminal A
A37: Transfers Out | B37: Local Warehouse | C37: SA001-SA Riyadh Kingdom Center | D37: 558770.27 | E37: 83815.541 | F37: -474954.73 | G37: 435458.4 | H37: =VLOOKUP(C37,$L$20:$M$44,2,FALSE) -> Riyadh Kingdom Center | I37: =VLOOKUP(B37,$N$20:$O$25,2,FALSE) -> Family Sales | L37: AE072-AE Dubai Airport TB | M37: Dubai Airport Terminal B
... A44: Transfers Out | B44: Baby | C44: AE002-AE Dubai Mall Baby | D44: 385047.65 | E44: 57757.147 | F44: -327290.5 | G44: 132020.79 | H44: =VLOOKUP(C44,$L$20:$M$44,2,FALSE) -> Dubai Mall Baby | I44: =VLOOKUP(B44,$N$20:$O$25,2,FALSE) -> Baby Outlet | L44: QA101-QA Family Sales | M44: Qatar Family Sales
A45: Transfers Out | B45: Baby | C45: QA002-QA Doha Villagio Mall Baby | D45: 469229.86 | E45: 70384.479 | F45: -398845.38 | G45: 151500.34 | H45: =VLOOKUP(C45,$L$20:$M$44,2,FALSE) -> Doha Villagio Baby | I45: =VLOOKUP(B45,$N$20:$O$25,2,FALSE) -> Baby Outlet
A46: Transfers Out | B46: Baby | C46: KW002-KW Kuwait Avenues Baby | D46: 23336.996 | E46: 3500.5495 | F46: -19836.447 | G46: 7541.7166 | H46: =VLOOKUP(C46,$L$20:$M$44,2,FALSE) -> Kuwait Avenues Baby | I46: =VLOOKUP(B46,$N$20:$O$25,2,FALSE) -> Baby Outlet
A47: Transfers Out | B47: Baby | C47: SA002-SA Riyadh Centria Mall | D47: 174612.22 | E47: 26191.833 | F47: -148420.39 | G47: 57880.886 | H47: =VLOOKUP(C47,$L$20:$M$44,2,FALSE) -> Riyadh Centria | I47: =VLOOKUP(B47,$N$20:$O$25,2,FALSE) -> Baby Outlet
A48: Stock Adj. | B48: EOL | C48: AE001-AE Dubai Mall | D48: -18039.968 | E48: -2705.9953 | F48: 15333.973 | G48: -13529.976 | H48: =VLOOKUP(C48,$L$20:$M$44,2,FALSE) -> Dubai Mall | I48: =VLOOKUP(B48,$N$20:$O$25,2,FALSE) -> End Of Life
A49: Stock Adj. | B49: EOL | C49: SA002-SA Riyadh Centria Mall | D49: -716753.22 | E49: -107512.98 | F49: 609240.24 | G49: -392284.6 | H49: =VLOOKUP(C49,$L$20:$M$44,2,FALSE) -> Riyadh Centria | I49: =VLOOKUP(B49,$N$20:$O$25,2,FALSE) -> End Of Life
A50: Stock Adj. | B50: EOL | C50: SA011-SA Jeddah El Khayyat | D50: -36284.16 | E50: -5442.624 | F50: 30841.536 | G50: -27213.12 | H50: =VLOOKUP(C50,$L$20:$M$44,2,FALSE) -> Jeddah Al Khayyat | I50: =VLOOKUP(B50,$N$20:$O$25,2,FALSE) -> End Of Life
A51: Stock Adj. | B51: EOL | C51: QA001-QA Doha Villagio Mall | D51: -9323.0108 | E51: -1398.4516 | F51: 7924.5592 | G51: -6992.2581 | H51: =VLOOKUP(C51,$L$20:$M$44,2,FALSE) -> Doha Villagio | I51: =VLOOKUP(B51,$N$20:$O$25,2,FALSE) -> End Of Life
A52: Stock Adj. | B52: EOL | C52: AE101-AE Family Sales | D52: 9236.1033 | E52: 1385.4155 | F52: -7850.6878 | G52: 6927.0775 | H52: =VLOOKUP(C52,$L$20:$M$44,2,FALSE) -> UAE Family Sales | I52: =VLOOKUP(B52,$N$20:$O$25,2,FALSE) -> End Of Life
A53: Stock Adj. | B53: EOL | C53: QA002-QA Doha Villagio Mall Baby | D53: -389944.06 | E53: -58491.609 | F53: 331452.45 | G53: -126049.22 | H53: =VLOOKUP(C53,$L$20:$M$44,2,FALSE) -> Doha Villagio Baby | I53: =VLOOKUP(B53,$N$20:$O$25,2,FALSE) -> End Of Life
A54: Stock Adj. | B54: EOL | C54: AE002-AE Dubai Mall Baby | D54: -330584.4 | E54: -49587.66 | F54: 280996.74 | G54: -113978.89 | H54: =VLOOKUP(C54,$L$20:$M$44,2,FALSE) -> Dubai Mall Baby | I54: =VLOOKUP(B54,$N$20:$O$25,2,FALSE) -> End Of Life
A55: Stock Adj. | B55: EOL | C55: KW002-KW Kuwait Avenues Baby | D55: -21616.017 | E55: -3242.4025 | F55: 18373.614 | G55: -6828.3639 | H55: =VLOOKUP(C55,$L$20:$M$44,2,FALSE) -> Kuwait Avenues Baby | I55: =VLOOKUP(B55,$N$20:$O$25,2,FALSE) -> End Of Life
A56: Stock Adj. | B56: EOL | C56: SA102-SA Family Sales | D56: 47173.92 | E56: 7076.088 | F56: -40097.832 | G56: 35380.44 | H56: =VLOOKUP(C56,$L$20:$M$44,2,FALSE) -> Saudi Arabia Family Sales | I56: =VLOOKUP(B56,$N$20:$O$25,2,FALSE) -> End Of Life
... A64: Transfers Out | B64: DCG | C64: SA002-SA Riyadh Centria Mall | D64: 102145.2 | E64: 15321.78 | F64: -86823.42 | G64: 98496.321 | H64: =VLOOKUP(C64,$L$20:$M$44,2,FALSE) -> Riyadh Centria | I64: =VLOOKUP(B64,$N$20:$O$25,2,FALSE) -> Depreciated Credit Granted

Sheet Output
B3: Objectif : Automatiser la feuille "Output" en la remplissant automatiquement à partir de l'onglet Database.
B5: Il faudrait calculer les montants totaux des Stock Amount, Repricing, COGS Loss et Dep Reversal, en fonction des boutiques (colonne C) et des catégories (ligne 11).
B7: A noter que je ne peux pas utiliser de TCD…
E9: Stocks Tranferts by Boutique
E11: Braderie (FR Family Sales) | I11: Outlet | M11: Baby Outlet | Q11: End Of Life | U11: Depreciated Credit Granted | Y11: Family Sales | AC11: FS & Outlet P&L - k LCY
E12: Stock Amount | F12: Repricing | G12: COGS Loss | H12: Dep Reversal | I12: Stock Amount | J12: Repricing | K12: COGS Loss | L12: Dep Reversal | M12: Stock Amount | N12: Repricing | O12: COGS Loss | P12: Dep Reversal | Q12: Stock Amount | R12: Repricing | S12: COGS Loss | T12: Dep Reversal | U12: Stock Amount | V12: Repricing | W12: COGS Loss | X12: Dep Reversal | Y12: Stock Amount | Z12: Repricing | AA12: COGS Loss | AB12: Dep Reversal | AC12: Stock Amount | AD12: Repricing | AE12: COGS Loss | AF12: Dep Reversal
C13: Code CEGID | AC13: k LCY | AD13: k LCY | AE13: k LCY | AF13: k LCY
B14: Abu Dhabi Marina Mall | C14: AE006 - AE Abu Dhabi Marina Mall | E14: {=VLOOKUP(LEFT(C14,5),LEFT(DataBase!C:G,5),2,0)} -> 13322 | F14: =SUMIFS(DataBase!E:E,DataBase!C:C,Output!C:C) -> 0 | AC14: =E14+I14+M14+Q14+U14+Y14 -> 13322 | AD14: =F14+J14+N14+R14+V14+Z14 -> 0 | AE14: =G14+K14+O14+S14+W14+AA14 -> 0 | AF14: =H14+L14+P14+T14+X14+AB14 -> 0
B15: Dubai Mall of the Emirates Women | C15: AE004 - AE Dubai Mall of Emirates | E15: {=VLOOKUP(LEFT(C15,5),LEFT(DataBase!C:G,5),2,0)} -> 45754 | AC15: =E15+I15+M15+Q15+U15+Y15 -> 45754 | AD15: =F15+J15+N15+R15+V15+Z15 -> 0 | AE15: =G15+K15+O15+S15+W15+AA15 -> 0 | AF15: =H15+L15+P15+T15+X15+AB15 -> 0
B16: Dubai Mall Baby | C16: AE002 - AE Dubai Mall Baby | E16: {=VLOOKUP(LEFT(C16,5),LEFT(DataBase!C:G,5),2,0)} -> 33058 | AC16: =E16+I16+M16+Q16+U16+Y16 -> 33058 | AD16: =F16+J16+N16+R16+V16+Z16 -> 0 | AE16: =G16+K16+O16+S16+W16+AA16 -> 0 | AF16: =H16+L16+P16+T16+X16+AB16 -> 0
B17: Dubai Mall Galeries Lafayette | C17: AE009 - AE Dubai Galeries Lafayette | E17: {=VLOOKUP(LEFT(C17,5),LEFT(DataBase!C:G,5),2,0)} -> 11945 | AC17: =E17+I17+M17+Q17+U17+Y17 -> 11945 | AD17: =F17+J17+N17+R17+V17+Z17 -> 0 | AE17: =G17+K17+O17+S17+W17+AA17 -> 0 | AF17: =H17+L17+P17+T17+X17+AB17 -> 0
B18: Dubai Mall Level Shoe District | C18: AE003 - AE Dubai Mall Shoes | E18: {=VLOOKUP(LEFT(C18,5),LEFT(DataBase!C:G,5),2,0)} -> 26883 | AC18: =E18+I18+M18+Q18+U18+Y18 -> 26883 | AD18: =F18+J18+N18+R18+V18+Z18 -> 0 | AE18: =G18+K18+O18+S18+W18+AA18 -> 0 | AF18: =H18+L18+P18+T18+X18+AB18 -> 0
B19: Dubai Mall of the Emirates Men | C19: AE005 - AE Dubai Mall Of Emirates Men | E19: {=VLOOKUP(LEFT(C19,5),LEFT(DataBase!C:G,5),2,0)} -> 67316 | AC19: =E19+I19+M19+Q19+U19+Y19 -> 67316 | AD19: =F19+J19+N19+R19+V19+Z19 -> 0 | AE19: =G19+K19+O19+S19+W19+AA19 -> 0 | AF19: =H19+L19+P19+T19+X19+AB19 -> 0
B20: Abu Dhabi Sowwah Island | C20: AE007 - AE Abu Dhabi Sowwah | E20: {=VLOOKUP(LEFT(C20,5),LEFT(DataBase!C:G,5),2,0)} -> 77652 | AC20: =E20+I20+M20+Q20+U20+Y20 -> 77652 | AD20: =F20+J20+N20+R20+V20+Z20 -> 0 | AE20: =G20+K20+O20+S20+W20+AA20 -> 0 | AF20: =H20+L20+P20+T20+X20+AB20 -> 0
B21: Dubai Pop-up | C21: AE008 - AE Dubai Pop Up | E21: {=VLOOKUP(LEFT(C21,5),LEFT(DataBase!C:G,5),2,0)} -> 20781 | AC21: =E21+I21+M21+Q21+U21+Y21 -> 20781 | AD21: =F21+J21+N21+R21+V21+Z21 -> 0 | AE21: =G21+K21+O21+S21+W21+AA21 -> 0 | AF21: =H21+L21+P21+T21+X21+AB21 -> 0
B22: Dubai Mall | C22: AE001 - AE Dubai Mall | E22: {=VLOOKUP(LEFT(C22,5),LEFT(DataBase!C:G,5),2,0)} -> 18397 | AC22: =E22+I22+M22+Q22+U22+Y22 -> 18397 | AD22: =F22+J22+N22+R22+V22+Z22 -> 0 | AE22: =G22+K22+O22+S22+W22+AA22 -> 0 | AF22: =H22+L22+P22+T22+X22+AB22 -> 0
B23: UAE Family Sales | C23: AE101 - AE Family Sales | E23: {=VLOOKUP(LEFT(C23,5),LEFT(DataBase!C:G,5),2,0)} -> 9236, | AC23: =E23+I23+M23+Q23+U23+Y23 -> 9236 | AD23: =F23+J23+N23+R23+V23+Z23 -> 0 | AE23: =G23+K23+O23+S23+W23+AA23 -> 0 | AF23: =H23+L23+P23+T23+X23+AB23 -> 0
B24: E-commerce | C24: AE201-AE Ecommerce Middle East | E24: {=VLOOKUP(LEFT(C24,5),LEFT(DataBase!C:G,5),2,0)} -> 1608, | AC24: =E24+I24+M24+Q24+U24+Y24 -> 1608 | AD24: =F24+J24+N24+R24+V24+Z24 -> 0 | AE24: =G24+K24+O24+S24+W24+AA24 -> 0 | AF24: =H24+L24+P24+T24+X24+AB24 -> 0
B25: Dubai Airport Terminal A | C25: AE071 - AE Dubai Airport TA | E25: {=VLOOKUP(LEFT(C25,5),LEFT(DataBase!C:G,5),2,0)} -> 9186, | AC25: =E25+I25+M25+Q25+U25+Y25 -> 9186 | AD25: =F25+J25+N25+R25+V25+Z25 -> 0 | AE25: =G25+K25+O25+S25+W25+AA25 -> 0 | AF25: =H25+L25+P25+T25+X25+AB25 -> 0
B26: Dubai Airport Terminal B | C26: AE072 - AE Dubai Airport TB | E26: {=VLOOKUP(LEFT(C26,5),LEFT(DataBase!C:G,5),2,0)} -> 19982 | AC26: =E26+I26+M26+Q26+U26+Y26 -> 19982 | AD26: =F26+J26+N26+R26+V26+Z26 -> 0 | AE26: =G26+K26+O26+S26+W26+AA26 -> 0 | AF26: =H26+L26+P26+T26+X26+AB26 -> 0
B28: AED | C28: Total UAE | AC28: =SUM(AC14:AC27) -> 355120 | AD28: =SUM(AD14:AD27) -> 0 | AE28: =SUM(AE14:AE27) -> 0 | AF28: =SUM(AF14:AF27) -> 0
B30: Kuwait Salhiya | C30: KW003 - KW Kuwait Salhiya | AC30: =E30+I30+M30+Q30+U30+Y30 -> 0 | AD30: =F30+J30+N30+R30+V30+Z30 -> 0 | AE30: =G30+K30+O30+S30+W30+AA30 -> 0 | AF30: =H30+L30+P30+T30+X30+AB30 -> 0
B31: Kuwait Avenues | C31: KW001 - KW Kuwait Avenues | AC31: =E31+I31+M31+Q31+U31+Y31 -> 0 | AD31: =F31+J31+N31+R31+V31+Z31 -> 0 | AE31: =G31+K31+O31+S31+W31+AA31 -> 0 | AF31: =H31+L31+P31+T31+X31+AB31 -> 0
B32: Kuwait Avenues Baby | C32: KW002 - KW Kuwait Avenues Baby | AC32: =E32+I32+M32+Q32+U32+Y32 -> 0 | AD32: =F32+J32+N32+R32+V32+Z32 -> 0 | AE32: =G32+K32+O32+S32+W32+AA32 -> 0 | AF32: =H32+L32+P32+T32+X32+AB32 -> 0
B33: Kuwait Family Sales | C33: KW800 - KW Family Sales | AC33: =E33+I33+M33+Q33+U33+Y33 -> 0 | AD33: =F33+J33+N33+R33+V33+Z33 -> 0 | AE33: =G33+K33+O33+S33+W33+AA33 -> 0 | AF33: =H33+L33+P33+T33+X33+AB33 -> 0
B35: KWD | C35: Total Kuwait | AC35: =SUM(AC30:AC34) -> 0 | AD35: =SUM(AD30:AD34) -> 0 | AE35: =SUM(AE30:AE34) -> 0 | AF35: =SUM(AF30:AF34) -> 0
B37: Riyadh Kingdom Center | C37: SA001 - SA Riyadh Kingdom Center | AC37: =E37+I37+M37+Q37+U37+Y37 -> 0 | AD37: =F37+J37+N37+R37+V37+Z37 -> 0 | AE37: =G37+K37+O37+S37+W37+AA37 -> 0 | AF37: =H37+L37+P37+T37+X37+AB37 -> 0
B38: Jeddah Al Khayyat | C38: SA011 - SA Jeddah El Khayyat | AC38: =E38+I38+M38+Q38+U38+Y38 -> 0 | AD38: =F38+J38+N38+R38+V38+Z38 -> 0 | AE38: =G38+K38+O38+S38+W38+AA38 -> 0 | AF38: =H38+L38+P38+T38+X38+AB38 -> 0
B39: Riyadh Centria | C39: SA002 - SA Riyadh Centria Mall | AC39: =E39+I39+M39+Q39+U39+Y39 -> 0 | AD39: =F39+J39+N39+R39+V39+Z39 -> 0 | AE39: =G39+K39+O39+S39+W39+AA39 -> 0 | AF39: =H39+L39+P39+T39+X39+AB39 -> 0
B40: Saudi Arabia Pop-Up | C40: SA003 - SA Saudi pop-up | AC40: =E40+I40+M40+Q40+U40+Y40 -> 0 | AD40: =F40+J40+N40+R40+V40+Z40 -> 0 | AE40: =G40+K40+O40+S40+W40+AA40 -> 0 | AF40: =H40+L40+P40+T40+X40+AB40 -> 0
B41: Saudi Arabia Family Sales | C41: SA102 - SA Family Sales | AC41: =E41+I41+M41+Q41+U41+Y41 -> 0 | AD41: =F41+J41+N41+R41+V41+Z41 -> 0 | AE41: =G41+K41+O41+S41+W41+AA41 -> 0 | AF41: =H41+L41+P41+T41+X41+AB41 -> 0
B43: SAR | C43: Total Saudi | AC43: =SUM(AC37:AC42) -> 0 | AD43: =SUM(AD37:AD42) -> 0 | AE43: =SUM(AE37:AE42) -> 0 | AF43: =SUM(AF37:AF42) -> 0
B45: Doha Villagio | C45: QA001 - QA Doha Villagio Mall | AC45: =E45+I45+M45+Q45+U45+Y45 -> 0 | AD45: =F45+J45+N45+R45+V45+Z45 -> 0 | AE45: =G45+K45+O45+S45+W45+AA45 -> 0 | AF45: =H45+L45+P45+T45+X45+AB45 -> 0
B46: Doha Villagio Baby | C46: QA002 - QA Doha Villagio Mall Baby | AC46: =E46+I46+M46+Q46+U46+Y46 -> 0 | AD46: =F46+J46+N46+R46+V46+Z46 -> 0 | AE46: =G46+K46+O46+S46+W46+AA46 -> 0 | AF46: =H46+L46+P46+T46+X46+AB46 -> 0
B47: Qatar Pop-up | C47: QA003 - QA Qatar pop-up | AC47: =E47+I47+M47+Q47+U47+Y47 -> 0 | AD47: =F47+J47+N47+R47+V47+Z47 -> 0 | AE47: =G47+K47+O47+S47+W47+AA47 -> 0 | AF47: =H47+L47+P47+T47+X47+AB47 -> 0
B48: Qatar Family Sales | C48: QA101 - QA Family Sales | AC48: =E48+I48+M48+Q48+U48+Y48 -> 0 | AD48: =F48+J48+N48+R48+V48+Z48 -> 0 | AE48: =G48+K48+O48+S48+W48+AA48 -> 0 | AF48: =H48+L48+P48+T48+X48+AB48 -> 0
B50: QAR | C50: Total Qatar | AC50: =SUM(AC45:AC49) -> 0 | AD50: =SUM(AD45:AD49) -> 0 | AE50: =SUM(AE45:AE49) -> 0 | AF50: =SUM(AF45:AF49) -> 0
B52: Bahrain Moda Mall | C52: BH001 - BH Manama Moda Mall | AC52: =E52+I52+M52+Q52+U52+Y52 -> 0 | AD52: =F52+J52+N52+R52+V52+Z52 -> 0 | AE52: =G52+K52+O52+S52+W52+AA52 -> 0 | AF52: =H52+L52+P52+T52+X52+AB52 -> 0
B54: BHD | C54: Total Bahrain | AC54: =SUM(AC52:AC53) -> 0 | AD54: =SUM(AD52:AD53) -> 0 | AE54: =SUM(AE52:AE53) -> 0 | AF54: =SUM(AF52:AF53) -> 0
