Workbook
Name CouP: [1]Liste!$B$3:$B$4
Name Entretien: [1]Liste!$D$3:$D$4
Name FABREGUES: OFFSET('[1]Codes postaux par région et dép'!#REF!,0,0,COUNT('[1]Codes postaux par région et dép'!$J:$J))
Name ListeVilles: OFFSET('[1]Codes postaux par région et dép'!$K$2,0,0,COUNT('[1]Codes postaux par région et dép'!$J:$J))
Name Type: [1]Liste!$C$3:$C$4

Sheet Feuil1
D12: CLIENT PROSPECT | E12: PARTICULIER PROFESSIONNEL | F12: SOCIÉTÉ | G12: PRENOM | H12: NOM | I12: TELEPHONE | J12: ADRESSE | K12: CP | L12: VILLE | M12: SUIVI ?
D13: CLIENT | E13: PARTICULIER | G13: HERVE | H13: DURAND | I13: 600000000 | J13: 1 RUE DE PARIS | K13: 75000 | L13: PARIS | M13: oui
D14: CLIENT 1 | E14: PARTICULIER | G14: JOSEPHINE | H14: DURAND | I14: 600000001 | J14: 1 RUE DE PARIS | K14: 75000 | L14: PARIS | M14: oui
D15: CLIENT 2 | E15: PARTICULIER | G15: JOSEPHINE | H15: DURAND | I15: 600000001 | J15: 1 RUE DE PARIS | K15: 75000 | L15: PARIS | M15: oui
D16: CLIENT 3 | E16: PARTICULIER | G16: JOSEPHINE | H16: DURAND | I16: 600000001 | J16: 1 RUE DE PARIS | K16: 75000 | L16: PARIS | M16: oui
D17: CLIENT 4 | E17: PARTICULIER | G17: JOSEPHINE | H17: DURAND | I17: 600000001 | J17: 1 RUE DE PARIS | K17: 75000 | L17: PARIS | M17: oui
D18: CLIENT 5 | E18: PARTICULIER | G18: JOSEPHINE | H18: DURAND | I18: 600000001 | J18: 1 RUE DE PARIS | K18: 75000 | L18: PARIS | M18: oui
D19: CLIENT 6 | E19: PARTICULIER | G19: JOSEPHINE | H19: DURAND | I19: 600000001 | J19: 1 RUE DE PARIS | K19: 75000 | L19: PARIS | M19: oui
D20: CLIENT 7 | E20: PARTICULIER | G20: JOSEPHINE | H20: DURAND | I20: 600000001 | J20: 1 RUE DE PARIS | K20: 75000 | L20: PARIS

Sheet Feuil2
C1: CLIENT PROSPECT | D1: PARTICULIER PROFESSIONNEL | E1: SOCIÉTÉ | F1: PRENOM | G1: NOM | H1: TELEPHONE | I1: ADRESSE | J1: CP | K1: VILLE | L1: SUIVI ?
C2: =IFERROR(INDEX(Feuil1!D:D,_xlfn.AGGREGATE(15,6,ROW($4:$12)/(Feuil1!M:M="oui"),ROW(#REF!))),"") | D2: {=IFERROR(INDEX(Feuil1!E:E,_xlfn.AGGREGATE(15,6,ROW($4:$12)/(Feuil1!$M$13:$M$21="oui"),ROW(#REF!))),"")} | E2: {=IFERROR(INDEX(Feuil1!F:F,_xlfn.AGGREGATE(15,6,ROW($4:$12)/(Feuil1!$M$13:$M$21="oui"),ROW(#REF!))),"")} | F2: {=IFERROR(INDEX(Feuil1!G:G,_xlfn.AGGREGATE(15,6,ROW($4:$12)/(Feuil1!$M$13:$M$21="oui"),ROW(#REF!))),"")} | G2: {=IFERROR(INDEX(Feuil1!H:H,_xlfn.AGGREGATE(15,6,ROW($4:$12)/(Feuil1!$M$13:$M$21="oui"),ROW(#REF!))),"")} | H2: {=IFERROR(INDEX(Feuil1!I:I,_xlfn.AGGREGATE(15,6,ROW($4:$12)/(Feuil1!$M$13:$M$21="oui"),ROW(#REF!))),"")} | I2: {=IFERROR(INDEX(Feuil1!J:J,_xlfn.AGGREGATE(15,6,ROW($4:$12)/(Feuil1!$M$13:$M$21="oui"),ROW(#REF!))),"")} | J2: {=IFERROR(INDEX(Feuil1!K:K,_xlfn.AGGREGATE(15,6,ROW($4:$12)/(Feuil1!$M$13:$M$21="oui"),ROW(#REF!))),"")} | K2: {=IFERROR(INDEX(Feuil1!L:L,_xlfn.AGGREGATE(15,6,ROW($4:$12)/(Feuil1!$M$13:$M$21="oui"),ROW(#REF!))),"")} | L2: {=IFERROR(INDEX(Feuil1!M:M,_xlfn.AGGREGATE(15,6,ROW($4:$12)/(Feuil1!$M$13:$M$21="oui"),ROW(#REF!))),"")}
C3: {=IFERROR(INDEX(Feuil1!D:D,_xlfn.AGGREGATE(15,6,ROW($4:$12)/(Feuil1!$M$13:$M$21="oui"),ROW(#REF!))),"")} | D3: {=IFERROR(INDEX(Feuil1!E:E,_xlfn.AGGREGATE(15,6,ROW($4:$12)/(Feuil1!$M$13:$M$21="oui"),ROW(#REF!))),"")} | E3: {=IFERROR(INDEX(Feuil1!F:F,_xlfn.AGGREGATE(15,6,ROW($4:$12)/(Feuil1!$M$13:$M$21="oui"),ROW(#REF!))),"")} | F3: {=IFERROR(INDEX(Feuil1!G:G,_xlfn.AGGREGATE(15,6,ROW($4:$12)/(Feuil1!$M$13:$M$21="oui"),ROW(#REF!))),"")} | G3: {=IFERROR(INDEX(Feuil1!H:H,_xlfn.AGGREGATE(15,6,ROW($4:$12)/(Feuil1!$M$13:$M$21="oui"),ROW(#REF!))),"")} | H3: {=IFERROR(INDEX(Feuil1!I:I,_xlfn.AGGREGATE(15,6,ROW($4:$12)/(Feuil1!$M$13:$M$21="oui"),ROW(#REF!))),"")} | I3: {=IFERROR(INDEX(Feuil1!J:J,_xlfn.AGGREGATE(15,6,ROW($4:$12)/(Feuil1!$M$13:$M$21="oui"),ROW(#REF!))),"")} | J3: {=IFERROR(INDEX(Feuil1!K:K,_xlfn.AGGREGATE(15,6,ROW($4:$12)/(Feuil1!$M$13:$M$21="oui"),ROW(#REF!))),"")} | K3: {=IFERROR(INDEX(Feuil1!L:L,_xlfn.AGGREGATE(15,6,ROW($4:$12)/(Feuil1!$M$13:$M$21="oui"),ROW(#REF!))),"")} | L3: {=IFERROR(INDEX(Feuil1!M:M,_xlfn.AGGREGATE(15,6,ROW($4:$12)/(Feuil1!$M$13:$M$21="oui"),ROW(#REF!))),"")}
C4: {=IFERROR(INDEX(Feuil1!D:D,_xlfn.AGGREGATE(15,6,ROW($4:$12)/(Feuil1!$M$13:$M$21="oui"),ROW(#REF!))),"")} | D4: {=IFERROR(INDEX(Feuil1!E:E,_xlfn.AGGREGATE(15,6,ROW($4:$12)/(Feuil1!$M$13:$M$21="oui"),ROW(#REF!))),"")} | E4: {=IFERROR(INDEX(Feuil1!F:F,_xlfn.AGGREGATE(15,6,ROW($4:$12)/(Feuil1!$M$13:$M$21="oui"),ROW(#REF!))),"")} | F4: {=IFERROR(INDEX(Feuil1!G:G,_xlfn.AGGREGATE(15,6,ROW($4:$12)/(Feuil1!$M$13:$M$21="oui"),ROW(#REF!))),"")} | G4: {=IFERROR(INDEX(Feuil1!H:H,_xlfn.AGGREGATE(15,6,ROW($4:$12)/(Feuil1!$M$13:$M$21="oui"),ROW(#REF!))),"")} | H4: {=IFERROR(INDEX(Feuil1!I:I,_xlfn.AGGREGATE(15,6,ROW($4:$12)/(Feuil1!$M$13:$M$21="oui"),ROW(#REF!))),"")} | I4: {=IFERROR(INDEX(Feuil1!J:J,_xlfn.AGGREGATE(15,6,ROW($4:$12)/(Feuil1!$M$13:$M$21="oui"),ROW(#REF!))),"")} | J4: {=IFERROR(INDEX(Feuil1!K:K,_xlfn.AGGREGATE(15,6,ROW($4:$12)/(Feuil1!$M$13:$M$21="oui"),ROW(#REF!))),"")} | K4: {=IFERROR(INDEX(Feuil1!L:L,_xlfn.AGGREGATE(15,6,ROW($4:$12)/(Feuil1!$M$13:$M$21="oui"),ROW(#REF!))),"")} | L4: {=IFERROR(INDEX(Feuil1!M:M,_xlfn.AGGREGATE(15,6,ROW($4:$12)/(Feuil1!$M$13:$M$21="oui"),ROW(#REF!))),"")}
C5: {=IFERROR(INDEX(Feuil1!D:D,_xlfn.AGGREGATE(15,6,ROW($4:$12)/(Feuil1!$M$13:$M$21="oui"),ROW(#REF!))),"")} | D5: {=IFERROR(INDEX(Feuil1!E:E,_xlfn.AGGREGATE(15,6,ROW($4:$12)/(Feuil1!$M$13:$M$21="oui"),ROW(#REF!))),"")} | E5: {=IFERROR(INDEX(Feuil1!F:F,_xlfn.AGGREGATE(15,6,ROW($4:$12)/(Feuil1!$M$13:$M$21="oui"),ROW(#REF!))),"")} | F5: {=IFERROR(INDEX(Feuil1!G:G,_xlfn.AGGREGATE(15,6,ROW($4:$12)/(Feuil1!$M$13:$M$21="oui"),ROW(#REF!))),"")} | G5: {=IFERROR(INDEX(Feuil1!H:H,_xlfn.AGGREGATE(15,6,ROW($4:$12)/(Feuil1!$M$13:$M$21="oui"),ROW(#REF!))),"")} | H5: {=IFERROR(INDEX(Feuil1!I:I,_xlfn.AGGREGATE(15,6,ROW($4:$12)/(Feuil1!$M$13:$M$21="oui"),ROW(#REF!))),"")} | I5: {=IFERROR(INDEX(Feuil1!J:J,_xlfn.AGGREGATE(15,6,ROW($4:$12)/(Feuil1!$M$13:$M$21="oui"),ROW(#REF!))),"")} | J5: {=IFERROR(INDEX(Feuil1!K:K,_xlfn.AGGREGATE(15,6,ROW($4:$12)/(Feuil1!$M$13:$M$21="oui"),ROW(#REF!))),"")} | K5: {=IFERROR(INDEX(Feuil1!L:L,_xlfn.AGGREGATE(15,6,ROW($4:$12)/(Feuil1!$M$13:$M$21="oui"),ROW(#REF!))),"")} | L5: {=IFERROR(INDEX(Feuil1!M:M,_xlfn.AGGREGATE(15,6,ROW($4:$12)/(Feuil1!$M$13:$M$21="oui"),ROW(#REF!))),"")}
C6: {=IFERROR(INDEX(Feuil1!D:D,_xlfn.AGGREGATE(15,6,ROW($4:$12)/(Feuil1!$M$13:$M$21="oui"),ROW(#REF!))),"")} | D6: {=IFERROR(INDEX(Feuil1!E:E,_xlfn.AGGREGATE(15,6,ROW($4:$12)/(Feuil1!$M$13:$M$21="oui"),ROW(#REF!))),"")} | E6: {=IFERROR(INDEX(Feuil1!F:F,_xlfn.AGGREGATE(15,6,ROW($4:$12)/(Feuil1!$M$13:$M$21="oui"),ROW(#REF!))),"")} | F6: {=IFERROR(INDEX(Feuil1!G:G,_xlfn.AGGREGATE(15,6,ROW($4:$12)/(Feuil1!$M$13:$M$21="oui"),ROW(#REF!))),"")} | G6: {=IFERROR(INDEX(Feuil1!H:H,_xlfn.AGGREGATE(15,6,ROW($4:$12)/(Feuil1!$M$13:$M$21="oui"),ROW(#REF!))),"")} | H6: {=IFERROR(INDEX(Feuil1!I:I,_xlfn.AGGREGATE(15,6,ROW($4:$12)/(Feuil1!$M$13:$M$21="oui"),ROW(#REF!))),"")} | I6: {=IFERROR(INDEX(Feuil1!J:J,_xlfn.AGGREGATE(15,6,ROW($4:$12)/(Feuil1!$M$13:$M$21="oui"),ROW(#REF!))),"")} | J6: {=IFERROR(INDEX(Feuil1!K:K,_xlfn.AGGREGATE(15,6,ROW($4:$12)/(Feuil1!$M$13:$M$21="oui"),ROW(#REF!))),"")} | K6: {=IFERROR(INDEX(Feuil1!L:L,_xlfn.AGGREGATE(15,6,ROW($4:$12)/(Feuil1!$M$13:$M$21="oui"),ROW(#REF!))),"")} | L6: {=IFERROR(INDEX(Feuil1!M:M,_xlfn.AGGREGATE(15,6,ROW($4:$12)/(Feuil1!$M$13:$M$21="oui"),ROW(#REF!))),"")}
C7: {=IFERROR(INDEX(Feuil1!D:D,_xlfn.AGGREGATE(15,6,ROW($4:$12)/(Feuil1!$M$13:$M$21="oui"),ROW(#REF!))),"")} | D7: {=IFERROR(INDEX(Feuil1!E:E,_xlfn.AGGREGATE(15,6,ROW($4:$12)/(Feuil1!$M$13:$M$21="oui"),ROW(#REF!))),"")} | E7: {=IFERROR(INDEX(Feuil1!F:F,_xlfn.AGGREGATE(15,6,ROW($4:$12)/(Feuil1!$M$13:$M$21="oui"),ROW(#REF!))),"")} | F7: {=IFERROR(INDEX(Feuil1!G:G,_xlfn.AGGREGATE(15,6,ROW($4:$12)/(Feuil1!$M$13:$M$21="oui"),ROW(#REF!))),"")} | G7: {=IFERROR(INDEX(Feuil1!H:H,_xlfn.AGGREGATE(15,6,ROW($4:$12)/(Feuil1!$M$13:$M$21="oui"),ROW(#REF!))),"")} | H7: {=IFERROR(INDEX(Feuil1!I:I,_xlfn.AGGREGATE(15,6,ROW($4:$12)/(Feuil1!$M$13:$M$21="oui"),ROW(#REF!))),"")} | I7: {=IFERROR(INDEX(Feuil1!J:J,_xlfn.AGGREGATE(15,6,ROW($4:$12)/(Feuil1!$M$13:$M$21="oui"),ROW(#REF!))),"")} | J7: {=IFERROR(INDEX(Feuil1!K:K,_xlfn.AGGREGATE(15,6,ROW($4:$12)/(Feuil1!$M$13:$M$21="oui"),ROW(#REF!))),"")} | K7: {=IFERROR(INDEX(Feuil1!L:L,_xlfn.AGGREGATE(15,6,ROW($4:$12)/(Feuil1!$M$13:$M$21="oui"),ROW(#REF!))),"")} | L7: {=IFERROR(INDEX(Feuil1!M:M,_xlfn.AGGREGATE(15,6,ROW($4:$12)/(Feuil1!$M$13:$M$21="oui"),ROW(#REF!))),"")}
C8: {=IFERROR(INDEX(Feuil1!D:D,_xlfn.AGGREGATE(15,6,ROW($4:$12)/(Feuil1!$M$13:$M$21="oui"),ROW(#REF!))),"")} | D8: {=IFERROR(INDEX(Feuil1!E:E,_xlfn.AGGREGATE(15,6,ROW($4:$12)/(Feuil1!$M$13:$M$21="oui"),ROW(#REF!))),"")} | E8: {=IFERROR(INDEX(Feuil1!F:F,_xlfn.AGGREGATE(15,6,ROW($4:$12)/(Feuil1!$M$13:$M$21="oui"),ROW(#REF!))),"")} | F8: {=IFERROR(INDEX(Feuil1!G:G,_xlfn.AGGREGATE(15,6,ROW($4:$12)/(Feuil1!$M$13:$M$21="oui"),ROW(#REF!))),"")} | G8: {=IFERROR(INDEX(Feuil1!H:H,_xlfn.AGGREGATE(15,6,ROW($4:$12)/(Feuil1!$M$13:$M$21="oui"),ROW(#REF!))),"")} | H8: {=IFERROR(INDEX(Feuil1!I:I,_xlfn.AGGREGATE(15,6,ROW($4:$12)/(Feuil1!$M$13:$M$21="oui"),ROW(#REF!))),"")} | I8: {=IFERROR(INDEX(Feuil1!J:J,_xlfn.AGGREGATE(15,6,ROW($4:$12)/(Feuil1!$M$13:$M$21="oui"),ROW(#REF!))),"")} | J8: {=IFERROR(INDEX(Feuil1!K:K,_xlfn.AGGREGATE(15,6,ROW($4:$12)/(Feuil1!$M$13:$M$21="oui"),ROW(#REF!))),"")} | K8: {=IFERROR(INDEX(Feuil1!L:L,_xlfn.AGGREGATE(15,6,ROW($4:$12)/(Feuil1!$M$13:$M$21="oui"),ROW(#REF!))),"")} | L8: {=IFERROR(INDEX(Feuil1!M:M,_xlfn.AGGREGATE(15,6,ROW($4:$12)/(Feuil1!$M$13:$M$21="oui"),ROW(#REF!))),"")}
C9: {=IFERROR(INDEX(Feuil1!D:D,_xlfn.AGGREGATE(15,6,ROW($4:$12)/(Feuil1!$M$13:$M$21="oui"),ROW(#REF!))),"")} | D9: {=IFERROR(INDEX(Feuil1!E:E,_xlfn.AGGREGATE(15,6,ROW($4:$12)/(Feuil1!$M$13:$M$21="oui"),ROW(#REF!))),"")} | E9: {=IFERROR(INDEX(Feuil1!F:F,_xlfn.AGGREGATE(15,6,ROW($4:$12)/(Feuil1!$M$13:$M$21="oui"),ROW(#REF!))),"")} | F9: {=IFERROR(INDEX(Feuil1!G:G,_xlfn.AGGREGATE(15,6,ROW($4:$12)/(Feuil1!$M$13:$M$21="oui"),ROW(#REF!))),"")} | G9: {=IFERROR(INDEX(Feuil1!H:H,_xlfn.AGGREGATE(15,6,ROW($4:$12)/(Feuil1!$M$13:$M$21="oui"),ROW(#REF!))),"")} | H9: {=IFERROR(INDEX(Feuil1!I:I,_xlfn.AGGREGATE(15,6,ROW($4:$12)/(Feuil1!$M$13:$M$21="oui"),ROW(#REF!))),"")} | I9: {=IFERROR(INDEX(Feuil1!J:J,_xlfn.AGGREGATE(15,6,ROW($4:$12)/(Feuil1!$M$13:$M$21="oui"),ROW(#REF!))),"")} | J9: {=IFERROR(INDEX(Feuil1!K:K,_xlfn.AGGREGATE(15,6,ROW($4:$12)/(Feuil1!$M$13:$M$21="oui"),ROW(#REF!))),"")} | K9: {=IFERROR(INDEX(Feuil1!L:L,_xlfn.AGGREGATE(15,6,ROW($4:$12)/(Feuil1!$M$13:$M$21="oui"),ROW(#REF!))),"")} | L9: {=IFERROR(INDEX(Feuil1!M:M,_xlfn.AGGREGATE(15,6,ROW($4:$12)/(Feuil1!$M$13:$M$21="oui"),ROW(#REF!))),"")}
C10: {=IFERROR(INDEX(Feuil1!D:D,_xlfn.AGGREGATE(15,6,ROW($4:$12)/(Feuil1!$M$13:$M$21="oui"),ROW(#REF!))),"")} | D10: {=IFERROR(INDEX(Feuil1!E:E,_xlfn.AGGREGATE(15,6,ROW($4:$12)/(Feuil1!$M$13:$M$21="oui"),ROW(#REF!))),"")} | E10: {=IFERROR(INDEX(Feuil1!F:F,_xlfn.AGGREGATE(15,6,ROW($4:$12)/(Feuil1!$M$13:$M$21="oui"),ROW(#REF!))),"")} | F10: {=IFERROR(INDEX(Feuil1!G:G,_xlfn.AGGREGATE(15,6,ROW($4:$12)/(Feuil1!$M$13:$M$21="oui"),ROW(#REF!))),"")} | G10: {=IFERROR(INDEX(Feuil1!H:H,_xlfn.AGGREGATE(15,6,ROW($4:$12)/(Feuil1!$M$13:$M$21="oui"),ROW(#REF!))),"")} | H10: {=IFERROR(INDEX(Feuil1!I:I,_xlfn.AGGREGATE(15,6,ROW($4:$12)/(Feuil1!$M$13:$M$21="oui"),ROW(#REF!))),"")} | I10: {=IFERROR(INDEX(Feuil1!J:J,_xlfn.AGGREGATE(15,6,ROW($4:$12)/(Feuil1!$M$13:$M$21="oui"),ROW(#REF!))),"")} | J10: {=IFERROR(INDEX(Feuil1!K:K,_xlfn.AGGREGATE(15,6,ROW($4:$12)/(Feuil1!$M$13:$M$21="oui"),ROW(#REF!))),"")} | K10: {=IFERROR(INDEX(Feuil1!L:L,_xlfn.AGGREGATE(15,6,ROW($4:$12)/(Feuil1!$M$13:$M$21="oui"),ROW(#REF!))),"")} | L10: {=IFERROR(INDEX(Feuil1!M:M,_xlfn.AGGREGATE(15,6,ROW($4:$12)/(Feuil1!$M$13:$M$21="oui"),ROW(#REF!))),"")}
