Workbook

Sheet Données
A1: Code | B1: Nom du Collaborateur | C1: Clients | D1: Contacts Clients | E1: ADRESSE1 | F1: ADRESSE2 | G1: CP | H1: VILLE | I1: N° Contrat ou Bon de Commande | J1: Désignation de la Mission | K1: Durée de la Mission | M1: Tarif | N1: Mode de Paiement
K2: Du | L2: Au
A3: LHE | B3: AA | C3: AB | E3: 130-136 rue de Silly | G3: 92773 | H3: BOULOGNE-BILLANCOURT | I3: 115 | J3: Assistance Technique | M3: 400 | N3: Vir.
A4: MME | B4: BB | C4: BA | D4: Comptabilité Fournisseurs | E4: Immeuble le "Seine Saint-Germain" | F4: Bat. C - 2-8 avenue du Bas-Meudon | G4: 92445 | H4: ISSY-LES-MOULINEAUX | I4: 305699 | J4: Astreintes | K4: 40483 | L4: 40724 | M4: 510 | N4: Vir.
A5: SBR | B5: CC | C5: CA | D5: Comptabilité Fournisseurs | E5: TSA 16508 | G5: 95877 | H5: BEZONS CEDEX | I5: 235971 | J5: Assistance Technique | K5: 40544 | L5: 40602 | M5: 630 | N5: Vir.
A6: ADI | B6: DD | C6: DA | D6: Comptabilité Fournisseurs | E6: TSA 16508 | G6: 95877 | H6: BEZONS CEDEX | I6: 2156871 | J6: Assistance Technique | K6: 40546 | L6: 40724 | M6: 545 | N6: Vir.
A7: ADI* | B7: EE | C7: EA | D7: Comptabilité Fournisseurs | E7: TSA 16508 | G7: 95877 | H7: BEZONS CEDEX | I7: 145488212-5932 | J7: Astreintes | K7: 40546 | L7: 40724 | M7: A Calculer | N7: Vir.
A8: ANU | B8: FF | C8: FA | D8: Comptabilité Fournisseurs | E8: TSA 16508 | G8: 95877 | H8: BEZONS CEDEX | I8: 326 | J8: Assistance Technique | K8: 40544 | L8: 40724 | M8: 465 | N8: Vir.
A9: MZI | B9: GG | C9: GA | D9: Comptabilité Fournisseurs | E9: TSA 16508 | G9: 95877 | H9: BEZONS CEDEX | I9: GG-12586 | J9: Assistance Technique | K9: 40505 | L9: 40602 | M9: 580 | N9: Vir.
A10: CDE | B10: HH | C10: HA | D10: Secrétariat Informatique | E10: Grands Moulins de Pantin - ACI : CPE01A1A | F10: 9 rue du Débarcadère | G10: 93500 | H10: PANTIN | I10: HA-8597433-23 | J10: Missions IT Sécurité | K10: 39461 | L10: 40908 | M10: 520 | N10: Vir.

Sheet Chrono Facture
A1: N° Facture | B1: Type de Documents | C1: Code | D1: Date Facture | E1: Client | F1: N° Contrat ou Bon de Commande | G1: Mois de la Prestation | H1: Nbre de JH | I1: Tarif | J1: Prix HT | K1: Prix TTC | L1: Désignation
A2: 2011001 | B2: Facture | C2: LHE | D2: 40574 | E2: =INDEX(Données!C:C,MATCH($C2,Données!A:$A,0)) -> AB | F2: =INDEX(Données!I:I,MATCH($C2,Données!A:$A,0)) -> 115 | G2: 40544 | H2: 15 | I2: =INDEX(Données!M:M,MATCH($C2,Données!$A:A,0)) -> 400 | J2: =H2*I2 -> 6000 | K2: =J2*1.196 -> 7176 | L2: =INDEX(Données!J:J,MATCH($C2,Données!$A:A,0)) -> Assistance Technique
A3: =IF(C3<>"",A2+1,"") -> 2011002 | B3: Avoir | C3: MME | D3: 40574 | E3: =INDEX(Données!C:C,MATCH($C3,Données!A:$A,0)) -> BA | F3: =INDEX(Données!I:I,MATCH($C3,Données!A:$A,0)) -> 305699 | G3: 40544 | H3: 1 | I3: =INDEX(Données!M:M,MATCH($C3,Données!$A:A,0)) -> 510 | J3: =H3*I3 -> 510 | K3: =J3*1.196 -> 609.96 | L3: =INDEX(Données!J:J,MATCH($C3,Données!$A:A,0)) -> Astreintes

Sheet Paiement
A1: N° Facture | B1: Client | C1: Mois de la Prestation | D1: Prix TTC | E1: Désignation | F1: Mode de paiement | G1: Date de l'Échéance | H1: Date du paiement | I1: Paiement | J1: Commentaires
A2: ='Chrono Facture'!A2 -> 2011001 | C2: 40544
A3: ='Chrono Facture'!A3 -> 2011002 | C3: 40544
A4: ='Chrono Facture'!A4 -> 0
A5: ='Chrono Facture'!A5 -> 0
A6: ='Chrono Facture'!A6 -> 0
A7: ='Chrono Facture'!A7 -> 0
A8: ='Chrono Facture'!A8 -> 0
A9: ='Chrono Facture'!A9 -> 0
A10: ='Chrono Facture'!A10 -> 0
A11: ='Chrono Facture'!A11 -> 0
A12: ='Chrono Facture'!A12 -> 0
A13: ='Chrono Facture'!A13 -> 0
A14: ='Chrono Facture'!A14 -> 0
A15: ='Chrono Facture'!A15 -> 0
... A35: ='Chrono Facture'!A35 -> 0
