Workbook
Name Segment_Année1: #N/A
Name Segment_Origine1: #N/A
Name Segment_T.L.1: #N/A
Name Segment_Thème1: #N/A

Sheet feuil 1
A2: N° D'action | B2: Date de rédaction | C2: Année | D2: Origine | E2: Thème | F2: Anomalie / Problème constaté / Point à traiter | G2: Objectif | H2: Actions | I2: Externe | J2: RCP | K2: Délai | L2: T.L. | M2: Suivi de l’action, commentaire… | N2: Date de réalisation | O2: Critère efficacité | P2: Efficacité | Q2: Commentaire Efficacité | R2: Date validation efficacité
A3: 1 | B3: 42064 | C3: =Tableau14[[#This Row],[Date de rédaction]] -> 42064 | D3: RD & COPIL | E3: AUTRE | J3: EQ LW PA | K3: PERMANENT | L3: =IF(R3>1/1/2000,"Clos",IF(K3="","",IF(N3>1/1/2000,"Fait",IF(K3<=[1]Données!$H$2,"R",IF(K3>[1]Données!$H$2,"0"))))) -> Clos | N3: 43544 | P3: BON | R3: 43544
A4: 2 | B4: 42064 | C4: =Tableau14[[#This Row],[Date de rédaction]] -> 42064 | D4: DUERP | E4: AUTRE | J4: GA | K4: 42094 | L4: =IF(R4>1/1/2000,"Clos",IF(K4="","",IF(N4>1/1/2000,"Fait",IF(K4<=[1]Données!$H$2,"R",IF(K4>[1]Données!$H$2,"0"))))) -> Clos | N4: 42094 | P4: BON | R4: 42094
A5: 3 | B5: 42064 | C5: =Tableau14[[#This Row],[Date de rédaction]] -> 42064 | D5: DUERP | E5: AUTRE | J5: GA | K5: 42094 | L5: =IF(R5>1/1/2000,"Clos",IF(K5="","",IF(N5>1/1/2000,"Fait",IF(K5<=[1]Données!$H$2,"R",IF(K5>[1]Données!$H$2,"0"))))) -> Clos | N5: 42094 | P5: BON | R5: 42347
A6: 4 | B6: 42064 | C6: =Tableau14[[#This Row],[Date de rédaction]] -> 42064 | D6: DUERP | E6: SANTE | J6: EQ | K6: 42291 | L6: =IF(R6>1/1/2000,"Clos",IF(K6="","",IF(N6>1/1/2000,"Fait",IF(K6<=[1]Données!$H$2,"R",IF(K6>[1]Données!$H$2,"0"))))) -> Clos | N6: 42291 | P6: BON | R6: 42460
A7: 5 | B7: 42064 | C7: =Tableau14[[#This Row],[Date de rédaction]] -> 42064 | D7: RD & COPIL | E7: SECURITE | J7: EQ | K7: 42735 | L7: =IF(R7>1/1/2000,"Clos",IF(K7="","",IF(N7>1/1/2000,"Fait",IF(K7<=[1]Données!$H$2,"R",IF(K7>[1]Données!$H$2,"0"))))) -> Clos | N7: 42739 | P7: BON | R7: 42900
A8: 6 | B8: 42064 | C8: =Tableau14[[#This Row],[Date de rédaction]] -> 42064 | D8: RD & COPIL | E8: SECURITE | J8: GA | K8: 42277 | L8: =IF(R8>1/1/2000,"Clos",IF(K8="","",IF(N8>1/1/2000,"Fait",IF(K8<=[1]Données!$H$2,"R",IF(K8>[1]Données!$H$2,"0"))))) -> Clos | N8: 42284 | P8: BON | R8: 42460
A9: 7 | B9: 42064 | C9: =Tableau14[[#This Row],[Date de rédaction]] -> 42064 | D9: RD & COPIL | E9: SANTE | J9: LW | K9: 42305 | L9: =IF(R9>1/1/2000,"Clos",IF(K9="","",IF(N9>1/1/2000,"Fait",IF(K9<=[1]Données!$H$2,"R",IF(K9>[1]Données!$H$2,"0"))))) -> Clos | N9: 42333 | P9: BON | R9: 42460
A10: 8 | B10: 42078 | C10: =Tableau14[[#This Row],[Date de rédaction]] -> 42078 | D10: RD & COPIL | E10: ENVIRONNEMENT | J10: GA | K10: 42094 | L10: =IF(R10>1/1/2000,"Clos",IF(K10="","",IF(N10>1/1/2000,"Fait",IF(K10<=[1]Données!$H$2,"R",IF(K10>[1]Données!$H$2,"0"))))) -> Clos | N10: 42094 | P10: BON | R10: 42109
A11: 9 | B11: 42095 | C11: =Tableau14[[#This Row],[Date de rédaction]] -> 42095 | D11: RD & COPIL | E11: AUTRE | J11: GA PA | K11: 42124 | L11: =IF(R11>1/1/2000,"Clos",IF(K11="","",IF(N11>1/1/2000,"Fait",IF(K11<=[1]Données!$H$2,"R",IF(K11>[1]Données!$H$2,"0"))))) -> Clos | N11: 42109 | P11: BON | R11: 42109
A12: 10 | B12: 42095 | C12: =Tableau14[[#This Row],[Date de rédaction]] -> 42095 | D12: RD & COPIL | E12: AUTRE | J12: GA | K12: 42094 | L12: =IF(R12>1/1/2000,"Clos",IF(K12="","",IF(N12>1/1/2000,"Fait",IF(K12<=[1]Données!$H$2,"R",IF(K12>[1]Données!$H$2,"0"))))) -> Clos | N12: 42094 | P12: BON | R12: 42109
A13: 11 | B13: 42095 | C13: =Tableau14[[#This Row],[Date de rédaction]] -> 42095 | D13: RD & COPIL | E13: AUTRE | J13: GA | K13: 42124 | L13: =IF(R13>1/1/2000,"Clos",IF(K13="","",IF(N13>1/1/2000,"Fait",IF(K13<=[1]Données!$H$2,"R",IF(K13>[1]Données!$H$2,"0"))))) -> Clos | N13: 42137 | P13: BON | R13: 42137
A14: 12 | B14: 42078 | C14: =Tableau14[[#This Row],[Date de rédaction]] -> 42078 | D14: RD & COPIL | E14: AUTRE | J14: GA | K14: 42139 | L14: =IF(R14>1/1/2000,"Clos",IF(K14="","",IF(N14>1/1/2000,"Fait",IF(K14<=[1]Données!$H$2,"R",IF(K14>[1]Données!$H$2,"0"))))) -> Clos | N14: 42129 | P14: BON | R14: 42137
A15: 13 | B15: 42078 | C15: =Tableau14[[#This Row],[Date de rédaction]] -> 42078 | D15: RD & COPIL | E15: AUTRE | J15: GA | K15: 42139 | L15: =IF(R15>1/1/2000,"Clos",IF(K15="","",IF(N15>1/1/2000,"Fait",IF(K15<=[1]Données!$H$2,"R",IF(K15>[1]Données!$H$2,"0"))))) -> Clos | N15: 42129 | P15: BON | R15: 42179
... A19: 17 | B19: 42109 | C19: =Tableau14[[#This Row],[Date de rédaction]] -> 42109 | D19: RD & COPIL | E19: AUTRE | J19: GA | K19: 42125 | L19: =IF(R19>1/1/2000,"Clos",IF(K19="","",IF(N19>1/1/2000,"Fait",IF(K19<=[1]Données!$H$2,"R",IF(K19>[1]Données!$H$2,"0"))))) -> Clos | N19: 42124 | P19: BON | R19: 42250
A20: 18 | B20: 42109 | C20: =Tableau14[[#This Row],[Date de rédaction]] -> 42109 | D20: RD & COPIL | E20: AUTRE | J20: EQ | K20: PERMANENT | L20: =IF(R20>1/1/2000,"Clos",IF(K20="","",IF(N20>1/1/2000,"Fait",IF(K20<=[1]Données!$H$2,"R",IF(K20>[1]Données!$H$2,"0"))))) -> Clos | N20: 43101 | P20: MAUVAIS | R20: 43145
A21: 19 | B21: 42109 | C21: =Tableau14[[#This Row],[Date de rédaction]] -> 42109 | D21: RD & COPIL | E21: AUTRE | J21: EQ | K21: 42109 | L21: =IF(R21>1/1/2000,"Clos",IF(K21="","",IF(N21>1/1/2000,"Fait",IF(K21<=[1]Données!$H$2,"R",IF(K21>[1]Données!$H$2,"0"))))) -> Clos | N21: 42109 | P21: BON | R21: 42109
A22: 20 | B22: 42109 | C22: =Tableau14[[#This Row],[Date de rédaction]] -> 42109 | D22: RD & COPIL | E22: SECURITE | J22: EQ | K22: 42247 | L22: =IF(R22>1/1/2000,"Clos",IF(K22="","",IF(N22>1/1/2000,"Fait",IF(K22<=[1]Données!$H$2,"R",IF(K22>[1]Données!$H$2,"0"))))) -> Clos | N22: 42284 | P22: BON | R22: 42460
A23: 21 | B23: 42109 | C23: =Tableau14[[#This Row],[Date de rédaction]] -> 42109 | D23: RD & COPIL | E23: SECURITE | J23: EQ | K23: 42247 | L23: =IF(R23>1/1/2000,"Clos",IF(K23="","",IF(N23>1/1/2000,"Fait",IF(K23<=[1]Données!$H$2,"R",IF(K23>[1]Données!$H$2,"0"))))) -> Clos | N23: 42284 | P23: BON | R23: 42460
A24: 22 | B24: 42109 | C24: =Tableau14[[#This Row],[Date de rédaction]] -> 42109 | D24: RD & COPIL | E24: SECURITE | J24: GA | K24: 42151 | L24: =IF(R24>1/1/2000,"Clos",IF(K24="","",IF(N24>1/1/2000,"Fait",IF(K24<=[1]Données!$H$2,"R",IF(K24>[1]Données!$H$2,"0"))))) -> Clos | N24: 42123 | P24: BON | R24: 42460
A25: 23 | B25: 42129 | C25: =Tableau14[[#This Row],[Date de rédaction]] -> 42129 | D25: AUDIT | E25: AUTRE | J25: GA | K25: 42137 | L25: =IF(R25>1/1/2000,"Clos",IF(K25="","",IF(N25>1/1/2000,"Fait",IF(K25<=[1]Données!$H$2,"R",IF(K25>[1]Données!$H$2,"0"))))) -> Clos | N25: 42291 | P25: BON | R25: 42460
A26: 24 | B26: 42129 | C26: =Tableau14[[#This Row],[Date de rédaction]] -> 42129 | D26: AUDIT | E26: SECURITE | J26: GA | K26: 42137 | L26: =IF(R26>1/1/2000,"Clos",IF(K26="","",IF(N26>1/1/2000,"Fait",IF(K26<=[1]Données!$H$2,"R",IF(K26>[1]Données!$H$2,"0"))))) -> Clos | N26: 42137 | P26: BON | R26: 42179
A27: 25 | B27: 42129 | C27: =Tableau14[[#This Row],[Date de rédaction]] -> 42129 | D27: AUDIT | E27: AUTRE | J27: GA | K27: 42179 | L27: =IF(R27>1/1/2000,"Clos",IF(K27="","",IF(N27>1/1/2000,"Fait",IF(K27<=[1]Données!$H$2,"R",IF(K27>[1]Données!$H$2,"0"))))) -> Clos | N27: 42179 | P27: BON | R27: 42179
A28: 26 | B28: 42129 | C28: =Tableau14[[#This Row],[Date de rédaction]] -> 42129 | D28: AUDIT | E28: AUTRE | J28: GA | K28: 42179 | L28: =IF(R28>1/1/2000,"Clos",IF(K28="","",IF(N28>1/1/2000,"Fait",IF(K28<=[1]Données!$H$2,"R",IF(K28>[1]Données!$H$2,"0"))))) -> Clos | N28: 42179 | P28: BON | R28: 42179
A29: 27 | B29: 42129 | C29: =Tableau14[[#This Row],[Date de rédaction]] -> 42129 | D29: AUDIT | E29: AUTRE | J29: GA | K29: 42179 | L29: =IF(R29>1/1/2000,"Clos",IF(K29="","",IF(N29>1/1/2000,"Fait",IF(K29<=[1]Données!$H$2,"R",IF(K29>[1]Données!$H$2,"0"))))) -> Clos | N29: 42179 | P29: BON | R29: 42179
A30: 28 | B30: 42129 | C30: =Tableau14[[#This Row],[Date de rédaction]] -> 42129 | D30: AUDIT | E30: SECURITE | J30: GA | K30: 42179 | L30: =IF(R30>1/1/2000,"Clos",IF(K30="","",IF(N30>1/1/2000,"Fait",IF(K30<=[1]Données!$H$2,"R",IF(K30>[1]Données!$H$2,"0"))))) -> Clos | N30: 42179 | P30: BON | R30: 42179
A31: 29 | B31: 42144 | C31: =Tableau14[[#This Row],[Date de rédaction]] -> 42144 | D31: DUERP | E31: AUTRE | J31: GA | K31: 42156 | L31: =IF(R31>1/1/2000,"Clos",IF(K31="","",IF(N31>1/1/2000,"Fait",IF(K31<=[1]Données!$H$2,"R",IF(K31>[1]Données!$H$2,"0"))))) -> Clos | N31: 42156 | P31: BON | R31: 42179
A32: 30 | B32: 42156 | C32: =Tableau14[[#This Row],[Date de rédaction]] -> 42156 | D32: DUERP | E32: AUTRE | J32: GA EQ | K32: 42263 | L32: =IF(R32>1/1/2000,"Clos",IF(K32="","",IF(N32>1/1/2000,"Fait",IF(K32<=[1]Données!$H$2,"R",IF(K32>[1]Données!$H$2,"0"))))) -> Clos | N32: 42291 | P32: BON | R32: 42460
... A42: 40 | B42: 42284 | C42: =Tableau14[[#This Row],[Date de rédaction]] -> 42284 | D42: DUERP | E42: SECURITE | J42: GA | K42: 42298 | L42: =IF(R42>1/1/2000,"Clos",IF(K42="","",IF(N42>1/1/2000,"Fait",IF(K42<=[1]Données!$H$2,"R",IF(K42>[1]Données!$H$2,"0"))))) -> Clos | N42: 42291 | P42: BON | R42: 42460
A43: 41 | B43: 42284 | C43: =Tableau14[[#This Row],[Date de rédaction]] -> 42284 | D43: RD & COPIL | E43: SECURITE | J43: EQ PA LW | K43: PERMANENT | L43: =IF(R43>1/1/2000,"Clos",IF(K43="","",IF(N43>1/1/2000,"Fait",IF(K43<=[1]Données!$H$2,"R",IF(K43>[1]Données!$H$2,"0"))))) -> Clos | N43: 43446 | P43: BON | R43: 43446
A44: 42 | B44: 42333 | C44: =Tableau14[[#This Row],[Date de rédaction]] -> 42333 | D44: RD & COPIL | E44: SECURITE | J44: EQ PA GA LW | K44: 42370 | L44: =IF(R44>1/1/2000,"Clos",IF(K44="","",IF(N44>1/1/2000,"Fait",IF(K44<=[1]Données!$H$2,"R",IF(K44>[1]Données!$H$2,"0"))))) -> Clos | N44: 42373 | P44: BON | R44: 42460
A45: 43 | B45: 42284 | C45: =Tableau14[[#This Row],[Date de rédaction]] -> 42284 | D45: RD & COPIL | E45: SECURITE | J45: EQ | K45: 42308 | L45: =IF(R45>1/1/2000,"Clos",IF(K45="","",IF(N45>1/1/2000,"Fait",IF(K45<=[1]Données!$H$2,"R",IF(K45>[1]Données!$H$2,"0"))))) -> Clos | N45: 42308 | P45: BON | R45: 42460
A46: 44 | B46: 42346 | C46: =Tableau14[[#This Row],[Date de rédaction]] -> 42346 | D46: RD & COPIL | E46: SECURITE | J46: GA | K46: 42369 | L46: =IF(R46>1/1/2000,"Clos",IF(K46="","",IF(N46>1/1/2000,"Fait",IF(K46<=[1]Données!$H$2,"R",IF(K46>[1]Données!$H$2,"0"))))) -> Clos | N46: 42373 | P46: BON | R46: 42460
A47: 45 | B47: 42377 | C47: =Tableau14[[#This Row],[Date de rédaction]] -> 42377 | D47: RD & COPIL | E47: SECURITE | J47: EQ | K47: 42384 | L47: =IF(R47>1/1/2000,"Clos",IF(K47="","",IF(N47>1/1/2000,"Fait",IF(K47<=[1]Données!$H$2,"R",IF(K47>[1]Données!$H$2,"0"))))) -> Clos | N47: 42384 | P47: BON | R47: 42460
A48: 46 | B48: 42389 | C48: =Tableau14[[#This Row],[Date de rédaction]] -> 42389 | D48: AUDIT | E48: AUTRE | J48: GA | K48: 42460 | L48: =IF(R48>1/1/2000,"Clos",IF(K48="","",IF(N48>1/1/2000,"Fait",IF(K48<=[1]Données!$H$2,"R",IF(K48>[1]Données!$H$2,"0"))))) -> Clos | N48: 42459 | P48: MAUVAIS | R48: 43544
A49: 47 | B49: 42389 | C49: =Tableau14[[#This Row],[Date de rédaction]] -> 42389 | D49: AUDIT | E49: AUTRE | J49: GA | K49: 42460 | L49: =IF(R49>1/1/2000,"Clos",IF(K49="","",IF(N49>1/1/2000,"Fait",IF(K49<=[1]Données!$H$2,"R",IF(K49>[1]Données!$H$2,"0"))))) -> Clos | N49: 42480 | P49: BON | R49: 42718
A50: 48 | B50: 42389 | C50: =Tableau14[[#This Row],[Date de rédaction]] -> 42389 | D50: AUDIT | E50: SECURITE | J50: EQ | K50: 42428 | L50: =IF(R50>1/1/2000,"Clos",IF(K50="","",IF(N50>1/1/2000,"Fait",IF(K50<=[1]Données!$H$2,"R",IF(K50>[1]Données!$H$2,"0"))))) -> Clos | N50: 42489 | P50: BON | R50: 42718
A51: 49 | B51: 42389 | C51: =Tableau14[[#This Row],[Date de rédaction]] -> 42389 | D51: AUDIT | E51: AUTRE | J51: GA EQ LW | K51: 42460 | L51: =IF(R51>1/1/2000,"Clos",IF(K51="","",IF(N51>1/1/2000,"Fait",IF(K51<=[1]Données!$H$2,"R",IF(K51>[1]Données!$H$2,"0"))))) -> Clos | N51: 42661 | P51: BON | R51: 42900
A52: 50 | B52: 42389 | C52: =Tableau14[[#This Row],[Date de rédaction]] -> 42389 | D52: AUDIT | E52: AUTRE | J52: GA EQ LW | K52: 42460 | L52: =IF(R52>1/1/2000,"Clos",IF(K52="","",IF(N52>1/1/2000,"Fait",IF(K52<=[1]Données!$H$2,"R",IF(K52>[1]Données!$H$2,"0"))))) -> Clos | N52: 42461 | P52: BON | R52: 42900
A53: 51 | B53: 42389 | C53: =Tableau14[[#This Row],[Date de rédaction]] -> 42389 | D53: AUDIT | E53: AUTRE | J53: GA | K53: 42428 | L53: =IF(R53>1/1/2000,"Clos",IF(K53="","",IF(N53>1/1/2000,"Fait",IF(K53<=[1]Données!$H$2,"R",IF(K53>[1]Données!$H$2,"0"))))) -> Clos | N53: 42417 | P53: BON | R53: 42900
...
