Workbook
Name Segment_Année1: #N/A
Name Segment_Origine1: #N/A
Name Segment_T.L.1: #N/A
Name Segment_Thème1: #N/A

Sheet feuil 1
A2: N° D'action | B2: Date de rédaction | C2: Année | D2: Origine | E2: Thème | F2: Anomalie / Problème constaté / Point à traiter | G2: Objectif | H2: Actions | I2: Externe | J2: RCP | K2: Délai | L2: T.L. | M2: Suivi de l’action, commentaire… | N2: Date de réalisation | O2: Critère efficacité | P2: Efficacité | Q2: Commentaire Efficacité | R2: Date validation efficacité
A3: 1 | B3: 42064 | C3: =Tableau14[[#This Row],[Date de rédaction]] -> 42064 | D3: RD & COPIL | E3: AUTRE | J3: EQ LW PA | K3: PERMANENT | L3: =IF(R3>1/1/2000,"Clos",IF(K3="","",IF(N3>1/1/2000,"Fait",IF(K3<=[1]Données!$H$2,"R",IF(K3>[1]Données!$H$2,"0"))))) -> Clos | N3: 43544 | P3: BON | R3: 43544
A4: 2 | B4: 42064 | C4: =Tableau14[[#This Row],[Date de rédaction]] -> 42064 | D4: DUERP | E4: AUTRE | J4: GA | K4: 42094 | L4: =IF(R4>1/1/2000,"Clos",IF(K4="","",IF(N4>1/1/2000,"Fait",IF(K4<=[1]Données!$H$2,"R",IF(K4>[1]Données!$H$2,"0"))))) -> Clos | N4: 42094 | P4: BON | R4: 42094
A5: 3 | B5: 42064 | C5: =Tableau14[[#This Row],[Date de rédaction]] -> 42064 | D5: DUERP | E5: AUTRE | J5: GA | K5: 42094 | L5: =IF(R5>1/1/2000,"Clos",IF(K5="","",IF(N5>1/1/2000,"Fait",IF(K5<=[1]Données!$H$2,"R",IF(K5>[1]Données!$H$2,"0"))))) -> Clos | N5: 42094 | P5: BON | R5: 42347
A6: 4 | B6: 42064 | C6: =Tableau14[[#This Row],[Date de rédaction]] -> 42064 | D6: DUERP | E6: SANTE | J6: EQ | K6: 42291 | L6: =IF(R6>1/1/2000,"Clos",IF(K6="","",IF(N6>1/1/2000,"Fait",IF(K6<=[1]Données!$H$2,"R",IF(K6>[1]Données!$H$2,"0"))))) -> Clos | N6: 42291 | P6: BON | R6: 42460
A7: 5 | B7: 42064 | C7: =Tableau14[[#This Row],[Date de rédaction]] -> 42064 | D7: RD & COPIL | E7: SECURITE | J7: EQ | K7: 42735 | L7: =IF(R7>1/1/2000,"Clos",IF(K7="","",IF(N7>1/1/2000,"Fait",IF(K7<=[1]Données!$H$2,"R",IF(K7>[1]Données!$H$2,"0"))))) -> Clos | N7: 42739 | P7: BON | R7: 42900
A8: 6 | B8: 42064 | C8: =Tableau14[[#This Row],[Date de rédaction]] -> 42064 | D8: RD & COPIL | E8: SECURITE | J8: GA | K8: 42277 | L8: =IF(R8>1/1/2000,"Clos",IF(K8="","",IF(N8>1/1/2000,"Fait",IF(K8<=[1]Données!$H$2,"R",IF(K8>[1]Données!$H$2,"0"))))) -> Clos | N8: 42284 | P8: BON | R8: 42460
A9: 7 | B9: 42064 | C9: =Tableau14[[#This Row],[Date de rédaction]] -> 42064 | D9: RD & COPIL | E9: SANTE | J9: LW | K9: 42305 | L9: =IF(R9>1/1/2000,"Clos",IF(K9="","",IF(N9>1/1/2000,"Fait",IF(K9<=[1]Données!$H$2,"R",IF(K9>[1]Données!$H$2,"0"))))) -> Clos | N9: 42333 | P9: BON | R9: 42460
A10: 8 | B10: 42078 | C10: =Tableau14[[#This Row],[Date de rédaction]] -> 42078 | D10: RD & COPIL | E10: ENVIRONNEMENT | J10: GA | K10: 42094 | L10: =IF(R10>1/1/2000,"Clos",IF(K10="","",IF(N10>1/1/2000,"Fait",IF(K10<=[1]Données!$H$2,"R",IF(K10>[1]Données!$H$2,"0"))))) -> Clos | N10: 42094 | P10: BON | R10: 42109
A11: 9 | B11: 42095 | C11: =Tableau14[[#This Row],[Date de rédaction]] -> 42095 | D11: RD & COPIL | E11: AUTRE | J11: GA PA | K11: 42124 | L11: =IF(R11>1/1/2000,"Clos",IF(K11="","",IF(N11>1/1/2000,"Fait",IF(K11<=[1]Données!$H$2,"R",IF(K11>[1]Données!$H$2,"0"))))) -> Clos | N11: 42109 | P11: BON | R11: 42109
A12: 10 | B12: 42095 | C12: =Tableau14[[#This Row],[Date de rédaction]] -> 42095 | D12: RD & COPIL | E12: AUTRE | J12: GA | K12: 42094 | L12: =IF(R12>1/1/2000,"Clos",IF(K12="","",IF(N12>1/1/2000,"Fait",IF(K12<=[1]Données!$H$2,"R",IF(K12>[1]Données!$H$2,"0"))))) -> Clos | N12: 42094 | P12: BON | R12: 42109
A13: 11 | B13: 42095 | C13: =Tableau14[[#This Row],[Date de rédaction]] -> 42095 | D13: RD & COPIL | E13: AUTRE | J13: GA | K13: 42124 | L13: =IF(R13>1/1/2000,"Clos",IF(K13="","",IF(N13>1/1/2000,"Fait",IF(K13<=[1]Données!$H$2,"R",IF(K13>[1]Données!$H$2,"0"))))) -> Clos | N13: 42137 | P13: BON | R13: 42137
A14: 12 | B14: 42078 | C14: =Tableau14[[#This Row],[Date de rédaction]] -> 42078 | D14: RD & COPIL | E14: AUTRE | J14: GA | K14: 42139 | L14: =IF(R14>1/1/2000,"Clos",IF(K14="","",IF(N14>1/1/2000,"Fait",IF(K14<=[1]Données!$H$2,"R",IF(K14>[1]Données!$H$2,"0"))))) -> Clos | N14: 42129 | P14: BON | R14: 42137
A15: 13 | B15: 42078 | C15: =Tableau14[[#This Row],[Date de rédaction]] -> 42078 | D15: RD & COPIL | E15: AUTRE | J15: GA | K15: 42139 | L15: =IF(R15>1/1/2000,"Clos",IF(K15="","",IF(N15>1/1/2000,"Fait",IF(K15<=[1]Données!$H$2,"R",IF(K15>[1]Données!$H$2,"0"))))) -> Clos | N15: 42129 | P15: BON | R15: 42179
... A19: 17 | B19: 42109 | C19: =Tableau14[[#This Row],[Date de rédaction]] -> 42109 | D19: RD & COPIL | E19: AUTRE | J19: GA | K19: 42125 | L19: =IF(R19>1/1/2000,"Clos",IF(K19="","",IF(N19>1/1/2000,"Fait",IF(K19<=[1]Données!$H$2,"R",IF(K19>[1]Données!$H$2,"0"))))) -> Clos | N19: 42124 | P19: BON | R19: 42250
A20: 18 | B20: 42109 | C20: =Tableau14[[#This Row],[Date de rédaction]] -> 42109 | D20: RD & COPIL | E20: AUTRE | J20: EQ | K20: PERMANENT | L20: =IF(R20>1/1/2000,"Clos",IF(K20="","",IF(N20>1/1/2000,"Fait",IF(K20<=[1]Données!$H$2,"R",IF(K20>[1]Données!$H$2,"0"))))) -> Clos | N20: 43101 | P20: MAUVAIS | R20: 43145
A21: 19 | B21: 42109 | C21: =Tableau14[[#This Row],[Date de rédaction]] -> 42109 | D21: RD & COPIL | E21: AUTRE | J21: EQ | K21: 42109 | L21: =IF(R21>1/1/2000,"Clos",IF(K21="","",IF(N21>1/1/2000,"Fait",IF(K21<=[1]Données!$H$2,"R",IF(K21>[1]Données!$H$2,"0"))))) -> Clos | N21: 42109 | P21: BON | R21: 42109
A22: 20 | B22: 42109 | C22: =Tableau14[[#This Row],[Date de rédaction]] -> 42109 | D22: RD & COPIL | E22: SECURITE | J22: EQ | K22: 42247 | L22: =IF(R22>1/1/2000,"Clos",IF(K22="","",IF(N22>1/1/2000,"Fait",IF(K22<=[1]Données!$H$2,"R",IF(K22>[1]Données!$H$2,"0"))))) -> Clos | N22: 42284 | P22: BON | R22: 42460
A23: 21 | B23: 42109 | C23: =Tableau14[[#This Row],[Date de rédaction]] -> 42109 | D23: RD & COPIL | E23: SECURITE | J23: EQ | K23: 42247 | L23: =IF(R23>1/1/2000,"Clos",IF(K23="","",IF(N23>1/1/2000,"Fait",IF(K23<=[1]Données!$H$2,"R",IF(K23>[1]Données!$H$2,"0"))))) -> Clos | N23: 42284 | P23: BON | R23: 42460
A24: 22 | B24: 42109 | C24: =Tableau14[[#This Row],[Date de rédaction]] -> 42109 | D24: RD & COPIL | E24: SECURITE | J24: GA | K24: 42151 | L24: =IF(R24>1/1/2000,"Clos",IF(K24="","",IF(N24>1/1/2000,"Fait",IF(K24<=[1]Données!$H$2,"R",IF(K24>[1]Données!$H$2,"0"))))) -> Clos | N24: 42123 | P24: BON | R24: 42460
A25: 23 | B25: 42129 | C25: =Tableau14[[#This Row],[Date de rédaction]] -> 42129 | D25: AUDIT | E25: AUTRE | J25: GA | K25: 42137 | L25: =IF(R25>1/1/2000,"Clos",IF(K25="","",IF(N25>1/1/2000,"Fait",IF(K25<=[1]Données!$H$2,"R",IF(K25>[1]Données!$H$2,"0"))))) -> Clos | N25: 42291 | P25: BON | R25: 42460
A26: 24 | B26: 42129 | C26: =Tableau14[[#This Row],[Date de rédaction]] -> 42129 | D26: AUDIT | E26: SECURITE | J26: GA | K26: 42137 | L26: =IF(R26>1/1/2000,"Clos",IF(K26="","",IF(N26>1/1/2000,"Fait",IF(K26<=[1]Données!$H$2,"R",IF(K26>[1]Données!$H$2,"0"))))) -> Clos | N26: 42137 | P26: BON | R26: 42179
A27: 25 | B27: 42129 | C27: =Tableau14[[#This Row],[Date de rédaction]] -> 42129 | D27: AUDIT | E27: AUTRE | J27: GA | K27: 42179 | L27: =IF(R27>1/1/2000,"Clos",IF(K27="","",IF(N27>1/1/2000,"Fait",IF(K27<=[1]Données!$H$2,"R",IF(K27>[1]Données!$H$2,"0"))))) -> Clos | N27: 42179 | P27: BON | R27: 42179
A28: 26 | B28: 42129 | C28: =Tableau14[[#This Row],[Date de rédaction]] -> 42129 | D28: AUDIT | E28: AUTRE | J28: GA | K28: 42179 | L28: =IF(R28>1/1/2000,"Clos",IF(K28="","",IF(N28>1/1/2000,"Fait",IF(K28<=[1]Données!$H$2,"R",IF(K28>[1]Données!$H$2,"0"))))) -> Clos | N28: 42179 | P28: BON | R28: 42179
A29: 27 | B29: 42129 | C29: =Tableau14[[#This Row],[Date de rédaction]] -> 42129 | D29: AUDIT | E29: AUTRE | J29: GA | K29: 42179 | L29: =IF(R29>1/1/2000,"Clos",IF(K29="","",IF(N29>1/1/2000,"Fait",IF(K29<=[1]Données!$H$2,"R",IF(K29>[1]Données!$H$2,"0"))))) -> Clos | N29: 42179 | P29: BON | R29: 42179
A30: 28 | B30: 42129 | C30: =Tableau14[[#This Row],[Date de rédaction]] -> 42129 | D30: AUDIT | E30: SECURITE | J30: GA | K30: 42179 | L30: =IF(R30>1/1/2000,"Clos",IF(K30="","",IF(N30>1/1/2000,"Fait",IF(K30<=[1]Données!$H$2,"R",IF(K30>[1]Données!$H$2,"0"))))) -> Clos | N30: 42179 | P30: BON | R30: 42179
A31: 29 | B31: 42144 | C31: =Tableau14[[#This Row],[Date de rédaction]] -> 42144 | D31: DUERP | E31: AUTRE | J31: GA | K31: 42156 | L31: =IF(R31>1/1/2000,"Clos",IF(K31="","",IF(N31>1/1/2000,"Fait",IF(K31<=[1]Données!$H$2,"R",IF(K31>[1]Données!$H$2,"0"))))) -> Clos | N31: 42156 | P31: BON | R31: 42179
A32: 30 | B32: 42156 | C32: =Tableau14[[#This Row],[Date de rédaction]] -> 42156 | D32: DUERP | E32: AUTRE | J32: GA EQ | K32: 42263 | L32: =IF(R32>1/1/2000,"Clos",IF(K32="","",IF(N32>1/1/2000,"Fait",IF(K32<=[1]Données!$H$2,"R",IF(K32>[1]Données!$H$2,"0"))))) -> Clos | N32: 42291 | P32: BON | R32: 42460
... A42: 40 | B42: 42284 | C42: =Tableau14[[#This Row],[Date de rédaction]] -> 42284 | D42: DUERP | E42: SECURITE | J42: GA | K42: 42298 | L42: =IF(R42>1/1/2000,"Clos",IF(K42="","",IF(N42>1/1/2000,"Fait",IF(K42<=[1]Données!$H$2,"R",IF(K42>[1]Données!$H$2,"0"))))) -> Clos | N42: 42291 | P42: BON | R42: 42460
A43: 41 | B43: 42284 | C43: =Tableau14[[#This Row],[Date de rédaction]] -> 42284 | D43: RD & COPIL | E43: SECURITE | J43: EQ PA LW | K43: PERMANENT | L43: =IF(R43>1/1/2000,"Clos",IF(K43="","",IF(N43>1/1/2000,"Fait",IF(K43<=[1]Données!$H$2,"R",IF(K43>[1]Données!$H$2,"0"))))) -> Clos | N43: 43446 | P43: BON | R43: 43446
A44: 42 | B44: 42333 | C44: =Tableau14[[#This Row],[Date de rédaction]] -> 42333 | D44: RD & COPIL | E44: SECURITE | J44: EQ PA GA LW | K44: 42370 | L44: =IF(R44>1/1/2000,"Clos",IF(K44="","",IF(N44>1/1/2000,"Fait",IF(K44<=[1]Données!$H$2,"R",IF(K44>[1]Données!$H$2,"0"))))) -> Clos | N44: 42373 | P44: BON | R44: 42460
A45: 43 | B45: 42284 | C45: =Tableau14[[#This Row],[Date de rédaction]] -> 42284 | D45: RD & COPIL | E45: SECURITE | J45: EQ | K45: 42308 | L45: =IF(R45>1/1/2000,"Clos",IF(K45="","",IF(N45>1/1/2000,"Fait",IF(K45<=[1]Données!$H$2,"R",IF(K45>[1]Données!$H$2,"0"))))) -> Clos | N45: 42308 | P45: BON | R45: 42460
A46: 44 | B46: 42346 | C46: =Tableau14[[#This Row],[Date de rédaction]] -> 42346 | D46: RD & COPIL | E46: SECURITE | J46: GA | K46: 42369 | L46: =IF(R46>1/1/2000,"Clos",IF(K46="","",IF(N46>1/1/2000,"Fait",IF(K46<=[1]Données!$H$2,"R",IF(K46>[1]Données!$H$2,"0"))))) -> Clos | N46: 42373 | P46: BON | R46: 42460
A47: 45 | B47: 42377 | C47: =Tableau14[[#This Row],[Date de rédaction]] -> 42377 | D47: RD & COPIL | E47: SECURITE | J47: EQ | K47: 42384 | L47: =IF(R47>1/1/2000,"Clos",IF(K47="","",IF(N47>1/1/2000,"Fait",IF(K47<=[1]Données!$H$2,"R",IF(K47>[1]Données!$H$2,"0"))))) -> Clos | N47: 42384 | P47: BON | R47: 42460
A48: 46 | B48: 42389 | C48: =Tableau14[[#This Row],[Date de rédaction]] -> 42389 | D48: AUDIT | E48: AUTRE | J48: GA | K48: 42460 | L48: =IF(R48>1/1/2000,"Clos",IF(K48="","",IF(N48>1/1/2000,"Fait",IF(K48<=[1]Données!$H$2,"R",IF(K48>[1]Données!$H$2,"0"))))) -> Clos | N48: 42459 | P48: MAUVAIS | R48: 43544
A49: 47 | B49: 42389 | C49: =Tableau14[[#This Row],[Date de rédaction]] -> 42389 | D49: AUDIT | E49: AUTRE | J49: GA | K49: 42460 | L49: =IF(R49>1/1/2000,"Clos",IF(K49="","",IF(N49>1/1/2000,"Fait",IF(K49<=[1]Données!$H$2,"R",IF(K49>[1]Données!$H$2,"0"))))) -> Clos | N49: 42480 | P49: BON | R49: 42718
A50: 48 | B50: 42389 | C50: =Tableau14[[#This Row],[Date de rédaction]] -> 42389 | D50: AUDIT | E50: SECURITE | J50: EQ | K50: 42428 | L50: =IF(R50>1/1/2000,"Clos",IF(K50="","",IF(N50>1/1/2000,"Fait",IF(K50<=[1]Données!$H$2,"R",IF(K50>[1]Données!$H$2,"0"))))) -> Clos | N50: 42489 | P50: BON | R50: 42718
A51: 49 | B51: 42389 | C51: =Tableau14[[#This Row],[Date de rédaction]] -> 42389 | D51: AUDIT | E51: AUTRE | J51: GA EQ LW | K51: 42460 | L51: =IF(R51>1/1/2000,"Clos",IF(K51="","",IF(N51>1/1/2000,"Fait",IF(K51<=[1]Données!$H$2,"R",IF(K51>[1]Données!$H$2,"0"))))) -> Clos | N51: 42661 | P51: BON | R51: 42900
A52: 50 | B52: 42389 | C52: =Tableau14[[#This Row],[Date de rédaction]] -> 42389 | D52: AUDIT | E52: AUTRE | J52: GA EQ LW | K52: 42460 | L52: =IF(R52>1/1/2000,"Clos",IF(K52="","",IF(N52>1/1/2000,"Fait",IF(K52<=[1]Données!$H$2,"R",IF(K52>[1]Données!$H$2,"0"))))) -> Clos | N52: 42461 | P52: BON | R52: 42900
A53: 51 | B53: 42389 | C53: =Tableau14[[#This Row],[Date de rédaction]] -> 42389 | D53: AUDIT | E53: AUTRE | J53: GA | K53: 42428 | L53: =IF(R53>1/1/2000,"Clos",IF(K53="","",IF(N53>1/1/2000,"Fait",IF(K53<=[1]Données!$H$2,"R",IF(K53>[1]Données!$H$2,"0"))))) -> Clos | N53: 42417 | P53: BON | R53: 42900
A54: 52 | B54: 42389 | C54: =Tableau14[[#This Row],[Date de rédaction]] -> 42389 | D54: AUDIT | E54: AUTRE | J54: GA | K54: 43100 | L54: =IF(R54>1/1/2000,"Clos",IF(K54="","",IF(N54>1/1/2000,"Fait",IF(K54<=[1]Données!$H$2,"R",IF(K54>[1]Données!$H$2,"0"))))) -> Clos | N54: 43009 | P54: MAUVAIS | R54: 43145
A55: 53 | B55: 42389 | C55: =Tableau14[[#This Row],[Date de rédaction]] -> 42389 | D55: AUDIT | E55: AUTRE | J55: GA | K55: 42428 | L55: =IF(R55>1/1/2000,"Clos",IF(K55="","",IF(N55>1/1/2000,"Fait",IF(K55<=[1]Données!$H$2,"R",IF(K55>[1]Données!$H$2,"0"))))) -> Clos | N55: 42417 | P55: BON | R55: 42900
... A58: 56 | B58: 42389 | C58: =Tableau14[[#This Row],[Date de rédaction]] -> 42389 | D58: AUDIT | E58: AUTRE | J58: GA | K58: 42460 | L58: =IF(R58>1/1/2000,"Clos",IF(K58="","",IF(N58>1/1/2000,"Fait",IF(K58<=[1]Données!$H$2,"R",IF(K58>[1]Données!$H$2,"0"))))) -> Clos | N58: 42480 | P58: BON | R58: 42718
A59: 57 | B59: 42389 | C59: =Tableau14[[#This Row],[Date de rédaction]] -> 42389 | D59: AUDIT | E59: AUTRE | J59: EQ | K59: PERMANENT | L59: =IF(R59>1/1/2000,"Clos",IF(K59="","",IF(N59>1/1/2000,"Fait",IF(K59<=[1]Données!$H$2,"R",IF(K59>[1]Données!$H$2,"0"))))) -> Clos | N59: 42718 | P59: BON | R59: 42718
A60: 58 | B60: 42389 | C60: =Tableau14[[#This Row],[Date de rédaction]] -> 42389 | D60: AUDIT | E60: SECURITE | J60: EQ | K60: 42460 | L60: =IF(R60>1/1/2000,"Clos",IF(K60="","",IF(N60>1/1/2000,"Fait",IF(K60<=[1]Données!$H$2,"R",IF(K60>[1]Données!$H$2,"0"))))) -> Clos | N60: 42489 | P60: NON DETERMINE | R60: 44636
A61: 59 | B61: 42389 | C61: =Tableau14[[#This Row],[Date de rédaction]] -> 42389 | D61: Audit | E61: ENVIRONNEMENT | J61: GA LW | K61: 42410 | L61: =IF(R61>1/1/2000,"Clos",IF(K61="","",IF(N61>1/1/2000,"Fait",IF(K61<=[1]Données!$H$2,"R",IF(K61>[1]Données!$H$2,"0"))))) -> Clos | N61: 42417 | P61: BON | R61: 43810
A62: 60 | B62: 42389 | C62: =Tableau14[[#This Row],[Date de rédaction]] -> 42389 | D62: AUDIT | E62: SANTE | J62: LW | K62: 42704 | L62: =IF(R62>1/1/2000,"Clos",IF(K62="","",IF(N62>1/1/2000,"Fait",IF(K62<=[1]Données!$H$2,"R",IF(K62>[1]Données!$H$2,"0"))))) -> Clos | N62: 42704 | P62: BON | R62: 42900
A63: 61 | B63: 42389 | C63: =Tableau14[[#This Row],[Date de rédaction]] -> 42389 | D63: AUDIT | E63: SECURITE | J63: EQ | K63: 42460 | L63: =IF(R63>1/1/2000,"Clos",IF(K63="","",IF(N63>1/1/2000,"Fait",IF(K63<=[1]Données!$H$2,"R",IF(K63>[1]Données!$H$2,"0"))))) -> Clos | N63: 42515 | P63: BON | R63: 42515
A64: 62 | B64: 42389 | C64: =Tableau14[[#This Row],[Date de rédaction]] -> 42389 | D64: AUDIT | E64: SECURITE | J64: EQ | K64: 42460 | L64: =IF(R64>1/1/2000,"Clos",IF(K64="","",IF(N64>1/1/2000,"Fait",IF(K64<=[1]Données!$H$2,"R",IF(K64>[1]Données!$H$2,"0"))))) -> Clos | N64: 42489 | P64: BON | R64: 42718
A65: 63 | B65: 42347 | C65: =Tableau14[[#This Row],[Date de rédaction]] -> 42347 | D65: RD & COPIL | E65: ENVIRONNEMENT | J65: EQ | K65: 42369 | L65: =IF(R65>1/1/2000,"Clos",IF(K65="","",IF(N65>1/1/2000,"Fait",IF(K65<=[1]Données!$H$2,"R",IF(K65>[1]Données!$H$2,"0"))))) -> Clos | N65: 42369 | P65: BON | R65: 42718
A66: 64 | B66: 42347 | C66: =Tableau14[[#This Row],[Date de rédaction]] -> 42347 | D66: RD & COPIL | E66: ENVIRONNEMENT | J66: GA | K66: 42735 | L66: =IF(R66>1/1/2000,"Clos",IF(K66="","",IF(N66>1/1/2000,"Fait",IF(K66<=[1]Données!$H$2,"R",IF(K66>[1]Données!$H$2,"0"))))) -> Clos | N66: 42661 | P66: BON | R66: 42788
A67: 65 | B67: 42347 | C67: =Tableau14[[#This Row],[Date de rédaction]] -> 42347 | D67: DUERP | E67: SANTE | J67: GA | K67: 42428 | L67: =IF(R67>1/1/2000,"Clos",IF(K67="","",IF(N67>1/1/2000,"Fait",IF(K67<=[1]Données!$H$2,"R",IF(K67>[1]Données!$H$2,"0"))))) -> Clos | N67: 42417 | P67: A ADAPTER | R67: 42788
A68: 66 | B68: 42377 | C68: =Tableau14[[#This Row],[Date de rédaction]] -> 42377 | D68: RD & COPIL | E68: SECURITE | J68: EQ | K68: 42704 | L68: =IF(R68>1/1/2000,"Clos",IF(K68="","",IF(N68>1/1/2000,"Fait",IF(K68<=[1]Données!$H$2,"R",IF(K68>[1]Données!$H$2,"0"))))) -> Clos | N68: 43489 | P68: BON | R68: 43544
A69: 67 | B69: 42460 | C69: =Tableau14[[#This Row],[Date de rédaction]] -> 42460 | D69: RD & COPIL | E69: SECURITE | J69: EQ | K69: 42643 | L69: =IF(R69>1/1/2000,"Clos",IF(K69="","",IF(N69>1/1/2000,"Fait",IF(K69<=[1]Données!$H$2,"R",IF(K69>[1]Données!$H$2,"0"))))) -> Clos | N69: 42655 | P69: BON | R69: 42788
A70: 68 | B70: 42460 | C70: =Tableau14[[#This Row],[Date de rédaction]] -> 42460 | D70: RD & COPIL | E70: SECURITE | J70: GA | K70: 42735 | L70: =IF(R70>1/1/2000,"Clos",IF(K70="","",IF(N70>1/1/2000,"Fait",IF(K70<=[1]Données!$H$2,"R",IF(K70>[1]Données!$H$2,"0"))))) -> Clos | N70: 42718 | P70: A ADAPTER | R70: 43544
A71: 69 | B71: 42489 | C71: =Tableau14[[#This Row],[Date de rédaction]] -> 42489 | D71: RD & COPIL | E71: SECURITE | J71: EQ | K71: 42643 | L71: =IF(R71>1/1/2000,"Clos",IF(K71="","",IF(N71>1/1/2000,"Fait",IF(K71<=[1]Données!$H$2,"R",IF(K71>[1]Données!$H$2,"0"))))) -> Clos | N71: 42717 | P71: BON | R71: 43544
... A76: 74 | B76: 42788 | C76: =Tableau14[[#This Row],[Date de rédaction]] -> 42788 | D76: RD & COPIL | E76: AUTRE | J76: EQ /PA | K76: 43105 | L76: =IF(R76>1/1/2000,"Clos",IF(K76="","",IF(N76>1/1/2000,"Fait",IF(K76<=[1]Données!$H$2,"R",IF(K76>[1]Données!$H$2,"0"))))) -> Clos | N76: 43104 | P76: BON | R76: 43544
A77: 75 | B77: 42788 | C77: =Tableau14[[#This Row],[Date de rédaction]] -> 42788 | D77: RD & COPIL | E77: SANTE | J77: GA | K77: 42870 | L77: =IF(R77>1/1/2000,"Clos",IF(K77="","",IF(N77>1/1/2000,"Fait",IF(K77<=[1]Données!$H$2,"R",IF(K77>[1]Données!$H$2,"0"))))) -> Clos | N77: 42899 | R77: 43075
A78: 76 | B78: 42788 | C78: =Tableau14[[#This Row],[Date de rédaction]] -> 42788 | D78: RD & COPIL | E78: AUTRE | J78: GA | K78: 42809 | L78: =IF(R78>1/1/2000,"Clos",IF(K78="","",IF(N78>1/1/2000,"Fait",IF(K78<=[1]Données!$H$2,"R",IF(K78>[1]Données!$H$2,"0"))))) -> Clos | N78: 42844 | P78: BON | R78: 43544
A79: 77 | B79: 42788 | C79: =Tableau14[[#This Row],[Date de rédaction]] -> 42788 | D79: RD & COPIL | E79: AUTRE | J79: GA | K79: 42825 | L79: =IF(R79>1/1/2000,"Clos",IF(K79="","",IF(N79>1/1/2000,"Fait",IF(K79<=[1]Données!$H$2,"R",IF(K79>[1]Données!$H$2,"0"))))) -> Clos | N79: 42793 | P79: BON | R79: 43075
A80: 78 | B80: 42788 | C80: =Tableau14[[#This Row],[Date de rédaction]] -> 42788 | D80: RD & COPIL | E80: AUTRE | J80: EQ | K80: 43434 | L80: =IF(R80>1/1/2000,"Clos",IF(K80="","",IF(N80>1/1/2000,"Fait",IF(K80<=[1]Données!$H$2,"R",IF(K80>[1]Données!$H$2,"0"))))) -> Clos | N80: 43449 | R80: 44265
A81: 79 | B81: 42788 | C81: =Tableau14[[#This Row],[Date de rédaction]] -> 42788 | D81: RD & COPIL | E81: AUTRE | J81: EQ / LW | K81: PERMANANT | L81: =IF(R81>1/1/2000,"Clos",IF(K81="","",IF(N81>1/1/2000,"Fait",IF(K81<=[1]Données!$H$2,"R",IF(K81>[1]Données!$H$2,"0"))))) -> Clos | N81: 43810 | P81: MAUVAIS | R81: 43810
A82: 80 | B82: 42788 | C82: =Tableau14[[#This Row],[Date de rédaction]] -> 42788 | D82: RD & COPIL | E82: SANTE | J82: EQ | K82: 42978 | L82: =IF(R82>1/1/2000,"Clos",IF(K82="","",IF(N82>1/1/2000,"Fait",IF(K82<=[1]Données!$H$2,"R",IF(K82>[1]Données!$H$2,"0"))))) -> Clos | N82: 42943 | P82: BON | R82: 43145
A83: 81 | B83: 42788 | C83: =Tableau14[[#This Row],[Date de rédaction]] -> 42788 | D83: FICHE DE SECURITE | E83: SECURITE | J83: EQ | K83: 42900 | L83: =IF(R83>1/1/2000,"Clos",IF(K83="","",IF(N83>1/1/2000,"Fait",IF(K83<=[1]Données!$H$2,"R",IF(K83>[1]Données!$H$2,"0"))))) -> Clos | N83: 42809 | P83: BON | R83: 43005
A84: 82 | B84: 43005 | C84: =Tableau14[[#This Row],[Date de rédaction]] -> 43005 | D84: RD & COPIL | E84: SECURITE | J84: EQ/lw/paa | K84: 43386 | L84: =IF(R84>1/1/2000,"Clos",IF(K84="","",IF(N84>1/1/2000,"Fait",IF(K84<=[1]Données!$H$2,"R",IF(K84>[1]Données!$H$2,"0"))))) -> Clos | N84: 43511 | P84: BON | R84: 43810
A85: 83 | B85: 43005 | C85: =Tableau14[[#This Row],[Date de rédaction]] -> 43005 | D85: RD & COPIL | E85: SECURITE | J85: EQ / LW | K85: 43525 | L85: =IF(R85>1/1/2000,"Clos",IF(K85="","",IF(N85>1/1/2000,"Fait",IF(K85<=[1]Données!$H$2,"R",IF(K85>[1]Données!$H$2,"0"))))) -> Clos | N85: 43388 | P85: BON | R85: 43544
A86: 84 | B86: 43005 | C86: =Tableau14[[#This Row],[Date de rédaction]] -> 43005 | D86: RD & COPIL | E86: ENVIRONNEMENT | J86: EQ / LW | K86: 43525 | L86: =IF(R86>1/1/2000,"Clos",IF(K86="","",IF(N86>1/1/2000,"Fait",IF(K86<=[1]Données!$H$2,"R",IF(K86>[1]Données!$H$2,"0"))))) -> Clos | N86: 43388 | P86: BON | R86: 43544
A87: 85 | B87: 43091 | C87: =Tableau14[[#This Row],[Date de rédaction]] -> 43091 | D87: RD & COPIL | E87: SANTE | J87: EQ | K87: 43264 | L87: =IF(R87>1/1/2000,"Clos",IF(K87="","",IF(N87>1/1/2000,"Fait",IF(K87<=[1]Données!$H$2,"R",IF(K87>[1]Données!$H$2,"0"))))) -> Clos | N87: 43479 | P87: BON | R87: 43544
A88: 86 | B88: 43145 | C88: =Tableau14[[#This Row],[Date de rédaction]] -> 43145 | D88: RD & COPIL | E88: ENVIRONNEMENT | J88: LW | K88: 43369 | L88: =IF(R88>1/1/2000,"Clos",IF(K88="","",IF(N88>1/1/2000,"Fait",IF(K88<=[1]Données!$H$2,"R",IF(K88>[1]Données!$H$2,"0"))))) -> Clos | N88: 43516 | P88: BON | R88: 43544
A89: 87 | B89: 43164 | C89: =Tableau14[[#This Row],[Date de rédaction]] -> 43164 | D89: CLIENT | E89: SECURITE | J89: EQ | K89: 43264 | L89: =IF(R89>1/1/2000,"Clos",IF(K89="","",IF(N89>1/1/2000,"Fait",IF(K89<=[1]Données!$H$2,"R",IF(K89>[1]Données!$H$2,"0"))))) -> Clos | N89: 43493 | P89: BON | R89: 43735
A90: 88 | B90: 43369 | C90: =Tableau14[[#This Row],[Date de rédaction]] -> 43369 | D90: CLIENT | E90: SANTE | J90: EQ / PA / LW | K90: 43465 | L90: =IF(R90>1/1/2000,"Clos",IF(K90="","",IF(N90>1/1/2000,"Fait",IF(K90<=[1]Données!$H$2,"R",IF(K90>[1]Données!$H$2,"0"))))) -> Clos | N90: 43423 | P90: BON | R90: 43440
A91: 89 | B91: 43369 | C91: =Tableau14[[#This Row],[Date de rédaction]] -> 43369 | D91: FICHE DE SECURITE | E91: SECURITE | J91: EQ | K91: 43465 | L91: =IF(R91>1/1/2000,"Clos",IF(K91="","",IF(N91>1/1/2000,"Fait",IF(K91<=[1]Données!$H$2,"R",IF(K91>[1]Données!$H$2,"0"))))) -> Clos | N91: 43419 | P91: BON | R91: 43544
A92: 90 | B92: 43343 | C92: =Tableau14[[#This Row],[Date de rédaction]] -> 43343 | D92: FICHE DE SECURITE | E92: SECURITE | J92: EQ | K92: 43465 | L92: =IF(R92>1/1/2000,"Clos",IF(K92="","",IF(N92>1/1/2000,"Fait",IF(K92<=[1]Données!$H$2,"R",IF(K92>[1]Données!$H$2,"0"))))) -> Clos | N92: 43358 | P92: BON | R92: 43446
A93: 91 | B93: 43353 | C93: =Tableau14[[#This Row],[Date de rédaction]] -> 43353 | D93: FICHE DE SECURITE | E93: SECURITE | J93: EQ | K93: 43465 | L93: =IF(R93>1/1/2000,"Clos",IF(K93="","",IF(N93>1/1/2000,"Fait",IF(K93<=[1]Données!$H$2,"R",IF(K93>[1]Données!$H$2,"0"))))) -> Clos | N93: 43347 | P93: BON | R93: 43908
A94: 92 | B94: 43446 | C94: =Tableau14[[#This Row],[Date de rédaction]] -> 43446 | D94: FICHE DE SECURITE | E94: SECURITE | J94: EQ | K94: 43465 | L94: =IF(R94>1/1/2000,"Clos",IF(K94="","",IF(N94>1/1/2000,"Fait",IF(K94<=[1]Données!$H$2,"R",IF(K94>[1]Données!$H$2,"0"))))) -> Clos | N94: 43461 | P94: BON | R94: 43544
A95: 93 | B95: 43476 | C95: =Tableau14[[#This Row],[Date de rédaction]] -> 43476 | D95: REGLEMENTAIRE | E95: SECURITE | I95: x | J95: EQ | K95: 43585 | L95: =IF(R95>1/1/2000,"Clos",IF(K95="","",IF(N95>1/1/2000,"Fait",IF(K95<=[1]Données!$H$2,"R",IF(K95>[1]Données!$H$2,"0"))))) -> Clos | N95: 43546 | P95: BON | R95: 43908
A96: 94 | B96: 43476 | C96: =Tableau14[[#This Row],[Date de rédaction]] -> 43476 | D96: REGLEMENTAIRE | E96: SECURITE | J96: EQ | K96: 43496 | L96: =IF(R96>1/1/2000,"Clos",IF(K96="","",IF(N96>1/1/2000,"Fait",IF(K96<=[1]Données!$H$2,"R",IF(K96>[1]Données!$H$2,"0"))))) -> Clos | N96: 43479 | P96: BON | R96: 43908
A97: 95 | B97: 43484 | C97: =Tableau14[[#This Row],[Date de rédaction]] -> 43484 | D97: CLIENT | E97: SECURITE | J97: EQ | K97: 43646 | L97: =IF(R97>1/1/2000,"Clos",IF(K97="","",IF(N97>1/1/2000,"Fait",IF(K97<=[1]Données!$H$2,"R",IF(K97>[1]Données!$H$2,"0"))))) -> Clos | N97: 43567 | P97: BON | R97: 44265
A98: 96 | B98: 43544 | C98: =Tableau14[[#This Row],[Date de rédaction]] -> 43544 | D98: RD & COPIL | E98: SECURITE | J98: EQ | K98: 44377 | L98: =IF(R98>1/1/2000,"Clos",IF(K98="","",IF(N98>1/1/2000,"Fait",IF(K98<=[1]Données!$H$2,"R",IF(K98>[1]Données!$H$2,"0"))))) -> Clos | N98: 44687 | P98: MAUVAIS | R98: 44687
A99: 97 | B99: 43544 | C99: =Tableau14[[#This Row],[Date de rédaction]] -> 43544 | D99: AUDIT | E99: AUTRE | J99: EQ | K99: 43830 | L99: =IF(R99>1/1/2000,"Clos",IF(K99="","",IF(N99>1/1/2000,"Fait",IF(K99<=[1]Données!$H$2,"R",IF(K99>[1]Données!$H$2,"0"))))) -> Clos | N99: 43826 | P99: MAUVAIS | R99: 43908
A100: 98 | B100: 43544 | C100: =Tableau14[[#This Row],[Date de rédaction]] -> 43544 | D100: AUDIT | E100: AUTRE | I100: X | J100: EQ | K100: 43830 | L100: =IF(R100>1/1/2000,"Clos",IF(K100="","",IF(N100>1/1/2000,"Fait",IF(K100<=[1]Données!$H$2,"R",IF(K100>[1]Données!$H$2,"0"))))) -> Clos | N100: 43811 | P100: BON | R100: 43908
A101: 99 | B101: 43544 | C101: =Tableau14[[#This Row],[Date de rédaction]] -> 43544 | D101: AUDIT | E101: AUTRE | J101: EQ/LW | K101: 43544 | L101: =IF(R101>1/1/2000,"Clos",IF(K101="","",IF(N101>1/1/2000,"Fait",IF(K101<=[1]Données!$H$2,"R",IF(K101>[1]Données!$H$2,"0"))))) -> Clos | N101: 43544 | P101: BON | R101: 43908
A102: 100 | B102: 43544 | C102: =Tableau14[[#This Row],[Date de rédaction]] -> 43544 | D102: FICHE DE SECURITE | E102: SECURITE | J102: EQ | K102: 43717 | L102: =IF(R102>1/1/2000,"Clos",IF(K102="","",IF(N102>1/1/2000,"Fait",IF(K102<=[1]Données!$H$2,"R",IF(K102>[1]Données!$H$2,"0"))))) -> Clos | N102: 43745 | P102: MAUVAIS | R102: 44458
A103: 101 | B103: 43544 | C103: =Tableau14[[#This Row],[Date de rédaction]] -> 43544 | D103: RD & COPIL | E103: ENVIRONNEMENT | J103: EQ | K103: 43830 | L103: =IF(R103>1/1/2000,"Clos",IF(K103="","",IF(N103>1/1/2000,"Fait",IF(K103<=[1]Données!$H$2,"R",IF(K103>[1]Données!$H$2,"0"))))) -> Clos | N103: 43861 | P103: BON | R103: 44265
A104: 102 | B104: 43556 | C104: =Tableau14[[#This Row],[Date de rédaction]] -> 43556 | D104: FICHE DE SECURITE | E104: ENVIRONNEMENT | J104: EQ | K104: 43677 | L104: =IF(R104>1/1/2000,"Clos",IF(K104="","",IF(N104>1/1/2000,"Fait",IF(K104<=[1]Données!$H$2,"R",IF(K104>[1]Données!$H$2,"0"))))) -> Clos | N104: 43636 | P104: BON | R104: 43810
A105: 103 | B105: 43696 | C105: =Tableau14[[#This Row],[Date de rédaction]] -> 43696 | D105: FICHE DE SECURITE | E105: SECURITE | J105: EQ | K105: 44227 | L105: =IF(R105>1/1/2000,"Clos",IF(K105="","",IF(N105>1/1/2000,"Fait",IF(K105<=[1]Données!$H$2,"R",IF(K105>[1]Données!$H$2,"0"))))) -> Clos | N105: 44202 | P105: BON | R105: 44265
A106: 104 | B106: 43787 | C106: =Tableau14[[#This Row],[Date de rédaction]] -> 43787 | D106: FICHE DE SECURITE | E106: SECURITE | J106: RC | K106: 44012 | L106: =IF(R106>1/1/2000,"Clos",IF(K106="","",IF(N106>1/1/2000,"Fait",IF(K106<=[1]Données!$H$2,"R",IF(K106>[1]Données!$H$2,"0"))))) -> Clos | N106: 43965 | P106: MAUVAIS | R106: 44090
A107: 105 | B107: 43794 | C107: =Tableau14[[#This Row],[Date de rédaction]] -> 43794 | D107: FICHE DE SECURITE | E107: SECURITE | J107: EQ | K107: 43810 | L107: =IF(R107>1/1/2000,"Clos",IF(K107="","",IF(N107>1/1/2000,"Fait",IF(K107<=[1]Données!$H$2,"R",IF(K107>[1]Données!$H$2,"0"))))) -> Clos | N107: 43810 | P107: BON | R107: 43908
A108: 106 | B108: 43810 | C108: =Tableau14[[#This Row],[Date de rédaction]] -> 43810 | D108: AUDIT | E108: SECURITE | J108: RC | K108: 43830 | L108: =IF(R108>1/1/2000,"Clos",IF(K108="","",IF(N108>1/1/2000,"Fait",IF(K108<=[1]Données!$H$2,"R",IF(K108>[1]Données!$H$2,"0"))))) -> Clos | N108: 43815 | P108: BON | R108: 43908
A109: 107 | B109: 43808 | C109: =Tableau14[[#This Row],[Date de rédaction]] -> 43808 | D109: FICHE DE SECURITE | E109: SECURITE | J109: RC | K109: 43845 | L109: =IF(R109>1/1/2000,"Clos",IF(K109="","",IF(N109>1/1/2000,"Fait",IF(K109<=[1]Données!$H$2,"R",IF(K109>[1]Données!$H$2,"0"))))) -> Clos | N109: 43860 | P109: BON | R109: 43908
A110: 108 | B110: 43810 | C110: =Tableau14[[#This Row],[Date de rédaction]] -> 43810 | D110: AUDIT | E110: AUTRE | I110: X | J110: EQ | K110: 44012 | L110: =IF(R110>1/1/2000,"Clos",IF(K110="","",IF(N110>1/1/2000,"Fait",IF(K110<=[1]Données!$H$2,"R",IF(K110>[1]Données!$H$2,"0"))))) -> Clos | N110: 44169 | P110: BON | R110: 44270
A111: 109 | B111: 43833 | C111: =Tableau14[[#This Row],[Date de rédaction]] -> 43833 | D111: REGLEMENTAIRE | E111: AUTRE | J111: RC | K111: 43861 | L111: =IF(R111>1/1/2000,"Clos",IF(K111="","",IF(N111>1/1/2000,"Fait",IF(K111<=[1]Données!$H$2,"R",IF(K111>[1]Données!$H$2,"0"))))) -> Clos | N111: 43907 | P111: BON | R111: 43908
A112: 110 | B112: 43839 | C112: =Tableau14[[#This Row],[Date de rédaction]] -> 43839 | D112: AUDIT | E112: AUTRE | I112: x | J112: EQ | K112: 44196 | L112: =IF(R112>1/1/2000,"Clos",IF(K112="","",IF(N112>1/1/2000,"Fait",IF(K112<=[1]Données!$H$2,"R",IF(K112>[1]Données!$H$2,"0"))))) -> Fait | N112: 44168
A113: 111 | B113: 43839 | C113: =Tableau14[[#This Row],[Date de rédaction]] -> 43839 | D113: AUDIT | E113: AUTRE | J113: EQ/LW | K113: 43843 | L113: =IF(R113>1/1/2000,"Clos",IF(K113="","",IF(N113>1/1/2000,"Fait",IF(K113<=[1]Données!$H$2,"R",IF(K113>[1]Données!$H$2,"0"))))) -> Clos | N113: 43843 | P113: BON | R113: 44273
A114: 112 | B114: 43839 | C114: =Tableau14[[#This Row],[Date de rédaction]] -> 43839 | D114: AUDIT | E114: SECURITE | I114: X | J114: EQ | K114: 43847 | L114: =IF(R114>1/1/2000,"Clos",IF(K114="","",IF(N114>1/1/2000,"Fait",IF(K114<=[1]Données!$H$2,"R",IF(K114>[1]Données!$H$2,"0"))))) -> Clos | N114: 43847 | P114: BON | R114: 43908
A115: 113 | B115: 43839 | C115: =Tableau14[[#This Row],[Date de rédaction]] -> 43839 | D115: AUDIT | E115: SANTE | J115: EQ/LW | K115: 43908 | L115: =IF(R115>1/1/2000,"Clos",IF(K115="","",IF(N115>1/1/2000,"Fait",IF(K115<=[1]Données!$H$2,"R",IF(K115>[1]Données!$H$2,"0"))))) -> Clos | N115: 43908 | P115: BON | R115: 43908
A116: 114 | B116: 43839 | C116: =Tableau14[[#This Row],[Date de rédaction]] -> 43839 | D116: AUDIT | E116: AUTRE | J116: EQ | K116: 31/06/2021 | L116: =IF(R116>1/1/2000,"Clos",IF(K116="","",IF(N116>1/1/2000,"Fait",IF(K116<=[1]Données!$H$2,"R",IF(K116>[1]Données!$H$2,"0"))))) -> Clos | N116: 44526 | P116: BON | R116: 44636
A117: 115 | B117: 43839 | C117: =Tableau14[[#This Row],[Date de rédaction]] -> 43839 | D117: AUDIT | E117: SECURITE | J117: EQ | K117: 31/06/2021 | L117: =IF(R117>1/1/2000,"Clos",IF(K117="","",IF(N117>1/1/2000,"Fait",IF(K117<=[1]Données!$H$2,"R",IF(K117>[1]Données!$H$2,"0"))))) -> Clos | R117: 44825
A118: 116 | B118: 43839 | C118: =Tableau14[[#This Row],[Date de rédaction]] -> 43839 | D118: AUDIT | E118: AUTRE | J118: EQ | K118: 44561 | L118: =IF(R118>1/1/2000,"Clos",IF(K118="","",IF(N118>1/1/2000,"Fait",IF(K118<=[1]Données!$H$2,"R",IF(K118>[1]Données!$H$2,"0"))))) -> Clos | N118: 44451 | P118: BON | R118: 44537
A119: 117 | B119: 43908 | C119: =Tableau14[[#This Row],[Date de rédaction]] -> 43908 | D119: RD & COPIL | E119: AUTRE | J119: EQ/LW | K119: PERMANENT | L119: =IF(R119>1/1/2000,"Clos",IF(K119="","",IF(N119>1/1/2000,"Fait",IF(K119<=[1]Données!$H$2,"R",IF(K119>[1]Données!$H$2,"0"))))) -> Clos | P119: BON | R119: 45000
...
