Workbook

Sheet Nom
A1: Noms | B1: A | C1: B | D1: C
A2: ABELARD F | B2: {=_xlfn.XLOOKUP(TRIM(A2),'Pour mise en place'!$A$1:$A$58,'Pour mise en place'!$A$1:$B$58,"--")} -> -- | D2: $
A3: ACHKI | B3: {=_xlfn.XLOOKUP(TRIM(A3),'Pour mise en place'!$A$1:$A$58,'Pour mise en place'!$A$1:$B$58,"--")} -> -- | D3: $
A4: ADWAN | B4: {=_xlfn.XLOOKUP(TRIM(A4),'Pour mise en place'!$A$1:$A$58,'Pour mise en place'!$A$1:$B$58,"--")} -> ADWAN | C4: ADWAN$45689$Deauville$5$5$ADWAN$H5$GUYON M.$CAULLERY N. | D4: $
A5: AHATIS | B5: {=_xlfn.XLOOKUP(TRIM(A5),'Pour mise en place'!$A$1:$A$58,'Pour mise en place'!$A$1:$B$58,"--")} -> -- | D5: $
A6: ALBERT BRIDGE | B6: {=_xlfn.XLOOKUP(TRIM(A6),'Pour mise en place'!$A$1:$A$58,'Pour mise en place'!$A$1:$B$58,"--")} -> -- | D6: $
A7: ALI | B7: {=_xlfn.XLOOKUP(TRIM(A7),'Pour mise en place'!$A$1:$A$58,'Pour mise en place'!$A$1:$B$58,"--")} -> -- | D7: $
A8: ALI PACHA | B8: {=_xlfn.XLOOKUP(TRIM(A8),'Pour mise en place'!$A$1:$A$58,'Pour mise en place'!$A$1:$B$58,"--")} -> -- | D8: $
A9: ALLURES DE REINE | B9: {=_xlfn.XLOOKUP(TRIM(A9),'Pour mise en place'!$A$1:$A$58,'Pour mise en place'!$A$1:$B$58,"--")} -> -- | D9: $
A10: ALONZO | B10: {=_xlfn.XLOOKUP(TRIM(A10),'Pour mise en place'!$A$1:$A$58,'Pour mise en place'!$A$1:$B$58,"--")} -> #VALUE! | C10: ALONZO$45689$Deauville$2$3$ALONZO$H4$DUPORTE MME A.$CERULIS S. | D10: $
A11: ALPENGEIST | B11: {=_xlfn.XLOOKUP(TRIM(A11),'Pour mise en place'!$A$1:$A$58,'Pour mise en place'!$A$1:$B$58,"--")} -> -- | D11: $
A12: ALPHA SPIRIT | B12: {=_xlfn.XLOOKUP(TRIM(A12),'Pour mise en place'!$A$1:$A$58,'Pour mise en place'!$A$1:$B$58,"--")} -> -- | D12: $
A13: AMAZIN QUEEN | B13: {=_xlfn.XLOOKUP(TRIM(A13),'Pour mise en place'!$A$1:$A$58,'Pour mise en place'!$A$1:$B$58,"--")} -> -- | D13: $
A14: ANONYME | B14: {=_xlfn.XLOOKUP(TRIM(A14),'Pour mise en place'!$A$1:$A$58,'Pour mise en place'!$A$1:$B$58,"--")} -> -- | D14: $
A15: ASTEROIDE DREAM | B15: {=_xlfn.XLOOKUP(TRIM(A15),'Pour mise en place'!$A$1:$A$58,'Pour mise en place'!$A$1:$B$58,"--")} -> -- | D15: $
A16: AWESOME EDITION | B16: {=_xlfn.XLOOKUP(TRIM(A16),'Pour mise en place'!$A$1:$A$58,'Pour mise en place'!$A$1:$B$58,"--")} -> -- | D16: $
A17: BABY GEORGE | B17: {=_xlfn.XLOOKUP(TRIM(A17),'Pour mise en place'!$A$1:$A$58,'Pour mise en place'!$A$1:$B$58,"--")} -> -- | D17: $
A18: BARGING THRU | B18: {=_xlfn.XLOOKUP(TRIM(A18),'Pour mise en place'!$A$1:$A$58,'Pour mise en place'!$A$1:$B$58,"--")} -> -- | D18: $
A19: BEAU DINO | B19: {=_xlfn.XLOOKUP(TRIM(A19),'Pour mise en place'!$A$1:$A$58,'Pour mise en place'!$A$1:$B$58,"--")} -> -- | D19: $
A20: BELLA CIAO | B20: {=_xlfn.XLOOKUP(TRIM(A20),'Pour mise en place'!$A$1:$A$58,'Pour mise en place'!$A$1:$B$58,"--")} -> -- | D20: $
A21: BETTERDAYSRCOMING | B21: {=_xlfn.XLOOKUP(TRIM(A21),'Pour mise en place'!$A$1:$A$58,'Pour mise en place'!$A$1:$B$58,"--")} -> -- | D21: $
A22: BEYOND BELIEF | B22: {=_xlfn.XLOOKUP(TRIM(A22),'Pour mise en place'!$A$1:$A$58,'Pour mise en place'!$A$1:$B$58,"--")} -> -- | D22: $
... A24: BLACK LIVES MATTER | B24: {=_xlfn.XLOOKUP(TRIM(A24),'Pour mise en place'!$A$1:$A$58,'Pour mise en place'!$A$1:$B$58,"--")} -> -- | D24: $
A25: BLUE MOVES | B25: {=_xlfn.XLOOKUP(TRIM(A25),'Pour mise en place'!$A$1:$A$58,'Pour mise en place'!$A$1:$B$58,"--")} -> BLUE MOVES | C25: BLUE MOVES$45689$Deauville$3$10$BLUE MOVES$F4$PASQUIER S.$CHAPPET (S) F. | D25: $
A26: BLUE SWAN | B26: {=_xlfn.XLOOKUP(TRIM(A26),'Pour mise en place'!$A$1:$A$58,'Pour mise en place'!$A$1:$B$58,"--")} -> -- | D26: $
A27: BOLT OF THUNDER | B27: {=_xlfn.XLOOKUP(TRIM(A27),'Pour mise en place'!$A$1:$A$58,'Pour mise en place'!$A$1:$B$58,"--")} -> -- | D27: $
A28: BONHEUR BLEU | B28: {=_xlfn.XLOOKUP(TRIM(A28),'Pour mise en place'!$A$1:$A$58,'Pour mise en place'!$A$1:$B$58,"--")} -> -- | D28: $
A29: BONNIE HOPPS | B29: {=_xlfn.XLOOKUP(TRIM(A29),'Pour mise en place'!$A$1:$A$58,'Pour mise en place'!$A$1:$B$58,"--")} -> -- | D29: $
A30: BORGHAL | B30: {=_xlfn.XLOOKUP(TRIM(A30),'Pour mise en place'!$A$1:$A$58,'Pour mise en place'!$A$1:$B$58,"--")} -> -- | D30: $
A31: BOZA | B31: {=_xlfn.XLOOKUP(TRIM(A31),'Pour mise en place'!$A$1:$A$58,'Pour mise en place'!$A$1:$B$58,"--")} -> -- | D31: $
A32: BRAWN | B32: {=_xlfn.XLOOKUP(TRIM(A32),'Pour mise en place'!$A$1:$A$58,'Pour mise en place'!$A$1:$B$58,"--")} -> -- | D32: $
A33: BURNHAM SQUARE | B33: {=_xlfn.XLOOKUP(TRIM(A33),'Pour mise en place'!$A$1:$A$58,'Pour mise en place'!$A$1:$B$58,"--")} -> -- | D33: $
A34: BURNING GLORY | B34: {=_xlfn.XLOOKUP(TRIM(A34),'Pour mise en place'!$A$1:$A$58,'Pour mise en place'!$A$1:$B$58,"--")} -> -- | D34: $
A35: CADET CORPS | B35: {=_xlfn.XLOOKUP(TRIM(A35),'Pour mise en place'!$A$1:$A$58,'Pour mise en place'!$A$1:$B$58,"--")} -> -- | D35: $
A36: CALYPSO | B36: {=_xlfn.XLOOKUP(TRIM(A36),'Pour mise en place'!$A$1:$A$58,'Pour mise en place'!$A$1:$B$58,"--")} -> -- | D36: $
A37: CARACAS | B37: {=_xlfn.XLOOKUP(TRIM(A37),'Pour mise en place'!$A$1:$A$58,'Pour mise en place'!$A$1:$B$58,"--")} -> -- | D37: $
... A51: DAHAM | B51: {=_xlfn.XLOOKUP(TRIM(A51),'Pour mise en place'!$A$1:$A$58,'Pour mise en place'!$A$1:$B$58,"--")} -> -- | D51: $
A52: DARBASAN | B52: {=_xlfn.XLOOKUP(TRIM(A52),'Pour mise en place'!$A$1:$A$58,'Pour mise en place'!$A$1:$B$58,"--")} -> DARBASAN | C52: DARBASAN$45689$Deauville$2$1$DARBASAN$H4$PLANQUE S.$PHELIPPON J. | D52: $
A53: DARK ZEL | B53: {=_xlfn.XLOOKUP(TRIM(A53),'Pour mise en place'!$A$1:$A$58,'Pour mise en place'!$A$1:$B$58,"--")} -> -- | D53: $
A54: DEVIL IN THE SKY | B54: {=_xlfn.XLOOKUP(TRIM(A54),'Pour mise en place'!$A$1:$A$58,'Pour mise en place'!$A$1:$B$58,"--")} -> DEVIL IN THE SKY | C54: DEVIL IN THE SKY$45689$Deauville$1$1$DEVIL IN THE SKY$H5$NOMIS L.$BARBEROT (S) Y. | D54: $
...

Sheet Pour mise en place
A1: DEVIL IN THE SKY | B1: DEVIL IN THE SKY$45689$Deauville$1$1$DEVIL IN THE SKY$H5$NOMIS L.$BARBEROT (S) Y. | C1: $
A2: ROYAUMONT | B2: ROYAUMONT$45689$Deauville$1$2$ROYAUMONT$H8$VERHESTRAETEN E.$CHAPPET (S) F. | C2: $
A3: LISEO | B3: LISEO$45689$Deauville$1$3$LISEO$H6$BACHELOT T.$CERULIS S. | C3: $
A4: NACIDO | B4: NACIDO$45689$Deauville$1$4$NACIDO$H7$VELON MLLE M.$BLUME H. A. | C4: $
A5: MOTION | B5: MOTION$45689$Deauville$1$5$MOTION$H5$PICCONE T.$BLANCHET X. | C5: $
A6: FIRSTMAN | B6: FIRSTMAN$45689$Deauville$1$6$FIRSTMAN$H8$GUYON M.$MONFORT (S) FR. | C6: $
A7: KELPIE | B7: KELPIE$45689$Deauville$1$7$KELPIE$F5$MASSIN MLLE A.$BUTEL & BEAUNEZ (S) P&JL. | C7: $
A8: GOOD TOO | B8: GOOD TOO$45689$Deauville$1$8$GOOD TOO$H6$ZEESHAAN SAHEBJAN Moh.$WEST A. | C8: $
A9: SOURCE YVETTE | B9: SOURCE YVETTE$45689$Deauville$1$9$SOURCE YVETTE$F5$FLEURY MME Man.$CHENU MME F. | C9: $
A10: DARBASAN | B10: DARBASAN$45689$Deauville$2$1$DARBASAN$H4$PLANQUE S.$PHELIPPON J. | C10: $
A11: ROYAL CADEAU | B11: ROYAL CADEAU$45689$Deauville$2$2$ROYAL CADEAU$H4$MADAMET A.$BRASME (S) M. | C11: $
A12: ALONZO | B12: ALONZO$45689$Deauville$2$3$ALONZO$H4$DUPORTE MME A.$CERULIS S. | C12: $
... A200: LALOI AQ | B200: LALOI AQ$45689$Machecoul$6$8$LALOI AQ$F4$RENARD A.$D' ANDIGNE E. | C200: $
A201: NITINHA HAS | B201: NITINHA HAS$45689$Machecoul$6$9$NITINHA HAS$F4$ZULIANI A.$NICOLLE F.
A202: QUEDLA GAGNE | B202: QUEDLA GAGNE$45689$Machecoul$6$10$QUEDLA GAGNE$F4$BRECHET Léo P.$JOURNIAC P.
A203: L'ETOILE DU MATIN | B203: L'ETOILE DU MATIN$45689$Machecoul$6$11$L'ETOILE DU MATIN$F4$NAIL-ROCHER Vic.$MENUET (S) W.
A204: EUFRASIA | B204: EUFRASIA$45689$Machecoul$6$12$EUFRASIA$F4$JOUIN O.$SOLIER M.
A205: LOIN DU LARGE | B205: LOIN DU LARGE$45689$Machecoul$6$13$LOIN DU LARGE$F4$DUMOUCH Th.$LEENDERS GAB.
A206: LUEUR DU LARGE | B206: LUEUR DU LARGE$45689$Machecoul$6$14$LUEUR DU LARGE$F4$CHEVILLARD T.$PELTIER (S) P&C.
A207: JOYEUSE ALLEN AQ | B207: JOYEUSE ALLEN AQ$45689$Machecoul$7$1$JOYEUSE ALLEN AQ$F6$LELIEVRE A.$D' ANDIGNE E.
A208: BEAU DINO | B208: BEAU DINO$45689$Machecoul$7$2$BEAU DINO$H5$LEPAGE Axe.$PLANQUE (S) J.
A209: HOURVARI SARAMOUR AQ | B209: HOURVARI SARAMOUR AQ$45689$Machecoul$7$3$HOURVARI SARAMOUR AQ$H8$JOUIN O.$SOLIER M.
A210: MISSAMERICAN | B210: MISSAMERICAN$45689$Machecoul$7$4$MISSAMERICAN$H8$CARRE Dor.$PLISSON K.
A211: MISTER SECRET | B211: MISTER SECRET$45689$Machecoul$7$5$MISTER SECRET$H5$MARCHAND Bas.$WINDRIF D.
A212: EL PEDRO | B212: EL PEDRO$45689$Machecoul$7$6$EL PEDRO$H6$CHEVILLARD T.$PELTIER (S) P&C.
... A422: IOUPY TOLLEVILLE | B422: IOUPY TOLLEVILLE$45689$Vincennes$8$10$IOUPY TOLLEVILLE$H7$LEBEY B.$SZIRMAY E.
