Workbook

Sheet Ordinateur fixe
G2: Coordonnée client | O2: Coordonnée client
A7: Désignation | C7: Modèle | G7: Quantité | H7: Tarifs TTC | I7: Désignation | K7: Modèle | O7: Quantité | P7: Tarifs TTC
A8: Ordinateur et périphériques | I8: Ordinateur et périphériques
A9: =IF(Marge!A3="","",Marge!A3) -> test | C9: =IF(Marge!C3="","",Marge!C3) -> test | G9: =IF(Marge!K3="","",Marge!K3) -> 1 | H9: =IF(Marge!I3="","",Marge!I3) -> 155.48
A10: =IF(Marge!A4="","",Marge!A4) | C10: =IF(Marge!C4="","",Marge!C4) | G10: =IF(Marge!K4="","",Marge!K4) | H10: =IF(Marge!I4="","",Marge!I4)
A11: =IF(Marge!A5="","",Marge!A5) | C11: =IF(Marge!C5="","",Marge!C5) | G11: =IF(Marge!K5="","",Marge!K5) | H11: =IF(Marge!I5="","",Marge!I5)
A12: =IF(Marge!A6="","",Marge!A6) | C12: =IF(Marge!C6="","",Marge!C6) | G12: =IF(Marge!K6="","",Marge!K6) | H12: =IF(Marge!I6="","",Marge!I6)
A13: =IF(Marge!A7="","",Marge!A7) | C13: =IF(Marge!C7="","",Marge!C7) | G13: =IF(Marge!K7="","",Marge!K7) | H13: =IF(Marge!I7="","",Marge!I7)
A14: =IF(Marge!A8="","",Marge!A8) | C14: =IF(Marge!C8="","",Marge!C8) | G14: =IF(Marge!K8="","",Marge!K8) | H14: =IF(Marge!I8="","",Marge!I8)
A15: =IF(Marge!A9="","",Marge!A9) | C15: =IF(Marge!C9="","",Marge!C9) | G15: =IF(Marge!K9="","",Marge!K9) | H15: =IF(Marge!I9="","",Marge!I9)
A16: =IF(Marge!A10="","",Marge!A10) | C16: =IF(Marge!C10="","",Marge!C10) | G16: =IF(Marge!K10="","",Marge!K10) | H16: =IF(Marge!I10="","",Marge!I10)
A17: =IF(Marge!A11="","",Marge!A11) | C17: =IF(Marge!C11="","",Marge!C11) | G17: =IF(Marge!K11="","",Marge!K11) | H17: =IF(Marge!I11="","",Marge!I11)
A18: =IF(Marge!A12="","",Marge!A12) | C18: =IF(Marge!C12="","",Marge!C12) | G18: =IF(Marge!K12="","",Marge!K12) | H18: =IF(Marge!I12="","",Marge!I12)
A19: =IF(Marge!A13="","",Marge!A13) | C19: =IF(Marge!C13="","",Marge!C13) | G19: =IF(Marge!K13="","",Marge!K13) | H19: =IF(Marge!I13="","",Marge!I13)
A20: =IF(Marge!A14="","",Marge!A14) | C20: =IF(Marge!C14="","",Marge!C14) | G20: =IF(Marge!K14="","",Marge!K14) | H20: =IF(Marge!I14="","",Marge!I14)
A21: =IF(Marge!A15="","",Marge!A15) | C21: =IF(Marge!C15="","",Marge!C15) | G21: =IF(Marge!K15="","",Marge!K15) | H21: =IF(Marge!I15="","",Marge!I15)
A22: =IF(Marge!A17="","",Marge!A17) | C22: =IF(Marge!C17="","",Marge!C17) | G22: =IF(Marge!K17="","",Marge!K17) -> 1 | H22: =IF(Marge!I16="","",Marge!I16)
G23: Total : | H23: =IF(SUM(H9:H22)=0,"",SUM(H9:H22)) -> 155.48 | O23: Total : | P23: =SUM(P9:P20) -> 0
A24: Installation/configuration | I24: Installation/configuration
C25: Open office | G25: 1 | H25: 5 | K25: Open office | O25: 1 | P25: 5
C26: Avast | G26: 1 | H26: 5 | K26: Avast | O26: 1 | P26: 5
C27: Java | G27: 1 | H27: 5 | K27: Java | O27: 1 | P27: 5
C28: Adobe Reader et Flash | G28: 1 | H28: 5 | K28: Adobe Reader et Flash | O28: 1 | P28: 5
C29: Mise à jour de windows | G29: 1 | H29: 15 | K29: Mise à jour de windows | O29: 1 | P29: 15
C30: Mise à jour de l'antivirus | G30: 1 | H30: 10 | K30: Mise à jour de l'antivirus | O30: 1 | P30: 10
C31: Montage ordinateur | G31: 1 | H31: 10 | K31: Montage ordinateur | O31: 1 | P31: 10
C32: Installation et mise à jour pilotes | G32: 1 | H32: 20 | K32: Installation et mise à jour pilotes | O32: 1 | P32: 20
G39: Total : | H39: =SUM(H25:H32) -> 75 | O39: Total : | P39: =SUM(P25:P32) -> 75
A40: Offres divers | I40: Offres divers
A41: Initiation | C41: 1h | G41: 1 | H41: 0 | I41: Initiation | K41: 1h | O41: 1 | P41: 0
A42: Garantie | C42: 1 an pièce et main d'œuvre | G42: 1 | H42: 0 | I42: Garantie | K42: 1 an pièce et main d'œuvre | O42: 1 | P42: 0
A43: =IF(Marge!M3="","","Remise") | H43: =IF(C43="","",H23*C43)
G45: Total : | H45: =SUM(H41:H43) -> 0 | O45: Total : | P45: =SUM(P41:P43) -> 0
G46: Total TTC : | H46: =IF(H23="",H39,H23+H39) -> 230.48 | O46: Total TTC : | P46: =P23+P39 -> 75
G47: Remise global : | H47: =IF(A43="Remise",H43,"") | O47: Remise global :
G48: Acompte : | H48: =IF(A43="Acompte",H43,"") | O48: Acompte :
G49: Net à payer : | H49: =IF(A43="Remise",H46-H47,IF(A43="Acompte",H46-H48,IF(AND(A43="Remise",A44="Acompte"),H46-H47-H48,H46))) -> 230.48 | O49: Net à payer : | P49: =P46-P47-P48 -> 75
G52: Coordonnée client | O52: Coordonnée client
A57: Désignation | C57: Modèle | G57: Quantité | H57: Tarifs TTC | I57: Désignation | K57: Modèle | O57: Quantité | P57: Tarifs TTC
A58: Ordinateur et périphériques | I58: Ordinateur et périphériques
...

Sheet Marge
A2: Pièces | C2: Désignation | F2: Prix à l'unité HT | G2: Prix d'achat HT | H2: Prix d'achat TTC | I2: Prix de vente | J2: Marges | K2: Quantité | L2: Marge : | M2: 1.3
A3: test | C3: test | F3: 100 | G3: =IF(OR(F3="",K3=""),"",F3*K3) -> 100 | H3: =IF(G3="","",G3*1.196) -> 119.6 | I3: =IF(H3="","",H3*M$2) -> 155.48 | J3: =IF(AND(H3="",I3=""),"",I3-H3) -> 35.88 | K3: 1 | L3: Remise :
G4: =IF(OR(F4="",K4=""),"",F4*K4) | H4: =IF(G4="","",G4*1.196) | I4: =IF(H4="","",H4*M$2) | J4: =IF(AND(H4="",I4=""),"",I4-H4) | L4: Acompte :
G5: =IF(OR(F5="",K5=""),"",F5*K5) | H5: =IF(G5="","",G5*1.196) | I5: =IF(H5="","",H5*M$2) | J5: =IF(AND(H5="",I5=""),"",I5-H5)
G6: =IF(OR(F6="",K6=""),"",F6*K6) | H6: =IF(G6="","",G6*1.196) | I6: =IF(H6="","",H6*M$2) | J6: =IF(AND(H6="",I6=""),"",I6-H6)
G7: =IF(OR(F7="",K7=""),"",F7*K7) | H7: =IF(G7="","",G7*1.196) | I7: =IF(H7="","",H7*M$2) | J7: =IF(AND(H7="",I7=""),"",I7-H7)
G8: =IF(OR(F8="",K8=""),"",F8*K8) | H8: =IF(G8="","",G8*1.196) | I8: =IF(H8="","",H8*M$2) | J8: =IF(AND(H8="",I8=""),"",I8-H8)
G9: =IF(OR(F9="",K9=""),"",F9*K9) | H9: =IF(G9="","",G9*1.196) | I9: =IF(H9="","",H9*M$2) | J9: =IF(AND(H9="",I9=""),"",I9-H9)
G10: =IF(OR(F10="",K10=""),"",F10*K10) | H10: =IF(G10="","",G10*1.196) | I10: =IF(H10="","",H10*M$2) | J10: =IF(AND(H10="",I10=""),"",I10-H10)
G11: =IF(OR(F11="",K11=""),"",F11*K11) | H11: =IF(G11="","",G11*1.196) | I11: =IF(H11="","",H11) | J11: =IF(AND(H11="",I11=""),"",I11-H11)
G12: =IF(OR(F12="",K12=""),"",F12*K12) | H12: =IF(G12="","",G12*1.196) | I12: =IF(H12="","",H12*M$2) | J12: =IF(AND(H12="",I12=""),"",I12-H12)
G13: =IF(OR(F13="",K13=""),"",F13*K13) | H13: =IF(G13="","",G13*1.196) | I13: =IF(H13="","",H13*M$2) | J13: =IF(AND(H13="",I13=""),"",I13-H13)
G14: =IF(OR(F14="",K14=""),"",F14*K14) | H14: =IF(G14="","",G14*1.196) | I14: =IF(H14="","",H14*M$2) | J14: =IF(AND(H14="",I14=""),"",I14-H14)
G15: =IF(OR(F15="",K15=""),"",F15*K15) | H15: =IF(G15="","",G15*1.196) | I15: =IF(H15="","",H15*M$2) | J15: =IF(AND(H15="",I15=""),"",I15-H15)
G16: =IF(OR(F16="",K16=""),"",F16*K16) | H16: =IF(G16="","",G16*1.196) | I16: =IF(H16="","",H16*M$2) | J16: =IF(AND(H16="",I16=""),"",I16-H16) | L16: RSI | M16: Marge après taxe
F17: Total | G17: =IF(SUM(G3:G15)=0,"",SUM(G3:G15)) -> 100 | H17: =IF(SUM(H3:H15)=0,"",SUM(H3:H15)) -> 119.6 | I17: =IF(SUM(I3:I15)=0,"",SUM(I3:I15)) -> 155.48 | J17: =IF(AND(I17="",H17=""),"",I17-H17) -> 35.88 | K17: =IF(SUM(K3:K16)=0,"",SUM(K3:K16)) -> 1 | L17: =I17*0.06 -> 9.3288 | M17: =J17-L17 -> 26.5512
H18: ,
A19: Pièces | C19: Désignation | F19: Prix à l'unité HT | G19: Prix d'achat HT | H19: Prix d'achat TTC | I19: Prix de vente | J19: Marges | K19: Quantité
A20: Test | C20: Test | F20: 100 | G20: =IF(OR(F20="",K20=""),"",F20*K20) -> 100 | H20: =IF(G20="","",G20*1.196) -> 119.6 | I20: =IF(H20="","",H20*M$2) -> 155.48 | J20: =IF(AND(I20="",H20=""),"",I20-H20) -> 35.88 | K20: 1
G21: =IF(OR(F21="",K21=""),"",F21*K21) | H21: =IF(G21="","",G21*1.196) | I21: =IF(H21="","",H21*M$2) | J21: =IF(AND(I21="",H21=""),"",I21-H21)
G22: =IF(OR(F22="",K22=""),"",F22*K22) | H22: =IF(G22="","",G22*1.196) | I22: =IF(H22="","",H22*M$2) | J22: =IF(AND(I22="",H22=""),"",I22-H22)
G23: =IF(OR(F23="",K23=""),"",F23*K23) | H23: =IF(G23="","",G23*1.196) | I23: =IF(H23="","",H23*M$2) | J23: =IF(AND(I23="",H23=""),"",I23-H23)
G24: =IF(OR(F24="",K24=""),"",F24*K24) | H24: =IF(G24="","",G24*1.196) | I24: =IF(H24="","",H24*M$2) | J24: =IF(AND(I24="",H24=""),"",I24-H24)
G25: =IF(OR(F25="",K25=""),"",F25*K25) | H25: =IF(G25="","",G25*1.196) | I25: =IF(H25="","",H25*M$2) | J25: =IF(AND(I25="",H25=""),"",I25-H25)
G26: =IF(OR(F26="",K26=""),"",F26*K26) | H26: =IF(G26="","",G26*1.196) | I26: =IF(H26="","",H26*M$2) | J26: =IF(AND(I26="",H26=""),"",I26-H26)
G27: =IF(OR(F27="",K27=""),"",F27*K27) | H27: =IF(G27="","",G27*1.196) | I27: =IF(H27="","",H27*M$2) | J27: =IF(AND(I27="",H27=""),"",I27-H27)
G28: =IF(OR(F28="",K28=""),"",F28*K28) | H28: =IF(G28="","",G28*1.196) | I28: =IF(H28="","",H28) | J28: =IF(AND(I28="",H28=""),"",I28-H28)
G29: =IF(OR(F29="",K29=""),"",F29*K29) | H29: =IF(G29="","",G29*1.196) | I29: =IF(H29="","",H29*M$2) | J29: =IF(AND(I29="",H29=""),"",I29-H29)
G30: =IF(OR(F30="",K30=""),"",F30*K30) | H30: =IF(G30="","",G30*1.196) | I30: =IF(H30="","",H30*M$2) | J30: =IF(AND(I30="",H30=""),"",I30-H30)
G31: =IF(OR(F31="",K31=""),"",F31*K31) | H31: =IF(G31="","",G31*1.196) | I31: =IF(H31="","",H31*M$2) | J31: =IF(AND(I31="",H31=""),"",I31-H31)
G32: =IF(OR(F32="",K32=""),"",F32*K32) | I32: =IF(H32="","",H32*M$2) | J32: =IF(AND(I32="",H32=""),"",I32-H32)
G33: =IF(OR(F33="",K33=""),"",F33*K33) | H33: =IF(G33="","",G33*1.196) | I33: =IF(H33="","",H33*M$2) | J33: =IF(AND(I33="",H33=""),"",I33-H33)
G34: =IF(OR(F34="",K34=""),"",F34*K34) | H34: =IF(G34="","",G34*1.196) | I34: =IF(H34="","",H34*M$2) | J34: =IF(AND(I34="",H34=""),"",I34-H34) | L34: RSI | M34: Marge après taxe
F35: Total | G35: =SUM(G20:G34) -> 100 | H35: =SUM(H20:H34) -> 119.6 | I35: =SUM(I20:I34) -> 155.48 | J35: =I35-H35 -> 35.88 | K35: =IF(SUM(K20:K34)=0,"",SUM(K20:K34)) -> 1 | L35: =I35*0.06 -> 9.3288 | M35: =J35-L35 -> 26.5512
A38: Pièces | C38: Désignation | F38: Prix à l'unité HT | G38: Prix d'achat HT | H38: Prix d'achat TTC | I38: Prix de vente | J38: Marges | K38: Quantité
A39: Test | C39: Test | F39: 100 | G39: =IF(OR(F39="",K39=""),"",F39*K39) -> 100 | H39: =IF(G39="","",G39*1.196) -> 119.6 | I39: =IF(H39="","",H39*M$2) -> 155.48 | J39: =IF(AND(I39="",H39=""),"",I39-H39) -> 35.88 | K39: 1
H40: =IF(G40="","",G40*1.196) | I40: =IF(H40="","",H40*M$2) | J40: =IF(AND(I40="",H40=""),"",I40-H40)
H41: =IF(G41="","",G41*1.196) | I41: =IF(H41="","",H41*M$2) | J41: =IF(AND(I41="",H41=""),"",I41-H41)
H42: =IF(G42="","",G42*1.196) | I42: =IF(H42="","",H42*M$2) | J42: =IF(AND(I42="",H42=""),"",I42-H42)
H43: =IF(G43="","",G43*1.196) | I43: =IF(H43="","",H43*M$2) | J43: =IF(AND(I43="",H43=""),"",I43-H43)
...

Sheet Feuil1
C2: 4 | D2: 3 | E2: =IF(AND(C2=5,D2=3),C2+D2,"")
