Workbook

Sheet Zones d'effet
E2: scénario | F2: Rayon d'effet (m) | G2: Zone d'impact (m²) | H2: Zone d'effet (m²) | I2: Degré exposition (%) | J2: Intensité | L2: Intensité
A3: Type éolienne | B3: N149 | E3: Effondrement | F3: =C9 -> 200 | G3: =$C$8*$C$10+3*$C$6*$C$7/2 -> 1011.72 | H3: =PI()*($C$8+$C$5)^2 -> 126166.86 | I3: =100*G3/H3 -> 0.80189043 | J3: {=_xlfn.IFS(I3<1,"Modérée",(1<=I3<=5),"Forte",I3>5,"Très forte")} -> Modérée | L3: Exposition très forte | M3: Supérieur à 5 %
A4: Diamètre rotor (m) | B4: D | C4: 150 | E4: Chute de glace | F4: =C5 -> 75 | G4: 1 | H4: =PI()*$C$5*$C$5 -> 17671.459 | I4: =100*G4/H4 -> 0.0056588424 | J4: {=_xlfn.IFS(I4<1,"Modérée",(1>=I4>=5),"Forte",I4>5,"Très forte")} -> Modérée | L4: Exposition forte | M4: Compris entre 1 % et 5 %
A5: Rayon rotor (m) | B5: R | C5: 75 | E5: Chute de pale | F5: =C5 -> 75 | G5: =$C$6*$C$7/2 -> 157.5 | H5: =3.1416*$C$5*$C$5 -> 17671.5 | I5: =100*G5/H5 -> 0.8912656 | J5: {=_xlfn.IFS(I5<1,"Modérée",(1>=I5>=5),"Forte",I5>5,"Très forte")} -> Modérée | L5: Exposition modérée | M5: Inférieur à 1 %
A6: Longueur pale (m) | B6: Lp | C6: 75 | E6: Projection de glace | F6: =1.5*($C$8+$C$4) -> 413.1 | G6: 1 | H6: =3.1416*(1.5*($C$8+2*$C$5))*(1.5*($C$8+2*$C$5)) -> 536119.1 | I6: =100*G6/H6 -> 0.00018652572 | J6: {=_xlfn.IFS(I6<1,"Modérée",(1>=I6>=5),"Forte",I6>5,"Très forte")} -> Modérée
A7: Largeur corde pale (m) | B7: LB | C7: 4.2 | E7: Projection de pale | F7: 500 | G7: =$C$6*$C$7/2 -> 157.5 | H7: 785398 | I7: =100*G7/H7 -> 0.020053527 | J7: {=_xlfn.IFS(I7<1,"Modérée",(1>=I7>=5),"Forte",I7>5,"Très forte")} -> Modérée
A8: Hauteur moyeu (m) | B8: H | C8: 125.4
A9: Hauteur totale (m) | B9: HH | C9: 200
A10: Largeur base mât (m) | B10: L | C10: 4.3

Sheet Calculs
C1: terrains non aménagés (1/100 ha) | D1: terrains aménagés (1/10ha) | F1: routes structurantes (trafic > 2000 véhicules/jour) | I1: Routes non structurantes (trafic < 2000 véhicules/jour) | L1: Sentiers de randonnées | O1: Pistes d'accès et plateformes | Q1: Autres (ERP, bât agricole, ICPE...) | R1: TOTAL
F3: largeur piste (m) | G3: 0 | I3: largeur piste (m) | J3: 0 | L3: largeur piste (m) | M3: 0 | T3: Gravité
B4: EFFONDREMENT | C4: Personnes exposées | D4: Surface exposée (m²) | E4: Personnes exposées | F4: linéaire exposé (m) | G4: Surface exposée (m²) | H4: Personnes exposées | I4: linéaire exposé (m) | J4: Surface exposée (m²) | K4: Personnes exposées | L4: linéaire exposé (m) | M4: Surface exposée (m²) | N4: Personnes exposées | O4: Surface exposée (m²) | P4: Personnes exposées | Q4: Personnes exposées | S4: Intensité | T4: Gravité
B5: E1 | C5: =('Zones d''effet'!$H$3-((G5)+(J5)+(M5)+O5))/1000000 -> 0.12616686 | D5: 0 | E5: =D5/100000 -> 0 | F5: 0 | G5: =F5*$G$3 -> 0 | H5: 0 | I5: 0 | J5: =I5*$J$3 -> 0 | K5: =(J5)/100000 -> 0 | L5: 0 | M5: =L5*$M$3 -> 0 | N5: =2*(L5/1000)*$M$3/100 -> 0 | O5: 0 | P5: =O5/100000 -> 0 | Q5: 0 | R5: =C5+E5+H5+K5+N5+P5+Q5 -> 0.12616686 | S5: ='Zones d''effet'!J3 -> Modérée | T5: {=_xlfn.IFS(R5<1,"modérée",R5<10,"sérieux",10<R5<100,"important")} -> modérée
B6: E2 | C6: =('Zones d''effet'!$H$3-((G6)+(J6)+(M6)+O6))/1000000 -> 0.12616686 | D6: 0 | E6: =D6/100000 -> 0 | F6: 0 | G6: =F6*$G$3 -> 0 | H6: =0.4*(F6)/1000*($H$3)/100 -> 0 | I6: 0 | J6: =I6*$J$3 -> 0 | K6: =(J6)/100000 -> 0 | L6: 0 | M6: =L6*$M$3 -> 0 | N6: =2*(L6/1000)*$M$3/100 -> 0 | O6: 0 | P6: =O6/100000 -> 0 | Q6: 0 | R6: =C6+E6+H6+K6+N6+P6+Q6 -> 0.12616686 | T6: {=_xlfn.IFS(R6<1,"modérée",R6<10,"sérieux",10<R6<100,"important")} -> modérée
B7: E3 | C7: =('Zones d''effet'!$H$3-((G7)+(J7)+(M7)+O7))/1000000 -> 0.12616686 | D7: 0 | E7: =D7/100000 -> 0 | F7: 0 | G7: =F7*$G$3 -> 0 | H7: =0.4*(F7)/1000*($H$3)/100 -> 0 | I7: 0 | J7: =I7*$J$3 -> 0 | K7: =(J7)/100000 -> 0 | L7: 0 | M7: =L7*$M$3 -> 0 | N7: =2*(L7/1000)*$M$3/100 -> 0 | O7: 0 | P7: =O7/100000 -> 0 | Q7: 0 | R7: =C7+E7+H7+K7+N7+P7+Q7 -> 0.12616686 | T7: {=_xlfn.IFS(R7<1,"modérée",R7<10,"sérieux",10<R7<100,"important")} -> modérée
B9: CHUTE GLACE | C9: Personnes exposées | D9: Surface exposée (m²) | E9: Personnes exposées | F9: linéaire exposé (m) | G9: Surface exposée (m²) | H9: Personnes exposées | I9: linéaire exposé (m) | J9: Surface exposée (m²) | K9: Personnes exposées | L9: linéaire exposé (m) | M9: Surface exposée (m²) | N9: Personnes exposées | O9: Surface exposée (m²) | P9: Personnes exposées | Q9: Personnes exposées | R9: Total | S9: Intensité | T9: Gravité chute de glace
B10: E1 | C10: =('Zones d''effet'!$H$4-((D10)+(J10)+(M10)+O10))/1000000 -> 0.017671459 | D10: 0 | E10: =D10/100000 -> 0 | F10: 0 | G10: =F10*$G$3 -> 0 | H10: =0.4*(F10)/1000*($H$3)/100 -> 0 | I10: 0 | J10: =I10*$J$3 -> 0 | K10: =(J10)/100000 -> 0 | L10: 0 | M10: =L10*$M$3 -> 0 | N10: =2*(L10/1000)*$M$3/100 -> 0 | O10: 0 | P10: =O10/100000 -> 0 | Q10: 0 | R10: =C10+E10+H10+K10+N10+P10+Q10 -> 0.017671459 | S10: ='Zones d''effet'!J4 -> Modérée | T10: {=_xlfn.IFS($R$10<1,"modérée",$R$10<10,"sérieux",10<$R$10<100,"important")} -> modérée
B11: E2 | C11: =('Zones d''effet'!$H$4-((D11)+(J11)+(M11)+O11))/1000000 -> 0.017671459 | D11: 0 | E11: =D11/100000 -> 0 | F11: 0 | G11: =F11*$G$3 -> 0 | H11: =0.4*(F11)/1000*($H$3)/100 -> 0 | I11: 0 | J11: =I11*$J$3 -> 0 | K11: =(J11)/100000 -> 0 | L11: 0 | M11: =L11*$M$3 -> 0 | N11: =2*(L11/1000)*$M$3/100 -> 0 | O11: 0 | P11: =O11/100000 -> 0 | Q11: 0 | R11: =C11+E11+H11+K11+N11+P11+Q11 -> 0.017671459 | T11: {=_xlfn.IFS(R11<1,"modérée",R11<10,"sérieux",10<R11<100,"important")} -> modérée
B12: E3 | C12: =('Zones d''effet'!$H$4-((D12)+(J12)+(M12)+O12))/1000000 -> 0.017671459 | D12: 0 | E12: =D12/100000 -> 0 | F12: 0 | G12: =F12*$G$3 -> 0 | H12: =0.4*(F12)/1000*($H$3)/100 -> 0 | I12: 0 | J12: =I12*$J$3 -> 0 | K12: =(J12)/100000 -> 0 | L12: 0 | M12: =L12*$M$3 -> 0 | N12: =2*(L12/1000)*$M$3/100 -> 0 | O12: 0 | P12: =O12/100000 -> 0 | Q12: 0 | R12: =C12+E12+H12+K12+N12+P12+Q12 -> 0.017671459 | T12: {=_xlfn.IFS(R12<1,"modérée",R12<10,"sérieux",10<R12<100,"important")} -> modérée
B14: CHUTE PALE | C14: Personnes exposées | D14: Surface exposée (m²) | E14: Personnes exposées | F14: linéaire exposé (m) | G14: Surface exposée (m²) | H14: Personnes exposées | I14: linéaire exposé (m) | J14: Surface exposée (m²) | K14: Personnes exposées | L14: linéaire exposé (m) | M14: Surface exposée (m²) | N14: Personnes exposées | O14: Surface exposée (m²) | P14: Personnes exposées | Q14: Personnes exposées | R14: Total | S14: Intensité | T14: Gravité chute de pale
B15: E1 | C15: =('Zones d''effet'!$H$5-((D15)+(J15)+(M15)+O15))/1000000 -> 0.0176715 | D15: 0 | E15: =D15/100000 -> 0 | F15: 0 | G15: =F15*$G$3 -> 0 | H15: =0.4*(F15)/1000*($H$3)/100 -> 0 | I15: 0 | J15: =I15*$J$3 -> 0 | K15: =(J15)/100000 -> 0 | L15: 0 | M15: =L15*$M$3 -> 0 | N15: =2*(L15/1000)*$M$3/100 -> 0 | O15: 0 | P15: =O15/100000 -> 0 | Q15: 0 | R15: =C15+E15+H15+K15+N15+P15+Q15 -> 0.0176715 | S15: ='Zones d''effet'!J4 -> Modérée | T15: {=_xlfn.IFS($R$10<1,"modérée",$R$10<10,"sérieux",10<$R$10<100,"important")} -> modérée
B16: E2 | C16: =('Zones d''effet'!$H$5-((D16)+(J16)+(M16)+O16))/1000000 -> 0.0176715 | D16: 0 | E16: =D16/100000 -> 0 | F16: 0 | G16: =F16*$G$3 -> 0 | H16: =0.4*(F16)/1000*($H$3)/100 -> 0 | I16: 0 | J16: =I16*$J$3 -> 0 | K16: =(J16)/100000 -> 0 | L16: 0 | M16: =L16*$M$3 -> 0 | N16: =2*(L16/1000)*$M$3/100 -> 0 | O16: 0 | P16: =O16/100000 -> 0 | Q16: 0 | R16: =C16+E16+H16+K16+N16+P16+Q16 -> 0.0176715 | T16: {=_xlfn.IFS(R16<1,"modérée",R16<10,"sérieux",10<R16<100,"important")} -> modérée
B17: E3 | C17: =('Zones d''effet'!$H$5-((D17)+(J17)+(M17)+O17))/1000000 -> 0.0176715 | D17: 0 | E17: =D17/100000 -> 0 | F17: 0 | G17: =F17*$G$3 -> 0 | H17: =0.4*(F17)/1000*($H$3)/100 -> 0 | I17: 0 | J17: =I17*$J$3 -> 0 | K17: =(J17)/100000 -> 0 | L17: 0 | M17: =L17*$M$3 -> 0 | N17: =2*(L17/1000)*$M$3/100 -> 0 | O17: 0 | P17: =O17/100000 -> 0 | Q17: 0 | R17: =C17+E17+H17+K17+N17+P17+Q17 -> 0.0176715 | T17: {=_xlfn.IFS(R17<1,"modérée",R17<10,"sérieux",10<R17<100,"important")} -> modérée
B19: PROJECTION GLACE | C19: Personnes exposées | D19: Surface exposée (m²) | E19: Personnes exposées | F19: linéaire exposé (m) | G19: Surface exposée (m²) | H19: Personnes exposées | I19: linéaire exposé (m) | J19: Surface exposée (m²) | K19: Personnes exposées | L19: linéaire exposé (m) | M19: Surface exposée (m²) | N19: Personnes exposées | O19: Surface exposée (m²) | P19: Personnes exposées | Q19: Personnes exposées | R19: Total | S19: Intensité | T19: Gravité
B20: E1 | C20: =('Zones d''effet'!$H$6-((D20)+(J20)+(M20)+O20))/1000000 -> 0.5361191 | D20: 0 | E20: =D20/100000 -> 0 | F20: 0 | G20: =F20*$G$3 -> 0 | H20: =0.4*(F20/1000)*($H$3)/100 -> 0 | I20: 0 | J20: =I20*$J$3 -> 0 | K20: =(J20)/100000 -> 0 | L20: 0 | M20: =L20*$M$3 -> 0 | N20: =2*(L20/1000)*$M$3/100 -> 0 | O20: 0 | P20: =O20/100000 -> 0 | Q20: 0 | R20: =C20+E20+H20+K20+N20+P20+Q20 -> 0.5361191 | S20: ='Zones d''effet'!J6 -> Modérée | T20: {=_xlfn.IFS(R20<1,"modérée",R20<10,"sérieuse",10<R20<100,"important")} -> modérée
B21: E2 | C21: =('Zones d''effet'!$H$6-((D21)+(J21)+(M21)+O21))/1000000 -> 0.5361191 | D21: 0 | E21: =D21/100000 -> 0 | F21: 0 | G21: =F21*$G$3 -> 0 | H21: =0.4*(F21/1000)*($H$3)/100 -> 0 | I21: 0 | J21: =I21*$J$3 -> 0 | K21: =(J21)/100000 -> 0 | L21: 0 | M21: =L21*$M$3 -> 0 | N21: =2*(L21/1000)*$M$3/100 -> 0 | O21: 0 | P21: =O21/100000 -> 0 | Q21: 0 | R21: =C21+E21+H21+K21+N21+P21+Q21 -> 0.5361191 | T21: {=_xlfn.IFS(R21<1,"modérée",R21<10,"sérieux",10<R21<100,"important")} -> modérée
B22: E3 | C22: =('Zones d''effet'!$H$6-((D22)+(J22)+(M22)+O22))/1000000 -> 0.5361191 | D22: 0 | E22: =D22/100000 -> 0 | F22: 0 | G22: =F22*$G$3 -> 0 | H22: =0.4*(F22/1000)*($H$3)/100 -> 0 | I22: 0 | J22: =I22*$J$3 -> 0 | K22: =(J22)/100000 -> 0 | L22: 0 | M22: =L22*$M$3 -> 0 | N22: =2*(L22/1000)*$M$3/100 -> 0 | O22: 0 | P22: =O22/100000 -> 0 | Q22: 0 | R22: =C22+E22+H22+K22+N22+P22+Q22 -> 0.5361191 | T22: {=_xlfn.IFS(R22<1,"modérée",R22<10,"sérieux",10<R22<100,"important")} -> modérée
B24: PROJECTION PALE | C24: Personnes exposées | D24: Surface exposée (m²) | E24: Personnes exposées | F24: linéaire exposé (m) | G24: Surface exposée (m²) | H24: Personnes exposées | I24: linéaire exposé (m) | J24: Surface exposée (m²) | K24: Personnes exposées | L24: linéaire exposé (m) | M24: Surface exposée (m²) | N24: Personnes exposées | O24: Surface exposée (m²) | P24: Personnes exposées | Q24: Personnes exposées | R24: Total | S24: Intensité | T24: Gravité
B25: E1 | C25: =('Zones d''effet'!$H$7-((D25)+(J25)+(M25)+O25))/1000000 -> 0.785398 | D25: 0 | E25: =D25/100000 -> 0 | F25: 0 | G25: =F25*$G$3 -> 0 | H25: =0.4*(F25/1000)*($H$3)/100 -> 0 | I25: 0 | J25: =I25*$J$3 -> 0 | K25: =(J25)/100000 -> 0 | L25: 0 | M25: =L25*$M$3 -> 0 | N25: =2*(L25/1000)*$M$3/100 -> 0 | O25: 0 | P25: =O25/100000 -> 0 | Q25: 0 | R25: =C25+E25+H25+K25+N25+P25+Q25 -> 0.785398 | S25: ='Zones d''effet'!J7 -> Modérée | T25: {=_xlfn.IFS(R25<1,"modérée",R25<10,"sérieuse",10<R25<100,"important")} -> modérée
B26: E2 | C26: =('Zones d''effet'!$H$7-((D26)+(J26)+(M26)+O26))/1000000 -> 0.785398 | D26: 0 | E26: =D26/100000 -> 0 | F26: 0 | G26: =F26*$G$3 -> 0 | H26: =0.4*(F26/1000)*($H$3)/100 -> 0 | I26: 0 | J26: =I26*$J$3 -> 0 | K26: =(J26)/100000 -> 0 | L26: 0 | M26: =L26*$M$3 -> 0 | N26: =2*(L26/1000)*$M$3/100 -> 0 | O26: 0 | P26: =O26/100000 -> 0 | Q26: 0 | R26: =C26+E26+H26+K26+N26+P26+Q26 -> 0.785398 | T26: {=_xlfn.IFS(R26<1,"modérée",R26<10,"sérieux",10<R26<100,"important")} -> modérée
B27: E3 | C27: =('Zones d''effet'!$H$7-((D27)+(J27)+(M27)+O27))/1000000 -> 0.785398 | D27: 0 | E27: =D27/100000 -> 0 | F27: 0 | G27: =F27*$G$3 -> 0 | H27: =0.4*(F27/1000)*($H$3)/100 -> 0 | I27: 0 | J27: =I27*$J$3 -> 0 | K27: =(J27)/100000 -> 0 | L27: 0 | M27: =L27*$M$3 -> 0 | N27: =2*(L27/1000)*$M$3/100 -> 0 | O27: 0 | P27: =O27/100000 -> 0 | Q27: 0 | R27: =C27+E27+H27+K27+N27+P27+Q27 -> 0.785398 | T27: {=_xlfn.IFS(R27<1,"modérée",R27<10,"sérieux",10<R27<100,"important")} -> modérée

Sheet Effondrement
B2: Effondrement de l’éolienne (dans un rayon inférieur ou égal à la hauteur totale de l’éolienne en bout de pale = 150 m)
B3: Éolienne | C3: terrains non aménagés (1/100 ha) | E3: Routes structurantes (trafic > 2000 véhicules/jour) | G3: Routes non structurantes (trafic < 2000 véhicules/jour) | I3: Pistes d'accès et plateformes | K3: Sentier de randonnées | M3: Autres (ERP, bât agricole, ICPE...) | N3: Somme des personnes permanentes | O3: Gravité
C4: Surface (m²) | D4: Personnes permanentes | E4: Surface (m²) | F4: Personnes permanentes | G4: Surface (m²) | H4: Personnes permanentes | I4: Surface (m²) | J4: Personnes permanentes | K4: Surface (m²) | L4: Personnes permanentes | M4: Personnes permanentes
B5: E1 | C5: ='Zones d''effet'!$H$3-(Calculs!D5+Calculs!F5+Calculs!J5+Calculs!M5+Calculs!O5) -> 126166.86 | D5: =Calculs!C5 -> 0.12616686 | E5: =Calculs!G5 -> 0 | F5: =Calculs!H5 -> 0 | G5: =Calculs!J5 -> 0 | H5: =Calculs!K5 -> 0 | I5: =Calculs!O5 -> 0 | J5: =Calculs!P5 -> 0 | K5: =Calculs!M5 -> 0 | L5: =Calculs!N5 -> 0 | M5: =Calculs!Q5 -> 0 | N5: =Calculs!R5 -> 0.12616686 | O5: =Calculs!T5 -> modérée
B6: E2 | C6: ='Zones d''effet'!$H$3-(Calculs!D6+Calculs!F6+Calculs!J6+Calculs!M6+Calculs!O6) -> 126166.86 | D6: =Calculs!C6 -> 0.12616686 | E6: =Calculs!G6 -> 0 | F6: =Calculs!H6 -> 0 | G6: =Calculs!J6 -> 0 | H6: =Calculs!K6 -> 0 | I6: =Calculs!O6 -> 0 | J6: =Calculs!P6 -> 0 | K6: =Calculs!M6 -> 0 | L6: =Calculs!N6 -> 0 | M6: =Calculs!Q6 -> 0 | N6: =Calculs!R6 -> 0.12616686 | O6: =Calculs!T6 -> modérée
B7: E3 | C7: ='Zones d''effet'!$H$3-(Calculs!D7+Calculs!F7+Calculs!J7+Calculs!M7+Calculs!O7) -> 126166.86 | D7: =Calculs!C7 -> 0.12616686 | E7: =Calculs!G7 -> 0 | F7: =Calculs!H7 -> 0 | G7: =Calculs!J7 -> 0 | H7: =Calculs!K7 -> 0 | I7: =Calculs!O7 -> 0 | J7: =Calculs!P7 -> 0 | K7: =Calculs!M7 -> 0 | L7: =Calculs!N7 -> 0 | M7: =Calculs!Q7 -> 0 | N7: =Calculs!R7 -> 0.12616686 | O7: =Calculs!T7 -> modérée

Sheet Chute glace
B2: Chute de glace (dans un rayon inférieur ou égal à la hauteur totale de l’éolienne en bout de pale = 58,4 m)
B3: Éolienne | C3: terrains non aménagés (1/100 ha) | E3: Routes structurantes (trafic > 2000 véhicules/jour) | G3: Routes non structurantes (trafic < 2000 véhicules/jour) | I3: Pistes d'accès et plateformes | K3: Sentier de randonnées | M3: Autres (ERP, bât agricole, ICPE...) | N3: Somme des personnes permanentes | O3: Gravité
C4: Surface (m²) | D4: Personnes permanentes | E4: Surface (m²) | F4: Personnes permanentes | G4: Surface (m²) | H4: Personnes permanentes | I4: Surface (m²) | J4: Personnes permanentes | K4: Surface (m²) | L4: Personnes permanentes | M4: Personnes permanentes
B5: E1 | C5: ='Zones d''effet'!$H$4-(Calculs!D10+Calculs!G10+Calculs!J10+Calculs!M10+Calculs!O10) -> 17671.459 | D5: =Calculs!C10 -> 0.017671459 | E5: =Calculs!G10 -> 0 | F5: =Calculs!H10 -> 0 | G5: =Calculs!J10 -> 0 | H5: =Calculs!K10 -> 0 | I5: =Calculs!O10 -> 0 | J5: =Calculs!P10 -> 0 | K5: =Calculs!M10 -> 0 | L5: =Calculs!N10 -> 0 | M5: =Calculs!Q10 -> 0 | N5: =Calculs!R10 -> 0.017671459 | O5: =Calculs!T10 -> modérée
B6: E2 | C6: ='Zones d''effet'!$H$4-(Calculs!D11+Calculs!G11+Calculs!J11+Calculs!M11+Calculs!O11) -> 17671.459 | D6: =Calculs!C11 -> 0.017671459 | E6: =Calculs!G11 -> 0 | F6: =Calculs!H11 -> 0 | G6: =Calculs!J11 -> 0 | H6: =Calculs!K11 -> 0 | I6: =Calculs!O11 -> 0 | J6: =Calculs!P11 -> 0 | K6: =Calculs!M11 -> 0 | L6: =Calculs!N11 -> 0 | M6: =Calculs!Q11 -> 0 | N6: =Calculs!R11 -> 0.017671459 | O6: =Calculs!T11 -> modérée
B7: E3 | C7: ='Zones d''effet'!$H$4-(Calculs!D12+Calculs!G12+Calculs!J12+Calculs!M12+Calculs!O12) -> 17671.459 | D7: =Calculs!C12 -> 0.017671459 | E7: =Calculs!G12 -> 0 | F7: =Calculs!H12 -> 0 | G7: =Calculs!J12 -> 0 | H7: =Calculs!K12 -> 0 | I7: =Calculs!O12 -> 0 | J7: =Calculs!P12 -> 0 | K7: =Calculs!M12 -> 0 | L7: =Calculs!N12 -> 0 | M7: =Calculs!Q12 -> 0 | N7: =Calculs!R12 -> 0.017671459 | O7: =Calculs!T12 -> modérée

Sheet Chute pale
B2: Chute de pale (dans un rayon inférieur ou égal à la hauteur totale de l’éolienne en bout de pale = 58,4 m)
B3: Éolienne | C3: terrains non aménagés (1/100 ha) | E3: Routes structurantes (trafic > 2000 véhicules/jour) | G3: Routes non structurantes (trafic < 2000 véhicules/jour) | I3: Pistes d'accès et plateformes | K3: Sentier de randonnées | M3: Autres (ERP, bât agricole, ICPE...) | N3: Somme des personnes permanentes | O3: Gravité
C4: Surface (m²) | D4: Personnes permanentes | E4: Surface (m²) | F4: Personnes permanentes | G4: Surface (m²) | H4: Personnes permanentes | I4: Surface (m²) | J4: Personnes permanentes | K4: Surface (m²) | L4: Personnes permanentes | M4: Personnes permanentes
B5: E1 | C5: ='Zones d''effet'!$H$4-(Calculs!D10+Calculs!G10+Calculs!J10+Calculs!M10+Calculs!O10) -> 17671.459 | D5: =Calculs!C15 -> 0.0176715 | E5: =Calculs!G15 -> 0 | F5: =Calculs!H15 -> 0 | G5: =Calculs!J15 -> 0 | H5: =Calculs!K15 -> 0 | I5: =Calculs!O15 -> 0 | J5: =Calculs!P15 -> 0 | K5: =Calculs!M10 -> 0 | L5: =Calculs!N10 -> 0 | M5: =Calculs!Q15 -> 0 | N5: =Calculs!R15 -> 0.0176715 | O5: =Calculs!T15 -> modérée
B6: E2 | C6: ='Zones d''effet'!$H$4-(Calculs!D11+Calculs!G11+Calculs!J11+Calculs!M11+Calculs!O11) -> 17671.459 | D6: =Calculs!C16 -> 0.0176715 | E6: =Calculs!G16 -> 0 | F6: =Calculs!H16 -> 0 | G6: =Calculs!J16 -> 0 | H6: =Calculs!K16 -> 0 | I6: =Calculs!O16 -> 0 | J6: =Calculs!P16 -> 0 | K6: =Calculs!M11 -> 0 | L6: =Calculs!N11 -> 0 | M6: =Calculs!Q16 -> 0 | N6: =Calculs!R16 -> 0.0176715 | O6: =Calculs!T16 -> modérée
B7: E3 | C7: ='Zones d''effet'!$H$4-(Calculs!D12+Calculs!G12+Calculs!J12+Calculs!M12+Calculs!O12) -> 17671.459 | D7: =Calculs!C17 -> 0.0176715 | E7: =Calculs!G17 -> 0 | F7: =Calculs!H17 -> 0 | G7: =Calculs!J17 -> 0 | H7: =Calculs!K17 -> 0 | I7: =Calculs!O17 -> 0 | J7: =Calculs!P17 -> 0 | K7: =Calculs!M12 -> 0 | L7: =Calculs!N12 -> 0 | M7: =Calculs!Q17 -> 0 | N7: =Calculs!R17 -> 0.0176715 | O7: =Calculs!T17 -> modérée

Sheet Projection glace
B2: Projection de glace (dans un rayon inférieur ou égal à la hauteur totale de l’éolienne en bout de pale = 311,7 m)
B3: Éolienne | C3: terrains non aménagés (1/100 ha) | E3: Routes structurantes (trafic > 2000 véhicules/jour) | G3: Routes non structurantes (trafic < 2000 véhicules/jour) | I3: Pistes d'accès et plateformes | K3: Sentier de randonnées | M3: Autres (ERP, bât agricole, ICPE...) | N3: Somme des personnes permanentes | O3: Gravité
C4: Surface (m²) | D4: Personnes permanentes | E4: Surface (m²) | F4: Personnes permanentes | G4: Surface (m²) | H4: Personnes permanentes | I4: Surface (m²) | J4: Personnes permanentes | K4: Surface (m²) | L4: Personnes permanentes | M4: Personnes permanentes
B5: E1 | C5: ='Zones d''effet'!$H$6-(Calculs!D20+Calculs!G20+Calculs!J20+Calculs!M20+Calculs!O20) -> 536119.1 | D5: =Calculs!C20 -> 0.5361191 | E5: =Calculs!G20 -> 0 | F5: =Calculs!H20 -> 0 | G5: =Calculs!J20 -> 0 | H5: =Calculs!K20 -> 0 | I5: =Calculs!O20 -> 0 | J5: =Calculs!P20 -> 0 | K5: =Calculs!M20 -> 0 | L5: =Calculs!N20 -> 0 | M5: =Calculs!Q20 -> 0 | N5: =Calculs!R20 -> 0.5361191 | O5: =Calculs!T20 -> modérée
B6: E2 | C6: ='Zones d''effet'!$H$6-(Calculs!D21+Calculs!G21+Calculs!J21+Calculs!M21+Calculs!O21) -> 536119.1 | D6: =Calculs!C21 -> 0.5361191 | E6: =Calculs!G21 -> 0 | F6: =Calculs!H21 -> 0 | G6: =Calculs!J21 -> 0 | H6: =Calculs!K21 -> 0 | I6: =Calculs!O21 -> 0 | J6: =Calculs!P21 -> 0 | K6: =Calculs!M21 -> 0 | L6: =Calculs!N21 -> 0 | M6: =Calculs!Q21 -> 0 | N6: =Calculs!R21 -> 0.5361191 | O6: =Calculs!T21 -> modérée
B7: E3 | C7: ='Zones d''effet'!$H$6-(Calculs!D22+Calculs!G22+Calculs!J22+Calculs!M22+Calculs!O22) -> 536119.1 | D7: =Calculs!C22 -> 0.5361191 | E7: =Calculs!G22 -> 0 | F7: =Calculs!H22 -> 0 | G7: =Calculs!J22 -> 0 | H7: =Calculs!K22 -> 0 | I7: =Calculs!O22 -> 0 | J7: =Calculs!P22 -> 0 | K7: =Calculs!M22 -> 0 | L7: =Calculs!N22 -> 0 | M7: =Calculs!Q22 -> 0 | N7: =Calculs!R22 -> 0.5361191 | O7: =Calculs!T22 -> modérée

Sheet Projection pale
B2: Projection de pale (dans un rayon inférieur ou égal à la hauteur totale de l’éolienne en bout de pale = 500 m)
B3: Éolienne | C3: terrains non aménagés (1/100 ha) | E3: Routes structurantes (trafic > 2000 véhicules/jour) | G3: Routes non structurantes (trafic < 2000 véhicules/jour) | I3: Pistes d'accès et plateformes | K3: Sentier de randonnées | M3: Autres (ERP, bât agricole, ICPE...) | N3: Somme des personnes permanentes | O3: Gravité
C4: Surface (m²) | D4: Personnes permanentes | E4: Surface (m²) | F4: Personnes permanentes | G4: Surface (m²) | H4: Personnes permanentes | I4: Surface (m²) | J4: Personnes permanentes | K4: Surface (m²) | L4: Personnes permanentes | M4: Personnes permanentes
B5: E1 | C5: ='Zones d''effet'!$H$7-(Calculs!D25+Calculs!G25+Calculs!J25+Calculs!M25+Calculs!O25) -> 785398 | D5: =Calculs!C25 -> 0.785398 | E5: =Calculs!G25 -> 0 | F5: =Calculs!H25 -> 0 | G5: =Calculs!J25 -> 0 | H5: =Calculs!K25 -> 0 | I5: =Calculs!O25 -> 0 | J5: =Calculs!P25 -> 0 | K5: =Calculs!M25 -> 0 | L5: =Calculs!N25 -> 0 | M5: =Calculs!Q25 -> 0 | N5: =Calculs!R25 -> 0.785398 | O5: =Calculs!T25 -> modérée
B6: E2 | C6: ='Zones d''effet'!$H$7-(Calculs!D26+Calculs!G26+Calculs!J26+Calculs!M26+Calculs!O26) -> 785398 | D6: =Calculs!C26 -> 0.785398 | E6: =Calculs!G26 -> 0 | F6: =Calculs!H26 -> 0 | G6: =Calculs!J26 -> 0 | H6: =Calculs!K26 -> 0 | I6: =Calculs!O26 -> 0 | J6: =Calculs!P26 -> 0 | K6: =Calculs!M26 -> 0 | L6: =Calculs!N26 -> 0 | M6: =Calculs!Q26 -> 0 | N6: =Calculs!R26 -> 0.785398 | O6: =Calculs!T26 -> modérée
B7: E3 | C7: ='Zones d''effet'!$H$7-(Calculs!D27+Calculs!G27+Calculs!J27+Calculs!M27+Calculs!O27) -> 785398 | D7: =Calculs!C27 -> 0.785398 | E7: =Calculs!G27 -> 0 | F7: =Calculs!H27 -> 0 | G7: =Calculs!J27 -> 0 | H7: =Calculs!K27 -> 0 | I7: =Calculs!O27 -> 0 | J7: =Calculs!P27 -> 0 | K7: =Calculs!M27 -> 0 | L7: =Calculs!N27 -> 0 | M7: =Calculs!Q27 -> 0 | N7: =Calculs!R27 -> 0.785398 | O7: =Calculs!T27 -> modérée
