Workbook

Sheet entrepot
B3: ='entrepot listing'!C14 -> lait | C3: ='entrepot listing'!C15 -> lait | D3: ='entrepot listing'!C16 -> lait | E3: ='entrepot listing'!C17 -> lait | F3: ='entrepot listing'!C18 -> lait | G3: ='entrepot listing'!C19 -> lait | H3: ='entrepot listing'!C20 -> lait | I3: ='entrepot listing'!C29 -> 0 | J3: ='entrepot listing'!C30 -> 0 | K3: ='entrepot listing'!C31 -> 0
B4: ='entrepot listing'!D14 -> 0 | C4: ='entrepot listing'!D15 -> 0 | D4: ='entrepot listing'!D16 -> 0 | E4: ='entrepot listing'!D17 -> 0 | F4: ='entrepot listing'!D18 -> 0 | G4: ='entrepot listing'!D19 -> 0 | H4: ='entrepot listing'!D20 -> 0 | I4: ='entrepot listing'!D29 -> 0 | J4: ='entrepot listing'!D30 -> 0 | K4: ='entrepot listing'!D31 -> 0
B5: ='entrepot listing'!E14 -> 0 | C5: ='entrepot listing'!E15 -> 0 | D5: ='entrepot listing'!E16 -> 0 | E5: ='entrepot listing'!E17 -> 0 | F5: ='entrepot listing'!E18 -> 0 | G5: ='entrepot listing'!E19 -> 0 | H5: ='entrepot listing'!E20 -> 0 | I5: ='entrepot listing'!E29 -> 0 | J5: ='entrepot listing'!E30 -> 0 | K5: ='entrepot listing'!E31 -> 0
B6: ='entrepot listing'!F14 -> 0 | C6: ='entrepot listing'!F15 -> 0 | D6: ='entrepot listing'!F16 -> 0 | E6: ='entrepot listing'!F17 -> 0 | F6: ='entrepot listing'!F18 -> 0 | G6: ='entrepot listing'!F19 -> 0 | H6: ='entrepot listing'!F20 -> 0 | I6: ='entrepot listing'!F29 -> 0 | J6: ='entrepot listing'!F30 -> 0 | K6: ='entrepot listing'!F31 -> 0
B7: ='entrepot listing'!C10 -> lait | C7: ='entrepot listing'!C11 -> lait | D7: ='entrepot listing'!C12 -> lait | E7: ='entrepot listing'!C13 -> lait | I7: ='entrepot listing'!C26 -> 0 | J7: ='entrepot listing'!C27 -> 0 | K7: ='entrepot listing'!C28 -> 0
B8: ='entrepot listing'!D10 -> 0 | C8: ='entrepot listing'!D11 -> 0 | D8: ='entrepot listing'!D12 -> 0 | E8: ='entrepot listing'!D13 -> 0 | I8: ='entrepot listing'!D26 -> 0 | J8: ='entrepot listing'!D27 -> 0 | K8: ='entrepot listing'!D28 -> 0
B9: ='entrepot listing'!E10 -> 0 | C9: ='entrepot listing'!E11 -> 0 | D9: ='entrepot listing'!E12 -> 0 | E9: ='entrepot listing'!E13 -> 0 | I9: ='entrepot listing'!E26 -> 0 | J9: ='entrepot listing'!E27 -> 0 | K9: ='entrepot listing'!E28 -> 0
B10: ='entrepot listing'!F10 -> 0 | C10: ='entrepot listing'!F11 -> 0 | D10: ='entrepot listing'!F12 -> 0 | E10: ='entrepot listing'!F13 -> 0 | I10: ='entrepot listing'!F26 -> 0 | J10: ='entrepot listing'!F27 -> 0 | K10: ='entrepot listing'!F28 -> 0
B11: ='entrepot listing'!C6 -> lait | C11: ='entrepot listing'!C13 -> lait | D11: ='entrepot listing'!C8 -> lait | E11: ='entrepot listing'!C9 -> lait | I11: ='entrepot listing'!C23 -> 0 | J11: ='entrepot listing'!C24 -> 0 | K11: ='entrepot listing'!C25 -> 0
B12: ='entrepot listing'!D6 -> 0 | C12: ='entrepot listing'!D7 -> 0 | D12: ='entrepot listing'!D8 -> 0 | E12: ='entrepot listing'!D9 -> 0 | G12: portail vers stock 2 | I12: ='entrepot listing'!D23 -> 0 | J12: ='entrepot listing'!D23 -> 0 | K12: ='entrepot listing'!D25 -> 0
B13: ='entrepot listing'!E6 -> 0 | C13: ='entrepot listing'!E7 -> 0 | D13: ='entrepot listing'!E8 -> 0 | E13: ='entrepot listing'!E9 -> 0 | I13: ='entrepot listing'!E23 -> 0 | J13: ='entrepot listing'!E23 -> 0 | K13: ='entrepot listing'!E25 -> 0
B14: ='entrepot listing'!F6 -> 0 | C14: ='entrepot listing'!F7 -> 0 | D14: ='entrepot listing'!F8 -> 0 | E14: ='entrepot listing'!F9 -> 0 | I14: ='entrepot listing'!F23 -> 0 | J14: ='entrepot listing'!F24 -> 0 | K14: ='entrepot listing'!F25 -> 0
A19: portail | B19: gauche-gauche centre-droit centre-droit | I19: gauche-centre-droit
D28: zone de preparation | E28: gauche -gauche centre -droit centre-droit
J31: gauche -gauche centre -droit centre -droit
E44: gauche- centre-droit
J47: gauche -gauche centre -droit centre -droit
A64: portail
D77: zone de preparation
A107: portail
C111: vers les bureaux

Sheet entrepot listing
B2: G = gauche | C2: GC = gauche centre | E2: GD =gauche droit | G2: D= droit
A5: lait | B5: Emplacement | C5: designation | D5: no reference | E5: date entre | F5: date limit
B6: 5 G 0 | C6: lait
B7: 5 GC 0 | C7: lait
B8: 5 DC 0 | C8: lait
B9: 5 D 0 | C9: lait
B10: 5 G 1 | C10: lait
B11: 5 GC 1 | C11: lait
B12: 5 DC 1 | C12: lait
B13: 5 D 1 | C13: lait
B14: 5 G 2 | C14: lait
B15: 5 GC 2 | C15: lait
B16: 5 DC 2 | C16: lait
B17: 5 D2 | C17: lait
... B21: 6 D 2 | C21: lait
B22: emplacement | C22: designation | D22: no reference | E22: date entre | F22: date limit
A23: palettes | B23: 7 G 0
A24: incomplet | B24: 7 C 0
B25: 7 D 0
B26: 7 G 1
B27: 7 C 1
B28: 7 D 1
B29: 7 G 2
B30: 7 C 2
B31: 7 D 2

Sheet petit entrepot
F11: gauche-centre-droit
M17: coin panier depannage
K28: ='petit entrepot listing'!C4 -> couche 2
K29: ='petit entrepot listing'!D4 -> 1192
K30: ='petit entrepot listing'!E4 -> 45153
K31: ='petit entrepot listing'!F4 -> 45216
K32: ='petit entrepot listing'!C5 -> couche 3
K33: ='petit entrepot listing'!D5 -> 6087
G56: portail vers entrepot
G68: gauche-centre-droit

Sheet petit entrepot listing
A3: zone bebe | B3: Emplacement | C3: designation | D3: no reference | E3: date entre | F3: date limit
A4: f | B4: 20 G 0 | C4: couche 2 | D4: 1192 | E4: 45153 | F4: 45216
B5: 20 M 0 | C5: couche 3 | D5: 6087 | E5: 45154 | F5: 45217
B6: 20 D 0 | C6: couche 4 | D6: 6088 | E6: 45155 | F6: 45218
B7: 20 G 1 | C7: couche 5 | D7: 6155 | E7: 45156 | F7: 45219
B8: 20 M 1 | C8: Lait 1 | D8: 6130 | E8: 45157 | F8: 45220
B9: 20 D 1 | C9: Lait 2 | D9: 6131 | E9: 45158 | F9: 45221
B10: 21 G 0 | C10: Lait 3 | D10: 6132 | E10: 45159 | F10: 45222
B11: 21 M 0 | C11: PP legume | D11: 6008 | E11: 45160 | F11: 45223
B12: 21 D 0 | C12: PP fruit | D12: 6054 | E12: 45161 | F12: 45224
B13: 21 G 1 | C13: PP fruit | D13: 17871 | E13: 45162 | F13: 45225
B14: 21 M 1 | C14: Hygiene | D14: 17901 | E14: 45163 | F14: 45226
B15: 21 D 1 | C15: Hygiene | D15: 8227 | E15: 45164 | F15: 45227

Sheet chambre froid positiv 1

Sheet chambre froid 1 listing

Sheet chambre froid positiv 2

Sheet chambre froid 2 listing

Sheet chambre froid negativ

Sheet chambre froid negativ listing

Sheet Feuil5
