Workbook

Sheet test
A1: G | C1: Fl | E1: FC | G1: CT
A3: BT | C3: T | E3: TT
A5: PA | C5: IC | E5: O | G5: P
A7: RTT | C7: Co | E7: Ec
A9: R | C9: Fo | E9: Me | G9: A
A11: EAC
K12: =WEEKNUM(K14,21) -> 31 | AY12: =WEEKNUM(AY14,21) -> 32 | CM12: =WEEKNUM(CM14,21) -> 33 | EA12: =WEEKNUM(EA14,21) -> 34 | FO12: =WEEKNUM(FO14,21) -> 35
K13: =IF(K14="","",UPPER(LEFT(TEXT(K14,"jjjj"),8))) -> LUNDI | S13: =IF(S14="","",UPPER(LEFT(TEXT(S14,"jjjj"),8))) -> MARDI | AA13: =IF(AA14="","",UPPER(LEFT(TEXT(AA14,"jjjj"),8))) -> MERCREDI | AI13: =IF(AI14="","",UPPER(LEFT(TEXT(AI14,"jjjj"),8))) -> JEUDI | AQ13: =IF(AQ14="","",UPPER(LEFT(TEXT(AQ14,"jjjj"),8))) -> VENDREDI | AY13: =IF(AY14="","",UPPER(LEFT(TEXT(AY14,"jjjj"),8))) -> LUNDI | BG13: =IF(BG14="","",UPPER(LEFT(TEXT(BG14,"jjjj"),8))) -> MARDI | BO13: =IF(BO14="","",UPPER(LEFT(TEXT(BO14,"jjjj"),8))) -> MERCREDI | BW13: =IF(BW14="","",UPPER(LEFT(TEXT(BW14,"jjjj"),8))) -> JEUDI | CE13: =IF(CE14="","",UPPER(LEFT(TEXT(CE14,"jjjj"),8))) -> VENDREDI | CM13: =IF(CM14="","",UPPER(LEFT(TEXT(CM14,"jjjj"),8))) -> LUNDI | CU13: =IF(CU14="","",UPPER(LEFT(TEXT(CU14,"jjjj"),8))) -> MARDI | DC13: =IF(DC14="","",UPPER(LEFT(TEXT(DC14,"jjjj"),8))) -> MERCREDI | DK13: =IF(DK14="","",UPPER(LEFT(TEXT(DK14,"jjjj"),8))) -> JEUDI | DS13: =IF(DS14="","",UPPER(LEFT(TEXT(DS14,"jjjj"),8))) -> VENDREDI | EA13: =IF(EA14="","",UPPER(LEFT(TEXT(EA14,"jjjj"),8))) -> LUNDI | EI13: =IF(EI14="","",UPPER(LEFT(TEXT(EI14,"jjjj"),8))) -> MARDI | EQ13: =IF(EQ14="","",UPPER(LEFT(TEXT(EQ14,"jjjj"),8))) -> MERCREDI | EY13: =IF(EY14="","",UPPER(LEFT(TEXT(EY14,"jjjj"),8))) -> JEUDI | FG13: =IF(FG14="","",UPPER(LEFT(TEXT(FG14,"jjjj"),8))) -> VENDREDI | FO13: =IF(FO14="","",UPPER(LEFT(TEXT(FO14,"jjjj"),8))) -> LUNDI | FW13: =IF(FW14="","",UPPER(LEFT(TEXT(FW14,"jjjj"),8))) -> MARDI
K14: 44410 | S14: 44411 | AA14: 44412 | AI14: 44413 | AQ14: 44414 | AY14: 44417 | BG14: 44418 | BO14: 44419 | BW14: 44420 | CE14: 44421 | CM14: 44424 | CU14: 44425 | DC14: 44426 | DK14: 44427 | DS14: 44428 | EA14: 44431 | EI14: 44432 | EQ14: 44433 | EY14: 44434 | FG14: 44435 | FO14: 44438 | FW14: 44439
K15: matin | O15: apres midi | S15: matin | W15: apres midi | AA15: matin | AE15: apres midi | AI15: matin | AM15: apres midi | AQ15: matin | AU15: apres midi | AY15: matin | BC15: apres midi | BG15: matin | BK15: apres midi | BO15: matin | BS15: apres midi | BW15: matin | CA15: apres midi | CE15: matin | CI15: apres midi | CM15: matin | CQ15: apres midi | CU15: matin | CY15: apres midi | DC15: matin | DG15: apres midi | DK15: matin | DO15: apres midi | DS15: matin | DW15: apres midi | EA15: matin | EE15: apres midi | EI15: matin | EM15: apres midi | EQ15: matin | EU15: apres midi | EY15: matin | FC15: apres midi | FG15: matin | FK15: apres midi | FO15: matin | FS15: apres midi | FW15: matin | GA15: apres midi
K16: 1 | L16: 2 | M16: 3 | N16: 4 | O16: 5 | P16: 6 | Q16: 7 | R16: 8 | S16: 1 | T16: 2 | U16: 3 | V16: 4 | W16: 5 | X16: 6 | Y16: 7 | Z16: 8 | AA16: 1 | AB16: 2 | AC16: 3 | AD16: 4 | AE16: 5 | AF16: 6 | AG16: 7 | AH16: 8 | AI16: 1 | AJ16: 2 | AK16: 3 | AL16: 4 | AM16: 5 | AN16: 6 | AO16: 7 | AP16: 8 | AQ16: 1 | AR16: 2 | AS16: 3 | AT16: 4 | AU16: 5 | AV16: 6 | AW16: 7 | AX16: 8 | AY16: 1 | AZ16: 2 | BA16: 3 | BB16: 4 | BC16: 5 | BD16: 6 | BE16: 7 | BF16: 8 | BG16: 1 | BH16: 2 | BI16: 3 | BJ16: 4 | BK16: 5 | BL16: 6 | BM16: 7 | BN16: 8 | BO16: 1 | BP16: 2 | BQ16: 3 | BR16: 4 | BS16: 5 | BT16: 6 | BU16: 7 | BV16: 8 | BW16: 1 | BX16: 2 | BY16: 3 | BZ16: 4 | CA16: 5 | CB16: 6 | CC16: 7 | CD16: 8 | CE16: 1 | CF16: 2 | CG16: 3 | CH16: 4 | CI16: 5 | CJ16: 6 | CK16: 7 | CL16: 8 | CM16: 1 | CN16: 2 | CO16: 3 | CP16: 4 | CQ16: 5 | CR16: 6 | CS16: 7 | CT16: 8 | CU16: 1 | CV16: 2 | CW16: 3 | CX16: 4 | CY16: 5 | CZ16: 6 | DA16: 7 | DB16: 8 | DC16: 1 | DD16: 2 | DE16: 3 | DF16: 4 | DG16: 5 | DH16: 6 | DI16: 7 | DJ16: 8 | DK16: 1 | DL16: 2 | DM16: 3 | DN16: 4 | DO16: 5 | DP16: 6 | DQ16: 7 | DR16: 8 | DS16: 1 | DT16: 2 | DU16: 3 | DV16: 4 | DW16: 5 | DX16: 6 | DY16: 7 | DZ16: 8 | EA16: 1 | EB16: 2 | EC16: 3 | ED16: 4 | EE16: 5 | EF16: 6 | EG16: 7 | EH16: 8 | EI16: 1 | EJ16: 2 | EK16: 3 | EL16: 4 | EM16: 5 | EN16: 6 | EO16: 7 | EP16: 8 | EQ16: 1 | ER16: 2 | ES16: 3 | ET16: 4 | EU16: 5 | EV16: 6 | EW16: 7 | EX16: 8 | EY16: 1 | EZ16: 2 | FA16: 3 | FB16: 4 | FC16: 5 | FD16: 6 | FE16: 7 | FF16: 8 | FG16: 1 | FH16: 2 | FI16: 3 | FJ16: 4 | FK16: 5 | FL16: 6 | FM16: 7 | FN16: 8 | FO16: 1 | FP16: 2 | FQ16: 3 | FR16: 4 | FS16: 5 | FT16: 6 | FU16: 7 | FV16: 8 | FW16: 1 | FX16: 2 | FY16: 3 | FZ16: 4 | GA16: 5 | GB16: 6 | GC16: 7 | GD16: 8
I17: A | S17: Co | T17: Co | U17: Co | V17: Co | W17: Co | X17: Co | Y17: Co | Z17: Co | AA17: Co | AB17: Co | AC17: Co | AD17: Co | AE17: Co | AF17: Co | AG17: Co | AH17: Co | AI17: Co | AJ17: Co | AK17: Co | AL17: Co | AM17: Co | AN17: Co | AO17: Co | AP17: Co | AQ17: Co | AR17: Co | AS17: Co | AT17: Co | AU17: Co | AV17: Co | AW17: Co | AX17: Co
I18: B | K18: RTT | L18: RTT | M18: RTT | N18: RTT | O18: RTT | P18: RTT | Q18: RTT | R18: RTT | S18: G | T18: G | U18: TT | V18: TT | W18: TT | X18: TT | Y18: ME | Z18: ME | AA18: Fl | AB18: R | AC18: Fl | AD18: Fl | AE18: G | AF18: G | AG18: G | AH18: G | AI18: G | AJ18: R | AK18: G | AL18: G | AM18: G | AN18: G | AO18: FC | AP18: FC | AQ18: G | AR18: FC | AS18: G | AT18: EAC | AU18: G | AV18: G | AW18: EAC | AX18: G | AY18: Co | AZ18: Co | BA18: Co | BB18: Co | BC18: Co | BD18: Co | BE18: Co | BF18: Co | BG18: Co | BH18: Co | BI18: Co | BJ18: Co | BK18: Co | BL18: Co | BM18: Co | BN18: Co | BO18: Co | BP18: Co | BQ18: Co | BR18: Co | BS18: Co | BT18: Co | BU18: Co | BV18: Co | BW18: Co | BX18: Co | BY18: Co | BZ18: Co | CA18: Co | CB18: Co | CC18: Co | CD18: Co | CE18: Co | CF18: Co | CG18: Co | CH18: Co | CI18: Co | CJ18: Co | CK18: Co | CL18: Co | CM18: Co | CN18: Co | CO18: Co | CP18: Co | CQ18: Co | CR18: Co | CS18: Co | CT18: Co | CU18: Co | CV18: Co | CW18: Co | CX18: Co | CY18: Co | CZ18: Co | DA18: Co | DB18: Co | DC18: Co | DD18: Co | DE18: Co | DF18: Co | DG18: Co | DH18: Co | DI18: Co | DJ18: Co | DK18: Co | DL18: Co | DM18: Co | DN18: Co | DO18: Co | DP18: Co | DQ18: Co | DR18: Co | DS18: Co | DT18: Co | DU18: Co | DV18: Co | DW18: Co | DX18: Co | DY18: Co | DZ18: Co | EA18: RTT | EB18: RTT | EC18: RTT | ED18: RTT | EE18: RTT | EF18: RTT | EG18: RTT | EH18: RTT | EI18: RTT | EJ18: RTT | EK18: RTT | EL18: RTT | EM18: RTT | EN18: RTT | EO18: RTT | EP18: RTT | EQ18: FC | ER18: FC | ES18: G | ET18: G | EU18: G | EV18: G | EW18: A | EX18: A | EY18: R | EZ18: FC | FA18: FC | FB18: FC | FC18: FC | FD18: G | FE18: G | FF18: R | FG18: R | FH18: FC | FI18: FC | FJ18: FC | FK18: FC | FL18: FC | FM18: A | FN18: A
I19: C | K19: Co | L19: Co | M19: Co | N19: Co | O19: Co | P19: Co | Q19: Co | R19: Co | S19: Co | T19: Co | U19: Co | V19: Co | W19: Co | X19: Co | Y19: Co | Z19: Co | AA19: RTT | AB19: RTT | AC19: RTT | AD19: RTT | AE19: RTT | AF19: RTT | AG19: RTT | AH19: RTT
I20: D | K20: Co | L20: Co | M20: Co | N20: Co | O20: Co | P20: Co | Q20: Co | R20: Co | S20: Co | T20: Co | U20: Co | V20: Co | W20: Co | X20: Co | Y20: Co | Z20: Co | AA20: Co | AB20: Co | AC20: Co | AD20: Co | AE20: Co | AF20: Co | AG20: Co | AH20: Co | AI20: Co | AJ20: Co | AK20: Co | AL20: Co | AM20: Co | AN20: Co | AO20: Co | AP20: Co | AQ20: Co | AR20: Co | AS20: Co | AT20: Co | AU20: Co | AV20: Co | AW20: Co | AX20: Co | AY20: Co | AZ20: Co | BA20: Co | BB20: Co | BC20: Co | BD20: Co | BE20: Co | BF20: Co | BG20: Co | BH20: Co | BI20: Co | BJ20: Co | BK20: Co | BL20: Co | BM20: Co | BN20: Co | BO20: Co | BP20: Co | BQ20: Co | BR20: Co | BS20: Co | BT20: Co | BU20: Co | BV20: Co | BW20: Co | BX20: Co | BY20: Co | BZ20: Co | CA20: Co | CB20: Co | CC20: Co | CD20: Co | CE20: Co | CF20: Co | CG20: Co | CH20: Co | CI20: Co | CJ20: Co | CK20: Co | CL20: Co | CM20: Co | CN20: Co | CO20: Co | CP20: Co | CQ20: Co | CR20: Co | CS20: Co | CT20: Co | CU20: Co | CV20: Co | CW20: Co | CX20: Co | CY20: Co | CZ20: Co | DA20: Co | DB20: Co | DC20: Co | DD20: Co | DE20: Co | DF20: Co | DG20: Co | DH20: Co | DI20: Co | DJ20: Co | DK20: Co | DL20: Co | DM20: Co | DN20: Co | DO20: Co | DP20: Co | DQ20: Co | DR20: Co | DS20: Co | DT20: Co | DU20: Co | DV20: Co | DW20: Co | DX20: Co | DY20: Co | DZ20: Co | EA20: Co | EB20: Co | EC20: Co | ED20: Co | EE20: Co | EF20: Co | EG20: Co | EH20: Co | EI20: Co | EJ20: Co | EK20: Co | EL20: Co | EM20: Co | EN20: Co | EO20: Co | EP20: Co | EQ20: Co | ER20: Co | ES20: Co | ET20: Co | EU20: Co | EV20: Co | EW20: Co | EX20: Co | EY20: Co | EZ20: Co | FA20: Co | FB20: Co | FC20: Co | FD20: Co | FE20: Co | FF20: Co | FG20: Co | FH20: Co | FI20: Co | FJ20: Co | FK20: Co | FL20: Co | FM20: Co | FN20: Co | FO20: Co | FP20: Co | FQ20: Co | FR20: Co | FS20: Co | FT20: Co | FU20: Co | FV20: Co | FW20: Co | FX20: Co | FY20: Co | FZ20: Co | GA20: Co | GB20: Co | GC20: Co | GD20: Co

Sheet recapitulation A
B1: 44410 | C1: 44411 | D1: 44412 | E1: 44413 | F1: 44414 | G1: 44417 | H1: 44418 | I1: 44419 | J1: 44420 | K1: 44421 | L1: 44424 | M1: 44425 | N1: 44426 | O1: 44427 | P1: 44428 | Q1: 44431 | R1: 44432 | S1: 44433 | T1: 44434 | U1: 44435 | V1: 44438 | W1: 44439
A2: G | B2: =COUNTIF(test!$K$18:$R$18,'recapitulation A'!A2) -> 0 | C2: =COUNTIF(test!$S$18:$Z$18,A2) -> 2 | D2: =COUNTIF(test!$AA$18:$AH$18,'recapitulation A'!$A$2) -> 4 | E2: =COUNTIF(test!$AI$18:$AP$18,'recapitulation A'!A2) -> 5 | F2: =COUNTIF(test!$AQ$18:$AX$18,'recapitulation A'!A2) -> 5 | G2: =COUNTIF(test!$AY$18:$BF$18,'recapitulation A'!A2) -> 0 | H2: =COUNTIF(test!$BG$18:$BN$18,'recapitulation A'!A2) -> 0 | I2: =COUNTIF(test!$BO$18:$BV$18,'recapitulation A'!A2) -> 0 | J2: =COUNTIF(test!$BW$18:$CD$18,'recapitulation A'!A2) -> 0 | K2: =COUNTIF(test!$CE$18:$CL$18,'recapitulation A'!A2) -> 0 | L2: =COUNTIF(test!$CM$18:$CT$18,'recapitulation A'!A2) -> 0 | M2: =COUNTIF(test!$CU$18:$DB$18,'recapitulation A'!A2) -> 0 | N2: =COUNTIF(test!$DC$18:$DJ$18,'recapitulation A'!A2) -> 0 | O2: =COUNTIF(test!$DK$18:$DR$18,'recapitulation A'!A2) -> 0 | P2: =COUNTIF(test!$DS$18:$DZ$18,'recapitulation A'!A2) -> 0 | Q2: =COUNTIF(test!$EA$18:$EH$18,'recapitulation A'!A2) -> 0 | R2: =COUNTIF(test!$EI$18:$EP$18,'recapitulation A'!A2) -> 0 | S2: =COUNTIF(test!$EQ$18:$EX$18,'recapitulation A'!A2) -> 4 | T2: =COUNTIF(test!$EY$18:$FF$18,'recapitulation A'!A2) -> 2 | U2: =COUNTIF(test!$FG$18:$FN$18,'recapitulation A'!A2) -> 0 | V2: =COUNTIF(test!$FO$18:$FV$18,'recapitulation A'!A2) -> 0 | W2: =COUNTIF(test!$FW$18:$GD$18,'recapitulation A'!A2) -> 0
A3: Fl | B3: =COUNTIF(test!$K$18:$R$18,'recapitulation A'!A3) -> 0 | C3: =COUNTIF(test!$S$18:$Z$18,A3) -> 0 | D3: =COUNTIF(test!$AA$18:$AH$18,'recapitulation A'!A3) -> 3 | E3: =COUNTIF(test!$AI$18:$AP$18,'recapitulation A'!A3) -> 0 | F3: =COUNTIF(test!$AQ$18:$AX$18,'recapitulation A'!A3) -> 0 | G3: =COUNTIF(test!$AY$18:$BF$18,'recapitulation A'!A3) -> 0 | H3: =COUNTIF(test!$BG$18:$BN$18,'recapitulation A'!A3) -> 0 | I3: =COUNTIF(test!$BO$18:$BV$18,'recapitulation A'!A3) -> 0 | J3: =COUNTIF(test!$BW$18:$CD$18,'recapitulation A'!A3) -> 0 | K3: =COUNTIF(test!$CE$18:$CL$18,'recapitulation A'!A3) -> 0 | L3: =COUNTIF(test!$CM$18:$CT$18,'recapitulation A'!A3) -> 0 | M3: =COUNTIF(test!$CU$18:$DB$18,'recapitulation A'!A3) -> 0 | N3: =COUNTIF(test!$DC$18:$DJ$18,'recapitulation A'!A3) -> 0 | O3: =COUNTIF(test!$DK$18:$DR$18,'recapitulation A'!A3) -> 0 | P3: =COUNTIF(test!$DS$18:$DZ$18,'recapitulation A'!A3) -> 0 | Q3: =COUNTIF(test!$EA$18:$EH$18,'recapitulation A'!A3) -> 0 | R3: =COUNTIF(test!$EI$18:$EP$18,'recapitulation A'!A3) -> 0 | S3: =COUNTIF(test!$EQ$18:$EX$18,'recapitulation A'!A3) -> 0 | T3: =COUNTIF(test!$EY$18:$FF$18,'recapitulation A'!A3) -> 0 | U3: =COUNTIF(test!$FG$18:$FN$18,'recapitulation A'!A3) -> 0 | V3: =COUNTIF(test!$FO$18:$FV$18,'recapitulation A'!A3) -> 0 | W3: =COUNTIF(test!$FW$18:$GD$18,'recapitulation A'!A3) -> 0
A4: FC | B4: =COUNTIF(test!$K$18:$R$18,'recapitulation A'!A4) -> 0 | C4: =COUNTIF(test!$S$18:$Z$18,A4) -> 0 | D4: =COUNTIF(test!$AA$18:$AH$18,'recapitulation A'!A4) -> 0 | E4: =COUNTIF(test!$AI$18:$AP$18,'recapitulation A'!A4) -> 2 | F4: =COUNTIF(test!$AQ$18:$AX$18,'recapitulation A'!A4) -> 1 | G4: =COUNTIF(test!$AY$18:$BF$18,'recapitulation A'!A4) -> 0 | H4: =COUNTIF(test!$BG$18:$BN$18,'recapitulation A'!A4) -> 0 | I4: =COUNTIF(test!$BO$18:$BV$18,'recapitulation A'!A4) -> 0 | J4: =COUNTIF(test!$BW$18:$CD$18,'recapitulation A'!A4) -> 0 | K4: =COUNTIF(test!$CE$18:$CL$18,'recapitulation A'!A4) -> 0 | L4: =COUNTIF(test!$CM$18:$CT$18,'recapitulation A'!A4) -> 0 | M4: =COUNTIF(test!$CU$18:$DB$18,'recapitulation A'!A4) -> 0 | N4: =COUNTIF(test!$DC$18:$DJ$18,'recapitulation A'!A4) -> 0 | O4: =COUNTIF(test!$DK$18:$DR$18,'recapitulation A'!A4) -> 0 | P4: =COUNTIF(test!$DS$18:$DZ$18,'recapitulation A'!A4) -> 0 | Q4: =COUNTIF(test!$EA$18:$EH$18,'recapitulation A'!A4) -> 0 | R4: =COUNTIF(test!$EI$18:$EP$18,'recapitulation A'!A4) -> 0 | S4: =COUNTIF(test!$EQ$18:$EX$18,'recapitulation A'!A4) -> 2 | T4: =COUNTIF(test!$EY$18:$FF$18,'recapitulation A'!A4) -> 4 | U4: =COUNTIF(test!$FG$18:$FN$18,'recapitulation A'!A4) -> 5 | V4: =COUNTIF(test!$FO$18:$FV$18,'recapitulation A'!A4) -> 0 | W4: =COUNTIF(test!$FW$18:$GD$18,'recapitulation A'!A4) -> 0
A5: CT | B5: =COUNTIF(test!$K$18:$R$18,'recapitulation A'!A5) -> 0 | C5: =COUNTIF(test!$S$18:$Z$18,A5) -> 0 | D5: =COUNTIF(test!$AA$18:$AH$18,'recapitulation A'!A5) -> 0 | E5: =COUNTIF(test!$AI$18:$AP$18,'recapitulation A'!A5) -> 0 | F5: =COUNTIF(test!$AQ$18:$AX$18,'recapitulation A'!A5) -> 0 | G5: =COUNTIF(test!$AY$18:$BF$18,'recapitulation A'!A5) -> 0 | H5: =COUNTIF(test!$BG$18:$BN$18,'recapitulation A'!A5) -> 0 | I5: =COUNTIF(test!$BO$18:$BV$18,'recapitulation A'!A5) -> 0 | J5: =COUNTIF(test!$BW$18:$CD$18,'recapitulation A'!A5) -> 0 | K5: =COUNTIF(test!$CE$18:$CL$18,'recapitulation A'!A5) -> 0 | L5: =COUNTIF(test!$CM$18:$CT$18,'recapitulation A'!A5) -> 0 | M5: =COUNTIF(test!$CU$18:$DB$18,'recapitulation A'!A5) -> 0 | N5: =COUNTIF(test!$DC$18:$DJ$18,'recapitulation A'!A5) -> 0 | O5: =COUNTIF(test!$DK$18:$DR$18,'recapitulation A'!A5) -> 0 | P5: =COUNTIF(test!$DS$18:$DZ$18,'recapitulation A'!A5) -> 0 | Q5: =COUNTIF(test!$EA$18:$EH$18,'recapitulation A'!A5) -> 0 | R5: =COUNTIF(test!$EI$18:$EP$18,'recapitulation A'!A5) -> 0 | S5: =COUNTIF(test!$EQ$18:$EX$18,'recapitulation A'!A5) -> 0 | T5: =COUNTIF(test!$EY$18:$FF$18,'recapitulation A'!A5) -> 0 | U5: =COUNTIF(test!$FG$18:$FN$18,'recapitulation A'!A5) -> 0 | V5: =COUNTIF(test!$FO$18:$FV$18,'recapitulation A'!A5) -> 0 | W5: =COUNTIF(test!$FW$18:$GD$18,'recapitulation A'!A5) -> 0
A6: BT | B6: =COUNTIF(test!$K$18:$R$18,'recapitulation A'!A6) -> 0 | C6: =COUNTIF(test!$S$18:$Z$18,A6) -> 0 | D6: =COUNTIF(test!$AA$18:$AH$18,'recapitulation A'!A6) -> 0 | E6: =COUNTIF(test!$AI$18:$AP$18,'recapitulation A'!A6) -> 0 | F6: =COUNTIF(test!$AQ$18:$AX$18,'recapitulation A'!A6) -> 0 | G6: =COUNTIF(test!$AY$18:$BF$18,'recapitulation A'!A6) -> 0 | H6: =COUNTIF(test!$BG$18:$BN$18,'recapitulation A'!A6) -> 0 | I6: =COUNTIF(test!$BO$18:$BV$18,'recapitulation A'!A6) -> 0 | J6: =COUNTIF(test!$BW$18:$CD$18,'recapitulation A'!A6) -> 0 | K6: =COUNTIF(test!$CE$18:$CL$18,'recapitulation A'!A6) -> 0 | L6: =COUNTIF(test!$CM$18:$CT$18,'recapitulation A'!A6) -> 0 | M6: =COUNTIF(test!$CU$18:$DB$18,'recapitulation A'!A6) -> 0 | N6: =COUNTIF(test!$DC$18:$DJ$18,'recapitulation A'!A6) -> 0 | O6: =COUNTIF(test!$DK$18:$DR$18,'recapitulation A'!A6) -> 0 | P6: =COUNTIF(test!$DS$18:$DZ$18,'recapitulation A'!A6) -> 0 | Q6: =COUNTIF(test!$EA$18:$EH$18,'recapitulation A'!A6) -> 0 | R6: =COUNTIF(test!$EI$18:$EP$18,'recapitulation A'!A6) -> 0 | S6: =COUNTIF(test!$EQ$18:$EX$18,'recapitulation A'!A6) -> 0 | T6: =COUNTIF(test!$EY$18:$FF$18,'recapitulation A'!A6) -> 0 | U6: =COUNTIF(test!$FG$18:$FN$18,'recapitulation A'!A6) -> 0 | V6: =COUNTIF(test!$FO$18:$FV$18,'recapitulation A'!A6) -> 0 | W6: =COUNTIF(test!$FW$18:$GD$18,'recapitulation A'!A6) -> 0
A7: T | B7: =COUNTIF(test!$K$18:$R$18,'recapitulation A'!A7) -> 0 | C7: =COUNTIF(test!$S$18:$Z$18,A7) -> 0 | D7: =COUNTIF(test!$AA$18:$AH$18,'recapitulation A'!A7) -> 0 | E7: =COUNTIF(test!$AI$18:$AP$18,'recapitulation A'!A7) -> 0 | F7: =COUNTIF(test!$AQ$18:$AX$18,'recapitulation A'!A7) -> 0 | G7: =COUNTIF(test!$AY$18:$BF$18,'recapitulation A'!A7) -> 0 | H7: =COUNTIF(test!$BG$18:$BN$18,'recapitulation A'!A7) -> 0 | I7: =COUNTIF(test!$BO$18:$BV$18,'recapitulation A'!A7) -> 0 | J7: =COUNTIF(test!$BW$18:$CD$18,'recapitulation A'!A7) -> 0 | K7: =COUNTIF(test!$CE$18:$CL$18,'recapitulation A'!A7) -> 0 | L7: =COUNTIF(test!$CM$18:$CT$18,'recapitulation A'!A7) -> 0 | M7: =COUNTIF(test!$CU$18:$DB$18,'recapitulation A'!A7) -> 0 | N7: =COUNTIF(test!$DC$18:$DJ$18,'recapitulation A'!A7) -> 0 | O7: =COUNTIF(test!$DK$18:$DR$18,'recapitulation A'!A7) -> 0 | P7: =COUNTIF(test!$DS$18:$DZ$18,'recapitulation A'!A7) -> 0 | Q7: =COUNTIF(test!$EA$18:$EH$18,'recapitulation A'!A7) -> 0 | R7: =COUNTIF(test!$EI$18:$EP$18,'recapitulation A'!A7) -> 0 | S7: =COUNTIF(test!$EQ$18:$EX$18,'recapitulation A'!A7) -> 0 | T7: =COUNTIF(test!$EY$18:$FF$18,'recapitulation A'!A7) -> 0 | U7: =COUNTIF(test!$FG$18:$FN$18,'recapitulation A'!A7) -> 0 | V7: =COUNTIF(test!$FO$18:$FV$18,'recapitulation A'!A7) -> 0 | W7: =COUNTIF(test!$FW$18:$GD$18,'recapitulation A'!A7) -> 0
A8: TT | B8: =COUNTIF(test!$K$18:$R$18,'recapitulation A'!A8) -> 0 | C8: =COUNTIF(test!$S$18:$Z$18,A8) -> 4 | D8: =COUNTIF(test!$AA$18:$AH$18,'recapitulation A'!A8) -> 0 | E8: =COUNTIF(test!$AI$18:$AP$18,'recapitulation A'!A8) -> 0 | F8: =COUNTIF(test!$AQ$18:$AX$18,'recapitulation A'!A8) -> 0 | G8: =COUNTIF(test!$AY$18:$BF$18,'recapitulation A'!A8) -> 0 | H8: =COUNTIF(test!$BG$18:$BN$18,'recapitulation A'!A8) -> 0 | I8: =COUNTIF(test!$BO$18:$BV$18,'recapitulation A'!A8) -> 0 | J8: =COUNTIF(test!$BW$18:$CD$18,'recapitulation A'!A8) -> 0 | K8: =COUNTIF(test!$CE$18:$CL$18,'recapitulation A'!A8) -> 0 | L8: =COUNTIF(test!$CM$18:$CT$18,'recapitulation A'!A8) -> 0 | M8: =COUNTIF(test!$CU$18:$DB$18,'recapitulation A'!A8) -> 0 | N8: =COUNTIF(test!$DC$18:$DJ$18,'recapitulation A'!A8) -> 0 | O8: =COUNTIF(test!$DK$18:$DR$18,'recapitulation A'!A8) -> 0 | P8: =COUNTIF(test!$DS$18:$DZ$18,'recapitulation A'!A8) -> 0 | Q8: =COUNTIF(test!$EA$18:$EH$18,'recapitulation A'!A8) -> 0 | R8: =COUNTIF(test!$EI$18:$EP$18,'recapitulation A'!A8) -> 0 | S8: =COUNTIF(test!$EQ$18:$EX$18,'recapitulation A'!A8) -> 0 | T8: =COUNTIF(test!$EY$18:$FF$18,'recapitulation A'!A8) -> 0 | U8: =COUNTIF(test!$FG$18:$FN$18,'recapitulation A'!A8) -> 0 | V8: =COUNTIF(test!$FO$18:$FV$18,'recapitulation A'!A8) -> 0 | W8: =COUNTIF(test!$FW$18:$GD$18,'recapitulation A'!A8) -> 0
A9: PA | B9: =COUNTIF(test!$K$18:$R$18,'recapitulation A'!A9) -> 0 | C9: =COUNTIF(test!$S$18:$Z$18,A9) -> 0 | D9: =COUNTIF(test!$AA$18:$AH$18,'recapitulation A'!A9) -> 0 | E9: =COUNTIF(test!$AI$18:$AP$18,'recapitulation A'!A9) -> 0 | F9: =COUNTIF(test!$AQ$18:$AX$18,'recapitulation A'!A9) -> 0 | G9: =COUNTIF(test!$AY$18:$BF$18,'recapitulation A'!A9) -> 0 | H9: =COUNTIF(test!$BG$18:$BN$18,'recapitulation A'!A9) -> 0 | I9: =COUNTIF(test!$BO$18:$BV$18,'recapitulation A'!A9) -> 0 | J9: =COUNTIF(test!$BW$18:$CD$18,'recapitulation A'!A9) -> 0 | K9: =COUNTIF(test!$CE$18:$CL$18,'recapitulation A'!A9) -> 0 | L9: =COUNTIF(test!$CM$18:$CT$18,'recapitulation A'!A9) -> 0 | M9: =COUNTIF(test!$CU$18:$DB$18,'recapitulation A'!A9) -> 0 | N9: =COUNTIF(test!$DC$18:$DJ$18,'recapitulation A'!A9) -> 0 | O9: =COUNTIF(test!$DK$18:$DR$18,'recapitulation A'!A9) -> 0 | P9: =COUNTIF(test!$DS$18:$DZ$18,'recapitulation A'!A9) -> 0 | Q9: =COUNTIF(test!$EA$18:$EH$18,'recapitulation A'!A9) -> 0 | R9: =COUNTIF(test!$EI$18:$EP$18,'recapitulation A'!A9) -> 0 | S9: =COUNTIF(test!$EQ$18:$EX$18,'recapitulation A'!A9) -> 0 | T9: =COUNTIF(test!$EY$18:$FF$18,'recapitulation A'!A9) -> 0 | U9: =COUNTIF(test!$FG$18:$FN$18,'recapitulation A'!A9) -> 0 | V9: =COUNTIF(test!$FO$18:$FV$18,'recapitulation A'!A9) -> 0 | W9: =COUNTIF(test!$FW$18:$GD$18,'recapitulation A'!A9) -> 0
A10: IC | B10: =COUNTIF(test!$K$18:$R$18,'recapitulation A'!A10) -> 0 | C10: =COUNTIF(test!$S$18:$Z$18,A10) -> 0 | D10: =COUNTIF(test!$AA$18:$AH$18,'recapitulation A'!A10) -> 0 | E10: =COUNTIF(test!$AI$18:$AP$18,'recapitulation A'!A10) -> 0 | F10: =COUNTIF(test!$AQ$18:$AX$18,'recapitulation A'!A10) -> 0 | G10: =COUNTIF(test!$AY$18:$BF$18,'recapitulation A'!A10) -> 0 | H10: =COUNTIF(test!$BG$18:$BN$18,'recapitulation A'!A10) -> 0 | I10: =COUNTIF(test!$BO$18:$BV$18,'recapitulation A'!A10) -> 0 | J10: =COUNTIF(test!$BW$18:$CD$18,'recapitulation A'!A10) -> 0 | K10: =COUNTIF(test!$CE$18:$CL$18,'recapitulation A'!A10) -> 0 | L10: =COUNTIF(test!$CM$18:$CT$18,'recapitulation A'!A10) -> 0 | M10: =COUNTIF(test!$CU$18:$DB$18,'recapitulation A'!A10) -> 0 | N10: =COUNTIF(test!$DC$18:$DJ$18,'recapitulation A'!A10) -> 0 | O10: =COUNTIF(test!$DK$18:$DR$18,'recapitulation A'!A10) -> 0 | P10: =COUNTIF(test!$DS$18:$DZ$18,'recapitulation A'!A10) -> 0 | Q10: =COUNTIF(test!$EA$18:$EH$18,'recapitulation A'!A10) -> 0 | R10: =COUNTIF(test!$EI$18:$EP$18,'recapitulation A'!A10) -> 0 | S10: =COUNTIF(test!$EQ$18:$EX$18,'recapitulation A'!A10) -> 0 | T10: =COUNTIF(test!$EY$18:$FF$18,'recapitulation A'!A10) -> 0 | U10: =COUNTIF(test!$FG$18:$FN$18,'recapitulation A'!A10) -> 0 | V10: =COUNTIF(test!$FO$18:$FV$18,'recapitulation A'!A10) -> 0 | W10: =COUNTIF(test!$FW$18:$GD$18,'recapitulation A'!A10) -> 0
A11: O | B11: =COUNTIF(test!$K$18:$R$18,'recapitulation A'!A11) -> 0 | C11: =COUNTIF(test!$S$18:$Z$18,A11) -> 0 | D11: =COUNTIF(test!$AA$18:$AH$18,'recapitulation A'!A11) -> 0 | E11: =COUNTIF(test!$AI$18:$AP$18,'recapitulation A'!A11) -> 0 | F11: =COUNTIF(test!$AQ$18:$AX$18,'recapitulation A'!A11) -> 0 | G11: =COUNTIF(test!$AY$18:$BF$18,'recapitulation A'!A11) -> 0 | H11: =COUNTIF(test!$BG$18:$BN$18,'recapitulation A'!A11) -> 0 | I11: =COUNTIF(test!$BO$18:$BV$18,'recapitulation A'!A11) -> 0 | J11: =COUNTIF(test!$BW$18:$CD$18,'recapitulation A'!A11) -> 0 | K11: =COUNTIF(test!$CE$18:$CL$18,'recapitulation A'!A11) -> 0 | L11: =COUNTIF(test!$CM$18:$CT$18,'recapitulation A'!A11) -> 0 | M11: =COUNTIF(test!$CU$18:$DB$18,'recapitulation A'!A11) -> 0 | N11: =COUNTIF(test!$DC$18:$DJ$18,'recapitulation A'!A11) -> 0 | O11: =COUNTIF(test!$DK$18:$DR$18,'recapitulation A'!A11) -> 0 | P11: =COUNTIF(test!$DS$18:$DZ$18,'recapitulation A'!A11) -> 0 | Q11: =COUNTIF(test!$EA$18:$EH$18,'recapitulation A'!A11) -> 0 | R11: =COUNTIF(test!$EI$18:$EP$18,'recapitulation A'!A11) -> 0 | S11: =COUNTIF(test!$EQ$18:$EX$18,'recapitulation A'!A11) -> 0 | T11: =COUNTIF(test!$EY$18:$FF$18,'recapitulation A'!A11) -> 0 | U11: =COUNTIF(test!$FG$18:$FN$18,'recapitulation A'!A11) -> 0 | V11: =COUNTIF(test!$FO$18:$FV$18,'recapitulation A'!A11) -> 0 | W11: =COUNTIF(test!$FW$18:$GD$18,'recapitulation A'!A11) -> 0
A12: P | B12: =COUNTIF(test!$K$18:$R$18,'recapitulation A'!A12) -> 0 | C12: =COUNTIF(test!$S$18:$Z$18,A12) -> 0 | D12: =COUNTIF(test!$AA$18:$AH$18,'recapitulation A'!A12) -> 0 | E12: =COUNTIF(test!$AI$18:$AP$18,'recapitulation A'!A12) -> 0 | F12: =COUNTIF(test!$AQ$18:$AX$18,'recapitulation A'!A12) -> 0 | G12: =COUNTIF(test!$AY$18:$BF$18,'recapitulation A'!A12) -> 0 | H12: =COUNTIF(test!$BG$18:$BN$18,'recapitulation A'!A12) -> 0 | I12: =COUNTIF(test!$BO$18:$BV$18,'recapitulation A'!A12) -> 0 | J12: =COUNTIF(test!$BW$18:$CD$18,'recapitulation A'!A12) -> 0 | K12: =COUNTIF(test!$CE$18:$CL$18,'recapitulation A'!A12) -> 0 | L12: =COUNTIF(test!$CM$18:$CT$18,'recapitulation A'!A12) -> 0 | M12: =COUNTIF(test!$CU$18:$DB$18,'recapitulation A'!A12) -> 0 | N12: =COUNTIF(test!$DC$18:$DJ$18,'recapitulation A'!A12) -> 0 | O12: =COUNTIF(test!$DK$18:$DR$18,'recapitulation A'!A12) -> 0 | P12: =COUNTIF(test!$DS$18:$DZ$18,'recapitulation A'!A12) -> 0 | Q12: =COUNTIF(test!$EA$18:$EH$18,'recapitulation A'!A12) -> 0 | R12: =COUNTIF(test!$EI$18:$EP$18,'recapitulation A'!A12) -> 0 | S12: =COUNTIF(test!$EQ$18:$EX$18,'recapitulation A'!A12) -> 0 | T12: =COUNTIF(test!$EY$18:$FF$18,'recapitulation A'!A12) -> 0 | U12: =COUNTIF(test!$FG$18:$FN$18,'recapitulation A'!A12) -> 0 | V12: =COUNTIF(test!$FO$18:$FV$18,'recapitulation A'!A12) -> 0 | W12: =COUNTIF(test!$FW$18:$GD$18,'recapitulation A'!A12) -> 0
A13: R | B13: =COUNTIF(test!$K$18:$R$18,'recapitulation A'!A13) -> 0 | C13: =COUNTIF(test!$S$18:$Z$18,A13) -> 0 | D13: =COUNTIF(test!$AA$18:$AH$18,'recapitulation A'!A13) -> 1 | E13: =COUNTIF(test!$AI$18:$AP$18,'recapitulation A'!A13) -> 1 | F13: =COUNTIF(test!$AQ$18:$AX$18,'recapitulation A'!A13) -> 0 | G13: =COUNTIF(test!$AY$18:$BF$18,'recapitulation A'!A13) -> 0 | H13: =COUNTIF(test!$BG$18:$BN$18,'recapitulation A'!A13) -> 0 | I13: =COUNTIF(test!$BO$18:$BV$18,'recapitulation A'!A13) -> 0 | J13: =COUNTIF(test!$BW$18:$CD$18,'recapitulation A'!A13) -> 0 | K13: =COUNTIF(test!$CE$18:$CL$18,'recapitulation A'!A13) -> 0 | L13: =COUNTIF(test!$CM$18:$CT$18,'recapitulation A'!A13) -> 0 | M13: =COUNTIF(test!$CU$18:$DB$18,'recapitulation A'!A13) -> 0 | N13: =COUNTIF(test!$DC$18:$DJ$18,'recapitulation A'!A13) -> 0 | O13: =COUNTIF(test!$DK$18:$DR$18,'recapitulation A'!A13) -> 0 | P13: =COUNTIF(test!$DS$18:$DZ$18,'recapitulation A'!A13) -> 0 | Q13: =COUNTIF(test!$EA$18:$EH$18,'recapitulation A'!A13) -> 0 | R13: =COUNTIF(test!$EI$18:$EP$18,'recapitulation A'!A13) -> 0 | S13: =COUNTIF(test!$EQ$18:$EX$18,'recapitulation A'!A13) -> 0 | T13: =COUNTIF(test!$EY$18:$FF$18,'recapitulation A'!A13) -> 2 | U13: =COUNTIF(test!$FG$18:$FN$18,'recapitulation A'!A13) -> 1 | V13: =COUNTIF(test!$FO$18:$FV$18,'recapitulation A'!A13) -> 0 | W13: =COUNTIF(test!$FW$18:$GD$18,'recapitulation A'!A13) -> 0
A14: Fo | B14: =COUNTIF(test!$K$18:$R$18,'recapitulation A'!A14) -> 0 | C14: =COUNTIF(test!$S$18:$Z$18,A14) -> 0 | D14: =COUNTIF(test!$AA$18:$AH$18,'recapitulation A'!A14) -> 0 | E14: =COUNTIF(test!$AI$18:$AP$18,'recapitulation A'!A14) -> 0 | F14: =COUNTIF(test!$AQ$18:$AX$18,'recapitulation A'!A14) -> 0 | G14: =COUNTIF(test!$AY$18:$BF$18,'recapitulation A'!A14) -> 0 | H14: =COUNTIF(test!$BG$18:$BN$18,'recapitulation A'!A14) -> 0 | I14: =COUNTIF(test!$BO$18:$BV$18,'recapitulation A'!A14) -> 0 | J14: =COUNTIF(test!$BW$18:$CD$18,'recapitulation A'!A14) -> 0 | K14: =COUNTIF(test!$CE$18:$CL$18,'recapitulation A'!A14) -> 0 | L14: =COUNTIF(test!$CM$18:$CT$18,'recapitulation A'!A14) -> 0 | M14: =COUNTIF(test!$CU$18:$DB$18,'recapitulation A'!A14) -> 0 | N14: =COUNTIF(test!$DC$18:$DJ$18,'recapitulation A'!A14) -> 0 | O14: =COUNTIF(test!$DK$18:$DR$18,'recapitulation A'!A14) -> 0 | P14: =COUNTIF(test!$DS$18:$DZ$18,'recapitulation A'!A14) -> 0 | Q14: =COUNTIF(test!$EA$18:$EH$18,'recapitulation A'!A14) -> 0 | R14: =COUNTIF(test!$EI$18:$EP$18,'recapitulation A'!A14) -> 0 | S14: =COUNTIF(test!$EQ$18:$EX$18,'recapitulation A'!A14) -> 0 | T14: =COUNTIF(test!$EY$18:$FF$18,'recapitulation A'!A14) -> 0 | U14: =COUNTIF(test!$FG$18:$FN$18,'recapitulation A'!A14) -> 0 | V14: =COUNTIF(test!$FO$18:$FV$18,'recapitulation A'!A14) -> 0 | W14: =COUNTIF(test!$FW$18:$GD$18,'recapitulation A'!A14) -> 0
... A20: Ec | B20: =COUNTIF(test!$K$18:$R$18,'recapitulation A'!A20) -> 0 | C20: =COUNTIF(test!$S$18:$Z$18,A20) -> 0 | D20: =COUNTIF(test!$AA$18:$AH$18,'recapitulation A'!A20) -> 0 | E20: =COUNTIF(test!$AI$18:$AP$18,'recapitulation A'!A20) -> 0 | F20: =COUNTIF(test!$AQ$18:$AX$18,'recapitulation A'!A20) -> 0 | G20: =COUNTIF(test!$AY$18:$BF$18,'recapitulation A'!A20) -> 0 | H20: =COUNTIF(test!$BG$18:$BN$18,'recapitulation A'!A20) -> 0 | I20: =COUNTIF(test!$BO$18:$BV$18,'recapitulation A'!A20) -> 0 | J20: =COUNTIF(test!$BW$18:$CD$18,'recapitulation A'!A20) -> 0 | K20: =COUNTIF(test!$CE$18:$CL$18,'recapitulation A'!A20) -> 0 | L20: =COUNTIF(test!$CM$18:$CT$18,'recapitulation A'!A20) -> 0 | M20: =COUNTIF(test!$CU$18:$DB$18,'recapitulation A'!A20) -> 0 | N20: =COUNTIF(test!$DC$18:$DJ$18,'recapitulation A'!A20) -> 0 | O20: =COUNTIF(test!$DK$18:$DR$18,'recapitulation A'!A20) -> 0 | P20: =COUNTIF(test!$DS$18:$DZ$18,'recapitulation A'!A20) -> 0 | Q20: =COUNTIF(test!$EA$18:$EH$18,'recapitulation A'!A20) -> 0 | R20: =COUNTIF(test!$EI$18:$EP$18,'recapitulation A'!A20) -> 0 | S20: =COUNTIF(test!$EQ$18:$EX$18,'recapitulation A'!A20) -> 0 | T20: =COUNTIF(test!$EY$18:$FF$18,'recapitulation A'!A20) -> 0 | U20: =COUNTIF(test!$FG$18:$FN$18,'recapitulation A'!A20) -> 0 | V20: =COUNTIF(test!$FO$18:$FV$18,'recapitulation A'!A20) -> 0 | W20: =COUNTIF(test!$FW$18:$GD$18,'recapitulation A'!A20) -> 0
A22: total | B22: =SUM(B2:B21) -> 8 | C22: =SUM(C2:C21) -> 8 | D22: =SUM(D2:D21) -> 8 | E22: =SUM(E2:E21) -> 8 | F22: =SUM(F2:F21) -> 8 | G22: =SUM(G2:G21) -> 8 | H22: =SUM(H2:H21) -> 8 | I22: =SUM(I2:I21) -> 8 | ... W22: =SUM(W2:W21) -> 0
A26: 1 | B26: =B15+B14 -> 0 | C26: =C15+C14 -> 2 | D26: =D15+D14 -> 0 | E26: =E15+E14+E16 -> 0 | F26: =F15+F14+F16 -> 0 | G26: =G15+G14+G16 -> 0 | H26: =H15+H14+H16 -> 0 | I26: =I15+I14+I16 -> 0 | J26: =J15+J14+J16 -> 0 | K26: =K15+K14+K16 -> 0 | L26: =L15+L14+L16 -> 0 | ... W26: =W15+W14+W16 -> 0
A27: 2 | B27: =B13 -> 0 | C27: =C13 -> 0 | D27: =D13 -> 1 | E27: =E13 -> 1 | F27: =F13 -> 0 | G27: =G13 -> 0 | H27: =H13 -> 0 | I27: =I13 -> 0 | ... W27: =W13 -> 0
A28: 3 | B28: =B10 -> 0 | C28: =C10 -> 0 | D28: =D10 -> 0 | E28: =E10 -> 0 | F28: =F10 -> 0 | G28: =G10 -> 0 | H28: =H10 -> 0 | I28: =I10 -> 0 | ... W28: =W10 -> 0
A29: 4
A30: 5
A31: 6
A32: 7 | B32: =B2 -> 0 | C32: =C2 -> 2 | D32: =D2 -> 4 | E32: =E2 -> 5 | F32: =F2 -> 5 | G32: =G2 -> 0 | H32: =H2 -> 0 | I32: =I2 -> 0 | ... W32: =W2 -> 0
A33: 8 | B33: =B2 -> 0 | C33: =C2 -> 2 | D33: =D2 -> 4 | E33: =E2 -> 5 | F33: =F2 -> 5 | G33: =G2 -> 0 | H33: =H2 -> 0 | I33: =I2 -> 0 | ... W33: =W2 -> 0
A34: 9 | B34: =B3 -> 0 | C34: =C3 -> 0 | D34: =D3 -> 3 | E34: =E3 -> 0 | F34: =F3 -> 0 | G34: =G3 -> 0 | H34: =H3 -> 0 | I34: =I3 -> 0 | ... W34: =W3 -> 0
A35: 10
A36: 11 | B36: =B4 -> 0 | C36: =C4 -> 0 | D36: =D4 -> 0 | E36: =E4 -> 2 | F36: =F4 -> 1 | G36: =G4 -> 0 | H36: =H4 -> 0 | I36: =I4 -> 0 | ... W36: =W4 -> 0
A37: 12 | B37: =B12 -> 0 | C37: =C12 -> 0 | D37: =D12 -> 0 | E37: =E12 -> 0 | F37: =F12 -> 0 | G37: =G12 -> 0 | H37: =H12 -> 0 | I37: =I12 -> 0 | ... W37: =W12 -> 0
A38: 13
