Workbook

Sheet Présentation
A9: Intitulé du projet
A13: Demande de paiement au titre de laquelle sont présentées ces dépenses
A14: Solde
A16: Identification du partenariat
B18: Nom de l'organisme | C18: Dépenses réalisées HT (colonne à renseigner d'après l'onglet "Synthèse des dépenses" généré automatiquement dans le dernier onglet)
A19: Chef de file | B19: Tintin
A20: Partenaire 1 | B20: Rémi
A21: Partenaire 2 | B21: Nana
A22: Partenaire 3 | B22: Minie
A23: Partenaire 4 | B23: Mickey
A24: Partenaire 5
A25: Partenaire 6
A26: Partenaire 7
A27: Partenaire 8
A30: Liste synthétique des actions réalisées du projet
A32: numéro d'action | B32: libellé de l'action
A33: action 1
A34: action 2
A35: action 3
A36: action 4
A37: action 5
A38: action 6
A39: action 7
A40: action 8
A41: action 9
F43: Page 1/7

Sheet Postes de dépenses
A1: Indications sur les postes de dépenses
A5: Poste | B5: Description
A6: Etudes
A7: Animation
A8: Fonctionnement
A9: Coûts dir. Invest.
A10: Coûts dir. Hors Invest.
E14: page 2/7

Sheet A1 - Dépenses de personnel
A1: ANNEXE 1 - Dépenses de personnel et coûts indirects réalisés
A2: Intitulé du projet : | B2: =+Présentation!A11 -> 0
A3: Demande de paiement au titre de laquelle sont présentées ces dépenses : | D3: Sélectionner dans la liste déroulante
A4: Méthode de calcul sur la base du coût simplifié pour le personnel travaillant dans la structure depuis PLUS de 12 mois (au moment du dépôt de la demande de subvention)
A6: Les frais administratifs de la structure tels que les dépenses de fonctionnement courant de la structure dont les frais de structure, l'achat de fourniture, autres dépenses de personnel intervenant sur l'opération, par exemple pour l'envoi de courriers, etc. sont éligibles à ce titre en application de ce forfait de coûts indirects.
A7: Merci de remplir une ligne par intervenant et par année de projet
A8: Je demande (nous demandons) à bénéficier de l'aide sur les coûts indirects liés à l'opération d'un taux forfaitaire de 15 % des frais de personnels directs éligibles (art 68-1-b du RUE 1303-2013) - OUI / NON : | J8: Oui
A10: Action(s) à laquelle/auxquelles se rattache(nt) la dépense (Sélectionner dans liste déroulante) | B10: Nom de l'intervenant (1) | C10: Chef de file ou partenaire supportant la dépense (Sélectionner dans liste déroulante - merci de renseigner l'onglet "Présentation" au préalable) | D10: Description de l'intervention | E10: Territoire concerné par l'intervention (2) (dans le cas où le projet est sur l'ensemble de la Région Hauts-de-France) | F10: Poste de dépense (Sélectionner dans liste déroulante) Ex: "EtudesN1" correspondant à toutes les dépenses "Etudes" pour la 1ère année du projet | G10: Base temps de travail annuel dans la structure(3) (a) | H10: Unité Si l'agent travaille sur une base horaire, sélectionnez "heures" Si l'agent est au forfait/jour, sélectionnez "jours" ATTENTION: L'UNITE CHOISIE DOIT ETRE EN CONCORDANCE AVEC LE TEMPS DE TRAVAIL INDIQUE SUR LE CONTRAT DE TRAVAIL DU (DE LA) SALARIE(E). | I10: Temps plein/partiel de l'intervenant (%) (b) | J10: Coût horaire retenu HT en € (c) ATTENTION: Reporter le coût horaire retenu mentionné dans la convention | K10: Temps consacré à l'opération par l'agent Merci d'indiquer un chiffre ou nombre entier. (d) | L10: Unité Si l'agent travaille sur une base horaire, sélectionnez "heures" Si l'agent est au forfait/jour, sélectionnez "jours" ATTENTION: L'UNITE CHOISIE DOIT ETRE EN CONCORDANCE AVEC LE TEMPS DE TRAVAIL INDIQUE SUR LE CONTRAT DE TRAVAIL DU (DE LA) SALARIE(E). | M10: Frais salariaux consacrée au projet (e) =(c)x(d) | N10: Frais indirects (Merci de vérifier que vous avez bien répondu à la question de la ligne 8 au préalable) (f) = 15% x (e) | O10: Justificatifs joints (fiche de paie ou extrait du livre de paie)
A11: Exemple : Action 1 | B11: Doriane MARTIN | C11: Association ABC | D11: Etat des lieux des pratiques | E11: Aix en provence | F11: EtudesN1 | G11: 1607 | H11: heure(s) | I11: 1 | J11: 24.89 | K11: 10 | L11: heure(s) | M11: 248.9 | N11: 37.34
A12: Exemple: Action 3 | B12: Martine DORIAN | C12: Coopérative ABC | D12: Mise en place des essais | E12: Alsace | F12: Coûts dir. Hors Invest.N2 | G12: 215 | H12: jour(s) | I12: 1 | J12: 186.05 | K12: 5 | L12: jour(s) | M12: 932.5 | N12: 139.88
A13: Action 3 | B13: Toto | C13: Rémi | D13: pas important | G13: 56 | H13: jour(s) | I13: 1 | J13: 33 | K13: 300 | L13: heure(s) | M13: =ROUND(IF(J13<>0,J13*K13,0),2) -> 9900 | N13: =IF($J$8="Oui",0.15*M13,0) -> 1485
M14: =ROUND(IF(J14<>0,J14*K14,0),2) -> 0 | N14: =IF($J$8="Oui",0.15*M14,0) -> 0
M15: =ROUND(IF(J15<>0,J15*K15,0),2) -> 0 | N15: =IF($J$8="Oui",0.15*M15,0) -> 0
M16: =ROUND(IF(J16<>0,J16*K16,0),2) -> 0 | N16: =IF($J$8="Oui",0.15*M16,0) -> 0
M17: =ROUND(IF(J17<>0,J17*K17,0),2) -> 0 | N17: =IF($J$8="Oui",0.15*M17,0) -> 0
M18: =ROUND(IF(J18<>0,J18*K18,0),2) -> 0 | N18: =IF($J$8="Oui",0.15*M18,0) -> 0
I19: 0 | M19: =ROUND(IF(J19<>0,J19*K19,0),2) -> 0 | N19: =IF($J$8="Oui",0.15*M19,0) -> 0
A20: (1) Nom sur le bulletin de salaire ou document équivalent | M20: =SUM(M13:M19) -> 9900 | N20: =SUM(N13:N19) -> 1485
A21: (2) Pour les frais salariaux: présenter séparément les jours passés sur le projet soit côté PDR Picardie soit côté PDR Nord-Pas de Calais. Ceci est valable pour les temps de bureaux. Pour les dépenses qui ne peuvent pas être rattachées à un lieu physique: la dépense doit être rattachée au territoire ou se situe le siège/l’établissement du partenaire réalisant la dépense.
A22: (3) Base de temps de travail annuel effectif (ex: 1607h ou forfait/215 jours. Merci de vous référer au contrat de travail du/de la salarié(e) ).
A25: Certifié exact et sincère, le (date) :
A26: Nom, prénom du représentant de la structure :
A27: Qualité :
A28: Cachet et signature :
V44: Page 3 sur 7
A46: (Sélectionnez dans la liste déroulante) | B46: heure(s) | C46: EtudesN1
A47: Oui | B47: jour(s) | C47: AnimationN1
A48: Non | C48: FonctionnementN1
C49: Coûts dir. Invest.N1
C50: Coûts dir. Hors Invest.N1
C51: EtudesN2
C52: AnimationN2
C53: FonctionnementN2
C54: Coûts dir. Invest.N2
C55: Coûts dir. Hors Invest.N2
C56: EtudesN3
C57: AnimationN3
C58: FonctionnementN3
C59: Coûts dir. Invest.N3
C60: Coûts dir. Hors Invest.N3

Sheet A1b - Dépenses de personnel -12
A1: ANNEXE 1 - Dépenses de personnel et coûts indirects réalisés
A2: Intitulé du projet : | B2: =Présentation!A11 -> 0
A3: Demande de paiement au titre de laquelle sont présentées ces dépenses : | D3: Sélectionner dans la liste déroulante
A4: Méthode de calcul sur la base du coût réel pour: le personnel travaillant dans la structure depuis MOINS de 12 mois (au moment du dépôt de la demande de subvention : personnel à recruter, stagiaire, emploi saisonnier, etc.)
A6: Les frais administratifs de la structure tels que les dépenses de fonctionnement courant de la structure dont les frais de structure, l'achat de fourniture, autres dépenses de personnel intervenant sur l'opération, par exemple pour l'envoi de courriers, etc. sont éligibles à ce titre en application de ce forfait de coûts indirects.
A7: Merci de remplir une ligne par intervenant et par année de projet
A8: Je demande (nous demandons) à bénéficier de l'aide sur les coûts indirects liés à l'opération d'un taux forfaitaire de 15 % des frais de personnels directs éligibles (art 68-1-b du RUE 1303-2013) - OUI / NON : | J8: (Sélectionnez dans la liste déroulante)
A10: Action(s) à laquelle/auxquelles se rattache(nt) la dépense (Sélectionner dans liste déroulante) | B10: Nom de l'intervenant (4) | C10: Chef de file ou partenaire supportant la dépense (Sélectionner dans liste déroulante - merci de renseigner l'onglet "Présentation" au préalable) | D10: Description de l'intervention | E10: Territoire concerné par l'intervention (Sélectionner dans liste déroulante) | F10: Poste de dépense (Sélectionner dans liste déroulante) Ex: "EtudesN1" correspondant à toutes les dépenses "Etudes" pour la 1ère année du projet | G10: Base temps de travail annuel dans la structure(5) (a) | H10: Unité Si l'agent travaille sur une base horaire, sélectionnez "heures". Si l'agent est au forfait/jour, sélectionnez "jours". ATTENTION: L'UNITE CHOISIE DOIT ETRE EN CONCORDANCE AVEC LE TEMPS DE TRAVAIL INDIQUE SUR LE CONTRAT DE TRAVAIL DU (DE LA) SALARIE(E). | I10: Temps plein/partiel de l'intervenant (%) (b) | J10: Nombre de mois travaillés sur la période de référence (6) ( c) | K10: Temps de travail annuel de l'intervenant (d)=(a*b/12)*c | L10: Salaire brut + charges patronales sur la période de référence de l'agent (e) | M10: Temps consacré à l'opération par l'agent Merci d'indiquer un chiffre ou nombre entier. (f) | N10: Unité Si l'agent travaille sur une base horaire, sélectionnez "heures". Si l'agent est au forfait/jour, sélectionnez "jours". ATTENTION: L'UNITE CHOISIE DOIT ETRE EN CONCORDANCE AVEC LE TEMPS DE TRAVAIL INDIQUE SUR LE CONTRAT DE TRAVAIL DU (DE LA) SALARIE(E). | O10: Frais salariaux consacrée au projet (g) = (e/d)*f | P10: Frais indirects (Merci de vérifier que vous avez bien répondu à la question de la ligne 8 au préalable) (h) = 15% x (f) | Q10: Justificatifs joints (fiches de paie ou extrait du livre de paie)
A11: Exemple : Action 1 | B11: Martin DUBOIS | C11: Association ABC | D11: Stage Conduite Etude | E11: Picardie | F11: Coûts dir. Hors Invest.N1 | G11: 1607 | H11: heure(s) | I11: 1 | J11: 6 | K11: 803.5 | L11: 3412 | M11: 804 | N11: heure(s) | O11: 3414.12 | P11: 512.12
A12: action 2 | B12: Dupont | C12: Nana | D12: Courses | E12: Bretagne | F12: Coûts dir. Hors Invest.N1 | G12: 1607 | H12: heure(s) | I12: 1 | J12: 3 | K12: =(G12*I12/12)*J12 -> 401.75 | L12: 1446.9 | M12: 373.42 | N12: heure(s) | O12: =ROUND(IF(K12<>0,L12/K12*M12,0),2) -> 1344.87 | P12: =O12*15% -> 201.7305
I13: 0 | J13: 0 | K13: =(G13*I13/12)*J13 -> 0 | O13: =ROUND(IF(K13<>0,L13/K13*M13,0),2) -> 0 | P13: =O13*15% -> 0
I14: 0 | J14: 0 | K14: =(G14*I14/12)*J14 -> 0 | O14: =ROUND(IF(K14<>0,L14/K14*M14,0),2) -> 0 | P14: =O14*15% -> 0
I15: 0 | J15: 0 | K15: =(G15*I15/12)*J15 -> 0 | O15: =ROUND(IF(K15<>0,L15/K15*M15,0),2) -> 0 | P15: =O15*15% -> 0
I16: 0 | J16: 0 | K16: =(G16*I16/12)*J16 -> 0 | O16: =ROUND(IF(K16<>0,L16/K16*M16,0),2) -> 0 | P16: =O16*15% -> 0
I17: 0 | J17: 0 | K17: =(G17*I17/12)*J17 -> 0 | O17: =ROUND(IF(K17<>0,L17/K17*M17,0),2) -> 0 | P17: =O17*15% -> 0
I18: 0 | J18: 0 | K18: =(G18*I18/12)*J18 -> 0 | O18: =ROUND(IF(K18<>0,L18/K18*M18,0),2) -> 0 | P18: =O18*15% -> 0
I19: 0 | J19: 0 | K19: =(G19*I19/12)*J19 -> 0 | O19: =ROUND(IF(K19<>0,L19/K19*M19,0),2) -> 0 | P19: =O19*15% -> 0
I20: 0 | J20: 0 | K20: =(G20*I20/12)*J20 -> 0 | O20: =ROUND(IF(K20<>0,L20/K20*M20,0),2) -> 0 | P20: =O20*15% -> 0
I21: 0 | J21: 0 | K21: =(G21*I21/12)*J21 -> 0 | O21: =ROUND(IF(K21<>0,L21/K21*M21,0),2) -> 0 | P21: =O21*15% -> 0
I22: 0 | J22: 0 | K22: =(G22*I22/12)*J22 -> 0 | O22: =ROUND(IF(K22<>0,L22/K22*M22,0),2) -> 0 | P22: =O22*15% -> 0
I23: 0 | J23: 0 | K23: =(G23*I23/12)*J23 -> 0 | O23: =ROUND(IF(K23<>0,L23/K23*M23,0),2) -> 0 | P23: =O23*15% -> 0
I24: 0 | J24: 0 | K24: =(G24*I24/12)*J24 -> 0 | O24: =ROUND(IF(K24<>0,L24/K24*M24,0),2) -> 0 | P24: =O24*15% -> 0
A25: (4) Nom sur le bulletin de salaire ou document équivalent | O25: =SUM(O12:O24) -> 1344.87 | P25: =SUM(P12:P24) -> 201.7305
A26: (5) Base de temps de travail annuel effectif (ex: 1607h ou 215 jours. Merci de vous référer au contrat de travail du/de la salarié(e) ).
A27: (6) Par défaut, la période est de 12 mois mais elle peut être inférieure (par exemple, la période de base d'un stagiaire est souvent de 6 mois). La période de base permet le calcul du coût horaire ou journalier. | N27: Total Dépenses prévisionnelles de personnel | Q27: ='A1 - Dépenses de personnel'!M20+O25 -> 11244.87
N28: Total Frais indirects | Q28: ='A1b - Dépenses de personnel -12'!P25+'A1 - Dépenses de personnel'!N20 -> 1686.7305
V42: Page 4 sur 6
A44: (Sélectionnez dans la liste déroulante) | B44: heure(s) | C44: EtudesN1
A45: Oui | B45: jour(s) | C45: AnimationN1
A46: Non | C46: FonctionnementN1
C47: Coûts dir. Invest.N1
C48: Coûts dir. Hors Invest.N1
C49: EtudesN2
C50: AnimationN2
C51: FonctionnementN2
C52: Coûts dir. Invest.N2
C53: Coûts dir. Hors Invest.N2
C54: EtudesN3
C55: AnimationN3
C56: FonctionnementN3
...

Sheet A2 -Dépenses sur facturation
A1: Annexe 2 - Dépenses sur facturation réalisées
A2: Intitulé du projet : | B2: =Présentation!B11 -> 0
A3: Demande de paiement au titre de laquelle sont présentées ces dépenses : | D3: Sélectionner dans la liste déroulante
A5: Les montants doivent être exprimés hors retenues de garantie. Lorsque la facture concerne plusieurs dépenses dont certaines ne sont pas éligibles, il convient d’indiquer sur la copie de la facture celles qui sont éligibles (par exemple en surlignant les montants à prendre en compte). Les factures doivent être acquittées dans les délais prévus (art. 7 de la décision juridique).
A7: Action à laquelle la dépense est rattachée (Sélectionner dans liste déroulante merci de renseigner l'onglet "Présentation" au préalable) | B7: Description de la dépense présentée | C7: Chef de file ou partenaire supportant la dépense (Sélectionner dans liste déroulante - merci de renseigner l'onglet "Présentation" au préalable) | D7: Poste de dépense (Sélectionner dans liste déroulante) Ex: "EtudesN1" correspondant à toutes les dépenses "Etudes" pour la 1ère année du projet | E7: Dénomination du fournisseur à l'origine de la facture | F7: Identifiant de la facture (libellé et/ou numéro) | G7: Date d'émission de la facture | H7: Date d'acquittement de la facture | I7: Montant présenté HT | J7: Montant présenté TTC | K7: Est-ce que le bénéficiaire ayant supporté la dépense est soumis au respect des règles de la commande publique/ marchés publics ? | L7: Justificatif joint
A8: action 2 | B8: Achat ordi | C8: Mickey | D8: EtudesN1 | E8: Darty | F8: F6699B-0520-11457 | G8: 43978 | H8: 44012 | I8: 4286 | J8: 5143.2 | K8: NOn | L8: OK
G9: __/__ /20__ | H9: __/__ /20__ | I9: 0
G10: __/__ /20__ | H10: __/__ /20__ | I10: 0
G11: __/__ /20__ | H11: __/__ /20__ | I11: 0
G12: __/__ /20__ | H12: __/__ /20__ | I12: 0
G13: __/__ /20__ | H13: __/__ /20__ | I13: 0
G14: __/__ /20__ | H14: __/__ /20__ | I14: 0
G15: __/__ /20__ | H15: __/__ /20__ | I15: 0
I16: =SUM(I8:I15) -> 4286 | J16: =SUM(J8:J15) -> 5143.2
L18: Page 5/7

Sheet A3 - Recettes réalisées
A1: ANNEXE 3- Recettes liées au projet réalisées
A2: Intitulé du projet : | B2: =Présentation!B11 -> 0
A3: Demande de paiement au titre de laquelle sont présentées ces dépenses : | D3: Sélectionner dans la liste déroulante
A5: NB : Les recettes générées par l’opération pendant sa période de réalisation seront déduites du montant total des dépenses éligibles au moment du paiement des aides
A7: Description de la recette | B7: Montant HT réalisé | C7: Identifiant du justificatif | D7: Date d’émission | E7: Date d’encaissement | F7: Justificatif joint
B8: 0
B9: 0
B10: 0
B11: 0
B12: 0
B13: 0
B14: 0
B15: 0
B16: 0
B17: 0
A18: TOTAL | B18: =SUM(B8:B17) -> 0
A20: Pour les structures publiques uniquement : Je certifie que les dépenses figurant dans ce récapitulatif ont été réellement supportées par la structure qui demande le paiement de la subvention, et n’ont fait l’objet d’aucune remise, rabais, ristourne, ou avoir. | E20: Certifié exact et sincère, le (date) :
A21: Certifié exact et sincère, le (date) : | E21: Nom, prénom du représentant de la structure :
A22: Nom, prénom du comptable de la structure : | E22: Qualité :
A23: Cachet et signature : | E23: Cachet et signature :
H33: Page 6/7

Sheet Synthèse des dépenses
A1: Synthèse des dépenses supportées réalisées
A2: Intitulé du projet : | B2: =Présentation!B11 -> 0
A3: Demande de paiement au titre de laquelle sont présentées ces dépenses : | D3: Sélectionner dans la liste déroulante
A5: Synthèse de l'opération par type de dépense
B7: Montant HT présenté
A8: Dépenses prévisionnelles de personnel | B8: ='A1 - Dépenses de personnel'!M20+'A1b - Dépenses de personnel -12'!O25 -> 11244.87
A9: Dépenses prévisionnelles de facturation | B9: ='A2 -Dépenses sur facturation'!I16 -> 4286
A10: Coûts indirects | B10: ='A1 - Dépenses de personnel'!N20+'A1b - Dépenses de personnel -12'!P25 -> 1686.7305
A11: TOTAL | B11: =SUM(B8:B10) -> 17217.601
A13: Synthèse de l'opération par année de projet et par poste de dépense
B15: Année 1 | C15: Année 2 | D15: Année 3 | E15: TOTAL
A16: Etudes | B16: =B39 -> 4286 | C16: =B55 -> 0 | D16: =B71 -> 0 | E16: =SUM(B16:D16) -> 4286
A17: Animation | B17: =C39 -> 0 | C17: =C55 -> 0 | D17: =C71 -> 0 | E17: =SUM(B17:D17) -> 0
A18: Fonctionnement | B18: =D39 -> 0 | C18: =D55 -> 0 | D18: =D71 -> 0 | E18: =SUM(B18:D18) -> 0
A19: Coûts dir. Invest. | B19: =E39 -> 0 | C19: =E55 -> 0 | D19: =E71 -> 0 | E19: =SUM(B19:D19) -> 0
A20: Coûts dir. Hors Invest. | B20: =F39 -> 1546.6005 | C20: =F55 -> 0 | D20: =F71 -> 0 | E20: =SUM(B20:D20) -> 1546.6005
A21: TOTAL | B21: =SUM(B16:B20) -> 5832.6005 | C21: =SUM(C16:C20) -> 0 | D21: =SUM(D16:D20) -> 0
D23: TOTAL réalisé | E23: =B21+C21+D21 -> 5832.6005
A25: Synthèse de l'opération par année de projet, par poste de dépense et par partenaire
A27: Année 1
A29: Chef de file / partenaires | B29: EtudesN1 | C29: AnimationN1 | D29: FonctionnementN1 | E29: Coûts dir. Invest.N1 | F29: Coûts dir. Hors Invest.N1 | G29: TOTAL
A30: =IF(ISBLANK(Présentation!B19),"",Présentation!B19) -> Tintin | B30: =SUMIFS('A1 - Dépenses de personnel'!$M$13:$M$19,'A1 - Dépenses de personnel'!$C$13:$C$19,$A$30,'A1 - Dépenses de personnel'!$F$13:$F$19,$B$29)+SUMIFS('A1b - Dépenses de personnel -12'!$O$12:$O$24,'A1b - Dépenses de personnel -12'!$C$12:$C$24,$A$30,'A1b - Dépenses de personnel -12'!$F$12:$F$24,$B$29)+SUMIFS('A2 -Dépenses sur facturation'!$I$8:$I$15,'A2 -Dépenses sur facturation'!$C$8:$C$15,$A$30,'A2 -Dépenses sur facturation'!$D$8:$D$15,$B$29)+SUMIFS('A1 - Dépenses de personnel'!$N$13:$N$19,'A1 - Dépenses de personnel'!$C$13:$C$19,$A$30,'A1 - Dépenses de personnel'!$F$13:$F$19,$B$29)+SUMIFS('A1b - Dépenses de personnel -12'!$P$12:$P$24,'A1b - Dépenses de personnel -12'!$C$12:$C$24,$A$30,'A1b - Dépenses de personnel -12'!$F$12:$F$24,$B$29) -> 0 | C30: =SUMIFS('A1 - Dépenses de personnel'!$M$13:$M$19,'A1 - Dépenses de personnel'!$C$13:$C$19,$A$30,'A1 - Dépenses de personnel'!$F$13:$F$19,$C$29)+SUMIFS('A1b - Dépenses de personnel -12'!$O$12:$O$24,'A1b - Dépenses de personnel -12'!$C$12:$C$24,$A$30,'A1b - Dépenses de personnel -12'!$F$12:$F$24,$C$29)+SUMIFS('A2 -Dépenses sur facturation'!$I$8:$I$15,'A2 -Dépenses sur facturation'!$C$8:$C$15,$A$30,'A2 -Dépenses sur facturation'!$D$8:$D$15,$C$29)+SUMIFS('A1 - Dépenses de personnel'!$N$13:$N$19,'A1 - Dépenses de personnel'!$C$13:$C$19,$A$30,'A1 - Dépenses de personnel'!$F$13:$F$19,$C$29)+SUMIFS('A1b - Dépenses de personnel -12'!$P$12:$P$24,'A1b - Dépenses de personnel -12'!$C$12:$C$24,$A$30,'A1b - Dépenses de personnel -12'!$F$12:$F$24,$C$29) -> 0 | D30: =SUMIFS('A1 - Dépenses de personnel'!$M$13:$M$19,'A1 - Dépenses de personnel'!$C$13:$C$19,$A$30,'A1 - Dépenses de personnel'!$F$13:$F$19,$D$29)+SUMIFS('A1b - Dépenses de personnel -12'!$O$12:$O$24,'A1b - Dépenses de personnel -12'!$C$12:$C$24,$A$30,'A1b - Dépenses de personnel -12'!$F$12:$F$24,$D$29)+SUMIFS('A2 -Dépenses sur facturation'!$I$8:$I$15,'A2 -Dépenses sur facturation'!$C$8:$C$15,$A$30,'A2 -Dépenses sur facturation'!$D$8:$D$15,$D$29)+SUMIFS('A1 - Dépenses de personnel'!$N$13:$N$19,'A1 - Dépenses de personnel'!$C$13:$C$19,$A$30,'A1 - Dépenses de personnel'!$F$13:$F$19,$D$29)+SUMIFS('A1b - Dépenses de personnel -12'!$P$12:$P$24,'A1b - Dépenses de personnel -12'!$C$12:$C$24,$A$30,'A1b - Dépenses de personnel -12'!$F$12:$F$24,$D$29) -> 0 | E30: =SUMIFS('A1 - Dépenses de personnel'!$M$13:$M$19,'A1 - Dépenses de personnel'!$C$13:$C$19,$A$30,'A1 - Dépenses de personnel'!$F$13:$F$19,$E$29)+SUMIFS('A1b - Dépenses de personnel -12'!$O$12:$O$24,'A1b - Dépenses de personnel -12'!$C$12:$C$24,$A$30,'A1b - Dépenses de personnel -12'!$F$12:$F$24,$E$29)+SUMIFS('A2 -Dépenses sur facturation'!$I$8:$I$15,'A2 -Dépenses sur facturation'!$C$8:$C$15,$A$30,'A2 -Dépenses sur facturation'!$D$8:$D$15,$E$29)+SUMIFS('A1 - Dépenses de personnel'!$N$13:$N$19,'A1 - Dépenses de personnel'!$C$13:$C$19,$A$30,'A1 - Dépenses de personnel'!$F$13:$F$19,$E$29)+SUMIFS('A1b - Dépenses de personnel -12'!$P$12:$P$24,'A1b - Dépenses de personnel -12'!$C$12:$C$24,$A$30,'A1b - Dépenses de personnel -12'!$F$12:$F$24,$E$29) -> 0 | F30: =SUMIFS('A1 - Dépenses de personnel'!$M$13:$M$19,'A1 - Dépenses de personnel'!$C$13:$C$19,$A$30,'A1 - Dépenses de personnel'!$F$13:$F$19,$F$29)+SUMIFS('A1b - Dépenses de personnel -12'!$O$12:$O$24,'A1b - Dépenses de personnel -12'!$C$12:$C$24,$A$30,'A1b - Dépenses de personnel -12'!$F$12:$F$24,$F$29)+SUMIFS('A2 -Dépenses sur facturation'!$I$8:$I$15,'A2 -Dépenses sur facturation'!$C$8:$C$15,$A$30,'A2 -Dépenses sur facturation'!$D$8:$D$15,$F$29)+SUMIFS('A1 - Dépenses de personnel'!$N$13:$N$19,'A1 - Dépenses de personnel'!$C$13:$C$19,$A$30,'A1 - Dépenses de personnel'!$F$13:$F$19,$F$29)+SUMIFS('A1b - Dépenses de personnel -12'!$P$12:$P$24,'A1b - Dépenses de personnel -12'!$C$12:$C$24,$A$30,'A1b - Dépenses de personnel -12'!$F$12:$F$24,$F$29) -> 0 | G30: =SUM(B30:F30) -> 0
A31: =IF(ISBLANK(Présentation!B20),"",Présentation!B20) -> Rémi | B31: =SUMIFS('A1 - Dépenses de personnel'!$M$13:$M$19,'A1 - Dépenses de personnel'!$C$13:$C$19,$A$31,'A1 - Dépenses de personnel'!$F$13:$F$19,$B$29)+SUMIFS('A1b - Dépenses de personnel -12'!$O$12:$O$24,'A1b - Dépenses de personnel -12'!$C$12:$C$24,$A$31,'A1b - Dépenses de personnel -12'!$F$12:$F$24,$B$29)+SUMIFS('A2 -Dépenses sur facturation'!$I$8:$I$15,'A2 -Dépenses sur facturation'!$C$8:$C$15,$A$31,'A2 -Dépenses sur facturation'!$D$8:$D$15,$B$29)+SUMIFS('A1 - Dépenses de personnel'!$N$13:$N$19,'A1 - Dépenses de personnel'!$C$13:$C$19,$A$31,'A1 - Dépenses de personnel'!$F$13:$F$19,$B$29)+SUMIFS('A1b - Dépenses de personnel -12'!$P$12:$P$24,'A1b - Dépenses de personnel -12'!$C$12:$C$24,$A$31,'A1b - Dépenses de personnel -12'!$F$12:$F$24,$B$29) -> 0 | C31: =SUMIFS('A1 - Dépenses de personnel'!$M$13:$M$19,'A1 - Dépenses de personnel'!$C$13:$C$19,$A$31,'A1 - Dépenses de personnel'!$F$13:$F$19,$C$29)+SUMIFS('A1b - Dépenses de personnel -12'!$O$12:$O$24,'A1b - Dépenses de personnel -12'!$C$12:$C$24,$A$31,'A1b - Dépenses de personnel -12'!$F$12:$F$24,$C$29)+SUMIFS('A2 -Dépenses sur facturation'!$I$8:$I$15,'A2 -Dépenses sur facturation'!$C$8:$C$15,$A$31,'A2 -Dépenses sur facturation'!$D$8:$D$15,$C$29)+SUMIFS('A1 - Dépenses de personnel'!$N$13:$N$19,'A1 - Dépenses de personnel'!$C$13:$C$19,$A$31,'A1 - Dépenses de personnel'!$F$13:$F$19,$C$29)+SUMIFS('A1b - Dépenses de personnel -12'!$P$12:$P$24,'A1b - Dépenses de personnel -12'!$C$12:$C$24,$A$31,'A1b - Dépenses de personnel -12'!$F$12:$F$24,$C$29) -> 0 | D31: =SUMIFS('A1 - Dépenses de personnel'!$M$13:$M$19,'A1 - Dépenses de personnel'!$C$13:$C$19,$A$31,'A1 - Dépenses de personnel'!$F$13:$F$19,$D$29)+SUMIFS('A1b - Dépenses de personnel -12'!$O$12:$O$24,'A1b - Dépenses de personnel -12'!$C$12:$C$24,$A$31,'A1b - Dépenses de personnel -12'!$F$12:$F$24,$D$29)+SUMIFS('A2 -Dépenses sur facturation'!$I$8:$I$15,'A2 -Dépenses sur facturation'!$C$8:$C$15,$A$31,'A2 -Dépenses sur facturation'!$D$8:$D$15,$D$29)+SUMIFS('A1 - Dépenses de personnel'!$N$13:$N$19,'A1 - Dépenses de personnel'!$C$13:$C$19,$A$31,'A1 - Dépenses de personnel'!$F$13:$F$19,$D$29)+SUMIFS('A1b - Dépenses de personnel -12'!$P$12:$P$24,'A1b - Dépenses de personnel -12'!$C$12:$C$24,$A$31,'A1b - Dépenses de personnel -12'!$F$12:$F$24,$D$29) -> 0 | E31: =SUMIFS('A1 - Dépenses de personnel'!$M$13:$M$19,'A1 - Dépenses de personnel'!$C$13:$C$19,$A$31,'A1 - Dépenses de personnel'!$F$13:$F$19,$E$29)+SUMIFS('A1b - Dépenses de personnel -12'!$O$12:$O$24,'A1b - Dépenses de personnel -12'!$C$12:$C$24,$A$31,'A1b - Dépenses de personnel -12'!$F$12:$F$24,$E$29)+SUMIFS('A2 -Dépenses sur facturation'!$I$8:$I$15,'A2 -Dépenses sur facturation'!$C$8:$C$15,$A$31,'A2 -Dépenses sur facturation'!$D$8:$D$15,$E$29)+SUMIFS('A1 - Dépenses de personnel'!$N$13:$N$19,'A1 - Dépenses de personnel'!$C$13:$C$19,$A$31,'A1 - Dépenses de personnel'!$F$13:$F$19,$E$29)+SUMIFS('A1b - Dépenses de personnel -12'!$P$12:$P$24,'A1b - Dépenses de personnel -12'!$C$12:$C$24,$A$31,'A1b - Dépenses de personnel -12'!$F$12:$F$24,$E$29) -> 0 | F31: =SUMIFS('A1 - Dépenses de personnel'!$M$13:$M$19,'A1 - Dépenses de personnel'!$C$13:$C$19,$A$31,'A1 - Dépenses de personnel'!$F$13:$F$19,$F$29)+SUMIFS('A1b - Dépenses de personnel -12'!$O$12:$O$24,'A1b - Dépenses de personnel -12'!$C$12:$C$24,$A$31,'A1b - Dépenses de personnel -12'!$F$12:$F$24,$F$29)+SUMIFS('A2 -Dépenses sur facturation'!$I$8:$I$15,'A2 -Dépenses sur facturation'!$C$8:$C$15,$A$31,'A2 -Dépenses sur facturation'!$D$8:$D$15,$F$29)+SUMIFS('A1 - Dépenses de personnel'!$N$13:$N$19,'A1 - Dépenses de personnel'!$C$13:$C$19,$A$31,'A1 - Dépenses de personnel'!$F$13:$F$19,$F$29)+SUMIFS('A1b - Dépenses de personnel -12'!$P$12:$P$24,'A1b - Dépenses de personnel -12'!$C$12:$C$24,$A$31,'A1b - Dépenses de personnel -12'!$F$12:$F$24,$F$29) -> 0 | G31: =SUM(B31:F31) -> 0
A32: =IF(ISBLANK(Présentation!B21),"",Présentation!B21) -> Nana | B32: =SUMIFS('A1 - Dépenses de personnel'!$M$13:$M$19,'A1 - Dépenses de personnel'!$C$13:$C$19,$A$32,'A1 - Dépenses de personnel'!$F$13:$F$19,$B$29)+SUMIFS('A1b - Dépenses de personnel -12'!$O$12:$O$24,'A1b - Dépenses de personnel -12'!$C$12:$C$24,$A$32,'A1b - Dépenses de personnel -12'!$F$12:$F$24,$B$29)+SUMIFS('A2 -Dépenses sur facturation'!$I$8:$I$15,'A2 -Dépenses sur facturation'!$C$8:$C$15,$A$32,'A2 -Dépenses sur facturation'!$D$8:$D$15,$B$29)+SUMIFS('A1 - Dépenses de personnel'!$N$13:$N$19,'A1 - Dépenses de personnel'!$C$13:$C$19,$A$32,'A1 - Dépenses de personnel'!$F$13:$F$19,$B$29)+SUMIFS('A1b - Dépenses de personnel -12'!$P$12:$P$24,'A1b - Dépenses de personnel -12'!$C$12:$C$24,$A$32,'A1b - Dépenses de personnel -12'!$F$12:$F$24,$B$29) -> 0 | C32: =SUMIFS('A1 - Dépenses de personnel'!$M$13:$M$19,'A1 - Dépenses de personnel'!$C$13:$C$19,$A$32,'A1 - Dépenses de personnel'!$F$13:$F$19,$C$29)+SUMIFS('A1b - Dépenses de personnel -12'!$O$12:$O$24,'A1b - Dépenses de personnel -12'!$C$12:$C$24,$A$32,'A1b - Dépenses de personnel -12'!$F$12:$F$24,$C$29)+SUMIFS('A2 -Dépenses sur facturation'!$I$8:$I$15,'A2 -Dépenses sur facturation'!$C$8:$C$15,$A$32,'A2 -Dépenses sur facturation'!$D$8:$D$15,$C$29)+SUMIFS('A1 - Dépenses de personnel'!$N$13:$N$19,'A1 - Dépenses de personnel'!$C$13:$C$19,$A$32,'A1 - Dépenses de personnel'!$F$13:$F$19,$C$29)+SUMIFS('A1b - Dépenses de personnel -12'!$P$12:$P$24,'A1b - Dépenses de personnel -12'!$C$12:$C$24,$A$32,'A1b - Dépenses de personnel -12'!$F$12:$F$24,$C$29) -> 0 | D32: =SUMIFS('A1 - Dépenses de personnel'!$M$13:$M$19,'A1 - Dépenses de personnel'!$C$13:$C$19,$A$32,'A1 - Dépenses de personnel'!$F$13:$F$19,$D$29)+SUMIFS('A1b - Dépenses de personnel -12'!$O$12:$O$24,'A1b - Dépenses de personnel -12'!$C$12:$C$24,$A$32,'A1b - Dépenses de personnel -12'!$F$12:$F$24,$D$29)+SUMIFS('A2 -Dépenses sur facturation'!$I$8:$I$15,'A2 -Dépenses sur facturation'!$C$8:$C$15,$A$32,'A2 -Dépenses sur facturation'!$D$8:$D$15,$D$29)+SUMIFS('A1 - Dépenses de personnel'!$N$13:$N$19,'A1 - Dépenses de personnel'!$C$13:$C$19,$A$32,'A1 - Dépenses de personnel'!$F$13:$F$19,$D$29)+SUMIFS('A1b - Dépenses de personnel -12'!$P$12:$P$24,'A1b - Dépenses de personnel -12'!$C$12:$C$24,$A$32,'A1b - Dépenses de personnel -12'!$F$12:$F$24,$D$29) -> 0 | E32: =SUMIFS('A1 - Dépenses de personnel'!$M$13:$M$19,'A1 - Dépenses de personnel'!$C$13:$C$19,$A$32,'A1 - Dépenses de personnel'!$F$13:$F$19,$E$29)+SUMIFS('A1b - Dépenses de personnel -12'!$O$12:$O$24,'A1b - Dépenses de personnel -12'!$C$12:$C$24,$A$32,'A1b - Dépenses de personnel -12'!$F$12:$F$24,$E$29)+SUMIFS('A2 -Dépenses sur facturation'!$I$8:$I$15,'A2 -Dépenses sur facturation'!$C$8:$C$15,$A$32,'A2 -Dépenses sur facturation'!$D$8:$D$15,$E$29)+SUMIFS('A1 - Dépenses de personnel'!$N$13:$N$19,'A1 - Dépenses de personnel'!$C$13:$C$19,$A$32,'A1 - Dépenses de personnel'!$F$13:$F$19,$E$29)+SUMIFS('A1b - Dépenses de personnel -12'!$P$12:$P$24,'A1b - Dépenses de personnel -12'!$C$12:$C$24,$A$32,'A1b - Dépenses de personnel -12'!$F$12:$F$24,$E$29) -> 0 | F32: =SUMIFS('A1 - Dépenses de personnel'!$M$13:$M$19,'A1 - Dépenses de personnel'!$C$13:$C$19,$A$32,'A1 - Dépenses de personnel'!$F$13:$F$19,$F$29)+SUMIFS('A1b - Dépenses de personnel -12'!$O$12:$O$24,'A1b - Dépenses de personnel -12'!$C$12:$C$24,$A$32,'A1b - Dépenses de personnel -12'!$F$12:$F$24,$F$29)+SUMIFS('A2 -Dépenses sur facturation'!$I$8:$I$15,'A2 -Dépenses sur facturation'!$C$8:$C$15,$A$32,'A2 -Dépenses sur facturation'!$D$8:$D$15,$F$29)+SUMIFS('A1 - Dépenses de personnel'!$N$13:$N$19,'A1 - Dépenses de personnel'!$C$13:$C$19,$A$32,'A1 - Dépenses de personnel'!$F$13:$F$19,$F$29)+SUMIFS('A1b - Dépenses de personnel -12'!$P$12:$P$24,'A1b - Dépenses de personnel -12'!$C$12:$C$24,$A$32,'A1b - Dépenses de personnel -12'!$F$12:$F$24,$F$29) -> 1546.6005 | G32: =SUM(B32:F32) -> 1546.6005
A33: =IF(ISBLANK(Présentation!B22),"",Présentation!B22) -> Minie | B33: =SUMIFS('A1 - Dépenses de personnel'!$M$13:$M$19,'A1 - Dépenses de personnel'!$C$13:$C$19,$A$33,'A1 - Dépenses de personnel'!$F$13:$F$19,$B$29)+SUMIFS('A1b - Dépenses de personnel -12'!$O$12:$O$24,'A1b - Dépenses de personnel -12'!$C$12:$C$24,$A$33,'A1b - Dépenses de personnel -12'!$F$12:$F$24,$B$29)+SUMIFS('A2 -Dépenses sur facturation'!$I$8:$I$15,'A2 -Dépenses sur facturation'!$C$8:$C$15,$A$33,'A2 -Dépenses sur facturation'!$D$8:$D$15,$B$29)+SUMIFS('A1 - Dépenses de personnel'!$N$13:$N$19,'A1 - Dépenses de personnel'!$C$13:$C$19,$A$33,'A1 - Dépenses de personnel'!$F$13:$F$19,$B$29)+SUMIFS('A1b - Dépenses de personnel -12'!$P$12:$P$24,'A1b - Dépenses de personnel -12'!$C$12:$C$24,$A$33,'A1b - Dépenses de personnel -12'!$F$12:$F$24,$B$29) -> 0 | C33: =SUMIFS('A1 - Dépenses de personnel'!$M$13:$M$19,'A1 - Dépenses de personnel'!$C$13:$C$19,$A$33,'A1 - Dépenses de personnel'!$F$13:$F$19,$C$29)+SUMIFS('A1b - Dépenses de personnel -12'!$O$12:$O$24,'A1b - Dépenses de personnel -12'!$C$12:$C$24,$A$33,'A1b - Dépenses de personnel -12'!$F$12:$F$24,$C$29)+SUMIFS('A2 -Dépenses sur facturation'!$I$8:$I$15,'A2 -Dépenses sur facturation'!$C$8:$C$15,$A$33,'A2 -Dépenses sur facturation'!$D$8:$D$15,$C$29)+SUMIFS('A1 - Dépenses de personnel'!$N$13:$N$19,'A1 - Dépenses de personnel'!$C$13:$C$19,$A$33,'A1 - Dépenses de personnel'!$F$13:$F$19,$C$29)+SUMIFS('A1b - Dépenses de personnel -12'!$P$12:$P$24,'A1b - Dépenses de personnel -12'!$C$12:$C$24,$A$33,'A1b - Dépenses de personnel -12'!$F$12:$F$24,$C$29) -> 0 | D33: =SUMIFS('A1 - Dépenses de personnel'!$M$13:$M$19,'A1 - Dépenses de personnel'!$C$13:$C$19,$A$33,'A1 - Dépenses de personnel'!$F$13:$F$19,$D$29)+SUMIFS('A1b - Dépenses de personnel -12'!$O$12:$O$24,'A1b - Dépenses de personnel -12'!$C$12:$C$24,$A$33,'A1b - Dépenses de personnel -12'!$F$12:$F$24,$D$29)+SUMIFS('A2 -Dépenses sur facturation'!$I$8:$I$15,'A2 -Dépenses sur facturation'!$C$8:$C$15,$A$33,'A2 -Dépenses sur facturation'!$D$8:$D$15,$D$29)+SUMIFS('A1 - Dépenses de personnel'!$N$13:$N$19,'A1 - Dépenses de personnel'!$C$13:$C$19,$A$33,'A1 - Dépenses de personnel'!$F$13:$F$19,$D$29)+SUMIFS('A1b - Dépenses de personnel -12'!$P$12:$P$24,'A1b - Dépenses de personnel -12'!$C$12:$C$24,$A$33,'A1b - Dépenses de personnel -12'!$F$12:$F$24,$D$29) -> 0 | E33: =SUMIFS('A1 - Dépenses de personnel'!$M$13:$M$19,'A1 - Dépenses de personnel'!$C$13:$C$19,$A$33,'A1 - Dépenses de personnel'!$F$13:$F$19,$E$29)+SUMIFS('A1b - Dépenses de personnel -12'!$O$12:$O$24,'A1b - Dépenses de personnel -12'!$C$12:$C$24,$A$33,'A1b - Dépenses de personnel -12'!$F$12:$F$24,$E$29)+SUMIFS('A2 -Dépenses sur facturation'!$I$8:$I$15,'A2 -Dépenses sur facturation'!$C$8:$C$15,$A$33,'A2 -Dépenses sur facturation'!$D$8:$D$15,$E$29)+SUMIFS('A1 - Dépenses de personnel'!$N$13:$N$19,'A1 - Dépenses de personnel'!$C$13:$C$19,$A$33,'A1 - Dépenses de personnel'!$F$13:$F$19,$E$29)+SUMIFS('A1b - Dépenses de personnel -12'!$P$12:$P$24,'A1b - Dépenses de personnel -12'!$C$12:$C$24,$A$33,'A1b - Dépenses de personnel -12'!$F$12:$F$24,$E$29) -> 0 | F33: =SUMIFS('A1 - Dépenses de personnel'!$M$13:$M$19,'A1 - Dépenses de personnel'!$C$13:$C$19,$A$33,'A1 - Dépenses de personnel'!$F$13:$F$19,$F$29)+SUMIFS('A1b - Dépenses de personnel -12'!$O$12:$O$24,'A1b - Dépenses de personnel -12'!$C$12:$C$24,$A$33,'A1b - Dépenses de personnel -12'!$F$12:$F$24,$F$29)+SUMIFS('A2 -Dépenses sur facturation'!$I$8:$I$15,'A2 -Dépenses sur facturation'!$C$8:$C$15,$A$33,'A2 -Dépenses sur facturation'!$D$8:$D$15,$F$29)+SUMIFS('A1 - Dépenses de personnel'!$N$13:$N$19,'A1 - Dépenses de personnel'!$C$13:$C$19,$A$33,'A1 - Dépenses de personnel'!$F$13:$F$19,$F$29)+SUMIFS('A1b - Dépenses de personnel -12'!$P$12:$P$24,'A1b - Dépenses de personnel -12'!$C$12:$C$24,$A$33,'A1b - Dépenses de personnel -12'!$F$12:$F$24,$F$29) -> 0 | G33: =SUM(B33:F33) -> 0
A34: =IF(ISBLANK(Présentation!B23),"",Présentation!B23) -> Mickey | B34: =SUMIFS('A1 - Dépenses de personnel'!$M$13:$M$19,'A1 - Dépenses de personnel'!$C$13:$C$19,$A$34,'A1 - Dépenses de personnel'!$F$13:$F$19,$B$29)+SUMIFS('A1b - Dépenses de personnel -12'!$O$12:$O$24,'A1b - Dépenses de personnel -12'!$C$12:$C$24,$A$42,'A1b - Dépenses de personnel -12'!$F$12:$F$24,$B$29)+SUMIFS('A2 -Dépenses sur facturation'!$I$8:$I$15,'A2 -Dépenses sur facturation'!$C$8:$C$15,$A$34,'A2 -Dépenses sur facturation'!$D$8:$D$15,$B$29)+SUMIFS('A1 - Dépenses de personnel'!$N$13:$N$19,'A1 - Dépenses de personnel'!$C$13:$C$19,$A$34,'A1 - Dépenses de personnel'!$F$13:$F$19,$B$29)+SUMIFS('A1b - Dépenses de personnel -12'!$P$12:$P$24,'A1b - Dépenses de personnel -12'!$C$12:$C$24,$A$34,'A1b - Dépenses de personnel -12'!$F$12:$F$24,$B$29) -> 4286 | C34: =SUMIFS('A1 - Dépenses de personnel'!$M$13:$M$19,'A1 - Dépenses de personnel'!$C$13:$C$19,$A$34,'A1 - Dépenses de personnel'!$F$13:$F$19,$C$29)+SUMIFS('A1b - Dépenses de personnel -12'!$O$12:$O$24,'A1b - Dépenses de personnel -12'!$C$12:$C$24,$A$34,'A1b - Dépenses de personnel -12'!$F$12:$F$24,$C$29)+SUMIFS('A2 -Dépenses sur facturation'!$I$8:$I$15,'A2 -Dépenses sur facturation'!$C$8:$C$15,$A$34,'A2 -Dépenses sur facturation'!$D$8:$D$15,$C$29)+SUMIFS('A1 - Dépenses de personnel'!$N$13:$N$19,'A1 - Dépenses de personnel'!$C$13:$C$19,$A$34,'A1 - Dépenses de personnel'!$F$13:$F$19,$C$29)+SUMIFS('A1b - Dépenses de personnel -12'!$P$12:$P$24,'A1b - Dépenses de personnel -12'!$C$12:$C$24,$A$34,'A1b - Dépenses de personnel -12'!$F$12:$F$24,$C$29) -> 0 | D34: =SUMIFS('A1 - Dépenses de personnel'!$M$13:$M$19,'A1 - Dépenses de personnel'!$C$13:$C$19,$A$34,'A1 - Dépenses de personnel'!$F$13:$F$19,$D$29)+SUMIFS('A1b - Dépenses de personnel -12'!$O$12:$O$24,'A1b - Dépenses de personnel -12'!$C$12:$C$24,$A$34,'A1b - Dépenses de personnel -12'!$F$12:$F$24,$D$29)+SUMIFS('A2 -Dépenses sur facturation'!$I$8:$I$15,'A2 -Dépenses sur facturation'!$C$8:$C$15,$A$34,'A2 -Dépenses sur facturation'!$D$8:$D$15,$D$29)+SUMIFS('A1 - Dépenses de personnel'!$N$13:$N$19,'A1 - Dépenses de personnel'!$C$13:$C$19,$A$34,'A1 - Dépenses de personnel'!$F$13:$F$19,$D$29)+SUMIFS('A1b - Dépenses de personnel -12'!$P$12:$P$24,'A1b - Dépenses de personnel -12'!$C$12:$C$24,$A$34,'A1b - Dépenses de personnel -12'!$F$12:$F$24,$D$29) -> 0 | E34: =SUMIFS('A1 - Dépenses de personnel'!$M$13:$M$19,'A1 - Dépenses de personnel'!$C$13:$C$19,$A$34,'A1 - Dépenses de personnel'!$F$13:$F$19,$E$29)+SUMIFS('A1b - Dépenses de personnel -12'!$O$12:$O$24,'A1b - Dépenses de personnel -12'!$C$12:$C$24,$A$34,'A1b - Dépenses de personnel -12'!$F$12:$F$24,$E$29)+SUMIFS('A2 -Dépenses sur facturation'!$I$8:$I$15,'A2 -Dépenses sur facturation'!$C$8:$C$15,$A$34,'A2 -Dépenses sur facturation'!$D$8:$D$15,$E$29)+SUMIFS('A1 - Dépenses de personnel'!$N$13:$N$19,'A1 - Dépenses de personnel'!$C$13:$C$19,$A$34,'A1 - Dépenses de personnel'!$F$13:$F$19,$E$29)+SUMIFS('A1b - Dépenses de personnel -12'!$P$12:$P$24,'A1b - Dépenses de personnel -12'!$C$12:$C$24,$A$34,'A1b - Dépenses de personnel -12'!$F$12:$F$24,$E$29) -> 0 | F34: =SUMIFS('A1 - Dépenses de personnel'!$M$13:$M$19,'A1 - Dépenses de personnel'!$C$13:$C$19,$A$34,'A1 - Dépenses de personnel'!$F$13:$F$19,$F$29)+SUMIFS('A1b - Dépenses de personnel -12'!$O$12:$O$24,'A1b - Dépenses de personnel -12'!$C$12:$C$24,$A$34,'A1b - Dépenses de personnel -12'!$F$12:$F$24,$F$29)+SUMIFS('A2 -Dépenses sur facturation'!$I$8:$I$15,'A2 -Dépenses sur facturation'!$C$8:$C$15,$A$34,'A2 -Dépenses sur facturation'!$D$8:$D$15,$F$29)+SUMIFS('A1 - Dépenses de personnel'!$N$13:$N$19,'A1 - Dépenses de personnel'!$C$13:$C$19,$A$34,'A1 - Dépenses de personnel'!$F$13:$F$19,$F$29)+SUMIFS('A1b - Dépenses de personnel -12'!$P$12:$P$24,'A1b - Dépenses de personnel -12'!$C$12:$C$24,$A$34,'A1b - Dépenses de personnel -12'!$F$12:$F$24,$F$29) -> 0 | G34: =SUM(B34:F34) -> 4286
A35: =IF(ISBLANK(Présentation!B24),"",Présentation!B24) | B35: =SUMIFS('A1 - Dépenses de personnel'!$M$13:$M$19,'A1 - Dépenses de personnel'!$C$13:$C$19,$A$35,'A1 - Dépenses de personnel'!$F$13:$F$19,$B$29)+SUMIFS('A1b - Dépenses de personnel -12'!$O$12:$O$24,'A1b - Dépenses de personnel -12'!$C$12:$C$24,$A$35,'A1b - Dépenses de personnel -12'!$F$12:$F$24,$B$29)+SUMIFS('A2 -Dépenses sur facturation'!$I$8:$I$15,'A2 -Dépenses sur facturation'!$C$8:$C$15,$A$35,'A2 -Dépenses sur facturation'!$D$8:$D$15,$B$29)+SUMIFS('A1 - Dépenses de personnel'!$N$13:$N$19,'A1 - Dépenses de personnel'!$C$13:$C$19,$A$35,'A1 - Dépenses de personnel'!$F$13:$F$19,$B$29)+SUMIFS('A1b - Dépenses de personnel -12'!$P$12:$P$24,'A1b - Dépenses de personnel -12'!$C$12:$C$24,$A$35,'A1b - Dépenses de personnel -12'!$F$12:$F$24,$B$29) -> 0 | C35: =SUMIFS('A1 - Dépenses de personnel'!$M$13:$M$19,'A1 - Dépenses de personnel'!$C$13:$C$19,$A$35,'A1 - Dépenses de personnel'!$F$13:$F$19,$C$29)+SUMIFS('A1b - Dépenses de personnel -12'!$O$12:$O$24,'A1b - Dépenses de personnel -12'!$C$12:$C$24,$A$35,'A1b - Dépenses de personnel -12'!$F$12:$F$24,$C$29)+SUMIFS('A2 -Dépenses sur facturation'!$I$8:$I$15,'A2 -Dépenses sur facturation'!$C$8:$C$15,$A$35,'A2 -Dépenses sur facturation'!$D$8:$D$15,$C$29)+SUMIFS('A1 - Dépenses de personnel'!$N$13:$N$19,'A1 - Dépenses de personnel'!$C$13:$C$19,$A$35,'A1 - Dépenses de personnel'!$F$13:$F$19,$C$29)+SUMIFS('A1b - Dépenses de personnel -12'!$P$12:$P$24,'A1b - Dépenses de personnel -12'!$C$12:$C$24,$A$35,'A1b - Dépenses de personnel -12'!$F$12:$F$24,$C$29) -> 0 | D35: =SUMIFS('A1 - Dépenses de personnel'!$M$13:$M$19,'A1 - Dépenses de personnel'!$C$13:$C$19,$A$35,'A1 - Dépenses de personnel'!$F$13:$F$19,$D$29)+SUMIFS('A1b - Dépenses de personnel -12'!$O$12:$O$24,'A1b - Dépenses de personnel -12'!$C$12:$C$24,$A$35,'A1b - Dépenses de personnel -12'!$F$12:$F$24,$D$29)+SUMIFS('A2 -Dépenses sur facturation'!$I$8:$I$15,'A2 -Dépenses sur facturation'!$C$8:$C$15,$A$35,'A2 -Dépenses sur facturation'!$D$8:$D$15,$D$29)+SUMIFS('A1 - Dépenses de personnel'!$N$13:$N$19,'A1 - Dépenses de personnel'!$C$13:$C$19,$A$35,'A1 - Dépenses de personnel'!$F$13:$F$19,$D$29)+SUMIFS('A1b - Dépenses de personnel -12'!$P$12:$P$24,'A1b - Dépenses de personnel -12'!$C$12:$C$24,$A$35,'A1b - Dépenses de personnel -12'!$F$12:$F$24,$D$29) -> 0 | E35: =SUMIFS('A1 - Dépenses de personnel'!$M$13:$M$19,'A1 - Dépenses de personnel'!$C$13:$C$19,$A$35,'A1 - Dépenses de personnel'!$F$13:$F$19,$E$29)+SUMIFS('A1b - Dépenses de personnel -12'!$O$12:$O$24,'A1b - Dépenses de personnel -12'!$C$12:$C$24,$A$35,'A1b - Dépenses de personnel -12'!$F$12:$F$24,$E$29)+SUMIFS('A2 -Dépenses sur facturation'!$I$8:$I$15,'A2 -Dépenses sur facturation'!$C$8:$C$15,$A$35,'A2 -Dépenses sur facturation'!$D$8:$D$15,$E$29)+SUMIFS('A1 - Dépenses de personnel'!$N$13:$N$19,'A1 - Dépenses de personnel'!$C$13:$C$19,$A$35,'A1 - Dépenses de personnel'!$F$13:$F$19,$E$29)+SUMIFS('A1b - Dépenses de personnel -12'!$P$12:$P$24,'A1b - Dépenses de personnel -12'!$C$12:$C$24,$A$35,'A1b - Dépenses de personnel -12'!$F$12:$F$24,$E$29) -> 0 | F35: =SUMIFS('A1 - Dépenses de personnel'!$M$13:$M$19,'A1 - Dépenses de personnel'!$C$13:$C$19,$A$35,'A1 - Dépenses de personnel'!$F$13:$F$19,$F$29)+SUMIFS('A1b - Dépenses de personnel -12'!$O$12:$O$24,'A1b - Dépenses de personnel -12'!$C$12:$C$24,$A$35,'A1b - Dépenses de personnel -12'!$F$12:$F$24,$F$29)+SUMIFS('A2 -Dépenses sur facturation'!$I$8:$I$15,'A2 -Dépenses sur facturation'!$C$8:$C$15,$A$35,'A2 -Dépenses sur facturation'!$D$8:$D$15,$F$29)+SUMIFS('A1 - Dépenses de personnel'!$N$13:$N$19,'A1 - Dépenses de personnel'!$C$13:$C$19,$A$35,'A1 - Dépenses de personnel'!$F$13:$F$19,$F$29)+SUMIFS('A1b - Dépenses de personnel -12'!$P$12:$P$24,'A1b - Dépenses de personnel -12'!$C$12:$C$24,$A$35,'A1b - Dépenses de personnel -12'!$F$12:$F$24,$F$29) -> 0 | G35: =SUM(B35:F35) -> 0
A36: =IF(ISBLANK(Présentation!B25),"",Présentation!B25) | B36: =SUMIFS('A1 - Dépenses de personnel'!$M$13:$M$19,'A1 - Dépenses de personnel'!$C$13:$C$19,$A$36,'A1 - Dépenses de personnel'!$F$13:$F$19,$B$29)+SUMIFS('A1b - Dépenses de personnel -12'!$O$12:$O$24,'A1b - Dépenses de personnel -12'!$C$12:$C$24,$A$36,'A1b - Dépenses de personnel -12'!$F$12:$F$24,$B$29)+SUMIFS('A2 -Dépenses sur facturation'!$I$8:$I$15,'A2 -Dépenses sur facturation'!$C$8:$C$15,$A$36,'A2 -Dépenses sur facturation'!$D$8:$D$15,$B$29)+SUMIFS('A1 - Dépenses de personnel'!$N$13:$N$19,'A1 - Dépenses de personnel'!$C$13:$C$19,$A$36,'A1 - Dépenses de personnel'!$F$13:$F$19,$B$29)+SUMIFS('A1b - Dépenses de personnel -12'!$P$12:$P$24,'A1b - Dépenses de personnel -12'!$C$12:$C$24,$A$36,'A1b - Dépenses de personnel -12'!$F$12:$F$24,$B$29) -> 0 | C36: =SUMIFS('A1 - Dépenses de personnel'!$M$13:$M$19,'A1 - Dépenses de personnel'!$C$13:$C$19,$A$36,'A1 - Dépenses de personnel'!$F$13:$F$19,$C$29)+SUMIFS('A1b - Dépenses de personnel -12'!$O$12:$O$24,'A1b - Dépenses de personnel -12'!$C$12:$C$24,$A$36,'A1b - Dépenses de personnel -12'!$F$12:$F$24,$C$29)+SUMIFS('A2 -Dépenses sur facturation'!$I$8:$I$15,'A2 -Dépenses sur facturation'!$C$8:$C$15,$A$36,'A2 -Dépenses sur facturation'!$D$8:$D$15,$C$29)+SUMIFS('A1 - Dépenses de personnel'!$N$13:$N$19,'A1 - Dépenses de personnel'!$C$13:$C$19,$A$36,'A1 - Dépenses de personnel'!$F$13:$F$19,$C$29)+SUMIFS('A1b - Dépenses de personnel -12'!$P$12:$P$24,'A1b - Dépenses de personnel -12'!$C$12:$C$24,$A$36,'A1b - Dépenses de personnel -12'!$F$12:$F$24,$C$29) -> 0 | D36: =SUMIFS('A1 - Dépenses de personnel'!$M$13:$M$19,'A1 - Dépenses de personnel'!$C$13:$C$19,$A$36,'A1 - Dépenses de personnel'!$F$13:$F$19,$D$29)+SUMIFS('A1b - Dépenses de personnel -12'!$O$12:$O$24,'A1b - Dépenses de personnel -12'!$C$12:$C$24,$A$36,'A1b - Dépenses de personnel -12'!$F$12:$F$24,$D$29)+SUMIFS('A2 -Dépenses sur facturation'!$I$8:$I$15,'A2 -Dépenses sur facturation'!$C$8:$C$15,$A$36,'A2 -Dépenses sur facturation'!$D$8:$D$15,$D$29)+SUMIFS('A1 - Dépenses de personnel'!$N$13:$N$19,'A1 - Dépenses de personnel'!$C$13:$C$19,$A$36,'A1 - Dépenses de personnel'!$F$13:$F$19,$D$29)+SUMIFS('A1b - Dépenses de personnel -12'!$P$12:$P$24,'A1b - Dépenses de personnel -12'!$C$12:$C$24,$A$36,'A1b - Dépenses de personnel -12'!$F$12:$F$24,$D$29) -> 0 | E36: =SUMIFS('A1 - Dépenses de personnel'!$M$13:$M$19,'A1 - Dépenses de personnel'!$C$13:$C$19,$A$36,'A1 - Dépenses de personnel'!$F$13:$F$19,$E$29)+SUMIFS('A1b - Dépenses de personnel -12'!$O$12:$O$24,'A1b - Dépenses de personnel -12'!$C$12:$C$24,$A$36,'A1b - Dépenses de personnel -12'!$F$12:$F$24,$E$29)+SUMIFS('A2 -Dépenses sur facturation'!$I$8:$I$15,'A2 -Dépenses sur facturation'!$C$8:$C$15,$A$36,'A2 -Dépenses sur facturation'!$D$8:$D$15,$E$29)+SUMIFS('A1 - Dépenses de personnel'!$N$13:$N$19,'A1 - Dépenses de personnel'!$C$13:$C$19,$A$36,'A1 - Dépenses de personnel'!$F$13:$F$19,$E$29)+SUMIFS('A1b - Dépenses de personnel -12'!$P$12:$P$24,'A1b - Dépenses de personnel -12'!$C$12:$C$24,$A$36,'A1b - Dépenses de personnel -12'!$F$12:$F$24,$E$29) -> 0 | F36: =SUMIFS('A1 - Dépenses de personnel'!$M$13:$M$19,'A1 - Dépenses de personnel'!$C$13:$C$19,$A$36,'A1 - Dépenses de personnel'!$F$13:$F$19,$F$29)+SUMIFS('A1b - Dépenses de personnel -12'!$O$12:$O$24,'A1b - Dépenses de personnel -12'!$C$12:$C$24,$A$36,'A1b - Dépenses de personnel -12'!$F$12:$F$24,$F$29)+SUMIFS('A2 -Dépenses sur facturation'!$I$8:$I$15,'A2 -Dépenses sur facturation'!$C$8:$C$15,$A$36,'A2 -Dépenses sur facturation'!$D$8:$D$15,$F$29)+SUMIFS('A1 - Dépenses de personnel'!$N$13:$N$19,'A1 - Dépenses de personnel'!$C$13:$C$19,$A$36,'A1 - Dépenses de personnel'!$F$13:$F$19,$F$29)+SUMIFS('A1b - Dépenses de personnel -12'!$P$12:$P$24,'A1b - Dépenses de personnel -12'!$C$12:$C$24,$A$36,'A1b - Dépenses de personnel -12'!$F$12:$F$24,$F$29) -> 0 | G36: =SUM(B36:F36) -> 0
A37: =IF(ISBLANK(Présentation!B26),"",Présentation!B26) | B37: =SUMIFS('A1 - Dépenses de personnel'!$M$13:$M$19,'A1 - Dépenses de personnel'!$C$13:$C$19,$A$37,'A1 - Dépenses de personnel'!$F$13:$F$19,$B$29)+SUMIFS('A1b - Dépenses de personnel -12'!$O$12:$O$24,'A1b - Dépenses de personnel -12'!$C$12:$C$24,$A$37,'A1b - Dépenses de personnel -12'!$F$12:$F$24,$B$29)+SUMIFS('A2 -Dépenses sur facturation'!$I$8:$I$15,'A2 -Dépenses sur facturation'!$C$8:$C$15,$A$37,'A2 -Dépenses sur facturation'!$D$8:$D$15,$B$29)+SUMIFS('A1 - Dépenses de personnel'!$N$13:$N$19,'A1 - Dépenses de personnel'!$C$13:$C$19,$A$37,'A1 - Dépenses de personnel'!$F$13:$F$19,$B$29)+SUMIFS('A1b - Dépenses de personnel -12'!$P$12:$P$24,'A1b - Dépenses de personnel -12'!$C$12:$C$24,$A$37,'A1b - Dépenses de personnel -12'!$F$12:$F$24,$B$29) -> 0 | C37: =SUMIFS('A1 - Dépenses de personnel'!$M$13:$M$19,'A1 - Dépenses de personnel'!$C$13:$C$19,$A$37,'A1 - Dépenses de personnel'!$F$13:$F$19,$C$29)+SUMIFS('A1b - Dépenses de personnel -12'!$O$12:$O$24,'A1b - Dépenses de personnel -12'!$C$12:$C$24,$A$37,'A1b - Dépenses de personnel -12'!$F$12:$F$24,$C$29)+SUMIFS('A2 -Dépenses sur facturation'!$I$8:$I$15,'A2 -Dépenses sur facturation'!$C$8:$C$15,$A$37,'A2 -Dépenses sur facturation'!$D$8:$D$15,$C$29)+SUMIFS('A1 - Dépenses de personnel'!$N$13:$N$19,'A1 - Dépenses de personnel'!$C$13:$C$19,$A$37,'A1 - Dépenses de personnel'!$F$13:$F$19,$C$29)+SUMIFS('A1b - Dépenses de personnel -12'!$P$12:$P$24,'A1b - Dépenses de personnel -12'!$C$12:$C$24,$A$37,'A1b - Dépenses de personnel -12'!$F$12:$F$24,$C$29) -> 0 | D37: =SUMIFS('A1 - Dépenses de personnel'!$M$13:$M$19,'A1 - Dépenses de personnel'!$C$13:$C$19,$A$37,'A1 - Dépenses de personnel'!$F$13:$F$19,$D$29)+SUMIFS('A1b - Dépenses de personnel -12'!$O$12:$O$24,'A1b - Dépenses de personnel -12'!$C$12:$C$24,$A$37,'A1b - Dépenses de personnel -12'!$F$12:$F$24,$D$29)+SUMIFS('A2 -Dépenses sur facturation'!$I$8:$I$15,'A2 -Dépenses sur facturation'!$C$8:$C$15,$A$37,'A2 -Dépenses sur facturation'!$D$8:$D$15,$D$29)+SUMIFS('A1 - Dépenses de personnel'!$N$13:$N$19,'A1 - Dépenses de personnel'!$C$13:$C$19,$A$37,'A1 - Dépenses de personnel'!$F$13:$F$19,$D$29)+SUMIFS('A1b - Dépenses de personnel -12'!$P$12:$P$24,'A1b - Dépenses de personnel -12'!$C$12:$C$24,$A$37,'A1b - Dépenses de personnel -12'!$F$12:$F$24,$D$29) -> 0 | E37: =SUMIFS('A1 - Dépenses de personnel'!$M$13:$M$19,'A1 - Dépenses de personnel'!$C$13:$C$19,$A$37,'A1 - Dépenses de personnel'!$F$13:$F$19,$E$29)+SUMIFS('A1b - Dépenses de personnel -12'!$O$12:$O$24,'A1b - Dépenses de personnel -12'!$C$12:$C$24,$A$37,'A1b - Dépenses de personnel -12'!$F$12:$F$24,$E$29)+SUMIFS('A2 -Dépenses sur facturation'!$I$8:$I$15,'A2 -Dépenses sur facturation'!$C$8:$C$15,$A$37,'A2 -Dépenses sur facturation'!$D$8:$D$15,$E$29)+SUMIFS('A1 - Dépenses de personnel'!$N$13:$N$19,'A1 - Dépenses de personnel'!$C$13:$C$19,$A$37,'A1 - Dépenses de personnel'!$F$13:$F$19,$E$29)+SUMIFS('A1b - Dépenses de personnel -12'!$P$12:$P$24,'A1b - Dépenses de personnel -12'!$C$12:$C$24,$A$37,'A1b - Dépenses de personnel -12'!$F$12:$F$24,$E$29) -> 0 | F37: =SUMIFS('A1 - Dépenses de personnel'!$M$13:$M$19,'A1 - Dépenses de personnel'!$C$13:$C$19,$A$37,'A1 - Dépenses de personnel'!$F$13:$F$19,$F$29)+SUMIFS('A1b - Dépenses de personnel -12'!$O$12:$O$24,'A1b - Dépenses de personnel -12'!$C$12:$C$24,$A$37,'A1b - Dépenses de personnel -12'!$F$12:$F$24,$F$29)+SUMIFS('A2 -Dépenses sur facturation'!$I$8:$I$15,'A2 -Dépenses sur facturation'!$C$8:$C$15,$A$37,'A2 -Dépenses sur facturation'!$D$8:$D$15,$F$29)+SUMIFS('A1 - Dépenses de personnel'!$N$13:$N$19,'A1 - Dépenses de personnel'!$C$13:$C$19,$A$37,'A1 - Dépenses de personnel'!$F$13:$F$19,$F$29)+SUMIFS('A1b - Dépenses de personnel -12'!$P$12:$P$24,'A1b - Dépenses de personnel -12'!$C$12:$C$24,$A$37,'A1b - Dépenses de personnel -12'!$F$12:$F$24,$F$29) -> 0 | G37: =SUM(B37:F37) -> 0
A38: =IF(ISBLANK(Présentation!B27),"",Présentation!B27) | B38: =SUMIFS('A1 - Dépenses de personnel'!$M$13:$M$19,'A1 - Dépenses de personnel'!$C$13:$C$19,$A$38,'A1 - Dépenses de personnel'!$F$13:$F$19,$B$29)+SUMIFS('A1b - Dépenses de personnel -12'!$O$12:$O$24,'A1b - Dépenses de personnel -12'!$C$12:$C$24,$A$38,'A1b - Dépenses de personnel -12'!$F$12:$F$24,$B$29)+SUMIFS('A2 -Dépenses sur facturation'!$I$8:$I$15,'A2 -Dépenses sur facturation'!$C$8:$C$15,$A$38,'A2 -Dépenses sur facturation'!$D$8:$D$15,$B$29)+SUMIFS('A1 - Dépenses de personnel'!$N$13:$N$19,'A1 - Dépenses de personnel'!$C$13:$C$19,$A$38,'A1 - Dépenses de personnel'!$F$13:$F$19,$B$29)+SUMIFS('A1b - Dépenses de personnel -12'!$P$12:$P$24,'A1b - Dépenses de personnel -12'!$C$12:$C$24,$A$38,'A1b - Dépenses de personnel -12'!$F$12:$F$24,$B$29) -> 0 | C38: =SUMIFS('A1 - Dépenses de personnel'!$M$13:$M$19,'A1 - Dépenses de personnel'!$C$13:$C$19,$A$38,'A1 - Dépenses de personnel'!$F$13:$F$19,$C$29)+SUMIFS('A1b - Dépenses de personnel -12'!$O$12:$O$24,'A1b - Dépenses de personnel -12'!$C$12:$C$24,$A$38,'A1b - Dépenses de personnel -12'!$F$12:$F$24,$C$29)+SUMIFS('A2 -Dépenses sur facturation'!$I$8:$I$15,'A2 -Dépenses sur facturation'!$C$8:$C$15,$A$38,'A2 -Dépenses sur facturation'!$D$8:$D$15,$C$29)+SUMIFS('A1 - Dépenses de personnel'!$N$13:$N$19,'A1 - Dépenses de personnel'!$C$13:$C$19,$A$38,'A1 - Dépenses de personnel'!$F$13:$F$19,$C$29)+SUMIFS('A1b - Dépenses de personnel -12'!$P$12:$P$24,'A1b - Dépenses de personnel -12'!$C$12:$C$24,$A$38,'A1b - Dépenses de personnel -12'!$F$12:$F$24,$C$29) -> 0 | D38: =SUMIFS('A1 - Dépenses de personnel'!$M$13:$M$19,'A1 - Dépenses de personnel'!$C$13:$C$19,$A$38,'A1 - Dépenses de personnel'!$F$13:$F$19,$D$29)+SUMIFS('A1b - Dépenses de personnel -12'!$O$12:$O$24,'A1b - Dépenses de personnel -12'!$C$12:$C$24,$A$38,'A1b - Dépenses de personnel -12'!$F$12:$F$24,$D$29)+SUMIFS('A2 -Dépenses sur facturation'!$I$8:$I$15,'A2 -Dépenses sur facturation'!$C$8:$C$15,$A$38,'A2 -Dépenses sur facturation'!$D$8:$D$15,$D$29)+SUMIFS('A1 - Dépenses de personnel'!$N$13:$N$19,'A1 - Dépenses de personnel'!$C$13:$C$19,$A$38,'A1 - Dépenses de personnel'!$F$13:$F$19,$D$29)+SUMIFS('A1b - Dépenses de personnel -12'!$P$12:$P$24,'A1b - Dépenses de personnel -12'!$C$12:$C$24,$A$38,'A1b - Dépenses de personnel -12'!$F$12:$F$24,$D$29) -> 0 | E38: =SUMIFS('A1 - Dépenses de personnel'!$M$13:$M$19,'A1 - Dépenses de personnel'!$C$13:$C$19,$A$38,'A1 - Dépenses de personnel'!$F$13:$F$19,$E$29)+SUMIFS('A1b - Dépenses de personnel -12'!$O$12:$O$24,'A1b - Dépenses de personnel -12'!$C$12:$C$24,$A$38,'A1b - Dépenses de personnel -12'!$F$12:$F$24,$E$29)+SUMIFS('A2 -Dépenses sur facturation'!$I$8:$I$15,'A2 -Dépenses sur facturation'!$C$8:$C$15,$A$38,'A2 -Dépenses sur facturation'!$D$8:$D$15,$E$29)+SUMIFS('A1 - Dépenses de personnel'!$N$13:$N$19,'A1 - Dépenses de personnel'!$C$13:$C$19,$A$38,'A1 - Dépenses de personnel'!$F$13:$F$19,$E$29)+SUMIFS('A1b - Dépenses de personnel -12'!$P$12:$P$24,'A1b - Dépenses de personnel -12'!$C$12:$C$24,$A$38,'A1b - Dépenses de personnel -12'!$F$12:$F$24,$E$29) -> 0 | F38: =SUMIFS('A1 - Dépenses de personnel'!$M$13:$M$19,'A1 - Dépenses de personnel'!$C$13:$C$19,$A$38,'A1 - Dépenses de personnel'!$F$13:$F$19,$F$29)+SUMIFS('A1b - Dépenses de personnel -12'!$O$12:$O$24,'A1b - Dépenses de personnel -12'!$C$12:$C$24,$A$38,'A1b - Dépenses de personnel -12'!$F$12:$F$24,$F$29)+SUMIFS('A2 -Dépenses sur facturation'!$I$8:$I$15,'A2 -Dépenses sur facturation'!$C$8:$C$15,$A$38,'A2 -Dépenses sur facturation'!$D$8:$D$15,$F$29)+SUMIFS('A1 - Dépenses de personnel'!$N$13:$N$19,'A1 - Dépenses de personnel'!$C$13:$C$19,$A$38,'A1 - Dépenses de personnel'!$F$13:$F$19,$F$29)+SUMIFS('A1b - Dépenses de personnel -12'!$P$12:$P$24,'A1b - Dépenses de personnel -12'!$C$12:$C$24,$A$38,'A1b - Dépenses de personnel -12'!$F$12:$F$24,$F$29) -> 0 | G38: =SUM(B38:F38) -> 0
A39: TOTAL | B39: =SUM(B30:B38) -> 4286 | C39: =SUM(C30:C38) -> 0 | D39: =SUM(D30:D38) -> 0 | E39: =SUM(E30:E38) -> 0 | F39: =SUM(F30:F38) -> 1546.6005
E41: TOTAL Année 1 | F41: =B39+C39+D39+E39+F39 -> 5832.6005
A43: Année 2
A45: Chef de file / partenaires | B45: EtudesN2 | C45: AnimationN2 | D45: FonctionnementN2 | E45: Coûts dir. Invest.N2 | F45: Coûts dir. Hors Invest.N2 | G45: TOTAL
A46: =IF(ISBLANK(Présentation!B19),"",Présentation!B19) -> Tintin | B46: =SUMIFS('A1 - Dépenses de personnel'!$M$13:$M$19,'A1 - Dépenses de personnel'!$C$13:$C$19,$A$46,'A1 - Dépenses de personnel'!$F$13:$F$19,$B$45)+SUMIFS('A1b - Dépenses de personnel -12'!$O$12:$O$24,'A1b - Dépenses de personnel -12'!$C$12:$C$24,$A$46,'A1b - Dépenses de personnel -12'!$F$12:$F$24,$B$45)+SUMIFS('A2 -Dépenses sur facturation'!$I$8:$I$15,'A2 -Dépenses sur facturation'!$C$8:$C$15,$A$46,'A2 -Dépenses sur facturation'!$D$8:$D$15,$B$45)+SUMIFS('A1 - Dépenses de personnel'!$N$13:$N$19,'A1 - Dépenses de personnel'!$C$13:$C$19,$A$46,'A1 - Dépenses de personnel'!$F$13:$F$19,$B$45)+SUMIFS('A1b - Dépenses de personnel -12'!$P$12:$P$24,'A1b - Dépenses de personnel -12'!$C$12:$C$24,$A$46,'A1b - Dépenses de personnel -12'!$F$12:$F$24,$B$45) -> 0 | C46: =SUMIFS('A1 - Dépenses de personnel'!$M$13:$M$19,'A1 - Dépenses de personnel'!$C$13:$C$19,$A$46,'A1 - Dépenses de personnel'!$F$13:$F$19,$C$45)+SUMIFS('A1b - Dépenses de personnel -12'!$O$12:$O$24,'A1b - Dépenses de personnel -12'!$C$12:$C$24,$A$46,'A1b - Dépenses de personnel -12'!$F$12:$F$24,$C$45)+SUMIFS('A2 -Dépenses sur facturation'!$I$8:$I$15,'A2 -Dépenses sur facturation'!$C$8:$C$15,$A$46,'A2 -Dépenses sur facturation'!$D$8:$D$15,$C$45)+SUMIFS('A1 - Dépenses de personnel'!$N$13:$N$19,'A1 - Dépenses de personnel'!$C$13:$C$19,$A$46,'A1 - Dépenses de personnel'!$F$13:$F$19,$C$45)+SUMIFS('A1b - Dépenses de personnel -12'!$P$12:$P$24,'A1b - Dépenses de personnel -12'!$C$12:$C$24,$A$46,'A1b - Dépenses de personnel -12'!$F$12:$F$24,$C$45) -> 0 | D46: =SUMIFS('A1 - Dépenses de personnel'!$M$13:$M$19,'A1 - Dépenses de personnel'!$C$13:$C$19,$A$46,'A1 - Dépenses de personnel'!$F$13:$F$19,$D$45)+SUMIFS('A1b - Dépenses de personnel -12'!$O$12:$O$24,'A1b - Dépenses de personnel -12'!$C$12:$C$24,$A$46,'A1b - Dépenses de personnel -12'!$F$12:$F$24,$D$45)+SUMIFS('A2 -Dépenses sur facturation'!$I$8:$I$15,'A2 -Dépenses sur facturation'!$C$8:$C$15,$A$46,'A2 -Dépenses sur facturation'!$D$8:$D$15,$D$45)+SUMIFS('A1 - Dépenses de personnel'!$N$13:$N$19,'A1 - Dépenses de personnel'!$C$13:$C$19,$A$46,'A1 - Dépenses de personnel'!$F$13:$F$19,$D$45)+SUMIFS('A1b - Dépenses de personnel -12'!$P$12:$P$24,'A1b - Dépenses de personnel -12'!$C$12:$C$24,$A$46,'A1b - Dépenses de personnel -12'!$F$12:$F$24,$D$45) -> 0 | E46: =SUMIFS('A1 - Dépenses de personnel'!$M$13:$M$19,'A1 - Dépenses de personnel'!$C$13:$C$19,$A$46,'A1 - Dépenses de personnel'!$F$13:$F$19,$E$45)+SUMIFS('A1b - Dépenses de personnel -12'!$O$12:$O$24,'A1b - Dépenses de personnel -12'!$C$12:$C$24,$A$46,'A1b - Dépenses de personnel -12'!$F$12:$F$24,$E$45)+SUMIFS('A2 -Dépenses sur facturation'!$I$8:$I$15,'A2 -Dépenses sur facturation'!$C$8:$C$15,$A$46,'A2 -Dépenses sur facturation'!$D$8:$D$15,$E$45)+SUMIFS('A1 - Dépenses de personnel'!$N$13:$N$19,'A1 - Dépenses de personnel'!$C$13:$C$19,$A$46,'A1 - Dépenses de personnel'!$F$13:$F$19,$E$45)+SUMIFS('A1b - Dépenses de personnel -12'!$P$12:$P$24,'A1b - Dépenses de personnel -12'!$C$12:$C$24,$A$46,'A1b - Dépenses de personnel -12'!$F$12:$F$24,$E$45) -> 0 | F46: =SUMIFS('A1 - Dépenses de personnel'!$M$13:$M$19,'A1 - Dépenses de personnel'!$C$13:$C$19,$A$46,'A1 - Dépenses de personnel'!$F$13:$F$19,$F$45)+SUMIFS('A1b - Dépenses de personnel -12'!$O$12:$O$24,'A1b - Dépenses de personnel -12'!$C$12:$C$24,$A$46,'A1b - Dépenses de personnel -12'!$F$12:$F$24,$F$45)+SUMIFS('A2 -Dépenses sur facturation'!$I$8:$I$15,'A2 -Dépenses sur facturation'!$C$8:$C$15,$A$46,'A2 -Dépenses sur facturation'!$D$8:$D$15,$F$45)+SUMIFS('A1 - Dépenses de personnel'!$N$13:$N$19,'A1 - Dépenses de personnel'!$C$13:$C$19,$A$46,'A1 - Dépenses de personnel'!$F$13:$F$19,$F$45)+SUMIFS('A1b - Dépenses de personnel -12'!$P$12:$P$24,'A1b - Dépenses de personnel -12'!$C$12:$C$24,$A$46,'A1b - Dépenses de personnel -12'!$F$12:$F$24,$F$45) -> 0 | G46: =SUM(B46:F46) -> 0
