Workbook

Sheet Base
B3: Informations générales | F3: Suivi des préconisations
B4: Nom | C4: Prénom | D4: Nom + Prénom [ne pas effacer] | E4: Référent | F4: Neuro
F5: NEAR | G5: CRT | H5: RECOS
B7: ABCDE | C7: EDCBA | D7: =B7&" "&C7 -> ABCDE EDCBA | E7: Alice | F7: ✓ | G7: ✗ | H7: ✗
B8: BCDEF | C8: FEDCB | D8: =B8&" "&C8 -> BCDEF FEDCB | E8: Sophie | F8: ✗ | G8: ✓ | H8: ✗
B9: CDEFG | C9: GFEDC | D9: =B9&" "&C9 -> CDEFG GFEDC | E9: David | F9: ✗ | G9: ✗ | H9: ✓
B10: DEFGH | C10: HGFED | D10: =B10&" "&C10 -> DEFGH HGFED | E10: Bruno | F10: ✗ | G10: ✓ | H10: ✗
B11: EDGHI | C11: IHGDE | D11: =B11&" "&C11 -> EDGHI IHGDE | E11: Alice | F11: ✓ | G11: ✗ | H11: ✗

Sheet Neuro
B3: Programme NEAR | E3: Programme CRT | H3: Programme RECOS
B5: Nom du patient | C5: Référent | E5: Nom du patient | F5: Référent | H5: Nom du patient | I5: Référent
B7: {=_xlfn._xlws.FILTER(Base!$D$4:$D$11,Base!$F$4:$F$11="✓","n/a")} -> ABCDE EDCBA | C7: =IFERROR(VLOOKUP(B7,Base!$D$4:$H$35,2,0),"n.d.") -> Alice | E7: {=_xlfn._xlws.FILTER(Base!$D$4:$D$11,Base!$G$4:$G$11="✓","n/a")} -> BCDEF FEDCB | F7: =IFERROR(VLOOKUP(E7,Base!$D$4:$H$35,2,0),"n.d.") -> Sophie | H7: {=_xlfn._xlws.FILTER(Base!$D$4:$D$11,Base!$H$4:$H$11="✓","n/a")} -> CDEFG GFEDC | I7: =IFERROR(VLOOKUP(H7,Base!$D$4:$H$35,2,0),"n.d.") -> David
B8: EDGHI IHGDE | C8: =IFERROR(VLOOKUP(B8,Base!$D$4:$H$35,2,0),"n.d.") -> Alice | E8: DEFGH HGFED | F8: =IFERROR(VLOOKUP(E8,Base!$D$4:$H$35,2,0),"n.d.") -> Bruno | I8: =IFERROR(VLOOKUP(H8,Base!$D$4:$H$35,2,0),"n.d.") -> n.d.
C9: =IFERROR(VLOOKUP(B9,Base!$D$4:$H$35,2,0),"n.d.") -> n.d. | F9: =IFERROR(VLOOKUP(E9,Base!$D$4:$H$35,2,0),"n.d.") -> n.d. | I9: =IFERROR(VLOOKUP(H9,Base!$D$4:$H$35,2,0),"n.d.") -> n.d.
C10: =IFERROR(VLOOKUP(B10,Base!$D$4:$H$35,2,0),"n.d.") -> n.d. | F10: =IFERROR(VLOOKUP(E10,Base!$D$4:$H$35,2,0),"n.d.") -> n.d. | I10: =IFERROR(VLOOKUP(H10,Base!$D$4:$H$35,2,0),"n.d.") -> n.d.
C11: =IFERROR(VLOOKUP(B11,Base!$D$4:$H$35,2,0),"n.d.") -> n.d. | F11: =IFERROR(VLOOKUP(E11,Base!$D$4:$H$35,2,0),"n.d.") -> n.d. | I11: =IFERROR(VLOOKUP(H11,Base!$D$4:$H$35,2,0),"n.d.") -> n.d.
C12: =IFERROR(VLOOKUP(B12,Base!$D$4:$H$35,2,0),"n.d.") -> n.d. | F12: =IFERROR(VLOOKUP(E12,Base!$D$4:$H$35,2,0),"n.d.") -> n.d. | I12: =IFERROR(VLOOKUP(H12,Base!$D$4:$H$35,2,0),"n.d.") -> n.d.
