Workbook
Name Base: OFFSET('INVENTAIRE '!$A$2:$AE$2,,,COUNTA('INVENTAIRE '!$A:$A)-1)
Name INVENTAIRE: '[1]INVENTAIRE PEINTECK'!$A$1:$A$65536
Name ProdFour: OFFSET('INVENTAIRE '!$J$2,,,COUNTA('INVENTAIRE '!$A:$A)-1)

Sheet SOUMISSION
N1: http://forum.excel-pratique.com/excel/deuxieme-tentative-recherhch-plusieurs-colonnes-t26015.html
A7: DEMANDE DE SOUMISSION
A9: Fournisseur : | C9: =VLOOKUP($I$9,FOURNISSEUR!A:O,3,FALSE) -> Sel Warwick inc. | G9: CODE FOURNISSEUR | I9: SEL01
A11: Adresse : | C11: =VLOOKUP($I$9,FOURNISSEUR!A:O,5,FALSE) -> 5, rue Boutet | G11: Date soumission : | H11: =TODAY() -> 40825
C12: =VLOOKUP($I$9,FOURNISSEUR!A:O,6,FALSE) -> Victoriaville (Québec)
A14: Téléphone : | C14: =VLOOKUP($I$9,FOURNISSEUR!A:O,8,FALSE) -> 819 758-5229 | G14: Acheteure : | H14: Émilie Guilbeault
A15: Fax : | C15: =VLOOKUP($I$9,FOURNISSEUR!A:O,9,FALSE) -> 819 758-5220
A18: # | B18: NOTRE # | C18: VOTRE # | D18: MARQUE | E18: DESCRIPTION | H18: U/M | I18: PRIX | L18: LEGENDE
A19: 1 | B19: 825.22 | C19: =+MATCH(+CONCATENATE(B19,"+",I9),'INVENTAIRE '!I2:AE2) -> #N/A | D19: =IF(ISERROR(MATCH($B19&"+"&$I$9,ProdFour,0)),"",INDEX(Base,MATCH($B19&"+"&$I$9,ProdFour,0),6)) -> 0 | E19: =IF(ISERROR(MATCH($B19&"+"&$I$9,ProdFour,0)),"",INDEX(Base,MATCH($B19&"+"&$I$9,ProdFour,0),2)) -> Sable jet mag 32-B4 22.7 kg (14 palettes) | H19: =IF(ISERROR(MATCH($B19&"+"&$I$9,ProdFour,0)),"",INDEX(Base,MATCH($B19&"+"&$I$9,ProdFour,0),8)) -> KG | M19: Compléter par le fournisseur
A20: 2 | B20: 825.22 | C20: =IFERROR(VLOOKUP(CONCATENATE($B19,"+",$I$9),'INVENTAIRE '!$J:$N,2,FALSE),)+IFERROR(VLOOKUP(CONCATENATE($B19,"+",$I$9),'INVENTAIRE '!$R:$V,2,FALSE),) -> #NAME? | D20: =IF(ISERROR(MATCH($B20&"+"&$I$9,ProdFour,0)),"",INDEX(Base,MATCH($B20&"+"&$I$9,ProdFour,0),6)) -> 0 | E20: =IF(ISERROR(MATCH($B20&"+"&$I$9,ProdFour,0)),"",INDEX(Base,MATCH($B20&"+"&$I$9,ProdFour,0),2)) -> Sable jet mag 32-B4 22.7 kg (14 palettes) | H20: =IF(ISERROR(MATCH($B20&"+"&$I$9,ProdFour,0)),"",INDEX(Base,MATCH($B20&"+"&$I$9,ProdFour,0),8)) -> KG | M20: Compléter
A21: 3 | B21: 825.22 | D21: =IF(ISERROR(MATCH($B21&"+"&$I$9,ProdFour,0)),"",INDEX(Base,MATCH($B21&"+"&$I$9,ProdFour,0),6)) -> 0 | E21: =IF(ISERROR(MATCH($B21&"+"&$I$9,ProdFour,0)),"",INDEX(Base,MATCH($B21&"+"&$I$9,ProdFour,0),2)) -> Sable jet mag 32-B4 22.7 kg (14 palettes) | H21: =IF(ISERROR(MATCH($B21&"+"&$I$9,ProdFour,0)),"",INDEX(Base,MATCH($B21&"+"&$I$9,ProdFour,0),8)) -> KG
A22: 4 | D22: =IF(ISERROR(MATCH($B22&"+"&$I$9,ProdFour,0)),"",INDEX(Base,MATCH($B22&"+"&$I$9,ProdFour,0),6)) | E22: =IF(ISERROR(MATCH($B22&"+"&$I$9,ProdFour,0)),"",INDEX(Base,MATCH($B22&"+"&$I$9,ProdFour,0),2)) | H22: =IF(ISERROR(MATCH($B22&"+"&$I$9,ProdFour,0)),"",INDEX(Base,MATCH($B22&"+"&$I$9,ProdFour,0),8))
A23: 5 | D23: =IF(ISERROR(MATCH($B23&"+"&$I$9,ProdFour,0)),"",INDEX(Base,MATCH($B23&"+"&$I$9,ProdFour,0),6)) | E23: =IF(ISERROR(MATCH($B23&"+"&$I$9,ProdFour,0)),"",INDEX(Base,MATCH($B23&"+"&$I$9,ProdFour,0),2)) | H23: =IF(ISERROR(MATCH($B23&"+"&$I$9,ProdFour,0)),"",INDEX(Base,MATCH($B23&"+"&$I$9,ProdFour,0),8))
A24: 6 | D24: =IF(ISERROR(MATCH($B24&"+"&$I$9,ProdFour,0)),"",INDEX(Base,MATCH($B24&"+"&$I$9,ProdFour,0),6)) | E24: =IF(ISERROR(MATCH($B24&"+"&$I$9,ProdFour,0)),"",INDEX(Base,MATCH($B24&"+"&$I$9,ProdFour,0),2)) | H24: =IF(ISERROR(MATCH($B24&"+"&$I$9,ProdFour,0)),"",INDEX(Base,MATCH($B24&"+"&$I$9,ProdFour,0),8))
A25: 7 | D25: =IF(ISERROR(MATCH($B25&"+"&$I$9,ProdFour,0)),"",INDEX(Base,MATCH($B25&"+"&$I$9,ProdFour,0),6)) | E25: =IF(ISERROR(MATCH($B25&"+"&$I$9,ProdFour,0)),"",INDEX(Base,MATCH($B25&"+"&$I$9,ProdFour,0),2)) | H25: =IF(ISERROR(MATCH($B25&"+"&$I$9,ProdFour,0)),"",INDEX(Base,MATCH($B25&"+"&$I$9,ProdFour,0),8))
A26: 8 | D26: =IF(ISERROR(MATCH($B26&"+"&$I$9,ProdFour,0)),"",INDEX(Base,MATCH($B26&"+"&$I$9,ProdFour,0),6)) | E26: =IF(ISERROR(MATCH($B26&"+"&$I$9,ProdFour,0)),"",INDEX(Base,MATCH($B26&"+"&$I$9,ProdFour,0),2)) | H26: =IF(ISERROR(MATCH($B26&"+"&$I$9,ProdFour,0)),"",INDEX(Base,MATCH($B26&"+"&$I$9,ProdFour,0),8))
A27: 9 | D27: =IF(ISERROR(MATCH($B27&"+"&$I$9,ProdFour,0)),"",INDEX(Base,MATCH($B27&"+"&$I$9,ProdFour,0),6)) | E27: =IF(ISERROR(MATCH($B27&"+"&$I$9,ProdFour,0)),"",INDEX(Base,MATCH($B27&"+"&$I$9,ProdFour,0),2)) | H27: =IF(ISERROR(MATCH($B27&"+"&$I$9,ProdFour,0)),"",INDEX(Base,MATCH($B27&"+"&$I$9,ProdFour,0),8))
A28: 10 | D28: =IF(ISERROR(MATCH($B28&"+"&$I$9,ProdFour,0)),"",INDEX(Base,MATCH($B28&"+"&$I$9,ProdFour,0),6)) | E28: =IF(ISERROR(MATCH($B28&"+"&$I$9,ProdFour,0)),"",INDEX(Base,MATCH($B28&"+"&$I$9,ProdFour,0),2)) | H28: =IF(ISERROR(MATCH($B28&"+"&$I$9,ProdFour,0)),"",INDEX(Base,MATCH($B28&"+"&$I$9,ProdFour,0),8))
B30: NOTE :
A37: ADRESSE DE LIVRAISON
B39: 5127 de la Plaisance | G39: 275 rue François-Bourgeois
B40: Chesterville (Québec) | G40: Victoriaville (Québec)

Sheet INVENTAIRE 
A1: CODE PRODUIT | B1: DESCRIPTION | C1: CATEGORIE | D1: FOURNISSEUR | E1: CODE FOURNISSEUR | F1: MARQUE | G1: PRIX | H1: U/M | I1: FOURNISSEUR QUALIFIÉ #1 | J1: PRODUIT + FOURNISSEUR #1 | K1: CODE PRDT FOURNISSEUR | L1: MARQUE | M1: PRIX | N1: U/M | O1: DATE EFFET | Q1: FOURNISSEUR QUALIFIÉ #2 | R1: PRODUIT + FOURNISSEUR #2 | S1: CODE PRDT FOURNISSEUR | T1: MARQUE | U1: PRIX | V1: U/M | W1: DATE EFFET | Y1: FOURNISSEUR QUALIFIÉ #3 | Z1: PRODUIT + FOURNISSEUR #3 | AA1: CODE PRDT FOURNISSEUR | AB1: MARQUE | AC1: PRIX | AD1: U/M | AE1: DATE EFFET
A2: 825.22 | B2: Sable jet mag 32-B4 22.7 kg (14 palettes) | C2: FOURNITURES SANDBLAST | D2: SEL01 | E2: 825.22 | G2: 5.35 | H2: KG | I2: SEL01 | J2: =+CONCATENATE($A2,"+",I2) -> 825.22+SEL01 | K2: CAPX | L2: X | M2: 6 | N2: LBS | Q2: JGF01 | R2: =+CONCATENATE($A2,"+",Q2) -> 825.22+JGF01 | S2: JGFY | T2: Y | U2: 7 | V2: SAC | Y2: VFD01 | Z2: =+CONCATENATE($A2,"+",Y2) -> 825.22+VFD01 | AA2: VFDZ | AB2: Z | AC2: 8 | AD2: PQT | AG2: =MATCH(Z2,Z2:Z2,0) -> 1
C15: zones nommées
C16: Base | D16: =DECALER('INVENTAIRE '!L2C1:L2C31;;;NBVAL('INVENTAIRE '!C1)-1)
C17: INVENTAIRE | D17: ='C:\Users\Chantal\AppData\Local\Microsoft\Windows\Temporary Internet Files\Low\Content.IE5\CTLBT3KH\[SUIVI ACHATS - 2012.xlsx]INVENTAIRE PEINTECK'!C1
C18: ProdFour | D18: =DECALER('INVENTAIRE '!L2C10;;;NBVAL('INVENTAIRE '!C1)-1)

Sheet FOURNISSEUR
A1: # | B1: CLÉ TR | C1: NOM | D1: ATTN | E1: ADRESSE | F1: VILLE | G1: CODE POSTAL | H1: TÉL | I1: FAX
A2: SEL01 | B2: Sel Warwick | C2: Sel Warwick inc. | E2: 5, rue Boutet | F2: Victoriaville (Québec) | G2: G6P 8T6 | H2: 819 758-5229 | I2: 819 758-5220 | J2: 819 352-9054
