Workbook

Sheet Feuil1
B1: =TODAY()-365+N1 -> 41831 | C1: =B1+1 -> 41832 | D1: =C1+1 -> 41833 | E1: =D1+1 -> 41834 | F1: =E1+1 -> 41835 | G1: =F1+1 -> 41836 | H1: =G1+1 -> 41837 | I1: =H1+1 -> 41838 | J1: =I1+1 -> 41839 | ... L1: =K1+1 -> 41841 | N1: 363 | S1: http://forum.excel-pratique.com/excel/tableau-defilant-date-reservation-t53347.html
A2: Produits
A3: Voiture 1 | B3: =IFERROR(IF(INDEX(BdD!$A:$E,MATCH(B$1,BdD!$A:$A,0),MATCH($A3,BdD!$1:$1,0))="X","Loué",""),"") | C3: =IFERROR(IF(INDEX(BdD!$A:$E,MATCH(C$1,BdD!$A:$A,0),MATCH($A3,BdD!$1:$1,0))="X","Loué",""),"") | D3: =IFERROR(IF(INDEX(BdD!$A:$E,MATCH(D$1,BdD!$A:$A,0),MATCH($A3,BdD!$1:$1,0))="X","Loué",""),"") | E3: =IFERROR(IF(INDEX(BdD!$A:$E,MATCH(E$1,BdD!$A:$A,0),MATCH($A3,BdD!$1:$1,0))="X","Loué",""),"") -> Loué | F3: =IFERROR(IF(INDEX(BdD!$A:$E,MATCH(F$1,BdD!$A:$A,0),MATCH($A3,BdD!$1:$1,0))="X","Loué",""),"") -> Loué | G3: =IFERROR(IF(INDEX(BdD!$A:$E,MATCH(G$1,BdD!$A:$A,0),MATCH($A3,BdD!$1:$1,0))="X","Loué",""),"") | H3: =IFERROR(IF(INDEX(BdD!$A:$E,MATCH(H$1,BdD!$A:$A,0),MATCH($A3,BdD!$1:$1,0))="X","Loué",""),"") | I3: =IFERROR(IF(INDEX(BdD!$A:$E,MATCH(I$1,BdD!$A:$A,0),MATCH($A3,BdD!$1:$1,0))="X","Loué",""),"") | ... L3: =IFERROR(IF(INDEX(BdD!$A:$E,MATCH(L$1,BdD!$A:$A,0),MATCH($A3,BdD!$1:$1,0))="X","Loué",""),"")
A4: Voiture 2 | B4: =IFERROR(IF(INDEX(BdD!$A:$E,MATCH(B$1,BdD!$A:$A,0),MATCH($A4,BdD!$1:$1,0))="X","Loué",""),"") | C4: =IFERROR(IF(INDEX(BdD!$A:$E,MATCH(C$1,BdD!$A:$A,0),MATCH($A4,BdD!$1:$1,0))="X","Loué",""),"") | D4: =IFERROR(IF(INDEX(BdD!$A:$E,MATCH(D$1,BdD!$A:$A,0),MATCH($A4,BdD!$1:$1,0))="X","Loué",""),"") -> Loué | E4: =IFERROR(IF(INDEX(BdD!$A:$E,MATCH(E$1,BdD!$A:$A,0),MATCH($A4,BdD!$1:$1,0))="X","Loué",""),"") | F4: =IFERROR(IF(INDEX(BdD!$A:$E,MATCH(F$1,BdD!$A:$A,0),MATCH($A4,BdD!$1:$1,0))="X","Loué",""),"") | G4: =IFERROR(IF(INDEX(BdD!$A:$E,MATCH(G$1,BdD!$A:$A,0),MATCH($A4,BdD!$1:$1,0))="X","Loué",""),"") | H4: =IFERROR(IF(INDEX(BdD!$A:$E,MATCH(H$1,BdD!$A:$A,0),MATCH($A4,BdD!$1:$1,0))="X","Loué",""),"") | I4: =IFERROR(IF(INDEX(BdD!$A:$E,MATCH(I$1,BdD!$A:$A,0),MATCH($A4,BdD!$1:$1,0))="X","Loué",""),"") | ... L4: =IFERROR(IF(INDEX(BdD!$A:$E,MATCH(L$1,BdD!$A:$A,0),MATCH($A4,BdD!$1:$1,0))="X","Loué",""),"") -> Loué
A5: Voiture 3 | B5: =IFERROR(IF(INDEX(BdD!$A:$E,MATCH(B$1,BdD!$A:$A,0),MATCH($A5,BdD!$1:$1,0))="X","Loué",""),"") | C5: =IFERROR(IF(INDEX(BdD!$A:$E,MATCH(C$1,BdD!$A:$A,0),MATCH($A5,BdD!$1:$1,0))="X","Loué",""),"") | D5: =IFERROR(IF(INDEX(BdD!$A:$E,MATCH(D$1,BdD!$A:$A,0),MATCH($A5,BdD!$1:$1,0))="X","Loué",""),"") | E5: =IFERROR(IF(INDEX(BdD!$A:$E,MATCH(E$1,BdD!$A:$A,0),MATCH($A5,BdD!$1:$1,0))="X","Loué",""),"") | F5: =IFERROR(IF(INDEX(BdD!$A:$E,MATCH(F$1,BdD!$A:$A,0),MATCH($A5,BdD!$1:$1,0))="X","Loué",""),"") -> Loué | G5: =IFERROR(IF(INDEX(BdD!$A:$E,MATCH(G$1,BdD!$A:$A,0),MATCH($A5,BdD!$1:$1,0))="X","Loué",""),"") -> Loué | H5: =IFERROR(IF(INDEX(BdD!$A:$E,MATCH(H$1,BdD!$A:$A,0),MATCH($A5,BdD!$1:$1,0))="X","Loué",""),"") -> Loué | I5: =IFERROR(IF(INDEX(BdD!$A:$E,MATCH(I$1,BdD!$A:$A,0),MATCH($A5,BdD!$1:$1,0))="X","Loué",""),"") | ... L5: =IFERROR(IF(INDEX(BdD!$A:$E,MATCH(L$1,BdD!$A:$A,0),MATCH($A5,BdD!$1:$1,0))="X","Loué",""),"")
A6: Voiture 4 | B6: =IFERROR(IF(INDEX(BdD!$A:$E,MATCH(B$1,BdD!$A:$A,0),MATCH($A6,BdD!$1:$1,0))="X","Loué",""),"") | C6: =IFERROR(IF(INDEX(BdD!$A:$E,MATCH(C$1,BdD!$A:$A,0),MATCH($A6,BdD!$1:$1,0))="X","Loué",""),"") | D6: =IFERROR(IF(INDEX(BdD!$A:$E,MATCH(D$1,BdD!$A:$A,0),MATCH($A6,BdD!$1:$1,0))="X","Loué",""),"") | E6: =IFERROR(IF(INDEX(BdD!$A:$E,MATCH(E$1,BdD!$A:$A,0),MATCH($A6,BdD!$1:$1,0))="X","Loué",""),"") -> Loué | F6: =IFERROR(IF(INDEX(BdD!$A:$E,MATCH(F$1,BdD!$A:$A,0),MATCH($A6,BdD!$1:$1,0))="X","Loué",""),"") | G6: =IFERROR(IF(INDEX(BdD!$A:$E,MATCH(G$1,BdD!$A:$A,0),MATCH($A6,BdD!$1:$1,0))="X","Loué",""),"") | H6: =IFERROR(IF(INDEX(BdD!$A:$E,MATCH(H$1,BdD!$A:$A,0),MATCH($A6,BdD!$1:$1,0))="X","Loué",""),"") | I6: =IFERROR(IF(INDEX(BdD!$A:$E,MATCH(I$1,BdD!$A:$A,0),MATCH($A6,BdD!$1:$1,0))="X","Loué",""),"") | ... L6: =IFERROR(IF(INDEX(BdD!$A:$E,MATCH(L$1,BdD!$A:$A,0),MATCH($A6,BdD!$1:$1,0))="X","Loué",""),"")
B7: =IFERROR(IF(INDEX(BdD!$A:$E,MATCH(B$1,BdD!$A:$A,0),MATCH($A7,BdD!$1:$1,0))="X","Loué",""),"") | C7: =IFERROR(IF(INDEX(BdD!$A:$E,MATCH(C$1,BdD!$A:$A,0),MATCH($A7,BdD!$1:$1,0))="X","Loué",""),"") | D7: =IFERROR(IF(INDEX(BdD!$A:$E,MATCH(D$1,BdD!$A:$A,0),MATCH($A7,BdD!$1:$1,0))="X","Loué",""),"") | E7: =IFERROR(IF(INDEX(BdD!$A:$E,MATCH(E$1,BdD!$A:$A,0),MATCH($A7,BdD!$1:$1,0))="X","Loué",""),"") | F7: =IFERROR(IF(INDEX(BdD!$A:$E,MATCH(F$1,BdD!$A:$A,0),MATCH($A7,BdD!$1:$1,0))="X","Loué",""),"") | G7: =IFERROR(IF(INDEX(BdD!$A:$E,MATCH(G$1,BdD!$A:$A,0),MATCH($A7,BdD!$1:$1,0))="X","Loué",""),"") | H7: =IFERROR(IF(INDEX(BdD!$A:$E,MATCH(H$1,BdD!$A:$A,0),MATCH($A7,BdD!$1:$1,0))="X","Loué",""),"") | I7: =IFERROR(IF(INDEX(BdD!$A:$E,MATCH(I$1,BdD!$A:$A,0),MATCH($A7,BdD!$1:$1,0))="X","Loué",""),"") | ... L7: =IFERROR(IF(INDEX(BdD!$A:$E,MATCH(L$1,BdD!$A:$A,0),MATCH($A7,BdD!$1:$1,0))="X","Loué",""),"")
B8: =IFERROR(IF(INDEX(BdD!$A:$E,MATCH(B$1,BdD!$A:$A,0),MATCH($A8,BdD!$1:$1,0))="X","Loué",""),"") | C8: =IFERROR(IF(INDEX(BdD!$A:$E,MATCH(C$1,BdD!$A:$A,0),MATCH($A8,BdD!$1:$1,0))="X","Loué",""),"") | D8: =IFERROR(IF(INDEX(BdD!$A:$E,MATCH(D$1,BdD!$A:$A,0),MATCH($A8,BdD!$1:$1,0))="X","Loué",""),"") | E8: =IFERROR(IF(INDEX(BdD!$A:$E,MATCH(E$1,BdD!$A:$A,0),MATCH($A8,BdD!$1:$1,0))="X","Loué",""),"") | F8: =IFERROR(IF(INDEX(BdD!$A:$E,MATCH(F$1,BdD!$A:$A,0),MATCH($A8,BdD!$1:$1,0))="X","Loué",""),"") | G8: =IFERROR(IF(INDEX(BdD!$A:$E,MATCH(G$1,BdD!$A:$A,0),MATCH($A8,BdD!$1:$1,0))="X","Loué",""),"") | H8: =IFERROR(IF(INDEX(BdD!$A:$E,MATCH(H$1,BdD!$A:$A,0),MATCH($A8,BdD!$1:$1,0))="X","Loué",""),"") | I8: =IFERROR(IF(INDEX(BdD!$A:$E,MATCH(I$1,BdD!$A:$A,0),MATCH($A8,BdD!$1:$1,0))="X","Loué",""),"") | ... L8: =IFERROR(IF(INDEX(BdD!$A:$E,MATCH(L$1,BdD!$A:$A,0),MATCH($A8,BdD!$1:$1,0))="X","Loué",""),"")
B9: =IFERROR(IF(INDEX(BdD!$A:$E,MATCH(B$1,BdD!$A:$A,0),MATCH($A9,BdD!$1:$1,0))="X","Loué",""),"") | C9: =IFERROR(IF(INDEX(BdD!$A:$E,MATCH(C$1,BdD!$A:$A,0),MATCH($A9,BdD!$1:$1,0))="X","Loué",""),"") | D9: =IFERROR(IF(INDEX(BdD!$A:$E,MATCH(D$1,BdD!$A:$A,0),MATCH($A9,BdD!$1:$1,0))="X","Loué",""),"") | E9: =IFERROR(IF(INDEX(BdD!$A:$E,MATCH(E$1,BdD!$A:$A,0),MATCH($A9,BdD!$1:$1,0))="X","Loué",""),"") | F9: =IFERROR(IF(INDEX(BdD!$A:$E,MATCH(F$1,BdD!$A:$A,0),MATCH($A9,BdD!$1:$1,0))="X","Loué",""),"") | G9: =IFERROR(IF(INDEX(BdD!$A:$E,MATCH(G$1,BdD!$A:$A,0),MATCH($A9,BdD!$1:$1,0))="X","Loué",""),"") | H9: =IFERROR(IF(INDEX(BdD!$A:$E,MATCH(H$1,BdD!$A:$A,0),MATCH($A9,BdD!$1:$1,0))="X","Loué",""),"") | I9: =IFERROR(IF(INDEX(BdD!$A:$E,MATCH(I$1,BdD!$A:$A,0),MATCH($A9,BdD!$1:$1,0))="X","Loué",""),"") | ... L9: =IFERROR(IF(INDEX(BdD!$A:$E,MATCH(L$1,BdD!$A:$A,0),MATCH($A9,BdD!$1:$1,0))="X","Loué",""),"")

Sheet BdD
A1: Dates | B1: Voiture 1 | C1: Voiture 2 | D1: Voiture 3 | E1: Voiture 4
A2: 41821
A3: 41822
A4: 41823
A5: 41824
A6: 41825
A7: 41826
A8: 41827
A9: 41828
A10: 41829
A11: 41830
A12: 41831
A13: 41832
A14: 41833 | C14: X
A15: 41834 | B15: X | E15: X
A16: 41835 | B16: X | D16: X
A17: 41836 | D17: X
A18: 41837 | D18: X
A19: 41838
A20: 41839
A21: 41840 | C21: X
A22: 41841 | C22: X
A23: 41842
A24: 41843
A25: 41844
A26: 41845
A27: 41846
A28: 41847
A29: 41848
A30: 41849
A31: 41850
A32: 41851
A33: 41852
A34: 41853
... A37: 41856
A38: 41857 | E38: x

Sheet Feuil3
