Workbook
Name SemHeures: HEURES!$A$8:$A$37

Sheet HEURES
A3: Heures effectuées
E4: LAVAGE | F4: TRI | G4: VRAC | H4: BIG BAG | I4: CELLO | J4: BARQUETTE
D5: COUT/HEURE | E5: 16.98 | F5: 13.01 | G5: 15.98 | H5: 12.62 | I5: 12.75 | J5: 12.62
B7: DATE | N7: zone nommée
A8: 1 | B8: 40546 | C8: 40552 | E8: 71 | F8: 71 | G8: 71 | H8: 71 | I8: 71 | J8: 71 | N8: SemHeures | O8: =HEURES!$A$8:$A$37
A9: 2 | B9: 40553 | C9: 40559 | E9: 76 | F9: 76 | G9: 76 | H9: 76 | I9: 76 | J9: 76
A10: 3 | B10: 40560 | C10: 40566 | E10: 85 | F10: 85 | G10: 85 | H10: 85 | I10: 85 | J10: 85
A11: 4 | B11: 40567 | C11: 40573 | E11: 56 | F11: 56 | G11: 56 | H11: 56 | I11: 56 | J11: 56
A12: 5 | B12: 40574 | C12: 40580 | E12: 45 | F12: 45 | G12: 45 | H12: 45 | I12: 45 | J12: 45
A13: 6 | B13: 40581 | C13: 40587 | E13: 89 | F13: 89 | G13: 89 | H13: 89 | I13: 89 | J13: 89
A14: 7 | B14: 40588 | C14: 40594 | E14: 58 | F14: 58 | G14: 58 | H14: 58 | I14: 58 | J14: 58
A15: 8 | B15: 40595 | C15: 40601 | E15: 64 | F15: 64 | G15: 64 | H15: 64 | I15: 64 | J15: 64
A16: 9 | B16: 40602 | C16: 40608 | E16: 52 | F16: 52 | G16: 52 | H16: 52 | I16: 52 | J16: 52
A17: 10 | B17: 40609 | C17: 40615 | E17: 45 | F17: 45 | G17: 45 | H17: 45 | I17: 45 | J17: 45
A18: 11 | B18: 40616 | C18: 40622 | E18: 59 | F18: 59 | G18: 59 | H18: 59 | I18: 59 | J18: 59
A19: 12 | B19: 40623 | C19: 40629 | E19: 73 | F19: 73 | G19: 73 | H19: 73 | I19: 73 | J19: 73
A20: 13 | B20: 40630 | C20: 40636 | E20: 54 | F20: 54 | G20: 54 | H20: 54 | I20: 54 | J20: 54
... A37: 30 | B37: 40749 | C37: 40755 | E37: 68 | F37: 68 | G37: 68 | H37: 68 | I37: 68 | J37: 68

Sheet COND
A3: CONDITIONNEMENT | E3: EN TONNE
E5: ECART DE TRI | F5: BARQUETTES | G5: LITE | H5: BIG BAG | I5: CELLO | J5: JASA 1 KG | K5: JASA 2 KG | L5: TOTAL TONNAGE
B7: =+HEURES!B7 -> DATE
A8: =+HEURES!A8 -> 1 | B8: =+HEURES!B8 -> 40546 | C8: =+HEURES!C8 -> 40552 | E8: 253 | F8: 56 | G8: 75 | H8: 86 | I8: 94 | J8: 64 | K8: 32 | L8: =SUM(E8:K8) -> 660
A9: =+HEURES!A9 -> 2 | B9: =+HEURES!B9 -> 40553 | C9: =+HEURES!C9 -> 40559 | E9: 253 | F9: 56 | G9: 75 | H9: 86 | I9: 94 | J9: 64 | K9: 32 | L9: =SUM(E9:K9) -> 660
A10: =+HEURES!A10 -> 3 | B10: =+HEURES!B10 -> 40560 | C10: =+HEURES!C10 -> 40566 | E10: 253 | F10: 56 | G10: 75 | H10: 86 | I10: 94 | J10: 64 | K10: 32 | L10: =SUM(E10:K10) -> 660
A11: =+HEURES!A11 -> 4 | B11: =+HEURES!B11 -> 40567 | C11: =+HEURES!C11 -> 40573 | E11: 253 | F11: 56 | G11: 75 | H11: 86 | I11: 94 | J11: 64 | K11: 32 | L11: =SUM(E11:K11) -> 660
A12: =+HEURES!A12 -> 5 | B12: =+HEURES!B12 -> 40574 | C12: =+HEURES!C12 -> 40580 | E12: 253 | F12: 56 | G12: 75 | H12: 86 | I12: 94 | J12: 64 | K12: 32 | L12: =SUM(E12:K12) -> 660
A13: =+HEURES!A13 -> 6 | B13: =+HEURES!B13 -> 40581 | C13: =+HEURES!C13 -> 40587 | E13: 253 | F13: 56 | G13: 75 | H13: 86 | I13: 94 | J13: 64 | K13: 32 | L13: =SUM(E13:K13) -> 660
A14: =+HEURES!A14 -> 7 | B14: =+HEURES!B14 -> 40588 | C14: =+HEURES!C14 -> 40594 | E14: 253 | F14: 56 | G14: 75 | H14: 86 | I14: 94 | J14: 64 | K14: 32 | L14: =SUM(E14:K14) -> 660
A15: =+HEURES!A15 -> 8 | B15: =+HEURES!B15 -> 40595 | C15: =+HEURES!C15 -> 40601 | E15: 253 | F15: 56 | G15: 75 | H15: 86 | I15: 94 | J15: 64 | K15: 32 | L15: =SUM(E15:K15) -> 660
A16: =+HEURES!A16 -> 9 | B16: =+HEURES!B16 -> 40602 | C16: =+HEURES!C16 -> 40608 | E16: 253 | F16: 56 | G16: 75 | H16: 86 | I16: 94 | J16: 64 | K16: 32 | L16: =SUM(E16:K16) -> 660
A17: =+HEURES!A17 -> 10 | B17: =+HEURES!B17 -> 40609 | C17: =+HEURES!C17 -> 40615 | E17: 253 | F17: 56 | G17: 75 | H17: 86 | I17: 94 | J17: 64 | K17: 32 | L17: =SUM(E17:K17) -> 660
A18: =+HEURES!A18 -> 11 | B18: =+HEURES!B18 -> 40616 | C18: =+HEURES!C18 -> 40622 | E18: 253 | F18: 56 | G18: 75 | H18: 86 | I18: 94 | J18: 64 | K18: 32 | L18: =SUM(E18:K18) -> 660
A19: =+HEURES!A19 -> 12 | B19: =+HEURES!B19 -> 40623 | C19: =+HEURES!C19 -> 40629 | E19: 253 | F19: 56 | G19: 75 | H19: 86 | I19: 94 | J19: 64 | K19: 32 | L19: =SUM(E19:K19) -> 660
... A37: =+HEURES!A37 -> 30 | B37: =+HEURES!B37 -> 40749 | C37: =+HEURES!C37 -> 40755 | E37: 253 | F37: 56 | G37: 75 | H37: 86 | I37: 94 | J37: 64 | K37: 32 | L37: =SUM(E37:K37) -> 660

Sheet CAMPAGNE
E1: COUT MOYEN MO PAR CAMPAGNE | K1: COUT MOYEN MO PAR CONDITONNEMENT | P1: http://forum.excel-pratique.com/excel/calcul-cout-en-fonction-d-une-periode-donnee-t26493.html
B3: CAMPAGNE CAROTTE | C3: Sem Début | D3: Sem Fin | E3: Nombre heures
B5: CAROTTE HIVER | C5: 1 | D5: 15 | E5: =SUMPRODUCT((SemHeures>=C5)*(SemHeures<=D5)*(OFFSET(SemHeures,,4,,6))) -> 5916
B7: CAROTTE PRIM PORT | C7: 16 | D7: 20 | E7: =SUMPRODUCT((SemHeures>=C7)*(SemHeures<=D7)*(OFFSET(SemHeures,,4,,6))) -> 1428
B9: CAROTTE PRI FCE | C9: 21 | D9: 30 | E9: =SUMPRODUCT((SemHeures>=C9)*(SemHeures<=D9)*(OFFSET(SemHeures,,4,,6))) -> 4128
B11: CAROTTE ETE | C11: 31 | D11: 39 | E11: =SUMPRODUCT((SemHeures>=C11)*(SemHeures<=D11)*(OFFSET(SemHeures,,4,,6))) -> 0
B13: CAROTTE AUT | C13: 40 | D13: 52 | E13: =SUMPRODUCT((SemHeures>=C13)*(SemHeures<=D13)*(OFFSET(SemHeures,,4,,6))) -> 0
