Workbook
Name NOM_COMPLET: 'Base de Données Actiris'!$A$1:$A$437

Sheet Année 2016
A1: 2016 | AM1: http://forum.excel-pratique.com/excel/besoin-de-votre-aide-t72128.html
B2: 1 | C2: 2 | D2: 3 | E2: 4 | F2: 5 | G2: 6 | H2: 7 | I2: 8 | J2: 9 | K2: 10 | L2: 11 | M2: 12 | N2: 13 | O2: 14 | P2: 15 | Q2: 16 | R2: 17 | S2: 18 | T2: 19 | U2: 20 | V2: 21 | W2: 22 | X2: 23 | Y2: 24 | Z2: 25 | AA2: 26 | AB2: 27 | AC2: 28 | AD2: 29 | AE2: 30 | AF2: 31 | AG2: TOT | AH2: VAC
A3: JANVIER | AG3: =COUNTIF($B$3:$AF$3,"CMI")+COUNTIF($B$3:$AF$3,"CSS")+COUNTIF($B$3:$AF$3,"DM")+COUNTIF($B$3:$AF$3,"IC")+COUNTIF($B$3:$AF$3,"LO")+COUNTIF($B$3:$AF$3,"SV4")+COUNTIF($B$3:$AF$3,"VZW")+SUMPRODUCT(N($B$3:$AF$3='base de données'!$D$1:$D$12))*0.5 -> 0 | AH3: =COUNTIF($B$3:$AF$3,"VA")+SUMPRODUCT(N(B3:AF3='base de données'!$A$41:$A$42))*0.5 -> 0
A4: FÉVRIER | AG4: =COUNTIF($B$4:$AF$4,"CMI")+COUNTIF($B$4:$AF$4,"CSS")+COUNTIF($B$4:$AF$4,"DM")+COUNTIF($B$4:$AF$4,"IC")+COUNTIF($B$4:$AF$4,"LO")+COUNTIF($B$4:$AF$4,"SV4")+COUNTIF($B$4:$AF$4,"VZW")+SUMPRODUCT(N($B$4:$AF$4='base de données'!$D$1:$D$12))*0.5 -> 0 | AH4: =COUNTIF($B$4:$AF$4,"VA")+SUMPRODUCT(N(B4:AF4='base de données'!$A$41:$A$42))*0.5 -> 0
A5: MARS | AG5: =COUNTIF($B$5:$AF$5,"CMI")+COUNTIF($B$5:$AF$5,"CSS")+COUNTIF($B$5:$AF$5,"DM")+COUNTIF($B$5:$AF$5,"IC")+COUNTIF($B$5:$AF$5,"LO")+COUNTIF($B$5:$AF$5,"SV4")+COUNTIF($B$5:$AF$5,"VZW")++SUMPRODUCT(N($B$5:$AF$5='base de données'!$D$1:$D$12))*0.5 -> 0 | AH5: =COUNTIF($B$5:$AF$5,"VA")+SUMPRODUCT(N(B5:AF5='base de données'!$A$41:$A$42))*0.5 -> 0
A6: AVRIL | AG6: =COUNTIF($B$6:$AF$6,"CMI")+COUNTIF($B$6:$AF$6,"CSS")+COUNTIF($B$6:$AF$6,"DM")+COUNTIF($B$6:$AF$6,"IC")+COUNTIF($B$6:$AF$6,"LO")+COUNTIF($B$6:$AF$6,"SV4")+COUNTIF($B$6:$AF$6,"VZW")+SUMPRODUCT(N($B$6:$AF$6='base de données'!$D$1:$D$12))*0.5 -> 0 | AH6: =COUNTIF($B$6:$AF6,"VA")+SUMPRODUCT(N(B6:AF6='base de données'!$A$41:$A$42))*0.5 -> 0
A7: MAI | AG7: =COUNTIF($B$7:$AF$7,"CMI")+COUNTIF($B$7:$AF$7,"CSS")+COUNTIF($B$7:$AF$7,"DM")+COUNTIF($B$7:$AF$7,"IC")+COUNTIF($B$7:$AF$7,"LO")+COUNTIF($B$7:$AF$7,"SV4")+COUNTIF($B$7:$AF$7,"VZW")+SUMPRODUCT(N($B$7:$AF$7='base de données'!$D$1:$D$12))*0.5 -> 0 | AH7: =COUNTIF($B$7:$AF7,"VA")+SUMPRODUCT(N(B7:AF7='base de données'!$A$41:$A$42))*0.5 -> 0
A8: JUIN | AG8: =COUNTIF($B$8:$AF$8,"CMI")+COUNTIF($B$8:$AF$8,"CSS")+COUNTIF($B$8:$AF$8,"DM")+COUNTIF($B$8:$AF$8,"IC")+COUNTIF($B$8:$AF$8,"LO")+COUNTIF($B$8:$AF$8,"SV4")+COUNTIF($B$8:$AF$8,"VZW")+SUMPRODUCT(N($B$8:$AF$8='base de données'!$D$1:$D$12))*0.5 -> 0 | AH8: =COUNTIF($B$8:$AF$8,"VA")+SUMPRODUCT(N(B8:AF8='base de données'!$A$41:$A$42))*0.5 -> 0
A9: JUILLET | AG9: =COUNTIF($B$9:$AF$9,"CMI")+COUNTIF($B$9:$AF$9,"CSS")+COUNTIF($B$9:$AF$9,"DM")+COUNTIF($B$9:$AF$9,"IC")+COUNTIF($B$9:$AF$9,"LO")+COUNTIF($B$9:$AF$9,"SV4")+COUNTIF($B$9:$AF$9,"VZW")+SUMPRODUCT(N($B$9:$AF$9='base de données'!$D$1:$D$12))*0.5 -> 0 | AH9: =COUNTIF($B$9:$AF$10,"VA")+SUMPRODUCT(N(B9:AF9='base de données'!$A$41:$A$42))*0.5 -> 0
A10: AOÛT | AG10: =COUNTIF($B$10:$AF$10,"CMI")+COUNTIF($B$10:$AF$10,"CSS")+COUNTIF($B$10:$AF$10,"DM")+COUNTIF($B$10:$AF$10,"IC")+COUNTIF($B$10:$AF$10,"LO")+COUNTIF($B$10:$AF$10,"SV4")+COUNTIF($B$10:$AF$10,"VZW")+SUMPRODUCT(N($B$10:$AF$10='base de données'!$D$1:$D$12))*0.5 -> 0 | AH10: =COUNTIF($B$10:$AF10,"VA")+SUMPRODUCT(N(B10:AF10='base de données'!$A$41:$A$42))*0.5 -> 0
A11: SEPTEMBRE | AG11: =COUNTIF($B$11:$AF$11,"CMI")+COUNTIF($B$11:$AF$11,"CSS")+COUNTIF($B$11:$AF$11,"DM")+COUNTIF($B$11:$AF$11,"IC")+COUNTIF($B$11:$AF$11,"LO")+COUNTIF($B$11:$AF$11,"SV4")+COUNTIF($B$11:$AF$11,"VZW")+SUMPRODUCT(N($B$11:$AF$11='base de données'!$D$1:$D$12))*0.5 -> 0 | AH11: =COUNTIF($B$11:$AF$11,"VA")+SUMPRODUCT(N(B11:AF11='base de données'!$A$41:$A$42))*0.5 -> 0
A12: OCTOBRE | AG12: =COUNTIF($B$12:$AF$12,"CMI")+COUNTIF($B$12:$AF$12,"CSS")+COUNTIF($B$12:$AF$12,"DM")+COUNTIF($B$12:$AF$12,"IC")+COUNTIF($B$12:$AF$12,"LO")+COUNTIF($B$12:$AF$12,"SV4")+COUNTIF($B$12:$AF$12,"VZW")+SUMPRODUCT(N($B$12:$AF$12='base de données'!$D$1:$D$12))*0.5 -> 0 | AH12: =COUNTIF($B$12:$AF12,"VA")+SUMPRODUCT(N(B12:AF12='base de données'!$A$41:$A$42))*0.5 -> 0
A13: NOVEMBRE | AG13: =COUNTIF($B$13:$AF$13,"CMI")+COUNTIF($B$13:$AF$13,"CSS")+COUNTIF($B$13:$AF$13,"DM")+COUNTIF($B$13:$AF$13,"IC")+COUNTIF($B$13:$AF$13,"LO")+COUNTIF($B$13:$AF$13,"SV4")+COUNTIF($B$13:$AF$13,"VZW")+SUMPRODUCT(N($B$13:$AF$13='base de données'!$D$1:$D$12))*0.5 -> 0 | AH13: =COUNTIF($B$13:$AF$13,"VA")+SUMPRODUCT(N(B13:AF13='base de données'!$A$41:$A$42))*0.5 -> 0
A14: DÉCEMBRE | AG14: =COUNTIF($B$14:$AF$14,"CMI")+COUNTIF($B$14:$AF$14,"CSS")+COUNTIF($B$14:$AF$14,"DM")+COUNTIF($B$14:$AF$14,"IC")+COUNTIF($B$14:$AF$14,"LO")+COUNTIF($B$14:$AF$14,"SV4")+COUNTIF($B$14:$AF$14,"VZW")+SUMPRODUCT(N($B$14:$AF$14='base de données'!$D$1:$D$12))*0.5 -> 0 | AH14: =COUNTIF($B$14:$AF$14,"VA")+SUMPRODUCT(N(B14:AF14='base de données'!$A$41:$A$42))*0.5 -> 0
AH15: =SUM(AH3:AH14) -> 0
AF16: Total | AG16: =SUM(AG3:AG14) -> 0 | AH16: =37-AH15 -> 37 | AI16: Congé
A18: CIRC | B18: =COUNTIF($B$3:$AF$14,"CIRC")+COUNTIF($B$3:$AF$14,"CIRC AM")*0.5+COUNTIF($B$3:$AF$14,"CIRC PM")*0.5 -> 0
A19: EXC | B19: =COUNTIF($B$3:$AF$14,"EXC")+COUNTIF($B$3:$AF$14,"EXC AM")*0.5+COUNTIF($B$3:$AF$14,"EXC PM")*0.5 -> 0
C22: NOM COMPLET | E22: AKEL Amal
B23: DATE DE NAISSANCE | E23: =VLOOKUP($E$22,OFFSET(NOM_COMPLET,,,,9),7,FALSE) -> 1990.01.02
C24: SERVICE | E24: =VLOOKUP($E$22,OFFSET(NOM_COMPLET,,,,9),8,FALSE) -> Cellule Formation
C25: DATE D'ENTREE | E25: =VLOOKUP($E$22,OFFSET(NOM_COMPLET,,,,9),9,FALSE) -> 41913
C26: LANGUE | E26: =VLOOKUP($E$22,OFFSET(NOM_COMPLET,,,,9),4,FALSE) -> Français

Sheet base de données
A1: AT | D1: CMI AM
A2: CIRC | D2: CMI PM
A3: CIRC AM | D3: CSS AM
A4: CIRC PM | D4: CSS PM
A5: CM | D5: IC AM
A6: CMI | D6: IC PM
A7: CMI AM | D7: LO AM
A8: CMI PM | D8: LO PM
A9: CSS | D9: SV4 AM
A10: CSS AM | D10: SV4 PM
A11: CSS PM | D11: VZW AM
A12: CTM | D12: VZW PM
A13: DAP
A14: DCD
A15: DD
A16: DD AM
A17: DD PM
A18: DET
A19: DM
A20: EXC
A21: EXC AM
A22: EXC PM
A23: FPV
A24: FPV AM
... A45: VZW PM

Sheet Base de Données Actiris
A1: NOM COMPLET | B1: Nom | C1: Prénom | D1: Langue description | E1: Département description | F1: En service du | G1: Date de Naissance | H1: Service | I1: Entrée en service | J1: Date d'entrée
A2: =CONCATENATE(B2," ",C2) -> ABACI Sebahattin | B2: ABACI | C2: Sebahattin | D2: Français | E2: Direction Chercheurs d'Emploi | F2: 39814 | G2: 1986.01.21 | H2: Renfort & Appui | I2: 39814 | J2: 39814
A3: =CONCATENATE(B3," ",C3) -> ABDUL WAHAB Aruddin | B3: ABDUL WAHAB | C3: Aruddin | D3: Français | E3: Direction Employeurs | F3: 41609 | G3: 1991.02.16 | H3: MCS/Front Office | I3: 41609 | J3: 41609
A4: =CONCATENATE(B4," ",C4) -> ADRIAENSSEN Elisabeth | B4: ADRIAENSSEN | C4: Elisabeth | D4: Nederlands | E4: Direction Chercheurs d'Emploi | F4: 42278 | G4: 1962.12.28 | H4: Contact Center HELPDESK | I4: 42278 | J4: 42278
A5: =CONCATENATE(B5," ",C5) -> AERTS LOTTE | B5: AERTS | C5: LOTTE | D5: Nederlands | E5: Direction Chercheurs d'Emploi | F5: 42064 | G5: 1979.05.10 | H5: Contact Center JOBINFO | I5: 42064 | J5: 42064
A6: =CONCATENATE(B6," ",C6) -> AHMAD Usman | B6: AHMAD | C6: Usman | D6: Français | E6: Direction Employeurs | F6: 39904 | G6: 1982.11.12 | H6: Youth Guarantee | I6: 39904 | J6: 39904
A7: =CONCATENATE(B7," ",C7) -> AHMED Zohra | B7: AHMED | C7: Zohra | D7: Français | E7: Direction Chercheurs d'Emploi | F7: 37773 | G7: 1974.06.05 | H7: Renfort & Appui | I7: 35213 | J7: 35213
A8: =CONCATENATE(B8," ",C8) -> AHRIKA Samira | B8: AHRIKA | C8: Samira | D8: Français | E8: Direction Chercheurs d'Emploi | F8: 39356 | G8: 1983.11.27 | H8: Contact Center HELPDESK | I8: 39356 | J8: 39356
A9: =CONCATENATE(B9," ",C9) -> AKEL Amal | B9: AKEL | C9: Amal | D9: Français | E9: Direction Chercheurs d'Emploi | F9: 41913 | G9: 1990.01.02 | H9: Cellule Formation | I9: 41913 | J9: 41913
A10: =CONCATENATE(B10," ",C10) -> ALBRECHT Daniel | B10: ALBRECHT | C10: Daniel | D10: Français | E10: Direction Employeurs | F10: 37773 | G10: 1952.05.27 | H10: Select Actiris/Pôle 3 | I10: 34851 | J10: 28185
A11: =CONCATENATE(B11," ",C11) -> ALLARD Fabienne | B11: ALLARD | C11: Fabienne | D11: Français | E11: Direction Employeurs | F11: 41078 | G11: 1968.08.11 | H11: Select Actiris/Pôle 4 | I11: 41078 | J11: 39508
A12: =CONCATENATE(B12," ",C12) -> AMRI Boutaina | B12: AMRI | C12: Boutaina | D12: Français | E12: Direction Employeurs | F12: 41456 | G12: 1988.08.17 | H12: Youth Guarantee | I12: 41456 | J12: 41456
A13: =CONCATENATE(B13," ",C13) -> ANCION FREDERIC | B13: ANCION | C13: FREDERIC | D13: Français | E13: Direction Chercheurs d'Emploi | F13: 42064 | G13: 1958.08.22 | H13: Contact Center JOBINFO | I13: 42064 | J13: 42064
... A17: =CONCATENATE(B17," ",C17) -> ARIKAN HAYRI | B17: ARIKAN | C17: HAYRI | D17: Français | E17: Direction Chercheurs d'Emploi | F17: 41821 | G17: 1986.12.31 | H17: xxxxxx | I17: 41821 | J17: 41821
A18: =CONCATENATE(B18," ",C18) -> ARKHIPOVA Tatiana | B18: ARKHIPOVA | C18: Tatiana | D18: Français | E18: Direction Chercheurs d'Emploi | F18: 40238 | G18: 1990.04.17 | H18: Renfort & Appui | I18: 40238 | J18: 40238 | M18: NOM_COMPLET | N18: ='Base de Données Actiris'!$A$1:$A$437
A19: =CONCATENATE(B19," ",C19) -> ASAADI Redouane | B19: ASAADI | C19: Redouane | D19: Français | E19: Direction Employeurs | F19: 42370 | G19: 1992.03.27 | H19: MCS/Front Office | I19: 42370 | J19: 42370
A20: =CONCATENATE(B20," ",C20) -> ASHTA Trivi | B20: ASHTA | C20: Trivi | D20: Français | E20: Direction Employeurs | F20: 42370 | G20: 1974.04.08 | H20: Youth Guarantee | I20: 42370 | J20: 42370
A21: =CONCATENATE(B21," ",C21) -> ASSELMAN Gino | B21: ASSELMAN | C21: Gino | D21: Nederlands | E21: Direction Employeurs | F21: 37773 | G21: 1955.06.05 | H21: Select Actiris/Pôle 5 | I21: 35855 | J21: 35855
A22: =CONCATENATE(B22," ",C22) -> ASTUDILLO PIZZARO Marcia | B22: ASTUDILLO PIZZARO | C22: Marcia | D22: Français | E22: Direction Chercheurs d'Emploi | F22: 39934 | G22: 1969.02.24 | H22: Guidance RAE | I22: 39934 | J22: 34700
A23: =CONCATENATE(B23," ",C23) -> ATSAMA Alphonse | B23: ATSAMA | C23: Alphonse | D23: Français | E23: =IF(ISBLANK(22),"",VLOOKUP(B8,'Base de Données Actiris'!A1:J437,2,0)) -> #N/A | F23: 41518 | G23: 1962.11.14 | H23: Youth Guarantee | I23: 41518 | J23: 41518
A24: =CONCATENATE(B24," ",C24) -> AUBRY Bénédicte | B24: AUBRY | C24: Bénédicte | D24: Français | E24: Direction Employeurs | F24: 37773 | G24: 1964.01.03 | H24: Gestion Employeurs | I24: 35065 | J24: 34578
A25: =CONCATENATE(B25," ",C25) -> AVARALI Arsen | B25: AVARALI | C25: Arsen | D25: Nederlands | E25: Direction Employeurs | F25: 41974 | G25: 1994.02.28 | H25: MCS/Back Office | I25: 41974 | J25: 41974
A26: =CONCATENATE(B26," ",C26) -> AZAOUM Hakima | B26: AZAOUM | C26: Hakima | D26: Français | E26: Direction Chercheurs d'Emploi | F26: 37773 | G26: 1972.05.07 | H26: Consultation sociale | I26: 36923 | J26: 36526
A27: =CONCATENATE(B27," ",C27) -> BACKAERT Fernand | B27: BACKAERT | C27: Fernand | D27: Français | E27: Direction Employeurs | F27: 37773 | G27: 1950.04.30 | H27: Select Actiris/Pôle 3 | I27: 35977 | J27: 35977
A28: =CONCATENATE(B28," ",C28) -> BAEGHE Anne-Marie | B28: BAEGHE | C28: Anne-Marie | D28: Français | E28: SORTIES | F28: 37773 | G28: 1958.11.07 | H28: Guidance RAE | I28: 35155 | J28: OUT
A29: =CONCATENATE(B29," ",C29) -> BAKKIOUI Ismaël | B29: BAKKIOUI | C29: Ismaël | D29: Français | E29: Direction Chercheurs d'Emploi | F29: 39692 | G29: 1976.05.11 | H29: Renfort & Appui | I29: 39692 | J29: 39692
A30: =CONCATENATE(B30," ",C30) -> BAROEN Laurence | B30: BAROEN | C30: Laurence | D30: Français | E30: Direction Chercheurs d'Emploi | F30: 37773 | G30: 1969.02.01 | H30: Cellule gestion des projets | I30: 34851 | J30: 33756
A31: =CONCATENATE(B31," ",C31) -> BAUWENS Ronny | B31: BAUWENS | C31: Ronny | D31: Nederlands | E31: Direction Employeurs | F31: 39022 | G31: 1955.01.02 | H31: Select Actiris/Pôle Coordination Transversale | I31: 39022 | J31: 39114
A32: =CONCATENATE(B32," ",C32) -> BECKER Johan | B32: BECKER | C32: Johan | D32: Français | E32: Direction Employeurs | F32: 41275 | G32: 1978.06.22 | H32: Actiris International | I32: 41275 | J32: 39234
A33: =CONCATENATE(B33," ",C33) -> BELATARIS Fatima | B33: BELATARIS | C33: Fatima | D33: Français | E33: Direction Employeurs | F33: 40118 | G33: 1977.04.14 | H33: Select Actiris/Pôle 1 | I33: 40118 | J33: 40118
A34: =CONCATENATE(B34," ",C34) -> BEN AHMED Rajae | B34: BEN AHMED | C34: Rajae | D34: Français | E34: Direction Chercheurs d'Emploi | F34: 39264 | G34: 1974.03.07 | H34: Contact Center | I34: 39264 | J34: 39264
A35: =CONCATENATE(B35," ",C35) -> BEN BRIK Mahmoud | B35: BEN BRIK | C35: Mahmoud | D35: Français | E35: Direction Chercheurs d'Emploi | F35: 42309 | G35: 1991.08.16 | H35: Service Animation | I35: 42309 | J35: 42309
A36: =CONCATENATE(B36," ",C36) -> BEN CHEIKH Karima | B36: BEN CHEIKH | C36: Karima | D36: Français | E36: Direction Chercheurs d'Emploi | F36: 41214 | G36: 1978.08.31 | H36: Renfort & Appui | I36: 41214 | J36: 41244
A37: =CONCATENATE(B37," ",C37) -> BEN HADDOU Slimane | B37: BEN HADDOU | C37: Slimane | D37: Français | E37: Direction Employeurs | F37: 40299 | G37: 1985.09.12 | H37: Select Actiris/Pôle 1 | I37: 40299 | J37: 40299
A38: =CONCATENATE(B38," ",C38) -> BEN HAMMOU Fatiha | B38: BEN HAMMOU | C38: Fatiha | D38: Français | E38: Direction Chercheurs d'Emploi | F38: 41153 | G38: 1983.08.15 | H38: Renfort & Appui | I38: 41153 | J38: 41153
A39: =CONCATENATE(B39," ",C39) -> BEN OMAR Anissa | B39: BEN OMAR | C39: Anissa | D39: Français | E39: pas de département | F39: 37773 | G39: 1970.06.02 | H39: Détaché | I39: 34858 | J39: 35004
A40: =CONCATENATE(B40," ",C40) -> BENAMAR Karima | B40: BENAMAR | C40: Karima | D40: Français | E40: Direction Employeurs | F40: 40422 | G40: 1977.01.07 | H40: MCS/Front Office | I40: 40422 | J40: 40422
... A77: =CONCATENATE(B77," ",C77) -> CHEVALIER Jonathan | B77: CHEVALIER | C77: Jonathan | D77: Français | E77: Direction Chercheurs d'Emploi | F77: 39600 | G77: 1981.08.22 | H77: Youth Garantee | I77: 39600 | J77: 39600
A78: =CONCATENATE(B78," ",C78) -> CHOISEZ Anne | B78: CHOISEZ | C78: Anne | D78: Français | E78: SORTIES | F78: 40792 | G78: 1949.09.19 | H78: Direction | I78: 40792 | J78: OUT
A79: =CONCATENATE(B79," ",C79) -> CILIBERTI MELISSA | B79: CILIBERTI | C79: MELISSA | D79: Français | E79: Direction Employeurs | F79: 42125 | G79: 1989.05.24 | H79: MCS/Back Office | I79: 42125 | J79: 42125
...
