Workbook
Name NOM_COMPLET: 'Base de Données Actiris'!$A$1:$A$437

Sheet Année 2016
A1: 2016 | AM1: http://forum.excel-pratique.com/excel/besoin-de-votre-aide-t72128.html
B2: 1 | C2: 2 | D2: 3 | E2: 4 | F2: 5 | G2: 6 | H2: 7 | I2: 8 | J2: 9 | K2: 10 | L2: 11 | M2: 12 | N2: 13 | O2: 14 | P2: 15 | Q2: 16 | R2: 17 | S2: 18 | T2: 19 | U2: 20 | V2: 21 | W2: 22 | X2: 23 | Y2: 24 | Z2: 25 | AA2: 26 | AB2: 27 | AC2: 28 | AD2: 29 | AE2: 30 | AF2: 31 | AG2: TOT | AH2: VAC
A3: JANVIER | AG3: =COUNTIF($B$3:$AF$3,"CMI")+COUNTIF($B$3:$AF$3,"CSS")+COUNTIF($B$3:$AF$3,"DM")+COUNTIF($B$3:$AF$3,"IC")+COUNTIF($B$3:$AF$3,"LO")+COUNTIF($B$3:$AF$3,"SV4")+COUNTIF($B$3:$AF$3,"VZW")+SUMPRODUCT(N($B$3:$AF$3='base de données'!$D$1:$D$12))*0.5 -> 0 | AH3: =COUNTIF($B$3:$AF$3,"VA")+SUMPRODUCT(N(B3:AF3='base de données'!$A$41:$A$42))*0.5 -> 0
A4: FÉVRIER | AG4: =COUNTIF($B$4:$AF$4,"CMI")+COUNTIF($B$4:$AF$4,"CSS")+COUNTIF($B$4:$AF$4,"DM")+COUNTIF($B$4:$AF$4,"IC")+COUNTIF($B$4:$AF$4,"LO")+COUNTIF($B$4:$AF$4,"SV4")+COUNTIF($B$4:$AF$4,"VZW")+SUMPRODUCT(N($B$4:$AF$4='base de données'!$D$1:$D$12))*0.5 -> 0 | AH4: =COUNTIF($B$4:$AF$4,"VA")+SUMPRODUCT(N(B4:AF4='base de données'!$A$41:$A$42))*0.5 -> 0
A5: MARS | AG5: =COUNTIF($B$5:$AF$5,"CMI")+COUNTIF($B$5:$AF$5,"CSS")+COUNTIF($B$5:$AF$5,"DM")+COUNTIF($B$5:$AF$5,"IC")+COUNTIF($B$5:$AF$5,"LO")+COUNTIF($B$5:$AF$5,"SV4")+COUNTIF($B$5:$AF$5,"VZW")++SUMPRODUCT(N($B$5:$AF$5='base de données'!$D$1:$D$12))*0.5 -> 0 | AH5: =COUNTIF($B$5:$AF$5,"VA")+SUMPRODUCT(N(B5:AF5='base de données'!$A$41:$A$42))*0.5 -> 0
A6: AVRIL | AG6: =COUNTIF($B$6:$AF$6,"CMI")+COUNTIF($B$6:$AF$6,"CSS")+COUNTIF($B$6:$AF$6,"DM")+COUNTIF($B$6:$AF$6,"IC")+COUNTIF($B$6:$AF$6,"LO")+COUNTIF($B$6:$AF$6,"SV4")+COUNTIF($B$6:$AF$6,"VZW")+SUMPRODUCT(N($B$6:$AF$6='base de données'!$D$1:$D$12))*0.5 -> 0 | AH6: =COUNTIF($B$6:$AF6,"VA")+SUMPRODUCT(N(B6:AF6='base de données'!$A$41:$A$42))*0.5 -> 0
A7: MAI | AG7: =COUNTIF($B$7:$AF$7,"CMI")+COUNTIF($B$7:$AF$7,"CSS")+COUNTIF($B$7:$AF$7,"DM")+COUNTIF($B$7:$AF$7,"IC")+COUNTIF($B$7:$AF$7,"LO")+COUNTIF($B$7:$AF$7,"SV4")+COUNTIF($B$7:$AF$7,"VZW")+SUMPRODUCT(N($B$7:$AF$7='base de données'!$D$1:$D$12))*0.5 -> 0 | AH7: =COUNTIF($B$7:$AF7,"VA")+SUMPRODUCT(N(B7:AF7='base de données'!$A$41:$A$42))*0.5 -> 0
A8: JUIN | AG8: =COUNTIF($B$8:$AF$8,"CMI")+COUNTIF($B$8:$AF$8,"CSS")+COUNTIF($B$8:$AF$8,"DM")+COUNTIF($B$8:$AF$8,"IC")+COUNTIF($B$8:$AF$8,"LO")+COUNTIF($B$8:$AF$8,"SV4")+COUNTIF($B$8:$AF$8,"VZW")+SUMPRODUCT(N($B$8:$AF$8='base de données'!$D$1:$D$12))*0.5 -> 0 | AH8: =COUNTIF($B$8:$AF$8,"VA")+SUMPRODUCT(N(B8:AF8='base de données'!$A$41:$A$42))*0.5 -> 0
A9: JUILLET | AG9: =COUNTIF($B$9:$AF$9,"CMI")+COUNTIF($B$9:$AF$9,"CSS")+COUNTIF($B$9:$AF$9,"DM")+COUNTIF($B$9:$AF$9,"IC")+COUNTIF($B$9:$AF$9,"LO")+COUNTIF($B$9:$AF$9,"SV4")+COUNTIF($B$9:$AF$9,"VZW")+SUMPRODUCT(N($B$9:$AF$9='base de données'!$D$1:$D$12))*0.5 -> 0 | AH9: =COUNTIF($B$9:$AF$10,"VA")+SUMPRODUCT(N(B9:AF9='base de données'!$A$41:$A$42))*0.5 -> 0
A10: AOÛT | AG10: =COUNTIF($B$10:$AF$10,"CMI")+COUNTIF($B$10:$AF$10,"CSS")+COUNTIF($B$10:$AF$10,"DM")+COUNTIF($B$10:$AF$10,"IC")+COUNTIF($B$10:$AF$10,"LO")+COUNTIF($B$10:$AF$10,"SV4")+COUNTIF($B$10:$AF$10,"VZW")+SUMPRODUCT(N($B$10:$AF$10='base de données'!$D$1:$D$12))*0.5 -> 0 | AH10: =COUNTIF($B$10:$AF10,"VA")+SUMPRODUCT(N(B10:AF10='base de données'!$A$41:$A$42))*0.5 -> 0
A11: SEPTEMBRE | AG11: =COUNTIF($B$11:$AF$11,"CMI")+COUNTIF($B$11:$AF$11,"CSS")+COUNTIF($B$11:$AF$11,"DM")+COUNTIF($B$11:$AF$11,"IC")+COUNTIF($B$11:$AF$11,"LO")+COUNTIF($B$11:$AF$11,"SV4")+COUNTIF($B$11:$AF$11,"VZW")+SUMPRODUCT(N($B$11:$AF$11='base de données'!$D$1:$D$12))*0.5 -> 0 | AH11: =COUNTIF($B$11:$AF$11,"VA")+SUMPRODUCT(N(B11:AF11='base de données'!$A$41:$A$42))*0.5 -> 0
A12: OCTOBRE | AG12: =COUNTIF($B$12:$AF$12,"CMI")+COUNTIF($B$12:$AF$12,"CSS")+COUNTIF($B$12:$AF$12,"DM")+COUNTIF($B$12:$AF$12,"IC")+COUNTIF($B$12:$AF$12,"LO")+COUNTIF($B$12:$AF$12,"SV4")+COUNTIF($B$12:$AF$12,"VZW")+SUMPRODUCT(N($B$12:$AF$12='base de données'!$D$1:$D$12))*0.5 -> 0 | AH12: =COUNTIF($B$12:$AF12,"VA")+SUMPRODUCT(N(B12:AF12='base de données'!$A$41:$A$42))*0.5 -> 0
A13: NOVEMBRE | AG13: =COUNTIF($B$13:$AF$13,"CMI")+COUNTIF($B$13:$AF$13,"CSS")+COUNTIF($B$13:$AF$13,"DM")+COUNTIF($B$13:$AF$13,"IC")+COUNTIF($B$13:$AF$13,"LO")+COUNTIF($B$13:$AF$13,"SV4")+COUNTIF($B$13:$AF$13,"VZW")+SUMPRODUCT(N($B$13:$AF$13='base de données'!$D$1:$D$12))*0.5 -> 0 | AH13: =COUNTIF($B$13:$AF$13,"VA")+SUMPRODUCT(N(B13:AF13='base de données'!$A$41:$A$42))*0.5 -> 0
A14: DÉCEMBRE | AG14: =COUNTIF($B$14:$AF$14,"CMI")+COUNTIF($B$14:$AF$14,"CSS")+COUNTIF($B$14:$AF$14,"DM")+COUNTIF($B$14:$AF$14,"IC")+COUNTIF($B$14:$AF$14,"LO")+COUNTIF($B$14:$AF$14,"SV4")+COUNTIF($B$14:$AF$14,"VZW")+SUMPRODUCT(N($B$14:$AF$14='base de données'!$D$1:$D$12))*0.5 -> 0 | AH14: =COUNTIF($B$14:$AF$14,"VA")+SUMPRODUCT(N(B14:AF14='base de données'!$A$41:$A$42))*0.5 -> 0
AH15: =SUM(AH3:AH14) -> 0
AF16: Total | AG16: =SUM(AG3:AG14) -> 0 | AH16: =37-AH15 -> 37 | AI16: Congé
A18: CIRC | B18: =COUNTIF($B$3:$AF$14,"CIRC")+COUNTIF($B$3:$AF$14,"CIRC AM")*0.5+COUNTIF($B$3:$AF$14,"CIRC PM")*0.5 -> 0
A19: EXC | B19: =COUNTIF($B$3:$AF$14,"EXC")+COUNTIF($B$3:$AF$14,"EXC AM")*0.5+COUNTIF($B$3:$AF$14,"EXC PM")*0.5 -> 0
C22: NOM COMPLET | E22: AKEL Amal
B23: DATE DE NAISSANCE | E23: =VLOOKUP($E$22,OFFSET(NOM_COMPLET,,,,9),7,FALSE) -> 1990.01.02
C24: SERVICE | E24: =VLOOKUP($E$22,OFFSET(NOM_COMPLET,,,,9),8,FALSE) -> Cellule Formation
C25: DATE D'ENTREE | E25: =VLOOKUP($E$22,OFFSET(NOM_COMPLET,,,,9),9,FALSE) -> 41913
C26: LANGUE | E26: =VLOOKUP($E$22,OFFSET(NOM_COMPLET,,,,9),4,FALSE) -> Français

Sheet base de données
A1: AT | D1: CMI AM
A2: CIRC | D2: CMI PM
A3: CIRC AM | D3: CSS AM
A4: CIRC PM | D4: CSS PM
A5: CM | D5: IC AM
A6: CMI | D6: IC PM
A7: CMI AM | D7: LO AM
A8: CMI PM | D8: LO PM
A9: CSS | D9: SV4 AM
A10: CSS AM | D10: SV4 PM
A11: CSS PM | D11: VZW AM
A12: CTM | D12: VZW PM
A13: DAP
A14: DCD
A15: DD
A16: DD AM
A17: DD PM
A18: DET
A19: DM
A20: EXC
A21: EXC AM
A22: EXC PM
A23: FPV
A24: FPV AM
... A45: VZW PM

Sheet Base de Données Actiris
A1: NOM COMPLET | B1: Nom | C1: Prénom | D1: Langue description | E1: Département description | F1: En service du | G1: Date de Naissance | H1: Service | I1: Entrée en service | J1: Date d'entrée
A2: =CONCATENATE(B2," ",C2) -> ABACI Sebahattin | B2: ABACI | C2: Sebahattin | D2: Français | E2: Direction Chercheurs d'Emploi | F2: 39814 | G2: 1986.01.21 | H2: Renfort & Appui | I2: 39814 | J2: 39814
A3: =CONCATENATE(B3," ",C3) -> ABDUL WAHAB Aruddin | B3: ABDUL WAHAB | C3: Aruddin | D3: Français | E3: Direction Employeurs | F3: 41609 | G3: 1991.02.16 | H3: MCS/Front Office | I3: 41609 | J3: 41609
A4: =CONCATENATE(B4," ",C4) -> ADRIAENSSEN Elisabeth | B4: ADRIAENSSEN | C4: Elisabeth | D4: Nederlands | E4: Direction Chercheurs d'Emploi | F4: 42278 | G4: 1962.12.28 | H4: Contact Center HELPDESK | I4: 42278 | J4: 42278
A5: =CONCATENATE(B5," ",C5) -> AERTS LOTTE | B5: AERTS | C5: LOTTE | D5: Nederlands | E5: Direction Chercheurs d'Emploi | F5: 42064 | G5: 1979.05.10 | H5: Contact Center JOBINFO | I5: 42064 | J5: 42064
A6: =CONCATENATE(B6," ",C6) -> AHMAD Usman | B6: AHMAD | C6: Usman | D6: Français | E6: Direction Employeurs | F6: 39904 | G6: 1982.11.12 | H6: Youth Guarantee | I6: 39904 | J6: 39904
A7: =CONCATENATE(B7," ",C7) -> AHMED Zohra | B7: AHMED | C7: Zohra | D7: Français | E7: Direction Chercheurs d'Emploi | F7: 37773 | G7: 1974.06.05 | H7: Renfort & Appui | I7: 35213 | J7: 35213
A8: =CONCATENATE(B8," ",C8) -> AHRIKA Samira | B8: AHRIKA | C8: Samira | D8: Français | E8: Direction Chercheurs d'Emploi | F8: 39356 | G8: 1983.11.27 | H8: Contact Center HELPDESK | I8: 39356 | J8: 39356
A9: =CONCATENATE(B9," ",C9) -> AKEL Amal | B9: AKEL | C9: Amal | D9: Français | E9: Direction Chercheurs d'Emploi | F9: 41913 | G9: 1990.01.02 | H9: Cellule Formation | I9: 41913 | J9: 41913
A10: =CONCATENATE(B10," ",C10) -> ALBRECHT Daniel | B10: ALBRECHT | C10: Daniel | D10: Français | E10: Direction Employeurs | F10: 37773 | G10: 1952.05.27 | H10: Select Actiris/Pôle 3 | I10: 34851 | J10: 28185
A11: =CONCATENATE(B11," ",C11) -> ALLARD Fabienne | B11: ALLARD | C11: Fabienne | D11: Français | E11: Direction Employeurs | F11: 41078 | G11: 1968.08.11 | H11: Select Actiris/Pôle 4 | I11: 41078 | J11: 39508
A12: =CONCATENATE(B12," ",C12) -> AMRI Boutaina | B12: AMRI | C12: Boutaina | D12: Français | E12: Direction Employeurs | F12: 41456 | G12: 1988.08.17 | H12: Youth Guarantee | I12: 41456 | J12: 41456
A13: =CONCATENATE(B13," ",C13) -> ANCION FREDERIC | B13: ANCION | C13: FREDERIC | D13: Français | E13: Direction Chercheurs d'Emploi | F13: 42064 | G13: 1958.08.22 | H13: Contact Center JOBINFO | I13: 42064 | J13: 42064
... A17: =CONCATENATE(B17," ",C17) -> ARIKAN HAYRI | B17: ARIKAN | C17: HAYRI | D17: Français | E17: Direction Chercheurs d'Emploi | F17: 41821 | G17: 1986.12.31 | H17: xxxxxx | I17: 41821 | J17: 41821
A18: =CONCATENATE(B18," ",C18) -> ARKHIPOVA Tatiana | B18: ARKHIPOVA | C18: Tatiana | D18: Français | E18: Direction Chercheurs d'Emploi | F18: 40238 | G18: 1990.04.17 | H18: Renfort & Appui | I18: 40238 | J18: 40238 | M18: NOM_COMPLET | N18: ='Base de Données Actiris'!$A$1:$A$437
A19: =CONCATENATE(B19," ",C19) -> ASAADI Redouane | B19: ASAADI | C19: Redouane | D19: Français | E19: Direction Employeurs | F19: 42370 | G19: 1992.03.27 | H19: MCS/Front Office | I19: 42370 | J19: 42370
A20: =CONCATENATE(B20," ",C20) -> ASHTA Trivi | B20: ASHTA | C20: Trivi | D20: Français | E20: Direction Employeurs | F20: 42370 | G20: 1974.04.08 | H20: Youth Guarantee | I20: 42370 | J20: 42370
A21: =CONCATENATE(B21," ",C21) -> ASSELMAN Gino | B21: ASSELMAN | C21: Gino | D21: Nederlands | E21: Direction Employeurs | F21: 37773 | G21: 1955.06.05 | H21: Select Actiris/Pôle 5 | I21: 35855 | J21: 35855
A22: =CONCATENATE(B22," ",C22) -> ASTUDILLO PIZZARO Marcia | B22: ASTUDILLO PIZZARO | C22: Marcia | D22: Français | E22: Direction Chercheurs d'Emploi | F22: 39934 | G22: 1969.02.24 | H22: Guidance RAE | I22: 39934 | J22: 34700
A23: =CONCATENATE(B23," ",C23) -> ATSAMA Alphonse | B23: ATSAMA | C23: Alphonse | D23: Français | E23: =IF(ISBLANK(22),"",VLOOKUP(B8,'Base de Données Actiris'!A1:J437,2,0)) -> #N/A | F23: 41518 | G23: 1962.11.14 | H23: Youth Guarantee | I23: 41518 | J23: 41518
A24: =CONCATENATE(B24," ",C24) -> AUBRY Bénédicte | B24: AUBRY | C24: Bénédicte | D24: Français | E24: Direction Employeurs | F24: 37773 | G24: 1964.01.03 | H24: Gestion Employeurs | I24: 35065 | J24: 34578
A25: =CONCATENATE(B25," ",C25) -> AVARALI Arsen | B25: AVARALI | C25: Arsen | D25: Nederlands | E25: Direction Employeurs | F25: 41974 | G25: 1994.02.28 | H25: MCS/Back Office | I25: 41974 | J25: 41974
A26: =CONCATENATE(B26," ",C26) -> AZAOUM Hakima | B26: AZAOUM | C26: Hakima | D26: Français | E26: Direction Chercheurs d'Emploi | F26: 37773 | G26: 1972.05.07 | H26: Consultation sociale | I26: 36923 | J26: 36526
A27: =CONCATENATE(B27," ",C27) -> BACKAERT Fernand | B27: BACKAERT | C27: Fernand | D27: Français | E27: Direction Employeurs | F27: 37773 | G27: 1950.04.30 | H27: Select Actiris/Pôle 3 | I27: 35977 | J27: 35977
A28: =CONCATENATE(B28," ",C28) -> BAEGHE Anne-Marie | B28: BAEGHE | C28: Anne-Marie | D28: Français | E28: SORTIES | F28: 37773 | G28: 1958.11.07 | H28: Guidance RAE | I28: 35155 | J28: OUT
A29: =CONCATENATE(B29," ",C29) -> BAKKIOUI Ismaël | B29: BAKKIOUI | C29: Ismaël | D29: Français | E29: Direction Chercheurs d'Emploi | F29: 39692 | G29: 1976.05.11 | H29: Renfort & Appui | I29: 39692 | J29: 39692
A30: =CONCATENATE(B30," ",C30) -> BAROEN Laurence | B30: BAROEN | C30: Laurence | D30: Français | E30: Direction Chercheurs d'Emploi | F30: 37773 | G30: 1969.02.01 | H30: Cellule gestion des projets | I30: 34851 | J30: 33756
A31: =CONCATENATE(B31," ",C31) -> BAUWENS Ronny | B31: BAUWENS | C31: Ronny | D31: Nederlands | E31: Direction Employeurs | F31: 39022 | G31: 1955.01.02 | H31: Select Actiris/Pôle Coordination Transversale | I31: 39022 | J31: 39114
A32: =CONCATENATE(B32," ",C32) -> BECKER Johan | B32: BECKER | C32: Johan | D32: Français | E32: Direction Employeurs | F32: 41275 | G32: 1978.06.22 | H32: Actiris International | I32: 41275 | J32: 39234
A33: =CONCATENATE(B33," ",C33) -> BELATARIS Fatima | B33: BELATARIS | C33: Fatima | D33: Français | E33: Direction Employeurs | F33: 40118 | G33: 1977.04.14 | H33: Select Actiris/Pôle 1 | I33: 40118 | J33: 40118
A34: =CONCATENATE(B34," ",C34) -> BEN AHMED Rajae | B34: BEN AHMED | C34: Rajae | D34: Français | E34: Direction Chercheurs d'Emploi | F34: 39264 | G34: 1974.03.07 | H34: Contact Center | I34: 39264 | J34: 39264
A35: =CONCATENATE(B35," ",C35) -> BEN BRIK Mahmoud | B35: BEN BRIK | C35: Mahmoud | D35: Français | E35: Direction Chercheurs d'Emploi | F35: 42309 | G35: 1991.08.16 | H35: Service Animation | I35: 42309 | J35: 42309
A36: =CONCATENATE(B36," ",C36) -> BEN CHEIKH Karima | B36: BEN CHEIKH | C36: Karima | D36: Français | E36: Direction Chercheurs d'Emploi | F36: 41214 | G36: 1978.08.31 | H36: Renfort & Appui | I36: 41214 | J36: 41244
A37: =CONCATENATE(B37," ",C37) -> BEN HADDOU Slimane | B37: BEN HADDOU | C37: Slimane | D37: Français | E37: Direction Employeurs | F37: 40299 | G37: 1985.09.12 | H37: Select Actiris/Pôle 1 | I37: 40299 | J37: 40299
A38: =CONCATENATE(B38," ",C38) -> BEN HAMMOU Fatiha | B38: BEN HAMMOU | C38: Fatiha | D38: Français | E38: Direction Chercheurs d'Emploi | F38: 41153 | G38: 1983.08.15 | H38: Renfort & Appui | I38: 41153 | J38: 41153
A39: =CONCATENATE(B39," ",C39) -> BEN OMAR Anissa | B39: BEN OMAR | C39: Anissa | D39: Français | E39: pas de département | F39: 37773 | G39: 1970.06.02 | H39: Détaché | I39: 34858 | J39: 35004
A40: =CONCATENATE(B40," ",C40) -> BENAMAR Karima | B40: BENAMAR | C40: Karima | D40: Français | E40: Direction Employeurs | F40: 40422 | G40: 1977.01.07 | H40: MCS/Front Office | I40: 40422 | J40: 40422
... A77: =CONCATENATE(B77," ",C77) -> CHEVALIER Jonathan | B77: CHEVALIER | C77: Jonathan | D77: Français | E77: Direction Chercheurs d'Emploi | F77: 39600 | G77: 1981.08.22 | H77: Youth Garantee | I77: 39600 | J77: 39600
A78: =CONCATENATE(B78," ",C78) -> CHOISEZ Anne | B78: CHOISEZ | C78: Anne | D78: Français | E78: SORTIES | F78: 40792 | G78: 1949.09.19 | H78: Direction | I78: 40792 | J78: OUT
A79: =CONCATENATE(B79," ",C79) -> CILIBERTI MELISSA | B79: CILIBERTI | C79: MELISSA | D79: Français | E79: Direction Employeurs | F79: 42125 | G79: 1989.05.24 | H79: MCS/Back Office | I79: 42125 | J79: 42125
A80: =CONCATENATE(B80," ",C80) -> CLAUS Yvette | B80: CLAUS | C80: Yvette | D80: Nederlands | E80: Direction Employeurs | F80: 37773 | G80: 1959.06.17 | H80: MCS/Front Office | I80: 34851 | J80: 32599
A81: =CONCATENATE(B81," ",C81) -> COCHE Véronique | B81: COCHE | C81: Véronique | D81: Français | E81: Direction Employeurs | F81: 37773 | G81: 1963.11.30 | H81: MCS/Back Office | I81: 34851 | J81: 32448
A82: =CONCATENATE(B82," ",C82) -> CORTHOUTS Pascale | B82: CORTHOUTS | C82: Pascale | D82: Français | E82: Direction Employeurs | F82: 37773 | G82: 1964.04.13 | H82: MCS/Back Office | I82: 34851 | J82: 31503
A83: =CONCATENATE(B83," ",C83) -> COUROUBLE Sylvie | B83: COUROUBLE | C83: Sylvie | D83: Français | E83: Direction Employeurs | F83: 39114 | G83: 1978.10.14 | H83: Youth Guarantee | I83: 39114 | J83: 39114
A84: =CONCATENATE(B84," ",C84) -> COUTURIER Céline | B84: COUTURIER | C84: Céline | D84: Français | E84: Direction Chercheurs d'Emploi | F84: 38047 | G84: 1977.06.22 | H84: Guidance RAE | I84: 38047 | J84: 38047
A85: =CONCATENATE(B85," ",C85) -> CREVE LIES | B85: CREVE | C85: LIES | D85: Nederlands | E85: Direction Employeurs | F85: 42036 | G85: 1981.01.21 | H85: Youth Guarantee | I85: 42036 | J85: 42036
A86: =CONCATENATE(B86," ",C86) -> CRISTOFALETTI Mathias | B86: CRISTOFALETTI | C86: Mathias | D86: Français | E86: Direction Employeurs | F86: 42339 | G86: 1988.09.26 | H86: Select Actiris/Pôle 1 | I86: 42339 | J86: 42339
A87: =CONCATENATE(B87," ",C87) -> CRUSNAIRE EMILIE | B87: CRUSNAIRE | C87: EMILIE | D87: Français | E87: Direction Chercheurs d'Emploi | F87: 42156 | G87: 1986.08.23 | H87: Guidance RAE | I87: 42156 | J87: 42156
A88: =CONCATENATE(B88," ",C88) -> D'HOLLANDER Stijn | B88: D'HOLLANDER | C88: Stijn | D88: Nederlands | E88: Direction Employeurs | F88: 42248 | G88: 1986.09.17 | H88: Actiris International | I88: 42248 | J88: 42248
A89: =CONCATENATE(B89," ",C89) -> D'HONDT Bram | B89: D'HONDT | C89: Bram | D89: Nederlands | E89: Direction Employeurs | F89: 40087 | G89: 1980.11.16 | H89: Select Actiris/Pôle 1 | I89: 40087 | J89: 39873
A90: =CONCATENATE(B90," ",C90) -> D'HONDT Fabienne | B90: D'HONDT | C90: Fabienne | D90: Français | E90: Direction Chercheurs d'Emploi | F90: 37773 | G90: 1971.04.30 | H90: Secrétariat Administratif | I90: 34851 | J90: 33117
... A148: =CONCATENATE(B148," ",C148) -> DUVAL Geneviève | B148: DUVAL | C148: Geneviève | D148: Français | E148: Direction Chercheurs d'Emploi | F148: 40787 | G148: 1959.04.24 | H148: Link | I148: 40787 | J148: 40787
A149: =CONCATENATE(B149," ",C149) -> EL HERBOUTI Fatima | B149: EL HERBOUTI | C149: Fatima | D149: Nederlands | E149: SORTIES | F149: 41380 | G149: 1986.08.26 | H149: Guidance RAE | I149: 41380 | J149: OUT
A150: =CONCATENATE(B150," ",C150) -> ELIAS Caroline | B150: ELIAS | C150: Caroline | D150: Français | E150: Direction Employeurs | F150: 42263 | G150: 1983.09.19 | H150: SELECT ACTIRIS/pôle 5 | I150: 42263 | J150: 42278
A151: =CONCATENATE(B151," ",C151) -> ESCOYEZ Johan | B151: ESCOYEZ | C151: Johan | D151: Français | E151: Direction Employeurs | F151: 37987 | G151: 1979.04.14 | H151: Select Actiris/Pôle 2 | I151: 37987 | J151: 37987
A152: =CONCATENATE(B152," ",C152) -> EVERS Laurence | B152: EVERS | C152: Laurence | D152: Français | E152: Direction Chercheurs d'Emploi | F152: 40148 | G152: 1987.02.05 | H152: Contact Center JOBINFO | I152: 40148 | J152: 40057
A153: =CONCATENATE(B153," ",C153) -> FATHI Saliha | B153: FATHI | C153: Saliha | D153: Nederlands | E153: Direction Chercheurs d'Emploi | F153: 37773 | G153: 1966.06.03 | H153: Guidance RAE | I153: 35155 | J153: 33848
A154: =CONCATENATE(B154," ",C154) -> FIEVEZ DUENAS Susana | B154: FIEVEZ DUENAS | C154: Susana | D154: Français | E154: Direction Employeurs | F154: 41518 | G154: 1977.09.27 | H154: Youth Guarantee | I154: 41518 | J154: 41518
A155: =CONCATENATE(B155," ",C155) -> FRAGAPANE Letizia | B155: FRAGAPANE | C155: Letizia | D155: Français | E155: Direction Chercheurs d'Emploi | F155: 41306 | G155: 1983.05.03 | H155: Renfort & Appui | I155: 41306 | J155: 41306
A156: =CONCATENATE(B156," ",C156) -> FRANCOIS Ophélie | B156: FRANCOIS | C156: Ophélie | D156: Français | E156: Direction Employeurs | F156: 38792 | G156: 1981.04.12 | H156: Youth Guarantee | I156: 38792 | J156: 38808
A157: =CONCATENATE(B157," ",C157) -> FRANCOIS Sarah | B157: FRANCOIS | C157: Sarah | D157: Français | E157: Direction Employeurs | F157: 39022 | G157: 1983.11.03 | H157: Youth Guarantee | I157: 39022 | J157: 39022
A158: =CONCATENATE(B158," ",C158) -> FRANK Annick | B158: FRANK | C158: Annick | D158: Français | E158: Direction Employeurs | F158: 37773 | G158: 1955.06.01 | H158: Select Actiris/Pôle 1 | I158: 35155 | J158: 33695
A159: =CONCATENATE(B159," ",C159) -> FROMENT Mireille | B159: FROMENT | C159: Mireille | D159: Français | E159: SORTIES | F159: 37773 | G159: 1953.03.17 | H159: Guidance RAE | I159: 35155 | J159: OUT
A160: =CONCATENATE(B160," ",C160) -> GADDARI Fatima | B160: GADDARI | C160: Fatima | D160: Français | E160: Direction Chercheurs d'Emploi | F160: 37956 | G160: 1972.07.05 | H160: Secrétariat Administratif | I160: 37956 | J160: 37622
A161: =CONCATENATE(B161," ",C161) -> GASBARRO Grégory | B161: GASBARRO | C161: Grégory | D161: Français | E161: Direction Chercheurs d'Emploi | F161: 40817 | G161: 1988.08.18 | H161: Contact Center HELPDESK | I161: 40817 | J161: 40817
A162: =CONCATENATE(B162," ",C162) -> GATABAZI Murielle | B162: GATABAZI | C162: Murielle | D162: Français | E162: Direction Employeurs | F162: 39387 | G162: 1971.05.01 | H162: Actiris International | I162: 39387 | J162: 39387
A163: =CONCATENATE(B163," ",C163) -> GEEROMS Bernadette | B163: GEEROMS | C163: Bernadette | D163: Nederlands | E163: Direction Employeurs | F163: 37773 | G163: 1967.07.06 | H163: Direction | I163: 34857 | J163: 31564
A164: =CONCATENATE(B164," ",C164) -> GEVERS PASCAL | B164: GEVERS | C164: PASCAL | D164: Nederlands | E164: Direction Employeurs | F164: 41883 | G164: 1973.02.21 | H164: Select Actiris/Pôle 1 | I164: 41883 | J164: 41883
A165: =CONCATENATE(B165," ",C165) -> GHANAM LOUISA | B165: GHANAM | C165: LOUISA | D165: Nederlands | E165: Direction Employeurs | F165: 42036 | G165: 1987.09.18 | H165: Youth Guarantee | I165: 42036 | J165: 42036
A166: =CONCATENATE(B166," ",C166) -> GHAZOUANI Samra | B166: GHAZOUANI | C166: Samra | D166: Français | E166: Direction Chercheurs d'Emploi | F166: 39114 | G166: 1983.10.18 | H166: Renfort & Appui | I166: 39114 | J166: 39114
A167: =CONCATENATE(B167," ",C167) -> GHEORGHEVICI Anca | B167: GHEORGHEVICI | C167: Anca | D167: Français | E167: Direction Employeurs | F167: 41244 | G167: 1985.06.11 | H167: Select Actiris Pôle 3 | I167: 41244 | J167: 41244
A168: =CONCATENATE(B168," ",C168) -> GHESQUIERE Hélène | B168: GHESQUIERE | C168: Hélène | D168: Français | E168: Direction Chercheurs d'Emploi | F168: 37773 | G168: 1970.08.08 | H168: Renfort & Appui | I168: 36951 | J168: 36982
A169: =CONCATENATE(B169," ",C169) -> GIELEN CARINE | B169: GIELEN | C169: CARINE | D169: Français | E169: Direction Chercheurs d'Emploi | F169: 42064 | G169: 1965.04.11 | H169: Contact Center JOBINFO | I169: 42064 | J169: 42064
A170: =CONCATENATE(B170," ",C170) -> GILLET Nathalie | B170: GILLET | C170: Nathalie | D170: Français | E170: Direction Employeurs | F170: 38139 | G170: 1974.03.29 | H170: Select Actiris/Pôle 5 | I170: 38139 | J170: 38139
A171: =CONCATENATE(B171," ",C171) -> GLORIEUX Frédéric | B171: GLORIEUX | C171: Frédéric | D171: Français | E171: Direction Chercheurs d'Emploi | F171: 39142 | G171: 1972.09.01 | H171: Service Animations | I171: 39142 | J171: 39142
... A272: =CONCATENATE(B272," ",C272) -> MARTINOT Michel | B272: MARTINOT | C272: Michel | D272: Français | E272: Direction Chercheurs d'Emploi | F272: 39569 | G272: 1962.11.09 | H272: Contact Center JOBINFO | I272: 39569 | J272: 39569
A273: =CONCATENATE(B273," ",C273) -> MASAMUNA KEMBA Candry | B273: MASAMUNA KEMBA | C273: Candry | D273: Français | E273: SORTIES | F273: 41596 | G273: 1991.09.07 | H273: Youth Guarantee | I273: 41596 | J273: OUT
A274: =CONCATENATE(B274," ",C274) -> MATAN Sophie | B274: MATAN | C274: Sophie | D274: Français | E274: Direction Chercheurs d'Emploi | F274: 42324 | G274: 1975.06.05 | H274: Guidance RAE | I274: 42324 | J274: 42339
A275: =CONCATENATE(B275," ",C275) -> MATHY JESSICA | B275: MATHY | C275: JESSICA | D275: Français | E275: Direction Générale | F275: 41687 | G275: 1985.07.15 | H275: Actiris International | I275: 41687 | J275: 41699
A276: =CONCATENATE(B276," ",C276) -> MAURICE Valérie | B276: MAURICE | C276: Valérie | D276: Français | E276: Direction Employeurs | F276: 37773 | G276: 1970.08.22 | H276: Select Actiris/Pôle 4 | I276: 37515 | J276: 37561
A277: =CONCATENATE(B277," ",C277) -> MBIKAY NGOMBE Chloë | B277: MBIKAY NGOMBE | C277: Chloë | D277: Français | E277: Direction Employeurs | F277: 40861 | G277: 1989.01.20 | H277: Actiris International | I277: 40861 | J277: 40878
A278: =CONCATENATE(B278," ",C278) -> MELCHIOR Bernard | B278: MELCHIOR | C278: Bernard | D278: Français | E278: Direction Employeurs | F278: 37773 | G278: 1953.07.30 | H278: Actiris International | I278: 34857 | J278: 30195
A279: =CONCATENATE(B279," ",C279) -> MERBAH Karim | B279: MERBAH | C279: Karim | D279: Français | E279: Direction Chercheurs d'Emploi | F279: 39722 | G279: 1976.03.02 | H279: Guidance RAE | I279: 39722 | J279: 39934
A280: =CONCATENATE(B280," ",C280) -> MERCIER Christophe | B280: MERCIER | C280: Christophe | D280: Français | E280: Direction Employeurs | F280: 37810 | G280: 1960.06.06 | H280: Actiris International | I280: 36039 | J280: 36770
A281: =CONCATENATE(B281," ",C281) -> MINAS Jonathan | B281: MINAS | C281: Jonathan | D281: Français | E281: Direction Chercheurs d'Emploi | F281: 41183 | G281: 1984.03.31 | H281: Renfort & Appui | I281: 41183 | J281: 41183
A282: =CONCATENATE(B282," ",C282) -> MOCOS Stavros | B282: MOCOS | C282: Stavros | D282: Nederlands | E282: Direction Chercheurs d'Emploi | F282: 40544 | G282: 1990.12.07 | H282: Contact Center HELPDESK | I282: 40544 | J282: 40664
A283: =CONCATENATE(B283," ",C283) -> MOENS Joris | B283: MOENS | C283: Joris | D283: Nederlands | E283: Direction Employeurs | F283: 40483 | G283: 1986.06.26 | H283: Select Actiris/Pôle 4 | I283: 40483 | J283: 40483
A284: =CONCATENATE(B284," ",C284) -> MOINY Pascal | B284: MOINY | C284: Pascal | D284: Français | E284: Direction Employeurs | F284: 37773 | G284: 1958.03.22 | H284: Select Actiris/Pôle 3 | I284: 35704 | J284: 35827
A285: =CONCATENATE(B285," ",C285) -> MONGUYA BATUTI Jeanne-Marie | B285: MONGUYA BATUTI | C285: Jeanne-Marie | D285: Français | E285: Direction Chercheurs d'Emploi | F285: 37773 | G285: 1963.11.24 | H285: Renfort & Appui | I285: 36404 | J285: 36404
... A349: =CONCATENATE(B349," ",C349) -> SAERENS Diana | B349: SAERENS | C349: Diana | D349: Nederlands | E349: Direction Employeurs | F349: 37773 | G349: 1954.07.05 | H349: Select Actiris/Pôle 1 | I349: 37060 | J349: 37135
A350: =CONCATENATE(B350," ",C350) -> SAHAN Ali | B350: SAHAN | C350: Ali | D350: Français | E350: SORTIES | F350: 39129 | G350: 1982.03.16 | H350: Renfort & Appui | I350: 39129 | J350: OUT
A351: =CONCATENATE(B351," ",C351) -> SAUBLENS MARIE | B351: SAUBLENS | C351: MARIE | D351: Français | E351: Direction Employeurs | F351: 41183 | G351: 1979.08.31 | H351: Actiris International | I351: 41183 | J351: 41183
A352: =CONCATENATE(B352," ",C352) -> SAUVAGE Stéphane | B352: SAUVAGE | C352: Stéphane | D352: Français | E352: Direction Employeurs | F352: 37773 | G352: 1951.03.14 | H352: Select Actiris/Pôle 1 | I352: 35329 | J352: 25842
A353: =CONCATENATE(B353," ",C353) -> SCHAPPIN Patrick | B353: SCHAPPIN | C353: Patrick | D353: Français | E353: Direction Employeurs | F353: 37773 | G353: 1970.05.02 | H353: Select Actiris/Pôle 4 | I353: 34858 | J353: 33817
A354: =CONCATENATE(B354," ",C354) -> SCHEELEN Karen | B354: SCHEELEN | C354: Karen | D354: Français | E354: Direction Employeurs | F354: 41078 | G354: 1987.05.06 | H354: Select Actiris/Pôle 6 | I354: 41913 | J354: 41913
A355: =CONCATENATE(B355," ",C355) -> SCHIFFELEERS DIDIER | B355: SCHIFFELEERS | C355: DIDIER | D355: Français | E355: Direction Employeurs | F355: 42156 | G355: 1962.03.16 | H355: Select Actiris/Pôle 3 | I355: 42156 | J355: 42156
A356: =CONCATENATE(B356," ",C356) -> SCHUMMER Cassandra | B356: SCHUMMER | C356: Cassandra | D356: Français | E356: Direction Employeurs | F356: 41518 | G356: 1988.06.10 | H356: Youth Guarantee | I356: 41518 | J356: 41518
A357: =CONCATENATE(B357," ",C357) -> SEGUIS Jennifer | B357: SEGUIS | C357: Jennifer | D357: Français | E357: Direction Chercheurs d'Emploi | F357: 39326 | G357: 1985.09.12 | H357: Contact Center IBIS | I357: 39326 | J357: 39326
A358: =CONCATENATE(B358," ",C358) -> SENDERS Marleen | B358: SENDERS | C358: Marleen | D358: Nederlands | E358: Direction Employeurs | F358: 41091 | G358: 1985.02.05 | H358: Select Actiris/Pôle 6 | I358: 40360 | J358: 41091
A359: =CONCATENATE(B359," ",C359) -> SENHAJI-MOUHADDAB Saïd | B359: SENHAJI-MOUHADDAB | C359: Saïd | D359: Français | E359: Direction Employeurs | F359: 41518 | G359: 1976.06.18 | H359: CDR Iristech+ | I359: 41518 | J359: 41518
...
