Workbook

Sheet Maquette
P4: http://forum.excel-pratique.com/excel/recherche-et-concatenation-t72709.html
B13: Résultat souhaité :
B15: DUPOND | E15: =IFERROR(SUMIF(Données!$A:$A,Maquette!$B15,Données!B:B)&INDEX(Données!$G$2:$G$31,SUMPRODUCT((Données!$A$2:$A$31=$B15)*(Données!B$2:B$31=SUMIF(Données!$A:$A,Maquette!$B15,Données!B:B))*ROW(Tableau1[nom]))),"") -> 1Paris | F15: =IFERROR(SUMIF(Données!$A:$A,Maquette!$B15,Données!C:C)&INDEX(Données!$G$2:$G$31,SUMPRODUCT((Données!$A$2:$A$31=$B15)*(Données!C$2:C$31=SUMIF(Données!$A:$A,Maquette!$B15,Données!C:C))*ROW(Tableau1[nom]))),"") -> 6Lyon | G15: =IFERROR(SUMIF(Données!$A:$A,Maquette!$B15,Données!D:D)&INDEX(Données!$G$2:$G$31,SUMPRODUCT((Données!$A$2:$A$31=$B15)*(Données!D$2:D$31=SUMIF(Données!$A:$A,Maquette!$B15,Données!D:D))*ROW(Tableau1[nom]))),"") -> 5Bordeaux | H15: =IFERROR(SUMIF(Données!$A:$A,Maquette!$B15,Données!E:E)&INDEX(Données!$G$2:$G$31,SUMPRODUCT((Données!$A$2:$A$31=$B15)*(Données!E$2:E$31=SUMIF(Données!$A:$A,Maquette!$B15,Données!E:E))*ROW(Tableau1[nom]))),"") -> 1Bordeaux | I15: =IFERROR(SUMIF(Données!$A:$A,Maquette!$B15,Données!F:F)&INDEX(Données!$G$2:$G$31,SUMPRODUCT((Données!$A$2:$A$31=$B15)*(Données!F$2:F$31=SUMIF(Données!$A:$A,Maquette!$B15,Données!F:F))*ROW(Tableau1[nom]))),"") -> 5Marseille
B16: DURAND | E16: =IFERROR(SUMIF(Données!$A:$A,Maquette!$B16,Données!B:B)&INDEX(Données!$G$2:$G$31,SUMPRODUCT((Données!$A$2:$A$31=$B16)*(Données!B$2:B$31=SUMIF(Données!$A:$A,Maquette!$B16,Données!B:B))*ROW(Tableau1[nom]))),"") -> 6Lyon | F16: =IFERROR(SUMIF(Données!$A:$A,Maquette!$B16,Données!C:C)&INDEX(Données!$G$2:$G$31,SUMPRODUCT((Données!$A$2:$A$31=$B16)*(Données!C$2:C$31=SUMIF(Données!$A:$A,Maquette!$B16,Données!C:C))*ROW(Tableau1[nom]))),"") -> 1Marseille | G16: =IFERROR(SUMIF(Données!$A:$A,Maquette!$B16,Données!D:D)&INDEX(Données!$G$2:$G$31,SUMPRODUCT((Données!$A$2:$A$31=$B16)*(Données!D$2:D$31=SUMIF(Données!$A:$A,Maquette!$B16,Données!D:D))*ROW(Tableau1[nom]))),"") | H16: =IFERROR(SUMIF(Données!$A:$A,Maquette!$B16,Données!E:E)&INDEX(Données!$G$2:$G$31,SUMPRODUCT((Données!$A$2:$A$31=$B16)*(Données!E$2:E$31=SUMIF(Données!$A:$A,Maquette!$B16,Données!E:E))*ROW(Tableau1[nom]))),"") | I16: =IFERROR(SUMIF(Données!$A:$A,Maquette!$B16,Données!F:F)&INDEX(Données!$G$2:$G$31,SUMPRODUCT((Données!$A$2:$A$31=$B16)*(Données!F$2:F$31=SUMIF(Données!$A:$A,Maquette!$B16,Données!F:F))*ROW(Tableau1[nom]))),"")
B17: DUPIN | E17: =IFERROR(SUMIF(Données!$A:$A,Maquette!$B17,Données!B:B)&INDEX(Données!$G$2:$G$31,SUMPRODUCT((Données!$A$2:$A$31=$B17)*(Données!B$2:B$31=SUMIF(Données!$A:$A,Maquette!$B17,Données!B:B))*ROW(Tableau1[nom]))),"") | F17: =IFERROR(SUMIF(Données!$A:$A,Maquette!$B17,Données!C:C)&INDEX(Données!$G$2:$G$31,SUMPRODUCT((Données!$A$2:$A$31=$B17)*(Données!C$2:C$31=SUMIF(Données!$A:$A,Maquette!$B17,Données!C:C))*ROW(Tableau1[nom]))),"") | G17: =IFERROR(SUMIF(Données!$A:$A,Maquette!$B17,Données!D:D)&INDEX(Données!$G$2:$G$31,SUMPRODUCT((Données!$A$2:$A$31=$B17)*(Données!D$2:D$31=SUMIF(Données!$A:$A,Maquette!$B17,Données!D:D))*ROW(Tableau1[nom]))),"") -> 1Paris | H17: =IFERROR(SUMIF(Données!$A:$A,Maquette!$B17,Données!E:E)&INDEX(Données!$G$2:$G$31,SUMPRODUCT((Données!$A$2:$A$31=$B17)*(Données!E$2:E$31=SUMIF(Données!$A:$A,Maquette!$B17,Données!E:E))*ROW(Tableau1[nom]))),"") -> 2Tour | I17: =IFERROR(SUMIF(Données!$A:$A,Maquette!$B17,Données!F:F)&INDEX(Données!$G$2:$G$31,SUMPRODUCT((Données!$A$2:$A$31=$B17)*(Données!F$2:F$31=SUMIF(Données!$A:$A,Maquette!$B17,Données!F:F))*ROW(Tableau1[nom]))),"") -> 1Bordeaux
B18: PLUSDIDEE | E18: =IFERROR(SUMIF(Données!$A:$A,Maquette!$B18,Données!B:B)&INDEX(Données!$G$2:$G$31,SUMPRODUCT((Données!$A$2:$A$31=$B18)*(Données!B$2:B$31=SUMIF(Données!$A:$A,Maquette!$B18,Données!B:B))*ROW(Tableau1[nom]))),"") -> 1Paris | F18: =IFERROR(SUMIF(Données!$A:$A,Maquette!$B18,Données!C:C)&INDEX(Données!$G$2:$G$31,SUMPRODUCT((Données!$A$2:$A$31=$B18)*(Données!C$2:C$31=SUMIF(Données!$A:$A,Maquette!$B18,Données!C:C))*ROW(Tableau1[nom]))),"") -> 5Bordeaux | G18: =IFERROR(SUMIF(Données!$A:$A,Maquette!$B18,Données!D:D)&INDEX(Données!$G$2:$G$31,SUMPRODUCT((Données!$A$2:$A$31=$B18)*(Données!D$2:D$31=SUMIF(Données!$A:$A,Maquette!$B18,Données!D:D))*ROW(Tableau1[nom]))),"") | H18: =IFERROR(SUMIF(Données!$A:$A,Maquette!$B18,Données!E:E)&INDEX(Données!$G$2:$G$31,SUMPRODUCT((Données!$A$2:$A$31=$B18)*(Données!E$2:E$31=SUMIF(Données!$A:$A,Maquette!$B18,Données!E:E))*ROW(Tableau1[nom]))),"") -> 3Bordeaux | I18: =IFERROR(SUMIF(Données!$A:$A,Maquette!$B18,Données!F:F)&INDEX(Données!$G$2:$G$31,SUMPRODUCT((Données!$A$2:$A$31=$B18)*(Données!F$2:F$31=SUMIF(Données!$A:$A,Maquette!$B18,Données!F:F))*ROW(Tableau1[nom]))),"")
B19: DENOM | E19: =IFERROR(SUMIF(Données!$A:$A,Maquette!$B19,Données!B:B)&INDEX(Données!$G$2:$G$31,SUMPRODUCT((Données!$A$2:$A$31=$B19)*(Données!B$2:B$31=SUMIF(Données!$A:$A,Maquette!$B19,Données!B:B))*ROW(Tableau1[nom]))),"") -> 1Marseille | F19: =IFERROR(SUMIF(Données!$A:$A,Maquette!$B19,Données!C:C)&INDEX(Données!$G$2:$G$31,SUMPRODUCT((Données!$A$2:$A$31=$B19)*(Données!C$2:C$31=SUMIF(Données!$A:$A,Maquette!$B19,Données!C:C))*ROW(Tableau1[nom]))),"") -> 1Lyon | G19: =IFERROR(SUMIF(Données!$A:$A,Maquette!$B19,Données!D:D)&INDEX(Données!$G$2:$G$31,SUMPRODUCT((Données!$A$2:$A$31=$B19)*(Données!D$2:D$31=SUMIF(Données!$A:$A,Maquette!$B19,Données!D:D))*ROW(Tableau1[nom]))),"") -> 5Bordeaux | H19: =IFERROR(SUMIF(Données!$A:$A,Maquette!$B19,Données!E:E)&INDEX(Données!$G$2:$G$31,SUMPRODUCT((Données!$A$2:$A$31=$B19)*(Données!E$2:E$31=SUMIF(Données!$A:$A,Maquette!$B19,Données!E:E))*ROW(Tableau1[nom]))),"") -> 2Tour | I19: =IFERROR(SUMIF(Données!$A:$A,Maquette!$B19,Données!F:F)&INDEX(Données!$G$2:$G$31,SUMPRODUCT((Données!$A$2:$A$31=$B19)*(Données!F$2:F$31=SUMIF(Données!$A:$A,Maquette!$B19,Données!F:F))*ROW(Tableau1[nom]))),"") -> 3Lyon
M31: Je veux concaténer le nombre trouvé sur la feuille donnée, avec le nom de la
M32: ville où a été trouvé la valeur inscrite par ma somme.si

Sheet Données
A1: nom | B1: a | C1: b | D1: c | E1: d | F1: e | G1: ville
I4: Il y a forcément un seul nom par ville (dupond ne peux pas se trouver deux fois à Paris)
A10: DUPOND | B10: 1 | G10: Paris
A11: DUPIN | D11: 1 | G11: Paris
A12: PLUSDIDEE | B12: 1 | G12: Paris
A13: DENOM | C13: 1 | F13: 3 | G13: Paris
A14: DUPOND | C14: 6 | G14: Lyon
A15: DURAND | B15: 6 | G15: Lyon
A16: DUPIN | G16: Lyon
A17: PLUSDIDEE | G17: Lyon
A18: DENOM | D18: 5 | G18: Lyon
A19: DUPOND | D19: 5 | E19: 1 | G19: Bordeaux
A20: DUPIN | F20: 1 | G20: Bordeaux
A21: PLUSDIDEE | C21: 5 | E21: 3 | G21: Bordeaux
A22: DENOM | B22: 1 | G22: Bordeaux
A23: DUPOND | F23: 5 | G23: Marseille
A24: DURAND | C24: 1 | G24: Marseille
A25: DURAND | G25: Marseille
A26: DENOM | E26: 2 | G26: Marseille
A27: DUPIN | E27: 2 | G27: Tour
A28: PLUSDIDEE | G28: Tour
G29: Tour
G30: Tour
G31: Tour
