Workbook

Sheet Feuil1
S1: http://forum.excel-pratique.com/excel/somme-d-un-nombre-variable-de-donnees-t39588.html
A2: Ville | B2: =[1]Îles!C1 -> Haj. | C2: =[1]Îles!D1 -> Kam. | D2: =[1]Îles!E1 -> Ste. | E2: =[1]Îles!F1 -> Koz. | F2: =[1]Îles!G1 -> Rog. | G2: =[1]Îles!H1 -> Ska. | H2: =[1]Îles!I1 -> Ter. | I2: =[1]Îles!J1 -> Hal. | ... M2: =[1]Îles!N1 -> Raz. | N2: Nom des villes
A3: Taverne | B3: 33 | C3: 31 | D3: 34 | E3: 33 | F3: 33 | G3: 36 | H3: 33 | I3: 32 | J3: 36 | K3: 33 | L3: 34 | M3: 34 | N3: Niveau des tavernes
A4: Musée | B4: 16 | C4: 17 | D4: 16 | E4: 16 | F4: 16 | G4: 16 | H4: 16 | I4: 16 | J4: 16 | K4: 16 | L4: 16 | M4: 16 | N4: Niveau des musées
A5: Satisfaction | B5: 16 | C5: 2 | D5: 28 | E5: 16 | F5: 16 | G5: 18 | H5: 0 | I5: 40 | J5: 6 | K5: 0 | L5: 28 | M5: 28 | N5: La satisfaction "change de niveau" tous les 60. L'optimum étant de tendre vers zéro.
A6: Niv. Sup. | B6: =60-B5 -> 44 | C6: =60-C5 -> 58 | D6: =60-D5 -> 32 | E6: =60-E5 -> 44 | F6: =60-F5 -> 44 | G6: =60-G5 -> 42 | H6: =60-H5 -> 60 | I6: =60-I5 -> 20 | ... M6: =60-M5 -> 32 | N6: Nombre de points séparant du palier suivant.
A7: Niv. Tav. | B7: =ROUNDUP(B6/12,0) -> 4 | C7: =ROUNDUP(C6/12,0) -> 5 | D7: =ROUNDUP(D6/12,0) -> 3 | E7: =ROUNDUP(E6/12,0) -> 4 | F7: =ROUNDUP(F6/12,0) -> 4 | G7: =ROUNDUP(G6/12,0) -> 4 | H7: =ROUNDUP(H6/12,0) -> 5 | I7: =ROUNDUP(I6/12,0) -> 2 | ... M7: =ROUNDUP(M6/12,0) -> 3 | N7: Nombre de niveaux de tavernes nécessaires pour atteindre le palier.
A8: Niv. Mus.+ | B8: =ROUNDUP(B6/70,0) -> 1 | C8: =ROUNDUP(C6/70,0) -> 1 | D8: =ROUNDUP(D6/70,0) -> 1 | E8: =ROUNDUP(E6/70,0) -> 1 | F8: =ROUNDUP(F6/70,0) -> 1 | G8: =ROUNDUP(G6/70,0) -> 1 | H8: =ROUNDUP(H6/70,0) -> 1 | I8: =ROUNDUP(I6/70,0) -> 1 | ... M8: =ROUNDUP(M6/70,0) -> 1 | N8: Nombre de niveaux de musées nécessaires pour atteindre le palier.
A9: Bois Tav. | B9: =SUM(OFFSET($A$16,MATCH(B$3,$A$17:$A$37,0)+1,1,B$7)) -> 718028 | C9: =SUM(OFFSET($A$16,MATCH(C$3,$A$17:$A$37,0)+1,1,C$7)) -> 690933 | D9: =SUM(OFFSET($A$16,MATCH(D$3,$A$17:$A$37,0)+1,1,D$7)) -> 584336 | E9: =SUM(OFFSET($A$16,MATCH(E$3,$A$17:$A$37,0)+1,1,E$7)) -> 718028 | F9: =SUM(OFFSET($A$16,MATCH(F$3,$A$17:$A$37,0)+1,1,F$7)) -> 718028 | G9: =SUM(OFFSET($A$16,MATCH(G$3,$A$17:$A$37,0)+1,1,G$7)) -> 1241545 | H9: =SUM(OFFSET($A$16,MATCH(H$3,$A$17:$A$37,0)+1,1,H$7)) -> 995543 | I9: =SUM(OFFSET($A$16,MATCH(I$3,$A$17:$A$37,0)+1,1,I$7)) -> 245056 | ... M9: =SUM(OFFSET($A$16,MATCH(M$3,$A$17:$A$37,0)+1,1,M$7)) -> 584336 | N9: Quantité de bois pour améliorer la taverne.
A10: Mar. Tav. | B10: =SUM(OFFSET($A$16,MATCH(B$3,$A$17:$A$37,0)+1,3,B$7)) -> 819314 | C10: =SUM(OFFSET($A$16,MATCH(C$3,$A$17:$A$37,0)+1,3,C$7)) -> 708600 | D10: =SUM(OFFSET($A$16,MATCH(D$3,$A$17:$A$37,0)+1,3,D$7)) -> 686889 | E10: =SUM(OFFSET($A$16,MATCH(E$3,$A$17:$A$37,0)+1,3,E$7)) -> 819314 | F10: =SUM(OFFSET($A$16,MATCH(F$3,$A$17:$A$37,0)+1,3,F$7)) -> 819314 | G10: =SUM(OFFSET($A$16,MATCH(G$3,$A$17:$A$37,0)+1,3,G$7)) -> 1800032 | H10: =SUM(OFFSET($A$16,MATCH(H$3,$A$17:$A$37,0)+1,3,H$7)) -> 1197533 | I10: =SUM(OFFSET($A$16,MATCH(I$3,$A$17:$A$37,0)+1,3,I$7)) -> 234291 | ... M10: =SUM(OFFSET($A$16,MATCH(M$3,$A$17:$A$37,0)+1,3,M$7)) -> 686889 | N10: Quantité de marbre pour améliorer la taverne.
A11: Bois M+ | B11: =SUM(OFFSET($A$41,MATCH(B$4,$A$42:$A$61,0)+1,1,B$8)) -> 620071 | C11: =SUM(OFFSET($A$41,MATCH(C$4,$A$42:$A$61,0)+1,1,C$8)) -> 930429 | D11: =SUM(OFFSET($A$41,MATCH(D$4,$A$42:$A$61,0)+1,1,D$8)) -> 620071 | E11: =SUM(OFFSET($A$41,MATCH(E$4,$A$42:$A$61,0)+1,1,E$8)) -> 620071 | F11: =SUM(OFFSET($A$41,MATCH(F$4,$A$42:$A$61,0)+1,1,F$8)) -> 620071 | G11: =SUM(OFFSET($A$41,MATCH(G$4,$A$42:$A$61,0)+1,1,G$8)) -> 620071 | H11: =SUM(OFFSET($A$41,MATCH(H$4,$A$42:$A$61,0)+1,1,H$8)) -> 620071 | I11: =SUM(OFFSET($A$41,MATCH(I$4,$A$42:$A$61,0)+1,1,I$8)) -> 620071 | ... M11: =SUM(OFFSET($A$41,MATCH(M$4,$A$42:$A$61,0)+1,1,M$8)) -> 620071 | N11: Quantité de bois pour améliorer le musée.
A12: Mar. M+ | B12: =SUM(OFFSET($A$41,MATCH(B$4,$A$42:$A$61,0)+1,3,B$8)) -> 766443 | C12: =SUM(OFFSET($A$41,MATCH(C$4,$A$42:$A$61,0)+1,3,C$8)) -> 1165405 | D12: =SUM(OFFSET($A$41,MATCH(D$4,$A$42:$A$61,0)+1,3,D$8)) -> 766443 | E12: =SUM(OFFSET($A$41,MATCH(E$4,$A$42:$A$61,0)+1,3,E$8)) -> 766443 | F12: =SUM(OFFSET($A$41,MATCH(F$4,$A$42:$A$61,0)+1,3,F$8)) -> 766443 | G12: =SUM(OFFSET($A$41,MATCH(G$4,$A$42:$A$61,0)+1,3,G$8)) -> 766443 | H12: =SUM(OFFSET($A$41,MATCH(H$4,$A$42:$A$61,0)+1,3,H$8)) -> 766443 | I12: =SUM(OFFSET($A$41,MATCH(I$4,$A$42:$A$61,0)+1,3,I$8)) -> 766443 | ... M12: =SUM(OFFSET($A$41,MATCH(M$4,$A$42:$A$61,0)+1,3,M$8)) -> 766443 | N12: Quantité de marbre pour améliorer le musée.
A14: Taverne
A16: Niveau | B16: Bois | C16: B. cumul | D16: Marbre | E16: M. cumul | F16: Temps | G16: T. cumul
A18: 23 | C18: =C17+B18 -> 0 | E18: =E17+D18 -> 0 | G18: =G17+F18 -> 0
A19: 24 | C19: =C18+B19 -> 0 | E19: =E18+D19 -> 0 | G19: =G18+F19 -> 0
A20: 25 | C20: =C19+B20 -> 0 | E20: =E19+D20 -> 0 | G20: =G19+F20 -> 0
A21: 26 | C21: =C20+B21 -> 0 | E21: =E20+D21 -> 0 | G21: =G20+F21 -> 0
A22: 27 | C22: =C21+B22 -> 0 | E22: =E21+D22 -> 0 | G22: =G21+F22 -> 0
A23: 28 | C23: =C22+B23 -> 0 | E23: =E22+D23 -> 0 | G23: =G22+F23 -> 0
A24: 29 | C24: =C23+B24 -> 0 | E24: =E23+D24 -> 0 | G24: =G23+F24 -> 0
A25: 30 | B25: 64332 | C25: =C24+B25 -> 64332 | D25: 46365 | E25: =E24+D25 -> 46365 | F25: 0.59652778 | G25: =G24+F25 -> 0.59652778
A26: 31 | B26: 77253 | C26: =C25+B26 -> 141585 | D26: 60275 | E26: =E25+D26 -> 106640 | F26: 0.63958333 | G26: =G25+F26 -> 1.2361111
A27: 32 | B27: 92758 | C27: =C26+B27 -> 234343 | D27: 78358 | E27: =E26+D27 -> 184998 | F27: 0.68541667 | G27: =G26+F27 -> 1.9215278
A28: 33 | B28: 111364 | C28: =C27+B28 -> 345707 | D28: 101866 | E28: =E27+D28 -> 286864 | F28: 0.73402778 | G28: =G27+F28 -> 2.6555556
A29: 34 | B29: 133692 | C29: =C28+B29 -> 479399 | D29: 132425 | E29: =E28+D29 -> 419289 | F29: 0.78541667 | G29: =G28+F29 -> 3.4409722 | J29: si b7=y, alors b9=somme de y ligne(s) à partir de b29 (case de la colonne b correspondant la ligne dont la case de la colonne A=b3+1)
A30: 35 | B30: 160484 | C30: =C29+B30 -> 639883 | D30: 172153 | E30: =E29+D30 -> 591442 | F30: 0.83958333 | G30: =G29+F30 -> 4.2805556
A31: 36 | B31: 192635 | C31: =C30+B31 -> 832518 | D31: 223798 | E31: =E30+D31 -> 815240 | F31: 0.89722222 | G31: =G30+F31 -> 5.1777778
A32: 37 | B32: 231217 | C32: =C31+B32 -> 1063735 | D32: 290938 | E32: =E31+D32 -> 1106178 | F32: 0.95868056 | G32: =G31+F32 -> 6.1364583
A33: 38 | B33: 277515 | C33: =C32+B33 -> 1341250 | D33: 378219 | E33: =E32+D33 -> 1484397 | F33: 1.0229167 | G33: =G32+F33 -> 7.159375
A34: 39 | B34: 333072 | C34: =C33+B34 -> 1674322 | D34: 491685 | E34: =E33+D34 -> 1976082 | F34: 1.0833333 | G34: =G33+F34 -> 8.2427083
A35: 40 | B35: 399741 | C35: =C34+B35 -> 2074063 | D35: 639190 | E35: =E34+D35 -> 2615272 | F35: 1.125 | G35: =G34+F35 -> 9.3677083
A36: 41 | B36: 479743 | C36: =C35+B36 -> 2553806 | D36: 830947 | E36: =E35+D36 -> 3446219 | F36: 1.2083333 | G36: =G35+F36 -> 10.576042
A37: 42 | B37: 575746 | C37: =C36+B37 -> 3129552 | D37: 1080231 | E37: =E36+D37 -> 4526450 | F37: 1.2916667 | G37: =G36+F37 -> 11.867708
A39: Musée
A41: Niveau | B41: Bois | C41: B. cumul | D41: Marbre | E41: M. cumul | F41: Temps | G41: T. cumul
A42: 1 | B42: 302 | C42: =B42 -> 302 | D42: 151 | E42: =D42 -> 151 | F42: 0.066666667 | G42: =F42 -> 0.066666667
A43: 2 | B43: 775 | C43: =C42+B43 -> 1077 | D43: 643 | E43: =E42+D43 -> 794 | F43: 0.089583333 | G43: =G42+F43 -> 0.15625
A44: 3 | B44: 1484 | C44: =C43+B44 -> 2561 | D44: 1389 | E44: =E43+D44 -> 2183 | F44: 0.11458333 | G44: =G43+F44 -> 0.27083333
A45: 4 | B45: 2547 | C45: =C44+B45 -> 5108 | D45: 2525 | E45: =E44+D45 -> 4708 | F45: 0.14236111 | G45: =G44+F45 -> 0.41319444
...

Sheet Feuil2

Sheet Feuil3

Sheet Original
A2: Ville | B2: =[1]Îles!C1 -> Haj. | C2: =[1]Îles!D1 -> Kam. | D2: =[1]Îles!E1 -> Ste. | E2: =[1]Îles!F1 -> Koz. | F2: =[1]Îles!G1 -> Rog. | G2: =[1]Îles!H1 -> Ska. | H2: =[1]Îles!I1 -> Ter. | I2: =[1]Îles!J1 -> Hal. | ... M2: =[1]Îles!N1 -> Raz. | N2: Nom des villes
A3: Taverne | B3: 33 | C3: 31 | D3: 34 | E3: 33 | F3: 33 | G3: 36 | H3: 33 | I3: 32 | J3: 36 | K3: 33 | L3: 34 | M3: 34 | N3: Niveau des tavernes
A4: Musée | B4: 16 | C4: 17 | D4: 16 | E4: 16 | F4: 16 | G4: 16 | H4: 16 | I4: 16 | J4: 16 | K4: 16 | L4: 16 | M4: 16 | N4: Niveau des musées
A5: Satisfaction | B5: 16 | C5: 2 | D5: 28 | E5: 16 | F5: 16 | G5: 18 | H5: 0 | I5: 40 | J5: 6 | K5: 0 | L5: 28 | M5: 28 | N5: La satisfaction "change de niveau" tous les 60. L'optimum étant de tendre vers zéro.
A6: Niv. Sup. | B6: =60-B5 -> 44 | C6: =60-C5 -> 58 | D6: =60-D5 -> 32 | E6: =60-E5 -> 44 | F6: =60-F5 -> 44 | G6: =60-G5 -> 42 | H6: =60-H5 -> 60 | I6: =60-I5 -> 20 | ... M6: =60-M5 -> 32 | N6: Nombre de points séparant du palier suivant.
A7: Niv. Tav. | B7: =ROUNDUP(B6/12,0) -> 4 | C7: =ROUNDUP(C6/12,0) -> 5 | D7: =ROUNDUP(D6/12,0) -> 3 | E7: =ROUNDUP(E6/12,0) -> 4 | F7: =ROUNDUP(F6/12,0) -> 4 | G7: =ROUNDUP(G6/12,0) -> 4 | H7: =ROUNDUP(H6/12,0) -> 5 | I7: =ROUNDUP(I6/12,0) -> 2 | ... M7: =ROUNDUP(M6/12,0) -> 3 | N7: Nombre de niveaux de tavernes nécessaires pour atteindre le palier.
A8: Niv. Mus.+ | B8: =ROUNDUP(B6/70,0) -> 1 | C8: =ROUNDUP(C6/70,0) -> 1 | D8: =ROUNDUP(D6/70,0) -> 1 | E8: =ROUNDUP(E6/70,0) -> 1 | F8: =ROUNDUP(F6/70,0) -> 1 | G8: =ROUNDUP(G6/70,0) -> 1 | H8: =ROUNDUP(H6/70,0) -> 1 | I8: =ROUNDUP(I6/70,0) -> 1 | ... M8: =ROUNDUP(M6/70,0) -> 1 | N8: Nombre de niveaux de musées nécessaires pour atteindre le palier.
A9: Bois Tav. | B9: =SUM(B29:B33) -> 995543 | N9: Quantité de bois pour améliorer la taverne.
A10: Mar. Tav. | B10: =SUM(D29:D33) -> 1197533 | N10: Quantité de marbre pour améliorer la taverne.
A11: Bois M+ | B11: =B58 -> 620071 | N11: Quantité de bois pour améliorer le musée.
A12: Mar. M+ | B12: =D58 -> 766443 | N12: Quantité de marbre pour améliorer le musée.
A14: Taverne
A16: Niveau | B16: Bois | C16: B. cumul | D16: Marbre | E16: M. cumul | F16: Temps | G16: T. cumul
A18: 23 | C18: =C17+B18 -> 0 | E18: =E17+D18 -> 0 | G18: =G17+F18 -> 0
A19: 24 | C19: =C18+B19 -> 0 | E19: =E18+D19 -> 0 | G19: =G18+F19 -> 0
A20: 25 | C20: =C19+B20 -> 0 | E20: =E19+D20 -> 0 | G20: =G19+F20 -> 0
A21: 26 | C21: =C20+B21 -> 0 | E21: =E20+D21 -> 0 | G21: =G20+F21 -> 0
A22: 27 | C22: =C21+B22 -> 0 | E22: =E21+D22 -> 0 | G22: =G21+F22 -> 0
A23: 28 | C23: =C22+B23 -> 0 | E23: =E22+D23 -> 0 | G23: =G22+F23 -> 0
A24: 29 | C24: =C23+B24 -> 0 | E24: =E23+D24 -> 0 | G24: =G23+F24 -> 0
A25: 30 | B25: 64332 | C25: =C24+B25 -> 64332 | D25: 46365 | E25: =E24+D25 -> 46365 | F25: 0.59652778 | G25: =G24+F25 -> 0.59652778
A26: 31 | B26: 77253 | C26: =C25+B26 -> 141585 | D26: 60275 | E26: =E25+D26 -> 106640 | F26: 0.63958333 | G26: =G25+F26 -> 1.2361111
A27: 32 | B27: 92758 | C27: =C26+B27 -> 234343 | D27: 78358 | E27: =E26+D27 -> 184998 | F27: 0.68541667 | G27: =G26+F27 -> 1.9215278
A28: 33 | B28: 111364 | C28: =C27+B28 -> 345707 | D28: 101866 | E28: =E27+D28 -> 286864 | F28: 0.73402778 | G28: =G27+F28 -> 2.6555556
A29: 34 | B29: 133692 | C29: =C28+B29 -> 479399 | D29: 132425 | E29: =E28+D29 -> 419289 | F29: 0.78541667 | G29: =G28+F29 -> 3.4409722 | J29: si b7=y, alors b9=somme de y ligne(s) à partir de b29 (case de la colonne b correspondant la ligne dont la case de la colonne A=b3+1)
A30: 35 | B30: 160484 | C30: =C29+B30 -> 639883 | D30: 172153 | E30: =E29+D30 -> 591442 | F30: 0.83958333 | G30: =G29+F30 -> 4.2805556
A31: 36 | B31: 192635 | C31: =C30+B31 -> 832518 | D31: 223798 | E31: =E30+D31 -> 815240 | F31: 0.89722222 | G31: =G30+F31 -> 5.1777778
A32: 37 | B32: 231217 | C32: =C31+B32 -> 1063735 | D32: 290938 | E32: =E31+D32 -> 1106178 | F32: 0.95868056 | G32: =G31+F32 -> 6.1364583
A33: 38 | B33: 277515 | C33: =C32+B33 -> 1341250 | D33: 378219 | E33: =E32+D33 -> 1484397 | F33: 1.0229167 | G33: =G32+F33 -> 7.159375
A34: 39 | B34: 333072 | C34: =C33+B34 -> 1674322 | D34: 491685 | E34: =E33+D34 -> 1976082 | F34: 1.0833333 | G34: =G33+F34 -> 8.2427083
A35: 40 | B35: 399741 | C35: =C34+B35 -> 2074063 | D35: 639190 | E35: =E34+D35 -> 2615272 | F35: 1.125 | G35: =G34+F35 -> 9.3677083
A36: 41 | B36: 479743 | C36: =C35+B36 -> 2553806 | D36: 830947 | E36: =E35+D36 -> 3446219 | F36: 1.2083333 | G36: =G35+F36 -> 10.576042
A37: 42 | B37: 575746 | C37: =C36+B37 -> 3129552 | D37: 1080231 | E37: =E36+D37 -> 4526450 | F37: 1.2916667 | G37: =G36+F37 -> 11.867708
A39: Musée
A41: Niveau | B41: Bois | C41: B. cumul | D41: Marbre | E41: M. cumul | F41: Temps | G41: T. cumul
A42: 1 | B42: 302 | C42: =B42 -> 302 | D42: 151 | E42: =D42 -> 151 | F42: 0.066666667 | G42: =F42 -> 0.066666667
A43: 2 | B43: 775 | C43: =C42+B43 -> 1077 | D43: 643 | E43: =E42+D43 -> 794 | F43: 0.089583333 | G43: =G42+F43 -> 0.15625
A44: 3 | B44: 1484 | C44: =C43+B44 -> 2561 | D44: 1389 | E44: =E43+D44 -> 2183 | F44: 0.11458333 | G44: =G43+F44 -> 0.27083333
A45: 4 | B45: 2547 | C45: =C44+B45 -> 5108 | D45: 2525 | E45: =E44+D45 -> 4708 | F45: 0.14236111 | G45: =G44+F45 -> 0.41319444
A46: 5 | B46: 4141 | C46: =C45+B46 -> 9249 | D46: 4250 | E46: =E45+D46 -> 8958 | F46: 0.17291667 | G46: =G45+F46 -> 0.58611111
...
