Workbook
Name Excel_BuiltIn_Print_Area_2: #REF!
Name Excel_BuiltIn_Print_Area_2: #REF!
Name Excel_BuiltIn_Print_Area_2: #REF!
Name Excel_BuiltIn_Print_Area_2: #REF!
Name Excel_BuiltIn_Print_Area_2: #REF!
Name Excel_BuiltIn_Print_Area_2: #REF!
Name Excel_BuiltIn_Print_Area_2: #REF!
Name Excel_BuiltIn_Print_Area_2: #REF!

Sheet Matrix
E1: LABOR GUIDE MATRIX
B6: SALES | D6: HOURS | E6: Labor % | H6: SALES | J6: Hours | K6: Labor %
B8: 8000 | D8: 350 | E8: =(14*D8)/B8 -> 0.6125 | H8: 8000 | J8: =D8-56 -> 294 | K8: =(14*J8)/H8 -> 0.5145
B9: 9000 | D9: 350 | E9: =(14*D9)/B9 -> 0.54444444 | H9: 9000 | J9: =D9-56 -> 294 | K9: =(14*J9)/H9 -> 0.45733333
B10: 10000 | D10: 350 | E10: =(14*D10)/B10 -> 0.49 | H10: 10000 | J10: =D10-56 -> 294 | K10: =(14*J10)/H10 -> 0.4116
B11: 11000 | D11: 360 | E11: =(14*D11)/B11 -> 0.45818182 | H11: 11000 | J11: =D11-56 -> 304 | K11: =(14*J11)/H11 -> 0.38690909
B12: 12000 | D12: 370 | E12: =(14*D12)/B12 -> 0.43166667 | H12: 12000 | J12: =D12-56 -> 314 | K12: =(14*J12)/H12 -> 0.36633333
B13: 13000 | D13: 380 | E13: =(14*D13)/B13 -> 0.40923077 | H13: 13000 | J13: =D13-56 -> 324 | K13: =(14*J13)/H13 -> 0.34892308
B14: 14000 | D14: 390 | E14: =(14*D14)/B14 -> 0.39 | H14: 14000 | J14: =D14-56 -> 334 | K14: =(14*J14)/H14 -> 0.334
B15: 15000 | D15: 400 | E15: =(14*D15)/B15 -> 0.37333333 | H15: 15000 | J15: =D15-56 -> 344 | K15: =(14*J15)/H15 -> 0.32106667
B16: 16000 | D16: 420 | E16: =(14*D16)/B16 -> 0.3675 | H16: 16000 | J16: =D16-56 -> 364 | K16: =(14*J16)/H16 -> 0.3185
B17: 17000 | D17: 430 | E17: =(14*D17)/B17 -> 0.35411765 | H17: 17000 | J17: =D17-56 -> 374 | K17: =(14*J17)/H17 -> 0.308
B18: 18000 | D18: 440 | E18: =(14*D18)/B18 -> 0.34222222 | H18: 18000 | J18: =D18-56 -> 384 | K18: =(14*J18)/H18 -> 0.29866667
B19: 19000 | D19: 440 | E19: =(14*D19)/B19 -> 0.32421053 | H19: 19000 | J19: =D19-56 -> 384 | K19: =(14*J19)/H19 -> 0.28294737
B20: 20000 | D20: 450 | E20: =(14*D20)/B20 -> 0.315 | H20: 20000 | J20: =D20-56 -> 394 | K20: =(14*J20)/H20 -> 0.2758
B21: 21000 | D21: =D20+15 -> 465 | E21: =(14*D21)/B21 -> 0.31 | H21: 21000 | J21: =D21-56 -> 409 | K21: =(14*J21)/H21 -> 0.27266667
B22: 22000 | D22: =D21+15 -> 480 | E22: =(14*D22)/B22 -> 0.30545455 | H22: 22000 | J22: =D22-56 -> 424 | K22: =(14*J22)/H22 -> 0.26981818
B23: 23000 | D23: =D22+15 -> 495 | E23: =(14*D23)/B23 -> 0.30130435 | H23: 23000 | J23: =D23-56 -> 439 | K23: =(14*J23)/H23 -> 0.26721739
B24: 24000 | D24: =D23+15 -> 510 | E24: =(14*D24)/B24 -> 0.2975 | H24: 24000 | J24: =D24-56 -> 454 | K24: =(14*J24)/H24 -> 0.26483333
B25: 25000 | D25: =D24+15 -> 525 | E25: =(14*D25)/B25 -> 0.294 | H25: 25000 | J25: =D25-56 -> 469 | K25: =(14*J25)/H25 -> 0.26264
B26: 26000 | D26: =D25+15 -> 540 | E26: =(14*D26)/B26 -> 0.29076923 | H26: 26000 | J26: =D26-56 -> 484 | K26: =(14*J26)/H26 -> 0.26061538
B27: 27000 | D27: =D26+15 -> 555 | E27: =(14*D27)/B27 -> 0.28777778 | H27: 27000 | J27: =D27-56 -> 499 | K27: =(14*J27)/H27 -> 0.25874074
B28: 28000 | D28: =D27+15 -> 570 | E28: =(14*D28)/B28 -> 0.285 | H28: 28000 | J28: =D28-56 -> 514 | K28: =(14*J28)/H28 -> 0.257
B29: 29000 | D29: =D28+15 -> 585 | E29: =(14*D29)/B29 -> 0.28241379 | H29: 29000 | J29: =D29-56 -> 529 | K29: =(14*J29)/H29 -> 0.25537931
B30: 30000 | D30: =D29+15 -> 600 | E30: =(14*D30)/B30 -> 0.28 | H30: 30000 | J30: =D30-56 -> 544 | K30: =(14*J30)/H30 -> 0.25386667
B31: 31000 | D31: =D30+15 -> 615 | E31: =(14*D31)/B31 -> 0.27774194 | H31: 31000 | J31: =D31-56 -> 559 | K31: =(14*J31)/H31 -> 0.25245161
B32: 32000 | D32: =D31+15 -> 630 | E32: =(14*D32)/B32 -> 0.275625 | H32: 32000 | J32: =D32-56 -> 574 | K32: =(14*J32)/H32 -> 0.251125
... B43: 43000 | D43: =D42+15 -> 795 | E43: =(14*D43)/B43 -> 0.25883721 | H43: 43000 | J43: =D43-56 -> 739 | K43: =(14*J43)/H43 -> 0.24060465
B45: *ACURATE FORECAST IS KEY TO LABOR EXECUTION
B47: *CONTROL SALES EXECUTION $100 UP ADD 1 HOUR, $100 DOWN REDUCE 3 HOUR
B49: *CONTROL KEY> EXECUTE BREAKS, PRE-CLOSE FOCUS AND HIGH PRODUCTIVETY

Sheet Weekly summary
A1: WEEKLY SUMMARY
A3: 41423
A4: 41429
B8: Wednesday | D8: Thursday | F8: Friday | H8: Saturday | J8: Sunday | L8: Monday | N8: Tuesday | P8: Total
A10: Last Year | B10: 4525 | D10: 5965 | F10: 5234 | H10: 5300 | J10: 5800 | L10: 4950 | N10: 5400 | P10: =SUM(B10:O10) -> 37174
A11: Last Week | B11: 4658 | D11: 5645 | F11: 5632 | H11: 5350 | J11: 5400 | L11: 4840 | N11: 5350 | P11: =SUM(B11:O11) -> 36875
A12: Forecast $ | B12: 4800 | D12: 5345 | F12: 5700 | H12: 5400 | J12: 5510 | L12: 4990 | N12: 5446 | P12: =SUM(B12:O12) -> 37191
A13: Heures recommandees | B13: =P13/(P12/B12) -> 87.117851 | D13: =P13/(P12/D12) -> 97.009357 | F13: =P13/(P12/F12) -> 103.45245 | H13: =P13/(P12/H12) -> 98.007582 | J13: =P13/(P12/J12) -> 100.00403 | L13: =P13/(P12/L12) -> 90.566266 | N13: =P13/(P12/N12) -> 98.842462 | P13: 675
A14: Heures scedulees | B14: =Wednesday!BB33 -> 2.875 | D14: =Thursday!AT32 -> 86 | F14: =Friday!AT32 -> 86.5 | H14: =Saturday!AT32 -> 86.5 | J14: =Sunday!AT32 -> 86 | L14: =Monday!AT32 -> 86 | N14: =Tuesday!AT32 -> 86.5 | P14: =SUM(B14:O14) -> 520.375
A16: Ventes reelles | B16: 4854 | P16: =SUM(B16:O16) -> 4854
A17: Heures reelles | B17: 92 | P17: =SUM(B17:O17) -> 92
C19: WTD | E19: WTD | G19: WTD | I19: WTD | K19: WTD | M19: WTD | O19: WTD
A20: Sales +/- | B20: =B16-B12 -> 54 | C20: =B20 -> 54 | D20: =D16-D12 -> -5345 | E20: =C20+D20 -> -5291 | F20: =F16-F12 -> -5700 | G20: =E20+F20 -> -10991 | H20: =H16-H12 -> -5400 | I20: =G20+H20 -> -16391 | J20: =J16-J12 -> -5510 | K20: =I20+J20 -> -21901 | L20: =L16-L12 -> -4990 | M20: =K20+L20 -> -26891 | N20: =N16-N12 -> -5446 | O20: =M20+N20 -> -32337 | P20: =P16-P12 -> -32337
A21: Hours +/- | B21: =B17-B14 -> 89.125 | C21: =B21 -> 89.125 | D21: =D17-D14 -> -86 | E21: =C21+D21 -> 3.125 | F21: =F17-F14 -> -86.5 | G21: =E21+F21 -> -83.375 | H21: =H17-H14 -> -86.5 | I21: =G21+H21 -> -169.875 | J21: =J17-J14 -> -86 | K21: =I21+J21 -> -255.875 | L21: =L17-L14 -> -86 | M21: =K21+L21 -> -341.875 | N21: =N17-N14 -> -86.5 | O21: =M21+N21 -> -428.375 | P21: =P17-P14 -> -428.375
A22: Labor % | B22: =B17*14/B16*100 -> 26.534817 | C22: =B22 -> 26.534817 | D22: =D17*14/D16*100 -> #DIV/0! | E22: =(B17+D17)*14/(B16+D16)*100 -> 26.534817 | F22: =F17*14/F16*100 -> #DIV/0! | G22: =(B17+D17+F17)*14/(B16+D16+F16)*100 -> 26.534817 | H22: =H17*14/H16*100 -> #DIV/0! | I22: =(B17+D17+F17+H17)*14/(B16+D16+F16+H16)*100 -> 26.534817 | J22: =J17*14/J16*100 -> #DIV/0! | K22: =(B17+D17+F17+H17+J17)*14/(B16+D16+F16+H16+J16)*100 -> 26.534817 | L22: =L17*14/L16*100 -> #DIV/0! | M22: =(B17+D17+F17+H17+J17+L17)*14/(B16+D16+F16+H16+J16+L16)*100 -> 26.534817 | N22: =N17*14/N16*100 -> #DIV/0! | O22: =(B17+D17+F17+H17+J17+L17+N17)*14/(B16+D16+F16+H16+J16+L16+N16)*100 -> 26.534817 | P22: =O22 -> 26.534817

Sheet Wednesday
A1: HORAIRES JOURNALIERS | AZ1: http://forum.excel-pratique.com/excel/mise-en-forme-contextuelle-t42154.html
A3: 41423
E4: AM | S4: PM | AQ4: AM
E5: 5 | F5: 30 | G5: 6 | H5: 30 | I5: 7 | J5: 30 | K5: 8 | L5: 30 | M5: 9 | N5: 30 | O5: 10 | P5: 30 | Q5: 11 | R5: 30 | S5: 12 | T5: 30 | U5: 13 | V5: 30 | W5: 14 | X5: 30 | Y5: 15 | Z5: 30 | AA5: 16 | AB5: 30 | AC5: 17 | AD5: 30 | AE5: 18 | AF5: 30 | AG5: 19 | AH5: 30 | AI5: 20 | AJ5: 30 | AK5: 21 | AL5: 30 | AM5: 22 | AN5: 30 | AO5: 23 | AP5: 30 | AQ5: 0 | AR5: 30 | AS5: 1 | AT5: 30 | AU5: 2 | AV5: 30 | AW5: 3 | AX5: 30 | AY5: 4 | AZ5: 30 | BD5: Taux | BE5: Total
E6: 0 | F6: 0 | G6: 0 | H6: 0 | I6: 17 | J6: 25 | K6: 21 | L6: 17 | M6: 20 | N6: 35 | O6: 45 | P6: 49 | Q6: 111 | R6: 210 | S6: 310 | T6: 305 | U6: 249 | V6: 245 | W6: 813 | X6: 158 | Y6: 94 | Z6: 48 | AA6: 94 | AB6: 115 | AC6: 201 | AD6: 244 | AE6: 178 | AF6: 198 | AG6: 185 | AH6: 105 | AI6: 109 | AJ6: 78 | AK6: 65 | AL6: 61 | AM6: 48 | AN6: 55 | AO6: 32 | AP6: 29 | AQ6: 31 | AR6: 19 | AS6: 45 | AT6: 41 | AU6: 0 | AV6: 0 | AW6: 0 | AX6: 0 | AY6: 0 | AZ6: 0 | BA6: =SUM(E6:AZ6) -> 4705
E7: 0.20833333 | F7: 0.22916667 | G7: 0.25 | H7: 0.27083333 | I7: 0.29166667 | J7: 0.3125 | K7: 0.33333333 | L7: 0.35416667 | M7: 0.375 | N7: 0.39583333 | O7: 0.41666667 | P7: 0.4375 | Q7: 0.45833333 | R7: 0.47916667 | S7: 0.5 | T7: 0.52083333 | U7: 0.54166667 | V7: 0.5625 | W7: 0.58333333 | X7: 0.60416667 | Y7: 0.625 | Z7: 0.64583333 | AA7: 0.66666667 | AB7: 0.6875 | AC7: 0.70833333 | AD7: 0.72916667 | AE7: 0.75 | AF7: 0.72916667 | AG7: 0.79166667 | AH7: 0.8125 | AI7: 0.83333333 | AJ7: 0.85416667 | AK7: 0.875 | AL7: 0.89583333 | AM7: 0.91666667 | AN7: 0.9375 | AO7: 11p | AP7: 0.97916667 | AQ7: 0 | AR7: 0.020833333 | AS7: 0.041666667 | AT7: 0.0625 | AU7: 0.083333333 | AV7: 0.10416667 | AW7: 0.125 | AX7: 0.14583333 | AY7: 0.16666667 | AZ7: 0.1875 | BB7: =MOD(C7-B7,1) -> 0 | BD7: 14 | BE7: =BD7*BB7*24 -> 0
E8: 0.20833333 | F8: 0.22916667 | G8: 0.25 | H8: 0.27083333 | I8: 0.29166667 | J8: 0.3125 | K8: 0.33333333 | L8: 0.35416667 | M8: 0.375 | N8: 0.39583333 | O8: 0.41666667 | P8: 0.4375 | Q8: 0.45833333 | R8: 0.47916667 | S8: 0.5 | T8: 0.52083333 | U8: 0.54166667 | V8: 0.5625 | W8: 0.58333333 | X8: 0.60416667 | Y8: 0.625 | Z8: 0.64583333 | AA8: 0.66666667 | AB8: 0.6875 | AC8: 0.70833333 | AD8: 0.72916667 | AE8: 0.75 | AF8: 0.77083333 | AG8: 0.79166667 | AH8: 0.8125 | AI8: 0.83333333 | AJ8: 0.85416667 | AK8: 0.875 | AL8: 0.89583333 | AM8: 0.91666667 | AN8: 0.9375 | AO8: 0.95833333 | AP8: 0.97916667 | AQ8: 0 | AR8: 0.020833333 | AS8: 0.041666667 | AT8: 0.0625 | AU8: 0.083333333 | AV8: 0.10416667 | AW8: 0.125 | AX8: 0.14583333 | AY8: 0.16666667 | AZ8: 0.1875 | BB8: =MOD(C8-B8,1) -> 0 | BD8: 14 | BE8: =BD8*BB8*24 -> 0
E9: 0.20833333 | F9: 0.22916667 | G9: 0.25 | H9: 0.27083333 | I9: 0.29166667 | J9: 0.3125 | K9: 0.33333333 | L9: 0.35416667 | M9: 0.375 | N9: 0.39583333 | O9: 0.41666667 | P9: 0.4375 | Q9: 0.45833333 | R9: 0.47916667 | S9: 0.5 | T9: 0.52083333 | U9: 0.54166667 | V9: 0.5625 | W9: 0.58333333 | X9: 0.60416667 | Y9: 0.625 | Z9: 0.64583333 | AA9: 0.66666667 | AB9: 0.6875 | AC9: 0.70833333 | AD9: 0.72916667 | AE9: 0.75 | AF9: 0.77083333 | AG9: 0.79166667 | AH9: 0.8125 | AI9: 0.83333333 | AJ9: 0.85416667 | AK9: 0.875 | AL9: 0.89583333 | AM9: 0.91666667 | AN9: 0.9375 | AO9: 0.95833333 | AP9: 0.97916667 | AQ9: 0 | AR9: 0.020833333 | AS9: 0.041666667 | AT9: 0.0625 | AU9: 0.083333333 | AV9: 0.10416667 | AW9: 0.125 | AX9: 0.14583333 | AY9: 0.16666667 | AZ9: 0.1875 | BB9: =MOD(C9-B9,1) -> 0 | BD9: 14 | BE9: =BD9*BB9*24 -> 0
A10: Mathieu | B10: 0.91666667 | C10: 0.25 | E10: 0.20833333 | F10: 0.22916667 | G10: 0.25 | H10: 0.27083333 | I10: 0.29166667 | J10: 0.3125 | K10: 0.33333333 | L10: 0.35416667 | M10: 0.375 | N10: 0.39583333 | O10: 0.41666667 | P10: 0.4375 | Q10: 0.45833333 | R10: 0.47916667 | S10: 0.5 | T10: 0.52083333 | U10: 0.54166667 | V10: 0.5625 | W10: 0.58333333 | X10: 0.60416667 | Y10: 0.625 | Z10: 0.64583333 | AA10: 0.66666667 | AB10: 0.6875 | AC10: 0.70833333 | AD10: 0.72916667 | AE10: 0.75 | AF10: 0.77083333 | AG10: 0.79166667 | AH10: 0.8125 | AI10: 0.83333333 | AJ10: 0.85416667 | AK10: 0.875 | AL10: 0.89583333 | AM10: 0.91666667 | AN10: 0.9375 | AO10: 0.95833333 | AP10: 0.97916667 | AQ10: 0 | AR10: 0.020833333 | AS10: 0.041666667 | AT10: 0.0625 | AU10: 0.083333333 | AV10: 0.10416667 | AW10: 0.125 | AX10: 0.14583333 | AY10: 0.16666667 | AZ10: 0.1875 | BB10: =MOD(C10-B10,1) -> 0.33333333 | BD10: 14 | BE10: =BD10*BB10*24 -> 112
A11: M.Philippe | B11: 0.45833333 | C11: 0.58333333 | E11: 0.20833333 | F11: 0.22916667 | G11: 0.25 | H11: 0.27083333 | I11: 0.29166667 | J11: 0.3125 | K11: 0.33333333 | L11: 0.35416667 | M11: 0.375 | N11: 0.39583333 | O11: 0.41666667 | P11: 0.4375 | Q11: 0.45833333 | R11: 0.47916667 | S11: 0.5 | T11: 0.52083333 | U11: 0.54166667 | V11: 0.5625 | W11: 0.58333333 | X11: 0.60416667 | Y11: 0.625 | Z11: 0.64583333 | AA11: 0.66666667 | AB11: 0.6875 | AC11: 0.70833333 | AD11: 0.72916667 | AE11: 0.75 | AF11: 0.77083333 | AG11: 0.79166667 | AH11: 0.8125 | AI11: 0.83333333 | AJ11: 0.85416667 | AK11: 0.875 | AL11: 0.89583333 | AM11: 0.91666667 | AN11: 0.9375 | AO11: 0.95833333 | AP11: 0.97916667 | AQ11: 0 | AR11: 0.020833333 | AS11: 0.041666667 | AT11: 0.0625 | AU11: 0.083333333 | AV11: 0.10416667 | AW11: 0.125 | AX11: 0.14583333 | AY11: 0.16666667 | AZ11: 0.1875 | BB11: =MOD(C11-B11,1) -> 0.125 | BD11: 14 | BE11: =BD11*BB11*24 -> 42
A12: Frédéric | B12: 0.33333333 | C12: 0.70833333 | E12: 0.20833333 | F12: 0.22916667 | G12: 0.25 | H12: 0.27083333 | I12: 0.29166667 | J12: 0.3125 | K12: 0.33333333 | L12: 0.35416667 | M12: 0.375 | N12: 0.39583333 | O12: 0.41666667 | P12: 0.4375 | Q12: 0.45833333 | R12: 0.47916667 | S12: 0.5 | T12: 0.52083333 | U12: 0.54166667 | V12: 0.5625 | W12: 0.58333333 | X12: 0.60416667 | Y12: 0.625 | Z12: 0.64583333 | AA12: 0.66666667 | AB12: 0.6875 | AC12: 0.70833333 | AD12: 0.72916667 | AE12: 0.75 | AF12: 0.77083333 | AG12: 0.79166667 | AH12: 0.8125 | AI12: 0.83333333 | AJ12: 0.85416667 | AK12: 0.875 | AL12: 0.89583333 | AM12: 0.91666667 | AN12: 0.9375 | AO12: 0.95833333 | AP12: 0.97916667 | AQ12: 0 | AR12: 0.020833333 | AS12: 0.041666667 | AT12: 0.0625 | AU12: 0.083333333 | AV12: 0.10416667 | AW12: 0.125 | AX12: 0.14583333 | AY12: 0.16666667 | AZ12: 0.1875 | BB12: =MOD(C12-B12,1) -> 0.375 | BD12: 14 | BE12: =BD12*BB12*24 -> 126
A13: Jimmy | B13: 0.375 | C13: 0.625 | E13: 0.20833333 | F13: 0.22916667 | G13: 0.25 | H13: 0.27083333 | I13: 0.29166667 | J13: 0.3125 | K13: 0.33333333 | L13: 0.35416667 | M13: 0.375 | N13: 0.39583333 | O13: 0.41666667 | P13: 0.4375 | Q13: 0.45833333 | R13: 0.47916667 | S13: 0.5 | T13: 0.52083333 | U13: 0.54166667 | V13: 0.5625 | W13: 0.58333333 | X13: 0.60416667 | Y13: 0.625 | Z13: 0.64583333 | AA13: 0.66666667 | AB13: 0.6875 | AC13: 0.70833333 | AD13: 0.72916667 | AE13: 0.75 | AF13: 0.77083333 | AG13: 0.79166667 | AH13: 0.8125 | AI13: 0.83333333 | AJ13: 0.85416667 | AK13: 0.875 | AL13: 0.89583333 | AM13: 0.91666667 | AN13: 0.9375 | AO13: 0.95833333 | AP13: 0.97916667 | AQ13: 0 | AR13: 0.020833333 | AS13: 0.041666667 | AT13: 0.0625 | AU13: 0.083333333 | AV13: 0.10416667 | AW13: 0.125 | AX13: 0.14583333 | AY13: 0.16666667 | AZ13: 0.1875 | BB13: =MOD(C13-B13,1) -> 0.25 | BD13: 14 | BE13: =BD13*BB13*24 -> 84
E14: 0.20833333 | F14: 0.22916667 | G14: 0.25 | H14: 0.27083333 | I14: 0.29166667 | J14: 0.3125 | K14: 0.33333333 | L14: 0.35416667 | M14: 0.375 | N14: 0.39583333 | O14: 0.41666667 | P14: 0.4375 | Q14: 0.45833333 | R14: 0.47916667 | S14: 0.5 | T14: 0.52083333 | U14: 0.54166667 | V14: 0.5625 | W14: 0.58333333 | X14: 0.60416667 | Y14: 0.625 | Z14: 0.64583333 | AA14: 0.66666667 | AB14: 0.6875 | AC14: 0.70833333 | AD14: 0.72916667 | AE14: 0.75 | AF14: 0.77083333 | AG14: 0.79166667 | AH14: 0.8125 | AI14: 0.83333333 | AJ14: 0.85416667 | AK14: 0.875 | AL14: 0.89583333 | AM14: 0.91666667 | AN14: 0.9375 | AO14: 0.95833333 | AP14: 0.97916667 | AQ14: 0 | AR14: 0.020833333 | AS14: 0.041666667 | AT14: 0.0625 | AU14: 0.083333333 | AV14: 0.10416667 | AW14: 0.125 | AX14: 0.14583333 | AY14: 0.16666667 | AZ14: 0.1875 | BB14: =MOD(C14-B14,1) -> 0 | BD14: 14 | BE14: =BD14*BB14*24 -> 0
A15: Paul | B15: 0.33333333 | C15: 0.125 | E15: 0.20833333 | F15: 0.22916667 | G15: 0.25 | H15: 0.27083333 | I15: 0.29166667 | J15: 0.3125 | K15: 0.33333333 | L15: 0.35416667 | M15: 0.375 | N15: 0.39583333 | O15: 0.41666667 | P15: 0.4375 | Q15: 0.45833333 | R15: 0.47916667 | S15: 0.5 | T15: 0.52083333 | U15: 0.54166667 | V15: 0.5625 | W15: 0.58333333 | X15: 0.60416667 | Y15: 0.625 | Z15: 0.64583333 | AA15: 0.66666667 | AB15: 0.6875 | AC15: 0.70833333 | AD15: 0.72916667 | AE15: 0.75 | AF15: 0.77083333 | AG15: 0.79166667 | AH15: 0.8125 | AI15: 0.83333333 | AJ15: 0.85416667 | AK15: 0.875 | AL15: 0.89583333 | AM15: 0.91666667 | AN15: 0.9375 | AO15: 0.95833333 | AP15: 0.97916667 | AQ15: 0 | AR15: 0.020833333 | AS15: 0.041666667 | AT15: 0.0625 | AU15: 0.083333333 | AV15: 0.10416667 | AW15: 0.125 | AX15: 0.14583333 | AY15: 0.16666667 | AZ15: 0.1875 | BB15: =MOD(C15-B15,1) -> 0.79166667 | BD15: 14 | BE15: =BD15*BB15*24 -> 266
E16: 0.20833333 | F16: 0.22916667 | G16: 0.25 | H16: 0.27083333 | I16: 0.29166667 | J16: 0.3125 | K16: 0.33333333 | L16: 0.35416667 | M16: 0.375 | N16: 0.39583333 | O16: 0.41666667 | P16: 0.4375 | Q16: 0.45833333 | R16: 0.47916667 | S16: 0.5 | T16: 0.52083333 | U16: 0.54166667 | V16: 0.5625 | W16: 0.58333333 | X16: 0.60416667 | Y16: 0.625 | Z16: 0.64583333 | AA16: 0.66666667 | AB16: 0.6875 | AC16: 0.70833333 | AD16: 0.72916667 | AE16: 0.75 | AF16: 0.77083333 | AG16: 0.79166667 | AH16: 0.8125 | AI16: 0.83333333 | AJ16: 0.85416667 | AK16: 0.875 | AL16: 0.89583333 | AM16: 0.91666667 | AN16: 0.9375 | AO16: 0.95833333 | AP16: 0.97916667 | AQ16: 0 | AR16: 0.020833333 | AS16: 0.041666667 | AT16: 0.0625 | AU16: 0.083333333 | AV16: 0.10416667 | AW16: 0.125 | AX16: 0.14583333 | AY16: 0.16666667 | AZ16: 0.1875 | BB16: =MOD(C16-B16,1) -> 0 | BD16: 14 | BE16: =BD16*BB16*24 -> 0
A17: pierre | B17: 0.72916667 | C17: 0.89583333 | E17: 0.20833333 | F17: 0.22916667 | G17: 0.25 | H17: 0.27083333 | I17: 0.29166667 | J17: 0.3125 | K17: 0.33333333 | L17: 0.35416667 | M17: 0.375 | N17: 0.39583333 | O17: 0.41666667 | P17: 0.4375 | Q17: 0.45833333 | R17: 0.47916667 | S17: 0.5 | T17: 0.52083333 | U17: 0.54166667 | V17: 0.5625 | W17: 0.58333333 | X17: 0.60416667 | Y17: 0.625 | Z17: 0.64583333 | AA17: 0.66666667 | AB17: 0.6875 | AC17: 0.70833333 | AD17: 0.72916667 | AE17: 0.75 | AF17: 0.77083333 | AG17: 0.79166667 | AH17: 0.8125 | AI17: 0.83333333 | AJ17: 0.85416667 | AK17: 0.875 | AL17: 0.89583333 | AM17: 0.91666667 | AN17: 0.9375 | AO17: 0.95833333 | AP17: 0.97916667 | AQ17: 0 | AR17: 0.020833333 | AS17: 0.041666667 | AT17: 0.0625 | AU17: 0.083333333 | AV17: 0.10416667 | AW17: 0.125 | AX17: 0.14583333 | AY17: 0.16666667 | AZ17: 0.1875 | BB17: =MOD(C17-B17,1) -> 0.16666667 | BD17: 14 | BE17: =BD17*BB17*24 -> 56
E18: 0.20833333 | F18: 0.22916667 | G18: 0.25 | H18: 0.27083333 | I18: 0.29166667 | J18: 0.3125 | K18: 0.33333333 | L18: 0.35416667 | M18: 0.375 | N18: 0.39583333 | O18: 0.41666667 | P18: 0.4375 | Q18: 0.45833333 | R18: 0.47916667 | S18: 0.5 | T18: 0.52083333 | U18: 0.54166667 | V18: 0.5625 | W18: 0.58333333 | X18: 0.60416667 | Y18: 0.625 | Z18: 0.64583333 | AA18: 0.66666667 | AB18: 0.6875 | AC18: 0.70833333 | AD18: 0.72916667 | AE18: 0.75 | AF18: 0.77083333 | AG18: 0.79166667 | AH18: 0.8125 | AI18: 0.83333333 | AJ18: 0.85416667 | AK18: 0.875 | AL18: 0.89583333 | AM18: 0.91666667 | AN18: 0.9375 | AO18: 0.95833333 | AP18: 0.97916667 | AQ18: 0 | AR18: 0.020833333 | AS18: 0.041666667 | AT18: 0.0625 | AU18: 0.083333333 | AV18: 0.10416667 | AW18: 0.125 | AX18: 0.14583333 | AY18: 0.16666667 | AZ18: 0.1875 | BB18: =MOD(C18-B18,1) -> 0 | BD18: 14 | BE18: =BD18*BB18*24 -> 0
A19: yves | B19: 0.125 | C19: 0.33333333 | E19: 0.20833333 | F19: 0.22916667 | G19: 0.25 | H19: 0.27083333 | I19: 0.29166667 | J19: 0.3125 | K19: 0.33333333 | L19: 0.35416667 | M19: 0.375 | N19: 0.39583333 | O19: 0.41666667 | P19: 0.4375 | Q19: 0.45833333 | R19: 0.47916667 | S19: 0.5 | T19: 0.52083333 | U19: 0.54166667 | V19: 0.5625 | W19: 0.58333333 | X19: 0.60416667 | Y19: 0.625 | Z19: 0.64583333 | AA19: 0.66666667 | AB19: 0.6875 | AC19: 0.70833333 | AD19: 0.72916667 | AE19: 0.75 | AF19: 0.77083333 | AG19: 0.79166667 | AH19: 0.8125 | AI19: 0.83333333 | AJ19: 0.85416667 | AK19: 0.875 | AL19: 0.89583333 | AM19: 0.91666667 | AN19: 0.9375 | AO19: 0.95833333 | AP19: 0.97916667 | AQ19: 0 | AR19: 0.020833333 | AS19: 0.041666667 | AT19: 0.0625 | AU19: 0.083333333 | AV19: 0.10416667 | AW19: 0.125 | AX19: 0.14583333 | AY19: 0.16666667 | AZ19: 0.1875 | BB19: =MOD(C19-B19,1) -> 0.20833333 | BD19: 14 | BE19: =BD19*BB19*24 -> 70
E20: 0.20833333 | F20: 0.22916667 | G20: 0.25 | H20: 0.27083333 | I20: 0.29166667 | J20: 0.3125 | K20: 0.33333333 | L20: 0.35416667 | M20: 0.375 | N20: 0.39583333 | O20: 0.41666667 | P20: 0.4375 | Q20: 0.45833333 | R20: 0.47916667 | S20: 0.5 | T20: 0.52083333 | U20: 0.54166667 | V20: 0.5625 | W20: 0.58333333 | X20: 0.60416667 | Y20: 0.625 | Z20: 0.64583333 | AA20: 0.66666667 | AB20: 0.6875 | AC20: 0.70833333 | AD20: 0.72916667 | AE20: 0.75 | AF20: 0.77083333 | AG20: 0.79166667 | AH20: 0.8125 | AI20: 0.83333333 | AJ20: 0.85416667 | AK20: 0.875 | AL20: 0.89583333 | AM20: 0.91666667 | AN20: 0.9375 | AO20: 0.95833333 | AP20: 0.97916667 | AQ20: 0 | AR20: 0.020833333 | AS20: 0.041666667 | AT20: 0.0625 | AU20: 0.083333333 | AV20: 0.10416667 | AW20: 0.125 | AX20: 0.14583333 | AY20: 0.16666667 | AZ20: 0.1875 | BB20: =MOD(C20-B20,1) -> 0 | BD20: 14 | BE20: =BD20*BB20*24 -> 0
E21: 0.20833333 | F21: 0.22916667 | G21: 0.25 | H21: 0.27083333 | I21: 0.29166667 | J21: 0.3125 | K21: 0.33333333 | L21: 0.35416667 | M21: 0.375 | N21: 0.39583333 | O21: 0.41666667 | P21: 0.4375 | Q21: 0.45833333 | R21: 0.47916667 | S21: 0.5 | T21: 0.52083333 | U21: 0.54166667 | V21: 0.5625 | W21: 0.58333333 | X21: 0.60416667 | Y21: 0.625 | Z21: 0.64583333 | AA21: 0.66666667 | AB21: 0.6875 | AC21: 0.70833333 | AD21: 0.72916667 | AE21: 0.75 | AF21: 0.77083333 | AG21: 0.79166667 | AH21: 0.8125 | AI21: 0.83333333 | AJ21: 0.85416667 | AK21: 0.875 | AL21: 0.89583333 | AM21: 0.91666667 | AN21: 0.9375 | AO21: 0.95833333 | AP21: 0.97916667 | AQ21: 0 | AR21: 0.020833333 | AS21: 0.041666667 | AT21: 0.0625 | AU21: 0.083333333 | AV21: 0.10416667 | AW21: 0.125 | AX21: 0.14583333 | AY21: 0.16666667 | AZ21: 0.1875 | BB21: =MOD(C21-B21,1) -> 0 | BD21: 14 | BE21: =BD21*BB21*24 -> 0
E22: 0.20833333 | F22: 0.22916667 | G22: 0.25 | H22: 0.27083333 | I22: 0.29166667 | J22: 0.3125 | K22: 0.33333333 | L22: 0.35416667 | M22: 0.375 | N22: 0.39583333 | O22: 0.41666667 | P22: 0.4375 | Q22: 0.45833333 | R22: 0.47916667 | S22: 0.5 | T22: 0.52083333 | U22: 0.54166667 | V22: 0.5625 | W22: 0.58333333 | X22: 0.60416667 | Y22: 0.625 | Z22: 0.64583333 | AA22: 0.66666667 | AB22: 0.6875 | AC22: 0.70833333 | AD22: 0.72916667 | AE22: 0.75 | AF22: 0.77083333 | AG22: 0.79166667 | AH22: 0.8125 | AI22: 0.83333333 | AJ22: 0.85416667 | AK22: 0.875 | AL22: 0.89583333 | AM22: 0.91666667 | AN22: 0.9375 | AO22: 0.95833333 | AP22: 0.97916667 | AQ22: 0 | AR22: 0.020833333 | AS22: 0.041666667 | AT22: 0.0625 | AU22: 0.083333333 | AV22: 0.10416667 | AW22: 0.125 | AX22: 0.14583333 | AY22: 0.16666667 | AZ22: 0.1875 | BB22: =MOD(C22-B22,1) -> 0 | BD22: 14 | BE22: =BD22*BB22*24 -> 0
E23: 0.20833333 | F23: 0.22916667 | G23: 0.25 | H23: 0.27083333 | I23: 0.29166667 | J23: 0.3125 | K23: 0.33333333 | L23: 0.35416667 | M23: 0.375 | N23: 0.39583333 | O23: 0.41666667 | P23: 0.4375 | Q23: 0.45833333 | R23: 0.47916667 | S23: 0.5 | T23: 0.52083333 | U23: 0.54166667 | V23: 0.5625 | W23: 0.58333333 | X23: 0.60416667 | Y23: 0.625 | Z23: 0.64583333 | AA23: 0.66666667 | AB23: 0.6875 | AC23: 0.70833333 | AD23: 0.72916667 | AE23: 0.75 | AF23: 0.77083333 | AG23: 0.79166667 | AH23: 0.8125 | AI23: 0.83333333 | AJ23: 0.85416667 | AK23: 0.875 | AL23: 0.89583333 | AM23: 0.91666667 | AN23: 0.9375 | AO23: 0.95833333 | AP23: 0.97916667 | AQ23: 0 | AR23: 0.020833333 | AS23: 0.041666667 | AT23: 0.0625 | AU23: 0.083333333 | AV23: 0.10416667 | AW23: 0.125 | AX23: 0.14583333 | AY23: 0.16666667 | AZ23: 0.1875 | BB23: =MOD(C23-B23,1) -> 0 | BD23: 14 | BE23: =BD23*BB23*24 -> 0
A24: Marc | B24: 0.5 | C24: 0.79166667 | E24: 0.20833333 | F24: 0.22916667 | G24: 0.25 | H24: 0.27083333 | I24: 0.29166667 | J24: 0.3125 | K24: 0.33333333 | L24: 0.35416667 | M24: 0.375 | N24: 0.39583333 | O24: 0.41666667 | P24: 0.4375 | Q24: 0.45833333 | R24: 0.47916667 | S24: 0.5 | T24: 0.52083333 | U24: 0.54166667 | V24: 0.5625 | W24: 0.58333333 | X24: 0.60416667 | Y24: 0.625 | Z24: 0.64583333 | AA24: 0.66666667 | AB24: 0.6875 | AC24: 0.70833333 | AD24: 0.72916667 | AE24: 0.75 | AF24: 0.77083333 | AG24: 0.79166667 | AH24: 0.8125 | AI24: 0.83333333 | AJ24: 0.85416667 | AK24: 0.875 | AL24: 0.89583333 | AM24: 0.91666667 | AN24: 0.9375 | AO24: 0.95833333 | AP24: 0.97916667 | AQ24: 0 | AR24: 0.020833333 | AS24: 0.041666667 | AT24: 0.0625 | AU24: 0.083333333 | AV24: 0.10416667 | AW24: 0.125 | AX24: 0.14583333 | AY24: 0.16666667 | AZ24: 0.1875 | BB24: =MOD(C24-B24,1) -> 0.29166667 | BD24: 14 | BE24: =BD24*BB24*24 -> 98
E25: 0.20833333 | F25: 0.22916667 | G25: 0.25 | H25: 0.27083333 | I25: 0.29166667 | J25: 0.3125 | K25: 0.33333333 | L25: 0.35416667 | M25: 0.375 | N25: 0.39583333 | O25: 0.41666667 | P25: 0.4375 | Q25: 0.45833333 | R25: 0.47916667 | S25: 0.5 | T25: 0.52083333 | U25: 0.54166667 | V25: 0.5625 | W25: 0.58333333 | X25: 0.60416667 | Y25: 0.625 | Z25: 0.64583333 | AA25: 0.66666667 | AB25: 0.6875 | AC25: 0.70833333 | AD25: 0.72916667 | AE25: 0.75 | AF25: 0.77083333 | AG25: 0.79166667 | AH25: 0.8125 | AI25: 0.83333333 | AJ25: 0.85416667 | AK25: 0.875 | AL25: 0.89583333 | AM25: 0.91666667 | AN25: 0.9375 | AO25: 0.95833333 | AP25: 0.97916667 | AQ25: 0 | AR25: 0.020833333 | AS25: 0.041666667 | AT25: 0.0625 | AU25: 0.083333333 | AV25: 0.10416667 | AW25: 0.125 | AX25: 0.14583333 | AY25: 0.16666667 | AZ25: 0.1875 | BB25: =MOD(C25-B25,1) -> 0 | BD25: 14 | BE25: =BD25*BB25*24 -> 0
E26: 0.20833333 | F26: 0.22916667 | G26: 0.25 | H26: 0.27083333 | I26: 0.29166667 | J26: 0.3125 | K26: 0.33333333 | L26: 0.35416667 | M26: 0.375 | N26: 0.39583333 | O26: 0.41666667 | P26: 0.4375 | Q26: 0.45833333 | R26: 0.47916667 | S26: 0.5 | T26: 0.52083333 | U26: 0.54166667 | V26: 0.5625 | W26: 0.58333333 | X26: 0.60416667 | Y26: 0.625 | Z26: 0.64583333 | AA26: 0.66666667 | AB26: 0.6875 | AC26: 0.70833333 | AD26: 0.72916667 | AE26: 0.75 | AF26: 0.77083333 | AG26: 0.79166667 | AH26: 0.8125 | AI26: 0.83333333 | AJ26: 0.85416667 | AK26: 0.875 | AL26: 0.89583333 | AM26: 0.91666667 | AN26: 0.9375 | AO26: 0.95833333 | AP26: 0.97916667 | AQ26: 0 | AR26: 0.020833333 | AS26: 0.041666667 | AT26: 0.0625 | AU26: 0.083333333 | AV26: 0.10416667 | AW26: 0.125 | AX26: 0.14583333 | AY26: 0.16666667 | AZ26: 0.1875 | BB26: =MOD(C26-B26,1) -> 0 | BD26: 14 | BE26: =BD26*BB26*24 -> 0
E27: 0.20833333 | F27: 0.22916667 | G27: 0.25 | H27: 0.27083333 | I27: 0.29166667 | J27: 0.3125 | K27: 0.33333333 | L27: 0.35416667 | M27: 0.375 | N27: 0.39583333 | O27: 0.41666667 | P27: 0.4375 | Q27: 0.45833333 | R27: 0.47916667 | S27: 0.5 | T27: 0.52083333 | U27: 0.54166667 | V27: 0.5625 | W27: 0.58333333 | X27: 0.60416667 | Y27: 0.625 | Z27: 0.64583333 | AA27: 0.66666667 | AB27: 0.6875 | AC27: 0.70833333 | AD27: 0.72916667 | AE27: 0.75 | AF27: 0.77083333 | AG27: 0.79166667 | AH27: 0.8125 | AI27: 0.83333333 | AJ27: 0.85416667 | AK27: 0.875 | AL27: 0.89583333 | AM27: 0.91666667 | AN27: 0.9375 | AO27: 0.95833333 | AP27: 0.97916667 | AQ27: 0 | AR27: 0.020833333 | AS27: 0.041666667 | AT27: 0.0625 | AU27: 0.083333333 | AV27: 0.10416667 | AW27: 0.125 | AX27: 0.14583333 | AY27: 0.16666667 | AZ27: 0.1875 | BB27: =MOD(C27-B27,1) -> 0 | BD27: 14 | BE27: =BD27*BB27*24 -> 0
E28: 0.20833333 | F28: 0.22916667 | G28: 0.25 | H28: 0.27083333 | I28: 0.29166667 | J28: 0.3125 | K28: 0.33333333 | L28: 0.35416667 | M28: 0.375 | N28: 0.39583333 | O28: 0.41666667 | P28: 0.4375 | Q28: 0.45833333 | R28: 0.47916667 | S28: 0.5 | T28: 0.52083333 | U28: 0.54166667 | V28: 0.5625 | W28: 0.58333333 | X28: 0.60416667 | Y28: 0.625 | Z28: 0.64583333 | AA28: 0.66666667 | AB28: 0.6875 | AC28: 0.70833333 | AD28: 0.72916667 | AE28: 0.75 | AF28: 0.77083333 | AG28: 0.79166667 | AH28: 0.8125 | AI28: 0.83333333 | AJ28: 0.85416667 | AK28: 0.875 | AL28: 0.89583333 | AM28: 0.91666667 | AN28: 0.9375 | AO28: 0.95833333 | AP28: 0.97916667 | AQ28: 0 | AR28: 0.020833333 | AS28: 0.041666667 | AT28: 0.0625 | AU28: 0.083333333 | AV28: 0.10416667 | AW28: 0.125 | AX28: 0.14583333 | AY28: 0.16666667 | AZ28: 0.1875 | BB28: =MOD(C28-B28,1) -> 0 | BD28: 14 | BE28: =BD28*BB28*24 -> 0
A29: Jacques | B29: 0.125 | C29: 0.45833333 | E29: 0.20833333 | F29: 0.22916667 | G29: 0.25 | H29: 0.27083333 | I29: 0.29166667 | J29: 0.3125 | K29: 0.33333333 | L29: 0.35416667 | M29: 0.375 | N29: 0.39583333 | O29: 0.41666667 | P29: 0.4375 | Q29: 0.45833333 | R29: 0.47916667 | S29: 0.5 | T29: 0.52083333 | U29: 0.54166667 | V29: 0.5625 | W29: 0.58333333 | X29: 0.60416667 | Y29: 0.625 | Z29: 0.64583333 | AA29: 0.66666667 | AB29: 0.6875 | AC29: 0.70833333 | AD29: 0.72916667 | AE29: 0.75 | AF29: 0.77083333 | AG29: 0.79166667 | AH29: 0.8125 | AI29: 0.83333333 | AJ29: 0.85416667 | AK29: 0.875 | AL29: 0.89583333 | AM29: 0.91666667 | AN29: 0.9375 | AO29: 0.95833333 | AP29: 0.97916667 | AQ29: 0 | AR29: 0.020833333 | AS29: 0.041666667 | AT29: 0.0625 | AU29: 0.083333333 | AV29: 0.10416667 | AW29: 0.125 | AX29: 0.14583333 | AY29: 0.16666667 | AZ29: 0.1875 | BB29: =MOD(C29-B29,1) -> 0.33333333 | BD29: 14 | BE29: =BD29*BB29*24 -> 112
E30: 0.20833333 | F30: 0.22916667 | G30: 0.25 | H30: 0.27083333 | I30: 0.29166667 | J30: 0.3125 | K30: 0.33333333 | L30: 0.35416667 | M30: 0.375 | N30: 0.39583333 | O30: 0.41666667 | P30: 0.4375 | Q30: 0.45833333 | R30: 0.47916667 | S30: 0.5 | T30: 0.52083333 | U30: 0.54166667 | V30: 0.5625 | W30: 0.58333333 | X30: 0.60416667 | Y30: 0.625 | Z30: 0.64583333 | AA30: 0.66666667 | AB30: 0.6875 | AC30: 0.70833333 | AD30: 0.72916667 | AE30: 0.75 | AF30: 0.77083333 | AG30: 0.79166667 | AH30: 0.8125 | AI30: 0.83333333 | AJ30: 0.85416667 | AK30: 0.875 | AL30: 0.89583333 | AM30: 0.91666667 | AN30: 0.9375 | AO30: 0.95833333 | AP30: 0.97916667 | AQ30: 0 | AR30: 0.020833333 | AS30: 0.041666667 | AT30: 0.0625 | AU30: 0.083333333 | AV30: 0.10416667 | AW30: 0.125 | AX30: 0.14583333 | AY30: 0.16666667 | AZ30: 0.1875 | BB30: =MOD(C30-B30,1) -> 0 | BD30: 14 | BE30: =BD30*BB30*24 -> 0
E31: 5 | F31: 30 | G31: 6 | H31: 30 | I31: 7 | J31: 30 | K31: 8 | L31: 30 | M31: 9 | N31: 30 | O31: 10 | P31: 30 | Q31: 11 | R31: 30 | S31: 12 | T31: 30 | U31: 13 | V31: 30 | W31: 14 | X31: 30 | Y31: 15 | Z31: 30 | AA31: 16 | AB31: 30 | AC31: 17 | AD31: 30 | AE31: 18 | AF31: 30 | AG31: 19 | AH31: 30 | AI31: 20 | AJ31: 30 | AK31: 21 | AL31: 30 | AM31: 22 | AN31: 30 | AO31: 23 | AP31: 30 | AQ31: 0 | AR31: 30 | AS31: 1 | AT31: 30 | AU31: 2 | AV31: 30 | AW31: 1 | AX31: 30 | AY31: 2 | AZ31: 30 | BE31: =SUM(BE7:BE30) -> 966
A33: Total | E33: =SUM(E7:E30) -> 5 | G33: =SUM(G7:G30) -> 6 | H33: =SUM(H7:H30) -> 6.5 | I33: =SUM(I7:I30) -> 7 | J33: =SUM(J7:J30) -> 7.5 | K33: =SUM(K7:K30) -> 8 | L33: =SUM(L7:L30) -> 8.5 | M33: =SUM(M7:M30) -> 9 | N33: =SUM(N7:N30) -> 9.5 | ... AV33: =SUM(AV7:AV30) -> 2.5 | BB33: =SUM(BB7:BB30) -> 2.875
E34: =(W37-A37)/O39*E6*2+2 -> 2 | F34: =(W37-A37)/O39*F6*2+2 -> 2 | G34: =(W37-A37)/O39*G6*2+2 -> 2 | H34: =(W37-A37)/O39*H6*2+2 -> 2 | I34: =(W37-A37)/O39*I6*2+2 -> 2.2770848 | J34: =(W37-A37)/O39*J6*2+2 -> 2.4074776 | K34: =(W37-A37)/O39*K6*2+2 -> 2.3422812 | L34: =(W37-A37)/O39*L6*2+2 -> 2.2770848 | M34: =(W37-A37)/O39*M6*2+2 -> 2.3259821 | N34: =(W37-A37)/O39*N6*2+2 -> 2.5704687 | O34: =(W37-A37)/O39*O6*2+2 -> 2.7334597 | P34: =(W37-A37)/O39*P6*2+2 -> 2.7986561 | Q34: =(W37-A37)/O39*Q6*2+2 -> 3.8092006 | R34: =(W37-A37)/O39*R6*2+2 -> 5.422812 | S34: =(W37-A37)/O39*S6*2+2 -> 7.0527224 | T34: =(W37-A37)/O39*T6*2+2 -> 6.9712269 | U34: =(W37-A37)/O39*U6*2+2 -> 6.0584771 | V34: =(W37-A37)/O39*V6*2+2 -> 5.9932806 | W34: =(W37-A37)/O39*W6*2+2 -> 15.251172 | X34: =(W37-A37)/O39*X6*2+2 -> 4.5752585 | Y34: =(W37-A37)/O39*Y6*2+2 -> 3.5321158 | Z34: =(W37-A37)/O39*Z6*2+2 -> 2.782357 | AA34: =(W37-A37)/O39*AA6*2+2 -> 3.5321158 | AB34: =(W37-A37)/O39*AB6*2+2 -> 3.874397 | AC34: =(W37-A37)/O39*AC6*2+2 -> 5.27612 | AD34: =(W37-A37)/O39*AD6*2+2 -> 5.9769815 | AE34: =(W37-A37)/O39*AE6*2+2 -> 4.9012406 | AF34: =(W37-A37)/O39*AF6*2+2 -> 5.2272227 | AG34: =(W37-A37)/O39*AG6*2+2 -> 5.0153344 | AH34: =(W37-A37)/O39*AH6*2+2 -> 3.711406 | AI34: =(W37-A37)/O39*AI6*2+2 -> 3.7766024 | AJ34: =(W37-A37)/O39*AJ6*2+2 -> 3.2713302 | AK34: =(W37-A37)/O39*AK6*2+2 -> 3.0594418 | AL34: =(W37-A37)/O39*AL6*2+2 -> 2.9942454 | AM34: =(W37-A37)/O39*AM6*2+2 -> 2.782357 | AN34: =(W37-A37)/O39*AN6*2+2 -> 2.8964508 | AO34: =(W37-A37)/O39*AO6*2+2 -> 2.5215713 | AP34: =(W37-A37)/O39*AP6*2+2 -> 2.472674 | AQ34: =(W37-A37)/O39*AQ6*2+2 -> 2.5052722 | AR34: =(W37-A37)/O39*AR6*2+2 -> 2.309683 | AS34: =(W37-A37)/O39*AS6*2+2 -> 2.7334597 | AT34: =(W37-A37)/O39*AT6*2+2 -> 2.6682633 | AU34: =(W37-A37)/O39*AU6*2+2 -> 2 | AV34: =(W37-A37)/O39*AV6*2+2 -> 2 | AW34: =(W37-A37)/O39*AW6*2+2 -> 2 | AX34: =(W37-A37)/O39*AX6*2+2 -> 2 | AY34: =(W37-A37)/O39*AY6*2+2 -> 2 | AZ34: =(W37-A37)/O39*AZ6*2+2 -> 2 | BB34: =SUM(E34:AZ34)/2 -> 86.343644
A36: Heures FIXES | L36: Sales | T36: Hours | AB36: % Labor
A37: 48 | L37: LY | O37: ='Weekly summary'!B10 -> 4525 | T37: Matrix | W37: ='Weekly summary'!B13 -> 87.117851 | AB37: Matrix | AE37: =W37*14/O39 -> 0.25409373
L38: LW | O38: ='Weekly summary'!B11 -> 4658 | T38: Actual | W38: =BB33 -> 2.875 | AB38: Plan | AE38: =BE31/O39 -> 0.20125
L39: Forecast | O39: ='Weekly summary'!B12 -> 4800 | T39: (+/-) | W39: =W38-W37 -> -84.242851 | AB39: (+/-) | AE39: =AE38-AE37 -> -0.052843732

Sheet Thursday
B1: HORAIRES JOURNALIERS
B3: =Wednesday!A3+1 -> 41424
C5: 30 | D5: 6 | E5: 30 | F5: 7 | G5: 30 | H5: 8 | I5: 30 | J5: 9 | K5: 30 | L5: 10 | M5: 30 | N5: 11 | O5: 30 | P5: 12 | Q5: 30 | R5: 13 | S5: 30 | T5: 14 | U5: 30 | V5: 15 | W5: 30 | X5: 16 | Y5: 30 | Z5: 17 | AA5: 30 | AB5: 18 | AC5: 30 | AD5: 19 | AE5: 30 | AF5: 20 | AG5: 30 | AH5: 21 | AI5: 30 | AJ5: 22 | AK5: 30 | AL5: 23 | AM5: 30 | AN5: 0 | AO5: 30 | AP5: 1 | AQ5: 30 | AR5: 2 | AS5: 30 | AV5: Taux | AW5: Benef | AX5: Total
A6: SM | B6: =Wednesday!A7 -> 0 | N6: 1 | O6: 1 | P6: 1 | Q6: 1 | R6: 1 | S6: 1 | T6: 1 | U6: 1 | V6: 1 | W6: 1 | X6: 1 | Y6: 1 | Z6: 1 | AA6: 1 | AB6: 1 | AC6: 1 | AT6: =SUM(C6:AS6)/2 -> 8 | AV6: 20 | AW6: =AV6*1.04 -> 20.8 | AX6: =AW6*AT6 -> 166.4
A7: ASM | B7: =Wednesday!A8 -> 0 | E7: 1 | F7: 1 | G7: 1 | H7: 1 | I7: 1 | J7: 1 | K7: 1 | L7: 1 | M7: 1 | N7: 1 | O7: 1 | P7: 1 | Q7: 1 | R7: 1 | S7: 1 | T7: 1 | AT7: =SUM(C7:AS7)/2 -> 8 | AV7: 16 | AW7: =AV7*1.04 -> 16.64 | AX7: =AW7*AT7 -> 133.12
A8: ASM | AT8: =SUM(C8:AS8)/2 -> 0 | AV8: 13 | AW8: =AV8*1.04 -> 13.52 | AX8: =AW8*AT8 -> 0
A9: TL | B9: =Wednesday!A10 -> Mathieu | N9: 1 | O9: 1 | P9: 1 | Q9: 1 | R9: 1 | S9: 1 | T9: 1 | U9: 1 | V9: 1 | W9: 1 | X9: 1 | Y9: 1 | Z9: 1 | AA9: 1 | AB9: 1 | AC9: 1 | AT9: =SUM(C9:AS9)/2 -> 8 | AV9: 12 | AW9: =AV9*1.04 -> 12.48 | AX9: =AW9*AT9 -> 99.84
A10: TL | B10: =Wednesday!A11 -> M.Philippe | AT10: =SUM(C10:AS10)/2 -> 0 | AV10: 12 | AW10: =AV10*1.04 -> 12.48 | AX10: =AW10*AT10 -> 0
A11: TL | B11: =Wednesday!A12 -> Frédéric | N11: 1 | O11: 1 | P11: 1 | Q11: 1 | R11: 1 | S11: 1 | T11: 1 | U11: 1 | V11: 1 | W11: 1 | X11: 1 | Y11: 1 | Z11: 1 | AA11: 1 | AB11: 1 | AC11: 1 | AT11: =SUM(C11:AS11)/2 -> 8 | AV11: 12 | AW11: =AV11*1.04 -> 12.48 | AX11: =AW11*AT11 -> 99.84
A12: TL | B12: =Wednesday!A13 -> Jimmy | Y12: 1 | Z12: 1 | AA12: 1 | AB12: 1 | AC12: 1 | AD12: 1 | AE12: 1 | AF12: 1 | AG12: 1 | AH12: 1 | AI12: 1 | AJ12: 1 | AK12: 1 | AL12: 1 | AM12: 1 | AN12: 1 | AO12: 1 | AT12: =SUM(C12:AS12)/2 -> 8.5 | AV12: 12 | AW12: =AV12*1.04 -> 12.48 | AX12: =AW12*AT12 -> 106.08
A13: TL | AT13: =SUM(C13:AS13)/2 -> 0 | AV13: 12 | AW13: =AV13*1.04 -> 12.48 | AX13: =AW13*AT13 -> 0
A14: CM | B14: =Wednesday!A15 -> Paul | Y14: 1 | Z14: 1 | AA14: 1 | AB14: 1 | AC14: 1 | AD14: 1 | AE14: 1 | AG14: 1 | AH14: 1 | AI14: 1 | AJ14: 1 | AK14: 1 | AL14: 1 | AM14: 1 | AN14: 1 | AO14: 1 | AT14: =SUM(C14:AS14)/2 -> 8 | AV14: 10.15 | AW14: =AV14*1.04 -> 10.556 | AX14: =AW14*AT14 -> 84.448
A15: CM | B15: =Wednesday!A16 -> 0 | N15: 1 | O15: 1 | P15: 1 | Q15: 1 | R15: 1 | S15: 1 | T15: 1 | U15: 1 | W15: 1 | X15: 1 | Y15: 1 | Z15: 1 | AA15: 1 | AB15: 1 | AC15: 1 | AT15: =SUM(C15:AS15)/2 -> 7.5 | AV15: 10.15 | AW15: =AV15*1.04 -> 10.556 | AX15: =AW15*AT15 -> 79.17
A16: CM | B16: =Wednesday!A17 -> pierre | AT16: =SUM(C16:AS16)/2 -> 0 | AV16: 10.15 | AW16: =AV16*1.04 -> 10.556 | AX16: =AW16*AT16 -> 0
A17: CM | B17: =Wednesday!A18 -> 0 | E17: 1 | F17: 1 | G17: 1 | H17: 1 | I17: 1 | J17: 1 | K17: 1 | L17: 1 | M17: 1 | O17: 1 | P17: 1 | Q17: 1 | R17: 1 | S17: 1 | T17: 1 | AT17: =SUM(C17:AS17)/2 -> 7.5 | AV17: 10.15 | AW17: =AV17*1.04 -> 10.556 | AX17: =AW17*AT17 -> 79.17
A18: CM | B18: =Wednesday!A19 -> yves | AT18: =SUM(C18:AS18)/2 -> 0 | AV18: 10.15 | AW18: =AV18*1.04 -> 10.556 | AX18: =AW18*AT18 -> 0
A19: CM | B19: =Wednesday!A20 -> 0 | Y19: 1 | Z19: 1 | AA19: 1 | AB19: 1 | AC19: 1 | AD19: 1 | AE19: 1 | AF19: 1 | AH19: 1 | AI19: 1 | AJ19: 1 | AK19: 1 | AL19: 1 | AM19: 1 | AN19: 1 | AO19: 1 | AT19: =SUM(C19:AS19)/2 -> 8 | AV19: 10.15 | AW19: =AV19*1.04 -> 10.556 | AX19: =AW19*AT19 -> 84.448
A20: CM | B20: =Wednesday!A21 -> 0 | N20: 1 | O20: 1 | P20: 1 | Q20: 1 | R20: 1 | S20: 1 | T20: 1 | V20: 1 | W20: 1 | X20: 1 | Y20: 1 | Z20: 1 | AA20: 1 | AB20: 1 | AC20: 1 | AT20: =SUM(C20:AS20)/2 -> 7.5 | AV20: 10.15 | AW20: =AV20*1.04 -> 10.556 | AX20: =AW20*AT20 -> 79.17
A21: CM | B21: =Wednesday!A22 -> 0 | AT21: =SUM(C21:AS21)/2 -> 0 | AV21: 10.15 | AW21: =AV21*1.04 -> 10.556 | AX21: =AW21*AT21 -> 0
A22: CM | B22: =Wednesday!A23 -> 0 | E22: 1 | F22: 1 | G22: 1 | H22: 1 | I22: 1 | J22: 1 | K22: 1 | L22: 1 | M22: 1 | N22: 1 | P22: 1 | Q22: 1 | R22: 1 | S22: 1 | AT22: =SUM(C22:AS22)/2 -> 7 | AV22: 10.15 | AW22: =AV22*1.04 -> 10.556 | AX22: =AW22*AT22 -> 73.892
A23: CM | B23: Isabelle | AT23: =SUM(C23:AS23)/2 -> 0 | AV23: 10.15 | AW23: =AV23*1.04 -> 10.556 | AX23: =AW23*AT23 -> 0
A24: CM | AT24: =SUM(C24:AS24)/2 -> 0 | AV24: 10.15 | AW24: =AV24*1.04 -> 10.556 | AX24: =AW24*AT24 -> 0
A25: CM | AT25: =SUM(C25:AS25)/2 -> 0 | AV25: 10.15 | AW25: =AV25*1.04 -> 10.556 | AX25: =AW25*AT25 -> 0
A26: CM | AT26: =SUM(C26:AS26)/2 -> 0 | AV26: 10.15 | AW26: =AV26*1.04 -> 10.556 | AX26: =AW26*AT26 -> 0
A27: CM | AT27: =SUM(C27:AS27)/2 -> 0 | AV27: 10.15 | AW27: =AV27*1.04 -> 10.556 | AX27: =AW27*AT27 -> 0
A28: CM | AT28: =SUM(C28:AS28)/2 -> 0 | AV28: 10.15 | AW28: =AV28*1.04 -> 10.556 | AX28: =AW28*AT28 -> 0
A29: CM | AT29: =SUM(C29:AS29)/2 -> 0 | AV29: 10.15 | AW29: =AV29*1.04 -> 10.556 | AX29: =AW29*AT29 -> 0
C30: 30 | D30: 6 | E30: 30 | F30: 7 | G30: 30 | H30: 8 | I30: 30 | J30: 9 | K30: 30 | L30: 10 | M30: 30 | N30: 11 | O30: 30 | P30: 12 | Q30: 30 | R30: 13 | S30: 30 | T30: 14 | U30: 30 | V30: 15 | W30: 30 | X30: 16 | Y30: 30 | Z30: 17 | AA30: 30 | AB30: 18 | AC30: 30 | AD30: 19 | AE30: 30 | AF30: 20 | AG30: 30 | AH30: 21 | AI30: 30 | AJ30: 22 | AK30: 30 | AL30: 23 | AM30: 30 | AN30: 0 | AO30: 30 | AP30: 1 | AQ30: 30 | AR30: 2 | AS30: 30 | AX30: =SUM(AX6:AX29) -> 1085.578
B32: Total | C32: =SUM(C6:C29) -> 0 | D32: =SUM(D6:D29) -> 0 | E32: =SUM(E6:E29) -> 3 | F32: =SUM(F6:F29) -> 3 | G32: =SUM(G6:G29) -> 3 | H32: =SUM(H6:H29) -> 3 | I32: =SUM(I6:I29) -> 3 | J32: =SUM(J6:J29) -> 3 | ... AT32: =SUM(AT6:AT29) -> 86
I35: Sales | Q35: Hours | Y35: % Labor
I36: LY | L36: ='Weekly summary'!D10 -> 5965 | Q36: Matrix | T36: ='Weekly summary'!D13 -> 97.009357 | Y36: Matrix | AB36: =T36*14/L38*100 -> 25.409373
I37: LW | L37: ='Weekly summary'!D11 -> 5645 | Q37: Plan | T37: =AT32 -> 86 | Y37: Plan | AB37: =AX30/L38*100 -> 20.310159
I38: Forecast | L38: ='Weekly summary'!D12 -> 5345 | Q38: (+/-) | T38: =T37-T36 -> -11.009357 | Y38: (+/-) | AB38: =AB37-AB36 -> -5.0992142

Sheet Friday
B1: HORAIRES JOURNALIERS
B3: =Thursday!B3+1 -> 41425
C5: 30 | D5: 6 | E5: 30 | F5: 7 | G5: 30 | H5: 8 | I5: 30 | J5: 9 | K5: 30 | L5: 10 | M5: 30 | N5: 11 | O5: 30 | P5: 12 | Q5: 30 | R5: 13 | S5: 30 | T5: 14 | U5: 30 | V5: 15 | W5: 30 | X5: 16 | Y5: 30 | Z5: 17 | AA5: 30 | AB5: 18 | AC5: 30 | AD5: 19 | AE5: 30 | AF5: 20 | AG5: 30 | AH5: 21 | AI5: 30 | AJ5: 22 | AK5: 30 | AL5: 23 | AM5: 30 | AN5: 0 | AO5: 30 | AP5: 1 | AQ5: 30 | AR5: 2 | AS5: 30 | AV5: Taux | AW5: Benef | AX5: Total
A6: SM | B6: =Wednesday!A7 -> 0 | N6: 1 | O6: 1 | P6: 1 | Q6: 1 | R6: 1 | S6: 1 | T6: 1 | U6: 1 | V6: 1 | W6: 1 | X6: 1 | Y6: 1 | Z6: 1 | AA6: 1 | AB6: 1 | AC6: 1 | AT6: =SUM(C6:AS6)/2 -> 8 | AV6: 20 | AW6: =AV6*1.04 -> 20.8 | AX6: =AW6*AT6 -> 166.4
A7: ASM | B7: =Wednesday!A8 -> 0 | E7: 1 | F7: 1 | G7: 1 | H7: 1 | I7: 1 | J7: 1 | K7: 1 | L7: 1 | M7: 1 | N7: 1 | O7: 1 | P7: 1 | Q7: 1 | R7: 1 | S7: 1 | T7: 1 | AT7: =SUM(C7:AS7)/2 -> 8 | AV7: 16 | AW7: =AV7*1.04 -> 16.64 | AX7: =AW7*AT7 -> 133.12
A8: ASM | AT8: =SUM(C8:AS8)/2 -> 0 | AV8: 13 | AW8: =AV8*1.04 -> 13.52 | AX8: =AW8*AT8 -> 0
A9: TL | B9: =Wednesday!A10 -> Mathieu | N9: 1 | O9: 1 | P9: 1 | Q9: 1 | R9: 1 | S9: 1 | T9: 1 | U9: 1 | V9: 1 | W9: 1 | X9: 1 | Y9: 1 | Z9: 1 | AA9: 1 | AB9: 1 | AC9: 1 | AT9: =SUM(C9:AS9)/2 -> 8 | AV9: 12 | AW9: =AV9*1.04 -> 12.48 | AX9: =AW9*AT9 -> 99.84
A10: TL | B10: =Wednesday!A11 -> M.Philippe | N10: 1 | O10: 1 | P10: 1 | Q10: 1 | R10: 1 | S10: 1 | T10: 1 | U10: 1 | V10: 1 | W10: 1 | X10: 1 | Y10: 1 | Z10: 1 | AA10: 1 | AB10: 1 | AC10: 1 | AT10: =SUM(C10:AS10)/2 -> 8 | AV10: 12 | AW10: =AV10*1.04 -> 12.48 | AX10: =AW10*AT10 -> 99.84
A11: TL | B11: =Wednesday!A12 -> Frédéric | Y11: 1 | Z11: 1 | AA11: 1 | AB11: 1 | AC11: 1 | AD11: 1 | AE11: 1 | AF11: 1 | AG11: 1 | AH11: 1 | AI11: 1 | AJ11: 1 | AK11: 1 | AL11: 1 | AM11: 1 | AN11: 1 | AO11: 1 | AT11: =SUM(C11:AS11)/2 -> 8.5 | AV11: 12 | AW11: =AV11*1.04 -> 12.48 | AX11: =AW11*AT11 -> 106.08
A12: TL | B12: =Wednesday!A13 -> Jimmy | AT12: =SUM(C12:AS12)/2 -> 0 | AV12: 12 | AW12: =AV12*1.04 -> 12.48 | AX12: =AW12*AT12 -> 0
A13: TL | AT13: =SUM(C13:AS13)/2 -> 0 | AV13: 12 | AW13: =AV13*1.04 -> 12.48 | AX13: =AW13*AT13 -> 0
A14: CM | B14: =Wednesday!A15 -> Paul | AT14: =SUM(C14:AS14)/2 -> 0 | AV14: 10.15 | AW14: =AV14*1.04 -> 10.556 | AX14: =AW14*AT14 -> 0
A15: CM | B15: =Wednesday!A16 -> 0 | AT15: =SUM(C15:AS15)/2 -> 0 | AV15: 10.15 | AW15: =AV15*1.04 -> 10.556 | AX15: =AW15*AT15 -> 0
A16: CM | B16: =Wednesday!A17 -> pierre | Y16: 1 | Z16: 1 | AA16: 1 | AB16: 1 | AC16: 1 | AD16: 1 | AE16: 1 | AG16: 1 | AH16: 1 | AI16: 1 | AJ16: 1 | AK16: 1 | AL16: 1 | AM16: 1 | AN16: 1 | AO16: 1 | AT16: =SUM(C16:AS16)/2 -> 8 | AV16: 10.15 | AW16: =AV16*1.04 -> 10.556 | AX16: =AW16*AT16 -> 84.448
A17: CM | B17: =Wednesday!A18 -> 0 | E17: 1 | F17: 1 | G17: 1 | H17: 1 | I17: 1 | J17: 1 | K17: 1 | L17: 1 | M17: 1 | O17: 1 | P17: 1 | Q17: 1 | R17: 1 | S17: 1 | T17: 1 | AT17: =SUM(C17:AS17)/2 -> 7.5 | AV17: 10.15 | AW17: =AV17*1.04 -> 10.556 | AX17: =AW17*AT17 -> 79.17
A18: CM | B18: =Wednesday!A19 -> yves | N18: 1 | O18: 1 | P18: 1 | Q18: 1 | R18: 1 | S18: 1 | U18: 1 | V18: 1 | W18: 1 | X18: 1 | Y18: 1 | Z18: 1 | AA18: 1 | AB18: 1 | AC18: 1 | AT18: =SUM(C18:AS18)/2 -> 7.5 | AV18: 10.15 | AW18: =AV18*1.04 -> 10.556 | AX18: =AW18*AT18 -> 79.17
A19: CM | B19: =Wednesday!A20 -> 0 | AT19: =SUM(C19:AS19)/2 -> 0 | AV19: 10.15 | AW19: =AV19*1.04 -> 10.556 | AX19: =AW19*AT19 -> 0
A20: CM | B20: =Wednesday!A21 -> 0 | AT20: =SUM(C20:AS20)/2 -> 0 | AV20: 10.15 | AW20: =AV20*1.04 -> 10.556 | AX20: =AW20*AT20 -> 0
A21: CM | B21: =Wednesday!A22 -> 0 | Y21: 1 | Z21: 1 | AA21: 1 | AB21: 1 | AC21: 1 | AD21: 1 | AE21: 1 | AF21: 1 | AH21: 1 | AI21: 1 | AJ21: 1 | AK21: 1 | AL21: 1 | AM21: 1 | AN21: 1 | AO21: 1 | AT21: =SUM(C21:AS21)/2 -> 8 | AV21: 10.15 | AW21: =AV21*1.04 -> 10.556 | AX21: =AW21*AT21 -> 84.448
A22: CM | B22: =Wednesday!A23 -> 0 | AT22: =SUM(C22:AS22)/2 -> 0 | AV22: 10.15 | AW22: =AV22*1.04 -> 10.556 | AX22: =AW22*AT22 -> 0
A23: CM | B23: =Wednesday!A24 -> Marc | E23: 1 | F23: 1 | G23: 1 | H23: 1 | I23: 1 | J23: 1 | K23: 1 | L23: 1 | M23: 1 | O23: 1 | P23: 1 | Q23: 1 | R23: 1 | S23: 1 | T23: 1 | AT23: =SUM(C23:AS23)/2 -> 7.5 | AV23: 10.15 | AW23: =AV23*1.04 -> 10.556 | AX23: =AW23*AT23 -> 79.17
A24: CM | B24: Lindsay | N24: 1 | O24: 1 | P24: 1 | Q24: 1 | R24: 1 | S24: 1 | U24: 1 | V24: 1 | W24: 1 | X24: 1 | Y24: 1 | Z24: 1 | AA24: 1 | AB24: 1 | AC24: 1 | AT24: =SUM(C24:AS24)/2 -> 7.5 | AV24: 10.15 | AW24: =AV24*1.04 -> 10.556 | AX24: =AW24*AT24 -> 79.17
A25: CM | AT25: =SUM(C25:AS25)/2 -> 0 | AV25: 10.15 | AW25: =AV25*1.04 -> 10.556 | AX25: =AW25*AT25 -> 0
A26: CM | AT26: =SUM(C26:AS26)/2 -> 0 | AV26: 10.15 | AW26: =AV26*1.04 -> 10.556 | AX26: =AW26*AT26 -> 0
A27: CM | AT27: =SUM(C27:AS27)/2 -> 0 | AV27: 10.15 | AW27: =AV27*1.04 -> 10.556 | AX27: =AW27*AT27 -> 0
A28: CM | AT28: =SUM(C28:AS28)/2 -> 0 | AV28: 10.15 | AW28: =AV28*1.04 -> 10.556 | AX28: =AW28*AT28 -> 0
A29: CM | AT29: =SUM(C29:AS29)/2 -> 0 | AV29: 10.15 | AW29: =AV29*1.04 -> 10.556 | AX29: =AW29*AT29 -> 0
C30: 30 | D30: 6 | E30: 30 | F30: 7 | G30: 30 | H30: 8 | I30: 30 | J30: 9 | K30: 30 | L30: 10 | M30: 30 | N30: 11 | O30: 30 | P30: 12 | Q30: 30 | R30: 13 | S30: 30 | T30: 14 | U30: 30 | V30: 15 | W30: 30 | X30: 16 | Y30: 30 | Z30: 17 | AA30: 30 | AB30: 18 | AC30: 30 | AD30: 19 | AE30: 30 | AF30: 20 | AG30: 30 | AH30: 21 | AI30: 30 | AJ30: 22 | AK30: 30 | AL30: 23 | AM30: 30 | AN30: 0 | AO30: 30 | AP30: 1 | AQ30: 30 | AR30: 2 | AS30: 30 | AX30: =SUM(AX6:AX29) -> 1090.856
B32: Total | C32: =SUM(C6:C29) -> 0 | D32: =SUM(D6:D29) -> 0 | E32: =SUM(E6:E29) -> 3 | F32: =SUM(F6:F29) -> 3 | G32: =SUM(G6:G29) -> 3 | H32: =SUM(H6:H29) -> 3 | I32: =SUM(I6:I29) -> 3 | J32: =SUM(J6:J29) -> 3 | ... AT32: =SUM(AT6:AT29) -> 86.5
I35: Sales | Q35: Hours | Y35: % Labor
I36: LY | L36: ='Weekly summary'!F10 -> 5234 | Q36: Matrix | T36: ='Weekly summary'!F13 -> 103.45245 | Y36: Matrix | AB36: =T36*14/L38*100 -> 25.409373
I37: LW | L37: ='Weekly summary'!F11 -> 5632 | Q37: Plan | T37: =AT32 -> 86.5 | Y37: Plan | AB37: =AX30/L38*100 -> 19.137825
I38: Forecast | L38: ='Weekly summary'!F12 -> 5700 | Q38: (+/-) | T38: =T37-T36 -> -16.952448 | Y38: (+/-) | AB38: =AB37-AB36 -> -6.2715487

Sheet Saturday
B1: HORAIRES JOURNALIERS
B3: =Friday!B3+1 -> 41426
C5: 30 | D5: 6 | E5: 30 | F5: 7 | G5: 30 | H5: 8 | I5: 30 | J5: 9 | K5: 30 | L5: 10 | M5: 30 | N5: 11 | O5: 30 | P5: 12 | Q5: 30 | R5: 13 | S5: 30 | T5: 14 | U5: 30 | V5: 15 | W5: 30 | X5: 16 | Y5: 30 | Z5: 17 | AA5: 30 | AB5: 18 | AC5: 30 | AD5: 19 | AE5: 30 | AF5: 20 | AG5: 30 | AH5: 21 | AI5: 30 | AJ5: 22 | AK5: 30 | AL5: 23 | AM5: 30 | AN5: 0 | AO5: 30 | AP5: 1 | AQ5: 30 | AR5: 2 | AS5: 30 | AV5: Taux | AW5: Benef | AX5: Total
A6: SM | B6: =Wednesday!A7 -> 0 | N6: 1 | O6: 1 | P6: 1 | Q6: 1 | R6: 1 | S6: 1 | T6: 1 | U6: 1 | V6: 1 | W6: 1 | X6: 1 | Y6: 1 | Z6: 1 | AA6: 1 | AB6: 1 | AC6: 1 | AT6: =SUM(C6:AS6)/2 -> 8 | AV6: 20 | AW6: =AV6*1.04 -> 20.8 | AX6: =AW6*AT6 -> 166.4
A7: ASM | B7: =Wednesday!A8 -> 0 | E7: 1 | F7: 1 | G7: 1 | H7: 1 | I7: 1 | J7: 1 | K7: 1 | L7: 1 | M7: 1 | N7: 1 | O7: 1 | P7: 1 | Q7: 1 | R7: 1 | S7: 1 | T7: 1 | AT7: =SUM(C7:AS7)/2 -> 8 | AV7: 16 | AW7: =AV7*1.04 -> 16.64 | AX7: =AW7*AT7 -> 133.12
A8: ASM | AT8: =SUM(C8:AS8)/2 -> 0 | AV8: 13 | AW8: =AV8*1.04 -> 13.52 | AX8: =AW8*AT8 -> 0
A9: TL | B9: =Wednesday!A10 -> Mathieu | N9: 1 | O9: 1 | P9: 1 | Q9: 1 | R9: 1 | S9: 1 | T9: 1 | U9: 1 | V9: 1 | W9: 1 | X9: 1 | Y9: 1 | Z9: 1 | AA9: 1 | AB9: 1 | AC9: 1 | AT9: =SUM(C9:AS9)/2 -> 8 | AV9: 12 | AW9: =AV9*1.04 -> 12.48 | AX9: =AW9*AT9 -> 99.84
A10: TL | B10: =Wednesday!A11 -> M.Philippe | N10: 1 | O10: 1 | P10: 1 | Q10: 1 | R10: 1 | S10: 1 | T10: 1 | U10: 1 | V10: 1 | W10: 1 | X10: 1 | Y10: 1 | Z10: 1 | AA10: 1 | AB10: 1 | AC10: 1 | AT10: =SUM(C10:AS10)/2 -> 8 | AV10: 12 | AW10: =AV10*1.04 -> 12.48 | AX10: =AW10*AT10 -> 99.84
A11: TL | B11: =Wednesday!A12 -> Frédéric | Y11: 1 | Z11: 1 | AA11: 1 | AB11: 1 | AC11: 1 | AD11: 1 | AE11: 1 | AF11: 1 | AG11: 1 | AH11: 1 | AI11: 1 | AJ11: 1 | AK11: 1 | AL11: 1 | AM11: 1 | AN11: 1 | AO11: 1 | AT11: =SUM(C11:AS11)/2 -> 8.5 | AV11: 12 | AW11: =AV11*1.04 -> 12.48 | AX11: =AW11*AT11 -> 106.08
A12: TL | B12: =Wednesday!A13 -> Jimmy | AT12: =SUM(C12:AS12)/2 -> 0 | AV12: 12 | AW12: =AV12*1.04 -> 12.48 | AX12: =AW12*AT12 -> 0
A13: TL | AT13: =SUM(C13:AS13)/2 -> 0 | AV13: 12 | AW13: =AV13*1.04 -> 12.48 | AX13: =AW13*AT13 -> 0
A14: CM | B14: =Wednesday!A15 -> Paul | AT14: =SUM(C14:AS14)/2 -> 0 | AV14: 10.15 | AW14: =AV14*1.04 -> 10.556 | AX14: =AW14*AT14 -> 0
A15: CM | B15: =Wednesday!A16 -> 0 | AT15: =SUM(C15:AS15)/2 -> 0 | AV15: 10.15 | AW15: =AV15*1.04 -> 10.556 | AX15: =AW15*AT15 -> 0
A16: CM | B16: =Wednesday!A17 -> pierre | Y16: 1 | Z16: 1 | AA16: 1 | AB16: 1 | AC16: 1 | AD16: 1 | AE16: 1 | AG16: 1 | AH16: 1 | AI16: 1 | AJ16: 1 | AK16: 1 | AL16: 1 | AM16: 1 | AN16: 1 | AO16: 1 | AT16: =SUM(C16:AS16)/2 -> 8 | AV16: 10.15 | AW16: =AV16*1.04 -> 10.556 | AX16: =AW16*AT16 -> 84.448
A17: CM | B17: =Wednesday!A18 -> 0 | E17: 1 | F17: 1 | G17: 1 | H17: 1 | I17: 1 | J17: 1 | K17: 1 | L17: 1 | M17: 1 | O17: 1 | P17: 1 | Q17: 1 | R17: 1 | S17: 1 | T17: 1 | AT17: =SUM(C17:AS17)/2 -> 7.5 | AV17: 10.15 | AW17: =AV17*1.04 -> 10.556 | AX17: =AW17*AT17 -> 79.17
A18: CM | B18: =Wednesday!A19 -> yves | N18: 1 | O18: 1 | P18: 1 | Q18: 1 | R18: 1 | S18: 1 | U18: 1 | V18: 1 | W18: 1 | X18: 1 | Y18: 1 | Z18: 1 | AA18: 1 | AB18: 1 | AC18: 1 | AT18: =SUM(C18:AS18)/2 -> 7.5 | AV18: 10.15 | AW18: =AV18*1.04 -> 10.556 | AX18: =AW18*AT18 -> 79.17
A19: CM | B19: =Wednesday!A20 -> 0 | AT19: =SUM(C19:AS19)/2 -> 0 | AV19: 10.15 | AW19: =AV19*1.04 -> 10.556 | AX19: =AW19*AT19 -> 0
A20: CM | B20: =Wednesday!A21 -> 0 | AT20: =SUM(C20:AS20)/2 -> 0 | AV20: 10.15 | AW20: =AV20*1.04 -> 10.556 | AX20: =AW20*AT20 -> 0
A21: CM | B21: =Wednesday!A22 -> 0 | Y21: 1 | Z21: 1 | AA21: 1 | AB21: 1 | AC21: 1 | AD21: 1 | AE21: 1 | AF21: 1 | AH21: 1 | AI21: 1 | AJ21: 1 | AK21: 1 | AL21: 1 | AM21: 1 | AN21: 1 | AO21: 1 | AT21: =SUM(C21:AS21)/2 -> 8 | AV21: 10.15 | AW21: =AV21*1.04 -> 10.556 | AX21: =AW21*AT21 -> 84.448
A22: CM | B22: =Wednesday!A23 -> 0 | AT22: =SUM(C22:AS22)/2 -> 0 | AV22: 10.15 | AW22: =AV22*1.04 -> 10.556 | AX22: =AW22*AT22 -> 0
A23: CM | B23: =Wednesday!A24 -> Marc | E23: 1 | F23: 1 | G23: 1 | H23: 1 | I23: 1 | J23: 1 | K23: 1 | L23: 1 | M23: 1 | O23: 1 | P23: 1 | Q23: 1 | R23: 1 | S23: 1 | T23: 1 | AT23: =SUM(C23:AS23)/2 -> 7.5 | AV23: 10.15 | AW23: =AV23*1.04 -> 10.556 | AX23: =AW23*AT23 -> 79.17
A24: CM | B24: Lindsay | N24: 1 | O24: 1 | P24: 1 | Q24: 1 | R24: 1 | S24: 1 | U24: 1 | V24: 1 | W24: 1 | X24: 1 | Y24: 1 | Z24: 1 | AA24: 1 | AB24: 1 | AC24: 1 | AT24: =SUM(C24:AS24)/2 -> 7.5 | AV24: 10.15 | AW24: =AV24*1.04 -> 10.556 | AX24: =AW24*AT24 -> 79.17
A25: CM | AT25: =SUM(C25:AS25)/2 -> 0 | AV25: 10.15 | AW25: =AV25*1.04 -> 10.556 | AX25: =AW25*AT25 -> 0
A26: CM | AT26: =SUM(C26:AS26)/2 -> 0 | AV26: 10.15 | AW26: =AV26*1.04 -> 10.556 | AX26: =AW26*AT26 -> 0
A27: CM | AT27: =SUM(C27:AS27)/2 -> 0 | AV27: 10.15 | AW27: =AV27*1.04 -> 10.556 | AX27: =AW27*AT27 -> 0
A28: CM | AT28: =SUM(C28:AS28)/2 -> 0 | AV28: 10.15 | AW28: =AV28*1.04 -> 10.556 | AX28: =AW28*AT28 -> 0
A29: CM | AT29: =SUM(C29:AS29)/2 -> 0 | AV29: 10.15 | AW29: =AV29*1.04 -> 10.556 | AX29: =AW29*AT29 -> 0
C30: 30 | D30: 6 | E30: 30 | F30: 7 | G30: 30 | H30: 8 | I30: 30 | J30: 9 | K30: 30 | L30: 10 | M30: 30 | N30: 11 | O30: 30 | P30: 12 | Q30: 30 | R30: 13 | S30: 30 | T30: 14 | U30: 30 | V30: 15 | W30: 30 | X30: 16 | Y30: 30 | Z30: 17 | AA30: 30 | AB30: 18 | AC30: 30 | AD30: 19 | AE30: 30 | AF30: 20 | AG30: 30 | AH30: 21 | AI30: 30 | AJ30: 22 | AK30: 30 | AL30: 23 | AM30: 30 | AN30: 0 | AO30: 30 | AP30: 1 | AQ30: 30 | AR30: 2 | AS30: 30 | AX30: =SUM(AX6:AX29) -> 1090.856
B32: Total | C32: =SUM(C6:C29) -> 0 | D32: =SUM(D6:D29) -> 0 | E32: =SUM(E6:E29) -> 3 | F32: =SUM(F6:F29) -> 3 | G32: =SUM(G6:G29) -> 3 | H32: =SUM(H6:H29) -> 3 | I32: =SUM(I6:I29) -> 3 | J32: =SUM(J6:J29) -> 3 | ... AT32: =SUM(AT6:AT29) -> 86.5
I35: Sales | Q35: Hours | Y35: % Labor
I36: LY | L36: ='Weekly summary'!H10 -> 5300 | Q36: Matrix | T36: ='Weekly summary'!H13 -> 98.007582 | Y36: Matrix | AB36: =T36*14/L38*100 -> 25.409373
I37: LW | L37: ='Weekly summary'!H11 -> 5350 | Q37: Plan | T37: =AT32 -> 86.5 | Y37: Plan | AB37: =AX30/L38*100 -> 20.201037
I38: Forecast | L38: ='Weekly summary'!H12 -> 5400 | Q38: (+/-) | T38: =T37-T36 -> -11.507582 | Y38: (+/-) | AB38: =AB37-AB36 -> -5.2083362

Sheet Sunday
B1: HORAIRES JOURNALIERS
B3: =Saturday!B3+1 -> 41427
C5: 30 | D5: 6 | E5: 30 | F5: 7 | G5: 30 | H5: 8 | I5: 30 | J5: 9 | K5: 30 | L5: 10 | M5: 30 | N5: 11 | O5: 30 | P5: 12 | Q5: 30 | R5: 13 | S5: 30 | T5: 14 | U5: 30 | V5: 15 | W5: 30 | X5: 16 | Y5: 30 | Z5: 17 | AA5: 30 | AB5: 18 | AC5: 30 | AD5: 19 | AE5: 30 | AF5: 20 | AG5: 30 | AH5: 21 | AI5: 30 | AJ5: 22 | AK5: 30 | AL5: 23 | AM5: 30 | AN5: 0 | AO5: 30 | AP5: 1 | AQ5: 30 | AR5: 2 | AS5: 30 | AV5: Taux | AW5: Benef | AX5: Total
A6: SM | B6: =Wednesday!A7 -> 0 | N6: 1 | O6: 1 | P6: 1 | Q6: 1 | R6: 1 | S6: 1 | T6: 1 | U6: 1 | V6: 1 | W6: 1 | X6: 1 | Y6: 1 | Z6: 1 | AA6: 1 | AB6: 1 | AC6: 1 | AT6: =SUM(C6:AS6)/2 -> 8 | AV6: 20 | AW6: =AV6*1.04 -> 20.8 | AX6: =AW6*AT6 -> 166.4
A7: ASM | B7: =Wednesday!A8 -> 0 | E7: 1 | F7: 1 | G7: 1 | H7: 1 | I7: 1 | J7: 1 | K7: 1 | L7: 1 | M7: 1 | N7: 1 | O7: 1 | P7: 1 | Q7: 1 | R7: 1 | S7: 1 | T7: 1 | AT7: =SUM(C7:AS7)/2 -> 8 | AV7: 16 | AW7: =AV7*1.04 -> 16.64 | AX7: =AW7*AT7 -> 133.12
A8: ASM | AT8: =SUM(C8:AS8)/2 -> 0 | AV8: 13 | AW8: =AV8*1.04 -> 13.52 | AX8: =AW8*AT8 -> 0
A9: TL | B9: =Wednesday!A10 -> Mathieu | N9: 1 | O9: 1 | P9: 1 | Q9: 1 | R9: 1 | S9: 1 | T9: 1 | U9: 1 | V9: 1 | W9: 1 | X9: 1 | Y9: 1 | Z9: 1 | AA9: 1 | AB9: 1 | AC9: 1 | AT9: =SUM(C9:AS9)/2 -> 8 | AV9: 12 | AW9: =AV9*1.04 -> 12.48 | AX9: =AW9*AT9 -> 99.84
A10: TL | B10: =Wednesday!A11 -> M.Philippe | AT10: =SUM(C10:AS10)/2 -> 0 | AV10: 12 | AW10: =AV10*1.04 -> 12.48 | AX10: =AW10*AT10 -> 0
A11: TL | B11: =Wednesday!A12 -> Frédéric | N11: 1 | O11: 1 | P11: 1 | Q11: 1 | R11: 1 | S11: 1 | T11: 1 | U11: 1 | V11: 1 | W11: 1 | X11: 1 | Y11: 1 | Z11: 1 | AA11: 1 | AB11: 1 | AC11: 1 | AT11: =SUM(C11:AS11)/2 -> 8 | AV11: 12 | AW11: =AV11*1.04 -> 12.48 | AX11: =AW11*AT11 -> 99.84
A12: TL | B12: =Wednesday!A13 -> Jimmy | Y12: 1 | Z12: 1 | AA12: 1 | AB12: 1 | AC12: 1 | AD12: 1 | AE12: 1 | AF12: 1 | AG12: 1 | AH12: 1 | AI12: 1 | AJ12: 1 | AK12: 1 | AL12: 1 | AM12: 1 | AN12: 1 | AO12: 1 | AT12: =SUM(C12:AS12)/2 -> 8.5 | AV12: 12 | AW12: =AV12*1.04 -> 12.48 | AX12: =AW12*AT12 -> 106.08
A13: TL | AT13: =SUM(C13:AS13)/2 -> 0 | AV13: 12 | AW13: =AV13*1.04 -> 12.48 | AX13: =AW13*AT13 -> 0
A14: CM | B14: =Wednesday!A15 -> Paul | Y14: 1 | Z14: 1 | AA14: 1 | AB14: 1 | AC14: 1 | AD14: 1 | AE14: 1 | AG14: 1 | AH14: 1 | AI14: 1 | AJ14: 1 | AK14: 1 | AL14: 1 | AM14: 1 | AN14: 1 | AO14: 1 | AT14: =SUM(C14:AS14)/2 -> 8 | AV14: 10.15 | AW14: =AV14*1.04 -> 10.556 | AX14: =AW14*AT14 -> 84.448
A15: CM | B15: =Wednesday!A16 -> 0 | N15: 1 | O15: 1 | P15: 1 | Q15: 1 | R15: 1 | S15: 1 | T15: 1 | U15: 1 | W15: 1 | X15: 1 | Y15: 1 | Z15: 1 | AA15: 1 | AB15: 1 | AC15: 1 | AT15: =SUM(C15:AS15)/2 -> 7.5 | AV15: 10.15 | AW15: =AV15*1.04 -> 10.556 | AX15: =AW15*AT15 -> 79.17
A16: CM | B16: =Wednesday!A17 -> pierre | AT16: =SUM(C16:AS16)/2 -> 0 | AV16: 10.15 | AW16: =AV16*1.04 -> 10.556 | AX16: =AW16*AT16 -> 0
A17: CM | B17: =Wednesday!A18 -> 0 | E17: 1 | F17: 1 | G17: 1 | H17: 1 | I17: 1 | J17: 1 | K17: 1 | L17: 1 | M17: 1 | O17: 1 | P17: 1 | Q17: 1 | R17: 1 | S17: 1 | T17: 1 | AT17: =SUM(C17:AS17)/2 -> 7.5 | AV17: 10.15 | AW17: =AV17*1.04 -> 10.556 | AX17: =AW17*AT17 -> 79.17
A18: CM | B18: =Wednesday!A19 -> yves | AT18: =SUM(C18:AS18)/2 -> 0 | AV18: 10.15 | AW18: =AV18*1.04 -> 10.556 | AX18: =AW18*AT18 -> 0
A19: CM | B19: =Wednesday!A20 -> 0 | Y19: 1 | Z19: 1 | AA19: 1 | AB19: 1 | AC19: 1 | AD19: 1 | AE19: 1 | AF19: 1 | AH19: 1 | AI19: 1 | AJ19: 1 | AK19: 1 | AL19: 1 | AM19: 1 | AN19: 1 | AO19: 1 | AT19: =SUM(C19:AS19)/2 -> 8 | AV19: 10.15 | AW19: =AV19*1.04 -> 10.556 | AX19: =AW19*AT19 -> 84.448
A20: CM | B20: =Wednesday!A21 -> 0 | N20: 1 | O20: 1 | P20: 1 | Q20: 1 | R20: 1 | S20: 1 | T20: 1 | V20: 1 | W20: 1 | X20: 1 | Y20: 1 | Z20: 1 | AA20: 1 | AB20: 1 | AC20: 1 | AT20: =SUM(C20:AS20)/2 -> 7.5 | AV20: 10.15 | AW20: =AV20*1.04 -> 10.556 | AX20: =AW20*AT20 -> 79.17
A21: CM | B21: =Wednesday!A22 -> 0 | AT21: =SUM(C21:AS21)/2 -> 0 | AV21: 10.15 | AW21: =AV21*1.04 -> 10.556 | AX21: =AW21*AT21 -> 0
A22: CM | B22: =Wednesday!A23 -> 0 | E22: 1 | F22: 1 | G22: 1 | H22: 1 | I22: 1 | J22: 1 | K22: 1 | L22: 1 | M22: 1 | N22: 1 | P22: 1 | Q22: 1 | R22: 1 | S22: 1 | AT22: =SUM(C22:AS22)/2 -> 7 | AV22: 10.15 | AW22: =AV22*1.04 -> 10.556 | AX22: =AW22*AT22 -> 73.892
A23: CM | B23: Isabelle | AT23: =SUM(C23:AS23)/2 -> 0 | AV23: 10.15 | AW23: =AV23*1.04 -> 10.556 | AX23: =AW23*AT23 -> 0
A24: CM | AT24: =SUM(C24:AS24)/2 -> 0 | AV24: 10.15 | AW24: =AV24*1.04 -> 10.556 | AX24: =AW24*AT24 -> 0
A25: CM | AT25: =SUM(C25:AS25)/2 -> 0 | AV25: 10.15 | AW25: =AV25*1.04 -> 10.556 | AX25: =AW25*AT25 -> 0
A26: CM | AT26: =SUM(C26:AS26)/2 -> 0 | AV26: 10.15 | AW26: =AV26*1.04 -> 10.556 | AX26: =AW26*AT26 -> 0
A27: CM | AT27: =SUM(C27:AS27)/2 -> 0 | AV27: 10.15 | AW27: =AV27*1.04 -> 10.556 | AX27: =AW27*AT27 -> 0
A28: CM | AT28: =SUM(C28:AS28)/2 -> 0 | AV28: 10.15 | AW28: =AV28*1.04 -> 10.556 | AX28: =AW28*AT28 -> 0
A29: CM | AT29: =SUM(C29:AS29)/2 -> 0 | AV29: 10.15 | AW29: =AV29*1.04 -> 10.556 | AX29: =AW29*AT29 -> 0
C30: 30 | D30: 6 | E30: 30 | F30: 7 | G30: 30 | H30: 8 | I30: 30 | J30: 9 | K30: 30 | L30: 10 | M30: 30 | N30: 11 | O30: 30 | P30: 12 | Q30: 30 | R30: 13 | S30: 30 | T30: 14 | U30: 30 | V30: 15 | W30: 30 | X30: 16 | Y30: 30 | Z30: 17 | AA30: 30 | AB30: 18 | AC30: 30 | AD30: 19 | AE30: 30 | AF30: 20 | AG30: 30 | AH30: 21 | AI30: 30 | AJ30: 22 | AK30: 30 | AL30: 23 | AM30: 30 | AN30: 0 | AO30: 30 | AP30: 1 | AQ30: 30 | AR30: 2 | AS30: 30 | AX30: =SUM(AX6:AX29) -> 1085.578
B32: Total | C32: =SUM(C6:C29) -> 0 | D32: =SUM(D6:D29) -> 0 | E32: =SUM(E6:E29) -> 3 | F32: =SUM(F6:F29) -> 3 | G32: =SUM(G6:G29) -> 3 | H32: =SUM(H6:H29) -> 3 | I32: =SUM(I6:I29) -> 3 | J32: =SUM(J6:J29) -> 3 | ... AT32: =SUM(AT6:AT29) -> 86
I35: Sales | Q35: Hours | Y35: % Labor
I36: LY | L36: ='Weekly summary'!J10 -> 5800 | Q36: Matrix | T36: ='Weekly summary'!J13 -> 100.00403 | Y36: Matrix | AB36: =T36*14/L38*100 -> 25.409373
I37: LW | L37: ='Weekly summary'!J11 -> 5400 | Q37: Plan | T37: =AT32 -> 86 | Y37: Plan | AB37: =AX30/L38*100 -> 19.70196
I38: Forecast | L38: ='Weekly summary'!J12 -> 5510 | Q38: (+/-) | T38: =T37-T36 -> -14.004033 | Y38: (+/-) | AB38: =AB37-AB36 -> -5.7074132

Sheet Monday
B1: HORAIRES JOURNALIERS
B3: =Sunday!B3+1 -> 41428
C5: 30 | D5: 6 | E5: 30 | F5: 7 | G5: 30 | H5: 8 | I5: 30 | J5: 9 | K5: 30 | L5: 10 | M5: 30 | N5: 11 | O5: 30 | P5: 12 | Q5: 30 | R5: 13 | S5: 30 | T5: 14 | U5: 30 | V5: 15 | W5: 30 | X5: 16 | Y5: 30 | Z5: 17 | AA5: 30 | AB5: 18 | AC5: 30 | AD5: 19 | AE5: 30 | AF5: 20 | AG5: 30 | AH5: 21 | AI5: 30 | AJ5: 22 | AK5: 30 | AL5: 23 | AM5: 30 | AN5: 0 | AO5: 30 | AP5: 1 | AQ5: 30 | AR5: 2 | AS5: 30 | AV5: Taux | AW5: Benef | AX5: Total
A6: SM | B6: =Wednesday!A7 -> 0 | N6: 1 | O6: 1 | P6: 1 | Q6: 1 | R6: 1 | S6: 1 | T6: 1 | U6: 1 | V6: 1 | W6: 1 | X6: 1 | Y6: 1 | Z6: 1 | AA6: 1 | AB6: 1 | AC6: 1 | AT6: =SUM(C6:AS6)/2 -> 8 | AV6: 20 | AW6: =AV6*1.04 -> 20.8 | AX6: =AW6*AT6 -> 166.4
A7: ASM | B7: Jamie | E7: 1 | F7: 1 | G7: 1 | H7: 1 | I7: 1 | J7: 1 | K7: 1 | L7: 1 | M7: 1 | N7: 1 | O7: 1 | P7: 1 | Q7: 1 | R7: 1 | S7: 1 | T7: 1 | AT7: =SUM(C7:AS7)/2 -> 8 | AV7: 16 | AW7: =AV7*1.04 -> 16.64 | AX7: =AW7*AT7 -> 133.12
A8: ASM | AT8: =SUM(C8:AS8)/2 -> 0 | AV8: 13 | AW8: =AV8*1.04 -> 13.52 | AX8: =AW8*AT8 -> 0
A9: TL | B9: Mathieu | N9: 1 | O9: 1 | P9: 1 | Q9: 1 | R9: 1 | S9: 1 | T9: 1 | U9: 1 | V9: 1 | W9: 1 | X9: 1 | Y9: 1 | Z9: 1 | AA9: 1 | AB9: 1 | AC9: 1 | AT9: =SUM(C9:AS9)/2 -> 8 | AV9: 12 | AW9: =AV9*1.04 -> 12.48 | AX9: =AW9*AT9 -> 99.84
A10: TL | B10: M.Philippe | AT10: =SUM(C10:AS10)/2 -> 0 | AV10: 12 | AW10: =AV10*1.04 -> 12.48 | AX10: =AW10*AT10 -> 0
A11: TL | B11: Frédéric | N11: 1 | O11: 1 | P11: 1 | Q11: 1 | R11: 1 | S11: 1 | T11: 1 | U11: 1 | V11: 1 | W11: 1 | X11: 1 | Y11: 1 | Z11: 1 | AA11: 1 | AB11: 1 | AC11: 1 | AT11: =SUM(C11:AS11)/2 -> 8 | AV11: 12 | AW11: =AV11*1.04 -> 12.48 | AX11: =AW11*AT11 -> 99.84
A12: TL | B12: Jimmy | Y12: 1 | Z12: 1 | AA12: 1 | AB12: 1 | AC12: 1 | AD12: 1 | AE12: 1 | AF12: 1 | AG12: 1 | AH12: 1 | AI12: 1 | AJ12: 1 | AK12: 1 | AL12: 1 | AM12: 1 | AN12: 1 | AO12: 1 | AT12: =SUM(C12:AS12)/2 -> 8.5 | AV12: 12 | AW12: =AV12*1.04 -> 12.48 | AX12: =AW12*AT12 -> 106.08
A13: TL | AT13: =SUM(C13:AS13)/2 -> 0 | AV13: 12 | AW13: =AV13*1.04 -> 12.48 | AX13: =AW13*AT13 -> 0
A14: CM | B14: Jimmy | Y14: 1 | Z14: 1 | AA14: 1 | AB14: 1 | AC14: 1 | AD14: 1 | AF14: 1 | AG14: 1 | AH14: 1 | AI14: 1 | AJ14: 1 | AK14: 1 | AL14: 1 | AM14: 1 | AN14: 1 | AO14: 1 | AT14: =SUM(C14:AS14)/2 -> 8 | AV14: 10.15 | AW14: =AV14*1.04 -> 10.556 | AX14: =AW14*AT14 -> 84.448
A15: CM | B15: Vincent | N15: 1 | O15: 1 | P15: 1 | Q15: 1 | R15: 1 | S15: 1 | T15: 1 | U15: 1 | W15: 1 | X15: 1 | Y15: 1 | Z15: 1 | AA15: 1 | AB15: 1 | AC15: 1 | AT15: =SUM(C15:AS15)/2 -> 7.5 | AV15: 10.15 | AW15: =AV15*1.04 -> 10.556 | AX15: =AW15*AT15 -> 79.17
A16: CM | B16: Pier Luc | AT16: =SUM(C16:AS16)/2 -> 0 | AV16: 10.15 | AW16: =AV16*1.04 -> 10.556 | AX16: =AW16*AT16 -> 0
A17: CM | B17: Jordy | E17: 1 | F17: 1 | G17: 1 | H17: 1 | I17: 1 | J17: 1 | K17: 1 | L17: 1 | M17: 1 | O17: 1 | P17: 1 | Q17: 1 | R17: 1 | S17: 1 | T17: 1 | AT17: =SUM(C17:AS17)/2 -> 7.5 | AV17: 10.15 | AW17: =AV17*1.04 -> 10.556 | AX17: =AW17*AT17 -> 79.17
A18: CM | B18: Felix | AT18: =SUM(C18:AS18)/2 -> 0 | AV18: 10.15 | AW18: =AV18*1.04 -> 10.556 | AX18: =AW18*AT18 -> 0
A19: CM | B19: Annie | Y19: 1 | Z19: 1 | AA19: 1 | AB19: 1 | AC19: 1 | AD19: 1 | AE19: 1 | AG19: 1 | AH19: 1 | AI19: 1 | AJ19: 1 | AK19: 1 | AL19: 1 | AM19: 1 | AN19: 1 | AO19: 1 | AT19: =SUM(C19:AS19)/2 -> 8 | AV19: 10.15 | AW19: =AV19*1.04 -> 10.556 | AX19: =AW19*AT19 -> 84.448
A20: CM | B20: Joey | N20: 1 | O20: 1 | P20: 1 | Q20: 1 | R20: 1 | S20: 1 | U20: 1 | V20: 1 | W20: 1 | X20: 1 | Y20: 1 | Z20: 1 | AA20: 1 | AB20: 1 | AC20: 1 | AT20: =SUM(C20:AS20)/2 -> 7.5 | AV20: 10.15 | AW20: =AV20*1.04 -> 10.556 | AX20: =AW20*AT20 -> 79.17
A21: CM | B21: Cindy | AT21: =SUM(C21:AS21)/2 -> 0 | AV21: 10.15 | AW21: =AV21*1.04 -> 10.556 | AX21: =AW21*AT21 -> 0
A22: CM | B22: Mylene | E22: 1 | F22: 1 | G22: 1 | H22: 1 | I22: 1 | J22: 1 | K22: 1 | L22: 1 | M22: 1 | O22: 1 | P22: 1 | Q22: 1 | R22: 1 | S22: 1 | AT22: =SUM(C22:AS22)/2 -> 7 | AV22: 10.15 | AW22: =AV22*1.04 -> 10.556 | AX22: =AW22*AT22 -> 73.892
A23: CM | B23: Isabelle | AT23: =SUM(C23:AS23)/2 -> 0 | AV23: 10.15 | AW23: =AV23*1.04 -> 10.556 | AX23: =AW23*AT23 -> 0
A24: CM | AT24: =SUM(C24:AS24)/2 -> 0 | AV24: 10.15 | AW24: =AV24*1.04 -> 10.556 | AX24: =AW24*AT24 -> 0
A25: CM | AT25: =SUM(C25:AS25)/2 -> 0 | AV25: 10.15 | AW25: =AV25*1.04 -> 10.556 | AX25: =AW25*AT25 -> 0
A26: CM | AT26: =SUM(C26:AS26)/2 -> 0 | AV26: 10.15 | AW26: =AV26*1.04 -> 10.556 | AX26: =AW26*AT26 -> 0
A27: CM | AT27: =SUM(C27:AS27)/2 -> 0 | AV27: 10.15 | AW27: =AV27*1.04 -> 10.556 | AX27: =AW27*AT27 -> 0
A28: CM | AT28: =SUM(C28:AS28)/2 -> 0 | AV28: 10.15 | AW28: =AV28*1.04 -> 10.556 | AX28: =AW28*AT28 -> 0
A29: CM | AT29: =SUM(C29:AS29)/2 -> 0 | AV29: 10.15 | AW29: =AV29*1.04 -> 10.556 | AX29: =AW29*AT29 -> 0
C30: 30 | D30: 6 | E30: 30 | F30: 7 | G30: 30 | H30: 8 | I30: 30 | J30: 9 | K30: 30 | L30: 10 | M30: 30 | N30: 11 | O30: 30 | P30: 12 | Q30: 30 | R30: 13 | S30: 30 | T30: 14 | U30: 30 | V30: 15 | W30: 30 | X30: 16 | Y30: 30 | Z30: 17 | AA30: 30 | AB30: 18 | AC30: 30 | AD30: 19 | AE30: 30 | AF30: 20 | AG30: 30 | AH30: 21 | AI30: 30 | AJ30: 22 | AK30: 30 | AL30: 23 | AM30: 30 | AN30: 0 | AO30: 30 | AP30: 1 | AQ30: 30 | AR30: 2 | AS30: 30 | AX30: =SUM(AX6:AX29) -> 1085.578
B32: Total | C32: =SUM(C6:C29) -> 0 | D32: =SUM(D6:D29) -> 0 | E32: =SUM(E6:E29) -> 3 | F32: =SUM(F6:F29) -> 3 | G32: =SUM(G6:G29) -> 3 | H32: =SUM(H6:H29) -> 3 | I32: =SUM(I6:I29) -> 3 | J32: =SUM(J6:J29) -> 3 | ... AT32: =SUM(AT6:AT29) -> 86
I35: Sales | Q35: Hours | Y35: % Labor
I36: LY | L36: ='Weekly summary'!L10 -> 4950 | Q36: Matrix | T36: ='Weekly summary'!L13 -> 90.566266 | Y36: Matrix | AB36: =T36*14/L38*100 -> 25.409373
I37: LW | L37: ='Weekly summary'!L11 -> 4840 | Q37: Plan | T37: =AT32 -> 86 | Y37: Plan | AB37: =AX30/L38*100 -> 21.75507
I38: Forecast | L38: ='Weekly summary'!L12 -> 4990 | Q38: (+/-) | T38: =T37-T36 -> -4.566266 | Y38: (+/-) | AB38: =AB37-AB36 -> -3.6543031

Sheet Tuesday
B1: HORAIRES JOURNALIERS
B3: =Monday!B3+1 -> 41429
C5: 30 | D5: 6 | E5: 30 | F5: 7 | G5: 30 | H5: 8 | I5: 30 | J5: 9 | K5: 30 | L5: 10 | M5: 30 | N5: 11 | O5: 30 | P5: 12 | Q5: 30 | R5: 13 | S5: 30 | T5: 14 | U5: 30 | V5: 15 | W5: 30 | X5: 16 | Y5: 30 | Z5: 17 | AA5: 30 | AB5: 18 | AC5: 30 | AD5: 19 | AE5: 30 | AF5: 20 | AG5: 30 | AH5: 21 | AI5: 30 | AJ5: 22 | AK5: 30 | AL5: 23 | AM5: 30 | AN5: 0 | AO5: 30 | AP5: 1 | AQ5: 30 | AR5: 2 | AS5: 30 | AV5: Taux | AW5: Benef | AX5: Total
A6: SM | B6: =Wednesday!A7 -> 0 | N6: 1 | O6: 1 | P6: 1 | Q6: 1 | R6: 1 | S6: 1 | T6: 1 | U6: 1 | V6: 1 | W6: 1 | X6: 1 | Y6: 1 | Z6: 1 | AA6: 1 | AB6: 1 | AC6: 1 | AT6: =SUM(C6:AS6)/2 -> 8 | AV6: 20 | AW6: =AV6*1.04 -> 20.8 | AX6: =AW6*AT6 -> 166.4
A7: ASM | B7: =Wednesday!A8 -> 0 | E7: 1 | F7: 1 | G7: 1 | H7: 1 | I7: 1 | J7: 1 | K7: 1 | L7: 1 | M7: 1 | N7: 1 | O7: 1 | P7: 1 | Q7: 1 | R7: 1 | S7: 1 | T7: 1 | AT7: =SUM(C7:AS7)/2 -> 8 | AV7: 16 | AW7: =AV7*1.04 -> 16.64 | AX7: =AW7*AT7 -> 133.12
A8: ASM | AT8: =SUM(C8:AS8)/2 -> 0 | AV8: 13 | AW8: =AV8*1.04 -> 13.52 | AX8: =AW8*AT8 -> 0
A9: TL | B9: =Wednesday!A10 -> Mathieu | N9: 1 | O9: 1 | P9: 1 | Q9: 1 | R9: 1 | S9: 1 | T9: 1 | U9: 1 | V9: 1 | W9: 1 | X9: 1 | Y9: 1 | Z9: 1 | AA9: 1 | AB9: 1 | AC9: 1 | AT9: =SUM(C9:AS9)/2 -> 8 | AV9: 12 | AW9: =AV9*1.04 -> 12.48 | AX9: =AW9*AT9 -> 99.84
A10: TL | B10: =Wednesday!A11 -> M.Philippe | N10: 1 | O10: 1 | P10: 1 | Q10: 1 | R10: 1 | S10: 1 | T10: 1 | U10: 1 | V10: 1 | W10: 1 | X10: 1 | Y10: 1 | Z10: 1 | AA10: 1 | AB10: 1 | AC10: 1 | AT10: =SUM(C10:AS10)/2 -> 8 | AV10: 12 | AW10: =AV10*1.04 -> 12.48 | AX10: =AW10*AT10 -> 99.84
A11: TL | B11: =Wednesday!A12 -> Frédéric | Y11: 1 | Z11: 1 | AA11: 1 | AB11: 1 | AC11: 1 | AD11: 1 | AE11: 1 | AF11: 1 | AG11: 1 | AH11: 1 | AI11: 1 | AJ11: 1 | AK11: 1 | AL11: 1 | AM11: 1 | AN11: 1 | AO11: 1 | AT11: =SUM(C11:AS11)/2 -> 8.5 | AV11: 12 | AW11: =AV11*1.04 -> 12.48 | AX11: =AW11*AT11 -> 106.08
A12: TL | B12: =Wednesday!A13 -> Jimmy | AT12: =SUM(C12:AS12)/2 -> 0 | AV12: 12 | AW12: =AV12*1.04 -> 12.48 | AX12: =AW12*AT12 -> 0
A13: TL | AT13: =SUM(C13:AS13)/2 -> 0 | AV13: 12 | AW13: =AV13*1.04 -> 12.48 | AX13: =AW13*AT13 -> 0
A14: CM | B14: =Wednesday!A15 -> Paul | AT14: =SUM(C14:AS14)/2 -> 0 | AV14: 10.15 | AW14: =AV14*1.04 -> 10.556 | AX14: =AW14*AT14 -> 0
A15: CM | B15: =Wednesday!A16 -> 0 | AT15: =SUM(C15:AS15)/2 -> 0 | AV15: 10.15 | AW15: =AV15*1.04 -> 10.556 | AX15: =AW15*AT15 -> 0
A16: CM | B16: =Wednesday!A17 -> pierre | Y16: 1 | Z16: 1 | AA16: 1 | AB16: 1 | AC16: 1 | AD16: 1 | AE16: 1 | AG16: 1 | AH16: 1 | AI16: 1 | AJ16: 1 | AK16: 1 | AL16: 1 | AM16: 1 | AN16: 1 | AO16: 1 | AT16: =SUM(C16:AS16)/2 -> 8 | AV16: 10.15 | AW16: =AV16*1.04 -> 10.556 | AX16: =AW16*AT16 -> 84.448
A17: CM | B17: =Wednesday!A18 -> 0 | E17: 1 | F17: 1 | G17: 1 | H17: 1 | I17: 1 | J17: 1 | K17: 1 | L17: 1 | M17: 1 | O17: 1 | P17: 1 | Q17: 1 | R17: 1 | S17: 1 | T17: 1 | AT17: =SUM(C17:AS17)/2 -> 7.5 | AV17: 10.15 | AW17: =AV17*1.04 -> 10.556 | AX17: =AW17*AT17 -> 79.17
A18: CM | B18: =Wednesday!A19 -> yves | N18: 1 | O18: 1 | P18: 1 | Q18: 1 | R18: 1 | S18: 1 | U18: 1 | V18: 1 | W18: 1 | X18: 1 | Y18: 1 | Z18: 1 | AA18: 1 | AB18: 1 | AC18: 1 | AT18: =SUM(C18:AS18)/2 -> 7.5 | AV18: 10.15 | AW18: =AV18*1.04 -> 10.556 | AX18: =AW18*AT18 -> 79.17
A19: CM | B19: =Wednesday!A20 -> 0 | AT19: =SUM(C19:AS19)/2 -> 0 | AV19: 10.15 | AW19: =AV19*1.04 -> 10.556 | AX19: =AW19*AT19 -> 0
A20: CM | B20: =Wednesday!A21 -> 0 | AT20: =SUM(C20:AS20)/2 -> 0 | AV20: 10.15 | AW20: =AV20*1.04 -> 10.556 | AX20: =AW20*AT20 -> 0
A21: CM | B21: =Wednesday!A22 -> 0 | Y21: 1 | Z21: 1 | AA21: 1 | AB21: 1 | AC21: 1 | AD21: 1 | AE21: 1 | AF21: 1 | AH21: 1 | AI21: 1 | AJ21: 1 | AK21: 1 | AL21: 1 | AM21: 1 | AN21: 1 | AO21: 1 | AT21: =SUM(C21:AS21)/2 -> 8 | AV21: 10.15 | AW21: =AV21*1.04 -> 10.556 | AX21: =AW21*AT21 -> 84.448
A22: CM | B22: =Wednesday!A23 -> 0 | AT22: =SUM(C22:AS22)/2 -> 0 | AV22: 10.15 | AW22: =AV22*1.04 -> 10.556 | AX22: =AW22*AT22 -> 0
A23: CM | B23: =Wednesday!A24 -> Marc | E23: 1 | F23: 1 | G23: 1 | H23: 1 | I23: 1 | J23: 1 | K23: 1 | L23: 1 | M23: 1 | O23: 1 | P23: 1 | Q23: 1 | R23: 1 | S23: 1 | T23: 1 | AT23: =SUM(C23:AS23)/2 -> 7.5 | AV23: 10.15 | AW23: =AV23*1.04 -> 10.556 | AX23: =AW23*AT23 -> 79.17
A24: CM | B24: Lindsay | N24: 1 | O24: 1 | P24: 1 | Q24: 1 | R24: 1 | S24: 1 | U24: 1 | V24: 1 | W24: 1 | X24: 1 | Y24: 1 | Z24: 1 | AA24: 1 | AB24: 1 | AC24: 1 | AT24: =SUM(C24:AS24)/2 -> 7.5 | AV24: 10.15 | AW24: =AV24*1.04 -> 10.556 | AX24: =AW24*AT24 -> 79.17
A25: CM | AT25: =SUM(C25:AS25)/2 -> 0 | AV25: 10.15 | AW25: =AV25*1.04 -> 10.556 | AX25: =AW25*AT25 -> 0
A26: CM | AT26: =SUM(C26:AS26)/2 -> 0 | AV26: 10.15 | AW26: =AV26*1.04 -> 10.556 | AX26: =AW26*AT26 -> 0
A27: CM | AT27: =SUM(C27:AS27)/2 -> 0 | AV27: 10.15 | AW27: =AV27*1.04 -> 10.556 | AX27: =AW27*AT27 -> 0
A28: CM | AT28: =SUM(C28:AS28)/2 -> 0 | AV28: 10.15 | AW28: =AV28*1.04 -> 10.556 | AX28: =AW28*AT28 -> 0
A29: CM | AT29: =SUM(C29:AS29)/2 -> 0 | AV29: 10.15 | AW29: =AV29*1.04 -> 10.556 | AX29: =AW29*AT29 -> 0
C30: 30 | D30: 6 | E30: 30 | F30: 7 | G30: 30 | H30: 8 | I30: 30 | J30: 9 | K30: 30 | L30: 10 | M30: 30 | N30: 11 | O30: 30 | P30: 12 | Q30: 30 | R30: 13 | S30: 30 | T30: 14 | U30: 30 | V30: 15 | W30: 30 | X30: 16 | Y30: 30 | Z30: 17 | AA30: 30 | AB30: 18 | AC30: 30 | AD30: 19 | AE30: 30 | AF30: 20 | AG30: 30 | AH30: 21 | AI30: 30 | AJ30: 22 | AK30: 30 | AL30: 23 | AM30: 30 | AN30: 0 | AO30: 30 | AP30: 1 | AQ30: 30 | AR30: 2 | AS30: 30 | AX30: =SUM(AX6:AX29) -> 1090.856
B32: Total | C32: =SUM(C6:C29) -> 0 | D32: =SUM(D6:D29) -> 0 | E32: =SUM(E6:E29) -> 3 | F32: =SUM(F6:F29) -> 3 | G32: =SUM(G6:G29) -> 3 | H32: =SUM(H6:H29) -> 3 | I32: =SUM(I6:I29) -> 3 | J32: =SUM(J6:J29) -> 3 | ... AT32: =SUM(AT6:AT29) -> 86.5
I35: Sales | Q35: Hours | Y35: % Labor
I36: LY | L36: ='Weekly summary'!N10 -> 5400 | Q36: Matrix | T36: ='Weekly summary'!N13 -> 98.842462 | Y36: Matrix | AB36: =T36*14/L38*100 -> 25.409373
I37: LW | L37: ='Weekly summary'!N11 -> 5350 | Q37: Plan | T37: =AT32 -> 86.5 | Y37: Plan | AB37: =AX30/L38*100 -> 20.030408
I38: Forecast | L38: ='Weekly summary'!N12 -> 5446 | Q38: (+/-) | T38: =T37-T36 -> -12.342462 | Y38: (+/-) | AB38: =AB37-AB36 -> -5.3789656

Sheet Sheet1
E1: LABOR GUIDE MATRIX
B4: BK 24 Hours Service | H4: BK without the 24 Hours Service
B6: SALES | D6: HOURS | E6: Labor % | H6: SALES | J6: Hours | K6: Labor %
B8: 8000 | D8: 350 | E8: =(14*D8)/B8 -> 0.6125 | H8: 8000 | J8: =D8-84 -> 266 | K8: =(14*J8)/H8 -> 0.4655
B9: 9000 | D9: 350 | E9: =(14*D9)/B9 -> 0.54444444 | H9: 9000 | J9: =D9-84 -> 266 | K9: =(14*J9)/H9 -> 0.41377778
B10: 10000 | D10: 350 | E10: =(14*D10)/B10 -> 0.49 | H10: 10000 | J10: =D10-84 -> 266 | K10: =(14*J10)/H10 -> 0.3724
B11: 11000 | D11: 360 | E11: =(14*D11)/B11 -> 0.45818182 | H11: 11000 | J11: =D11-84 -> 276 | K11: =(14*J11)/H11 -> 0.35127273
B12: 12000 | D12: 370 | E12: =(14*D12)/B12 -> 0.43166667 | H12: 12000 | J12: =D12-84 -> 286 | K12: =(14*J12)/H12 -> 0.33366667
B13: 13000 | D13: 380 | E13: =(14*D13)/B13 -> 0.40923077 | H13: 13000 | J13: =D13-84 -> 296 | K13: =(14*J13)/H13 -> 0.31876923
B14: 14000 | D14: 390 | E14: =(14*D14)/B14 -> 0.39 | H14: 14000 | J14: =D14-84 -> 306 | K14: =(14*J14)/H14 -> 0.306
B15: 15000 | D15: 400 | E15: =(14*D15)/B15 -> 0.37333333 | H15: 15000 | J15: =D15-84 -> 316 | K15: =(14*J15)/H15 -> 0.29493333
B16: 16000 | D16: 420 | E16: =(14*D16)/B16 -> 0.3675 | H16: 16000 | J16: =D16-84 -> 336 | K16: =(14*J16)/H16 -> 0.294
B17: 17000 | D17: 430 | E17: =(14*D17)/B17 -> 0.35411765 | H17: 17000 | J17: =D17-84 -> 346 | K17: =(14*J17)/H17 -> 0.28494118
B18: 18000 | D18: 440 | E18: =(14*D18)/B18 -> 0.34222222 | H18: 18000 | J18: =D18-84 -> 356 | K18: =(14*J18)/H18 -> 0.27688889
B19: 19000 | D19: 440 | E19: =(14*D19)/B19 -> 0.32421053 | H19: 19000 | J19: =D19-84 -> 356 | K19: =(14*J19)/H19 -> 0.26231579
... B43: 43000 | D43: 680 | E43: =(14*D43)/B43 -> 0.22139535 | H43: 43000 | J43: =D43-84 -> 596 | K43: =(14*J43)/H43 -> 0.19404651
B45: *ACURATE FORECAST IS KEY TO LABOR EXECUTION
B47: *CONTROL SALES EXECUTION $100 UP ADD 1 HOUR, $100 DOWN REDUCE 3 HOUR
B49: *CONTROL KEY> EXECUTE BREAKS, PRE-CLOSE FOCUS AND HIGH PRODUCTIVETY
