Workbook

Sheet Bilan
A1: POLYCLINIQUE DE FURIANI | E1: ANALYSE DES EVENEMENTS INDESIRABLES
A3: NOMBRE TOTAL D'EVENEMENT INDESIRABLE | D3: =donnée!B42 -> 0 | G3: NOMBRE DE FICHE CLOTUREE | I3: =donnée!B48 -> 0
H4: TAUX DE CLOTURATION | I4: =donnée!B49 -> #DIV/0!

Sheet Aide
A1: Criticité du risque | R1: 3 critères :
A2: Gravité x Occurrence = Criticité | R2: Fréquence :
A3: (G x O = C ) | R3: Indice 1 : exceptionnelle (ex : 1x/an)
R4: Indice 2 : rare (ex : 1x/mois)
A5: Fréquence Gravité | B5: 1 | C5: 2 | D5: 3 | E5: 4 | R5: Indice 3 : fréquent (ex : 1x/sem)
A6: 1 | B6: 1 | C6: 2 | D6: 3 | E6: 4 | M6: Risque mineur | R6: Indice 4 : très fréquent (ex : 1 ou plrs x/jr)
A7: 2 | B7: 2 | C7: 4 | D7: 6 | E7: 8 | M7: Risque sérieux | R7: Gravité :
A8: 3 | B8: 3 | C8: 6 | D8: 9 | E8: 12 | M8: Risque critique | R8: Indice 1 : mineure (ex : sans dommage)
A9: 4 | B9: 4 | C9: 8 | D9: 12 | E9: 16 | R9: Indice 2 : significative (ex : pas d'impact pour la santé)
R10: Indice 3 : grave (ex : altération)
R11: Indice 4 : critique (ex : irréversibilité, risque vital)
A12: Niveau de risque | R12: Maîtrise :
A13: Criticité / Maîtrise = Niveau de risque | R13: Indice 1 : aucune action en place ou inefficace (on découvre le risque)
A14: (C / M = R) | R14: Indice 2 : quelques actions mais insuffisantes ou veille mais sans actions
R15: Indice 3 : procédures, plans d’actions, indicateurs définis « on a tout prévu »
A16: Criticité | B16: 1 | C16: 2 | D16: 3 | E16: 4 | F16: 6 | G16: 8 | H16: 9 | I16: 12 | J16: 16 | R16: Indice 4 : plans d’actions avec exercices et formations ; veille, amélioration continue (on sait faire face)
A17: Maitrise | M17: Niveau de risque acceptable --> priorité 3
A18: 1 | B18: 1 | C18: 2 | D18: 3 | E18: 4 | F18: 6 | G18: 8 | H18: 9 | I18: 12 | J18: 16 | M18: Niveau de risque important --> priorité 2
A19: 2 | B19: 0.5 | C19: 1 | D19: 1.5 | E19: 2 | F19: 3 | G19: 4 | H19: 4.5 | I19: 6 | J19: 8 | M19: Niveau de risque critique --> priorité 1
A20: 3 | B20: 0.33 | C20: 0.66 | D20: 1 | E20: 1.33 | F20: 2 | G20: 2.66 | H20: 3 | I20: 4 | J20: 5.33
A21: 4 | B21: 0.25 | C21: 0.5 | D21: 0.75 | E21: 1 | F21: 1.5 | G21: 2 | H21: 2.25 | I21: 3 | J21: 4 | L21: Priorité | M21: Signification
L22: 1 | M22: Action à mener immédiatement
L23: 2 | M23: Action à mener à court et moyen terme
L24: 3 | M24: Mise en place d'action non prioritaire

Sheet Tab
B1: POLYCLINIQUE DE FURIANI | X1: http://forum.excel-pratique.com/excel/colorier-certaines-cellules-en-fonction-de-condition-t39154.html
F2: ANALYSE DES EVENEMENTS INDESIRABLES | K2: EN.Qua.13 - Avril 2013
A4: SIGNALEMENT | G4: DESCRIPTION | N4: CRITICITE | Q4: Niveau de Risque | T4: SUIVI DE L'EVENEMENT INDESIRABLE
A5: Date EI | B5: Date du signalement | C5: N° | D5: Nom de l'émetteur | E5: Service | F5: Date de reception | G5: Type EI | H5: Description | I5: Lieu | J5: Personne concernée | K5: Identitée personne | L5: Plainte prévisible | M5: Consequence | N5: G | O5: O | P5: C | Q5: M | R5: R | S5: Priorité | T5: Actions correctives & préventives | U5: Responsable | V5: Suivi | W5: Date de cloture
N6: 1 | O6: 1 | P6: =N6*O6 -> 1 | R6: =P6/Q6 -> #DIV/0!
N7: 1 | O7: 2 | P7: =N7*O7 -> 2 | R7: =P7/Q7 -> #DIV/0!
N8: 1 | O8: 3 | P8: =N8*O8 -> 3 | R8: =P8/Q8 -> #DIV/0!
N9: 1 | O9: 4 | P9: =N9*O9 -> 4 | R9: =P9/Q9 -> #DIV/0!
N10: 2 | O10: 1 | P10: =N10*O10 -> 2 | R10: =P10/Q10 -> #DIV/0!
N11: 2 | O11: 2 | P11: =N11*O11 -> 4 | R11: =P11/Q11 -> #DIV/0!
N12: 2 | O12: 3 | P12: =N12*O12 -> 6 | R12: =P12/Q12 -> #DIV/0!
N13: 2 | O13: 4 | P13: =N13*O13 -> 8 | R13: =P13/Q13 -> #DIV/0!
N14: 3 | O14: 1 | P14: =N14*O14 -> 3 | R14: =P14/Q14 -> #DIV/0!
N15: 3 | O15: 2 | P15: =N15*O15 -> 6 | R15: =P15/Q15 -> #DIV/0!
N16: 3 | O16: 3 | P16: =N16*O16 -> 9 | R16: =P16/Q16 -> #DIV/0!
N17: 3 | O17: 4 | P17: =N17*O17 -> 12 | R17: =P17/Q17 -> #DIV/0!
... N21: 4 | O21: 4 | P21: =N21*O21 -> 16 | R21: =P21/Q21 -> #DIV/0!
P22: =N22*O22 -> 0 | R22: =P22/Q22 -> #DIV/0!
P23: =N23*O23 -> 0 | R23: =P23/Q23 -> #DIV/0!
P24: =N24*O24 -> 0 | R24: =P24/Q24 -> #DIV/0!
N25: 2 | O25: 4 | P25: =N25*O25 -> 8 | R25: =P25/Q25 -> #DIV/0!
P26: =N26*O26 -> 0 | R26: =P26/Q26 -> #DIV/0!
P27: =N27*O27 -> 0 | R27: =P27/Q27 -> #DIV/0!
P28: =N28*O28 -> 0 | R28: =P28/Q28 -> #DIV/0!
N29: 4 | O29: 1 | P29: =N29*O29 -> 4 | R29: =P29/Q29 -> #DIV/0!
P30: =N30*O30 -> 0 | R30: =P30/Q30 -> #DIV/0!
P31: =N31*O31 -> 0 | R31: =P31/Q31 -> #DIV/0!
P32: =N32*O32 -> 0 | R32: =P32/Q32 -> #DIV/0!
N33: 3 | O33: 3 | P33: =N33*O33 -> 9 | R33: =P33/Q33 -> #DIV/0!
P34: =N34*O34 -> 0 | R34: =P34/Q34 -> #DIV/0!
P35: =N35*O35 -> 0 | R35: =P35/Q35 -> #DIV/0!
P36: =N36*O36 -> 0 | R36: =P36/Q36 -> #DIV/0!
P37: =N37*O37 -> 0 | R37: =P37/Q37 -> #DIV/0!
P38: =N38*O38 -> 0 | R38: =P38/Q38 -> #DIV/0!
P39: =N39*O39 -> 0 | R39: =P39/Q39 -> #DIV/0!
P40: =N40*O40 -> 0 | R40: =P40/Q40 -> #DIV/0!
P41: =N41*O41 -> 0 | R41: =P41/Q41 -> #DIV/0!
P42: =N42*O42 -> 0 | R42: =P42/Q42 -> #DIV/0!
P43: =N43*O43 -> 0 | R43: =P43/Q43 -> #DIV/0!
P44: =N44*O44 -> 0 | R44: =P44/Q44 -> #DIV/0!
P45: =N45*O45 -> 0 | R45: =P45/Q45 -> #DIV/0!
... P200: =N200*O200 -> 0 | R200: =P200/Q200 -> #DIV/0!

Sheet donnée
A1: Information patient | B1: 1 - défaut d'information | H1: =COUNTIF(Tab!G6:G200,"1 - défaut d'information") -> 0 | J1: G | K1: O | L1: M | M1: Plainte | N1: Conséquence | P1: Personne concernée
B2: 2 - défaut de confidentialité | H2: =COUNTIF(Tab!G6:G200,"2 - défaut de confidentialité") -> 0 | J2: 1 | K2: 1 | L2: 1 | M2: Oui | N2: Pas d'impact | P2: Praticien
B3: 3 - information erronée donnée au patient | H3: =COUNTIF(Tab!G6:G200,"3 - information erronée donnée au patient") -> 0 | J3: 2 | K3: 2 | L3: 2 | M3: Non | N3: insatisfaction | P3: Personnel
A4: Coordination des soins | B4: 4 - défaut dans le processus d'admission | H4: =COUNTIF(Tab!G6:G200,"4 - défaut dans le processus d'admission") -> 0 | J4: 3 | K4: 3 | L4: 3 | M4: Ne sais pas | N4: Préjudice moral | P4: Patient
B5: 5 - report/retard imprévu (intervention, examen, soins) | H5: =COUNTIF(Tab!G6:G200,"5 - report/retard imprévu (intervention, examen, soins)") -> 0 | J5: 4 | K5: 4 | L5: 4 | N5: Préjudice physique | P5: Visiteur
B6: 6 - défaut de coordination / de transmission d'information | H6: =COUNTIF(Tab!G6:G200,"6 - défaut de coordination / de transmission d'information") -> 0 | N6: Arret de travail prévisible
B7: 7 - patient mal / non préparé | H7: =COUNTIF(Tab!G6:G200,"7 - patient mal / non préparé") -> 0 | N7: Décès
B8: 8 - défaut de fonctionnement / absence de matériel | H8: =COUNTIF(Tab!G6:G200,"8 - défaut de fonctionnement / absence de matériel") -> 0 | N8: Autre
B9: 9 - rupture de stock | H9: =COUNTIF(Tab!G6:G200,"9 - rupture de stock") -> 0
B10: 10 - dossier incomplet | H10: =COUNTIF(Tab!G6:G200,"10 - dossier incomplet") -> 0
B11: 11 - dossier introuvable | H11: =COUNTIF(Tab!G6:G200,"11 - dossier introuvable") -> 0
B12: 12 - défaut de la procédure de sortie de la clinique | H12: =COUNTIF(Tab!G6:G200,"12 - défaut de la procédure de sortie de la clinique") -> 0
A13: Traitement | B13: 13 - absence de prescription écrite | H13: =COUNTIF(Tab!G6:G200,"13 - absence de prescription écrite") -> 0
B14: 14 - erreur dans l'administration du traitement | H14: =COUNTIF(Tab!G6:G200,"14 - erreur dans l'administration du traitement") -> 0
A15: Vigilances | B15: 15 - incident / accident transfusionnel | H15: =COUNTIF(Tab!G6:G200,"15 - incident / accident transfusionnel") -> 0
B16: 16 - incident / accident médicamenteux | H16: =COUNTIF(Tab!G6:G200,"16 - incident / accident médicamenteux") -> 0
B17: 17 - incident /accident de matériel médical | H17: =COUNTIF(Tab!G6:G200,"17 - incident /accident de matériel médical") -> 0
A18: Risque infectieux et toxiques | B18: 18 - AES / piqure / coupure / brulure / blessure / projection | H18: =COUNTIF(Tab!G6:G200,"18 - AES / piqure / coupure / brulure / blessure / projection") -> 0
B19: 19 - non signalement d'un patient infecté | H19: =COUNTIF(Tab!G6:G200,"19 - non signalement d'un patient infecté") -> 0
B20: 20 - prélévements bactériologique environnementaux hors norme | H20: =COUNTIF(Tab!G6:G200,"20 - prélévements bactériologique environnementaux hors norme") -> 0
A21: Sécurité des biens et des personnes | B21: 21 - erreur identité patient | H21: =COUNTIF(Tab!G6:G200,"21 - erreur identité patient") -> 0
B22: 22 - disparition matériel / objet personnel | H22: =COUNTIF(Tab!G6:G200,"22 - disparition matériel / objet personnel") -> 0
B23: 23 - dégradation matériel / objet personnel | H23: =COUNTIF(Tab!G6:G200,"23 - dégradation matériel / objet personnel") -> 0
B24: 24 - incendie | H24: =COUNTIF(Tab!G6:G200,"24 - incendie") -> 0
B25: 25 - tabac dans espaces non fumeur | H25: =COUNTIF(Tab!G6:G200,"25 - tabac dans espaces non fumeur") -> 0
B26: 26 - dégât des eaux | H26: =COUNTIF(Tab!G6:G200,"26 - dégât des eaux") -> 0
B27: 27 - défaut de fonctionnement d'un système de sécurité | H27: =COUNTIF(Tab!G6:G200,"27 - défaut de fonctionnement d'un système de sécurité") -> 0
B28: 28 - chute | H28: =COUNTIF(Tab!G6:G200,"28 - chute") -> 0
B29: 29 - non respect tri / élimination des déchets | H29: =COUNTIF(Tab!G6:G200,"29 - non respect tri / élimination des déchets") -> 0
A30: Comportement | B30: 30 - sortie contre avis médical | H30: =COUNTIF(Tab!G6:G200,"30 - sortie contre avis médical") -> 0
B31: 31 - refus de soins par le patient | H31: =COUNTIF(Tab!G6:G200,"31 - refus de soins par le patient") -> 0
B32: 32 - fugue | H32: =COUNTIF(Tab!G6:G200,"32 - fugue") -> 0
B33: 33 - conflit (patient/visiteur/personnel) | H33: =COUNTIF(Tab!G6:G200,"33 - conflit (patient/visiteur/personnel)") -> 0
A34: Hotellerie | B34: 34 - chambre non préparée / pb de propreté | H34: =COUNTIF(Tab!G6:G200,"34 - chambre non préparée / pb de propreté") -> 0
B35: 35 - souhait du patient non respecté | H35: =COUNTIF(Tab!G6:G200,"35 - souhait du patient non respecté") -> 0
B36: 36 - régime alimentaire non resecté | H36: =COUNTIF(Tab!G6:G200,"36 - régime alimentaire non resecté") -> 0
A37: Autre | B37: 37 - autre | H37: =COUNTIF(Tab!G6:G200,"37 - autre") -> 0
A42: Nombre EI TOTAL | B42: =COUNTA(Tab!A6:A200) -> 0
B43: Janvier | C43: Février | D43: Mars | E43: Avril | F43: Mai | G43: Juin | H43: Juillet | I43: Août | J43: Septembre | K43: Octobre | L43: Novembre | M43: Décembre
B44: =SUMPRODUCT((Tab!A6:A200>=DATEVALUE("01/01/2013"))*(Tab!A6:A200<=DATEVALUE("31/01/2013"))) -> 0 | C44: =SUMPRODUCT((Tab!A6:A200>=DATEVALUE("01/02/2013"))*(Tab!A6:A200<=DATEVALUE("28/02/2013"))) -> 0 | D44: =SUMPRODUCT((Tab!A6:A200>=DATEVALUE("01/03/2013"))*(Tab!A6:A200<=DATEVALUE("31/03/2013"))) -> 0 | E44: =SUMPRODUCT((Tab!A6:A200>=DATEVALUE("01/04/2013"))*(Tab!A6:A200<=DATEVALUE("30/04/2013"))) -> 0 | F44: =SUMPRODUCT((Tab!A6:A200>=DATEVALUE("01/05/2013"))*(Tab!A6:A200<=DATEVALUE("31/05/2013"))) -> 0 | G44: =SUMPRODUCT((Tab!A6:A200>=DATEVALUE("01/06/2013"))*(Tab!A6:A200<=DATEVALUE("30/06/2013"))) -> 0 | H44: =SUMPRODUCT((Tab!A6:A200>=DATEVALUE("01/07/2013"))*(Tab!A6:A200<=DATEVALUE("31/07/2013"))) -> 0 | I44: =SUMPRODUCT((Tab!A6:A200>=DATEVALUE("01/08/2013"))*(Tab!A6:A200<=DATEVALUE("31/08/2013"))) -> 0 | J44: =SUMPRODUCT((Tab!A6:A200>=DATEVALUE("01/09/2013"))*(Tab!A6:A200<=DATEVALUE("30/09/2013"))) -> 0 | K44: =SUMPRODUCT((Tab!A6:A200>=DATEVALUE("01/10/2013"))*(Tab!A6:A200<=DATEVALUE("31/10/2013"))) -> 0 | L44: =SUMPRODUCT((Tab!A6:A200>=DATEVALUE("01/11/2013"))*(Tab!A6:A200<=DATEVALUE("30/11/2013"))) -> 0 | M44: =SUMPRODUCT((Tab!A6:A200>=DATEVALUE("01/12/2013"))*(Tab!A6:A200<=DATEVALUE("31/12/2013"))) -> 0
A48: Nb d'EI cloturé | B48: =COUNTA(Tab!W6:W200) -> 0
A49: taux cloturé | B49: =B48/B42 -> #DIV/0!
A56: Nombre de plainte prévisible | B56: =COUNTIF(Tab!L6:L200,"Oui") -> 0 | D56: Nb d'EI déclaré critique | F56: =COUNTIF(Tab!N6:N200,4) -> 5
A57: ne sais pas | B57: =COUNTIF(Tab!L6:L200,"Ne sais pas") -> 0 | D57: Nb d'EI déclaré grave | F57: =COUNTIF(Tab!N6:N200,3) -> 5
A58: non | B58: =COUNTIF(Tab!L6:L200,"Non") -> 0 | D58: Nb d'EI déclaré significatif | F58: =COUNTIF(Tab!N6:N200,2) -> 5
D59: Nb d'EI déclaré mineur | F59: =COUNTIF(Tab!N6:N200,1) -> 4
