Workbook

Sheet Bilan
S2: http://forum.excel-pratique.com/excel/calcul-nombre-de-linges-conditionnelles-t38053.html
A8: Semaine | B8: 1 | C8: 2 | D8: 3 | E8: 4 | F8: 5 | G8: 6 | H8: 7 | I8: 8 | J8: 9 | K8: 10 | L8: 11 | M8: 12 | N8: 13 | O8: 14 | P8: 15 | Q8: 16 | R8: 17 | S8: 18 | T8: 19 | U8: 20 | V8: 21 | W8: 22 | X8: 23 | Y8: 24 | Z8: 25 | AA8: 26 | AB8: 27 | AC8: 28 | AD8: 29 | AE8: 30 | AF8: 31 | AG8: 32 | AH8: 33 | AI8: 34 | AJ8: 35 | AK8: 36 | AL8: 37 | AM8: 38 | AN8: 39 | AO8: 40 | AP8: 41 | AQ8: 42 | AR8: 43 | AS8: 44 | AT8: 45 | AU8: 46 | AV8: 47 | AW8: 48 | AX8: 49 | AY8: 50 | AZ8: 51 | BA8: 52
A9: Demande Echaf | B9: 1 | C9: 0 | D9: 1 | E9: 0 | F9: 0 | G9: 0 | H9: 0 | I9: 0 | J9: 0 | K9: 0 | L9: 1 | M9: 1 | N9: 25
A10: Demande Décalo | B10: 0 | C10: 0 | D10: 0 | E10: 0 | F10: 0 | G10: 0 | H10: 0 | I10: 0 | J10: 0 | K10: 0 | L10: 0 | M10: 0 | N10: 18
A11: Demande SAS | B11: 1 | C11: 0 | D11: 0 | E11: 0 | F11: 0 | G11: 0 | H11: 0 | I11: 0 | J11: 0 | K11: 0 | L11: 0 | M11: 0 | N11: 5
A12: Demande Conf | B12: 0 | C12: 0 | D12: 1 | E12: 0 | F12: 0 | G12: 0 | H12: 0 | I12: 0 | J12: 0 | K12: 0 | L12: 1 | M12: 1 | N12: 16
A13: Demande Probio | B13: 0 | C13: 0 | D13: 0 | E13: 0 | F13: 0 | G13: 0 | H13: 0 | I13: 0 | J13: 0 | K13: 0 | L13: 1 | M13: 0 | N13: 3
A14: Demande Ramb | B14: 0 | C14: 0 | D14: 1 | E14: 0 | F14: 0 | G14: 0 | H14: 0 | I14: 0 | J14: 0 | K14: 0 | L14: 1 | M14: 0 | N14: 1
A15: Demade Net | B15: 0 | C15: 0 | D15: 1 | E15: 0 | F15: 0 | G15: 0 | H15: 0 | I15: 0 | J15: 0 | K15: 0 | L15: 0 | M15: 1 | N15: 4
A17: echafaudage | B17: =SUMPRODUCT(N((INT(MOD(INT((bd!$A$2:$A$783-2)/7)+0.6,52+5/28))+1)=B$8)*(bd!$B$2:$B$783=$A17)) -> 1 | C17: =SUMPRODUCT(N((INT(MOD(INT((bd!$A$2:$A$783-2)/7)+0.6,52+5/28))+1)=C$8)*(bd!$B$2:$B$783=$A17)) -> 0 | D17: =SUMPRODUCT(N((INT(MOD(INT((bd!$A$2:$A$783-2)/7)+0.6,52+5/28))+1)=D$8)*(bd!$B$2:$B$783=$A17)) -> 1 | E17: =SUMPRODUCT(N((INT(MOD(INT((bd!$A$2:$A$783-2)/7)+0.6,52+5/28))+1)=E$8)*(bd!$B$2:$B$783=$A17)) -> 0 | F17: =SUMPRODUCT(N((INT(MOD(INT((bd!$A$2:$A$783-2)/7)+0.6,52+5/28))+1)=F$8)*(bd!$B$2:$B$783=$A17)) -> 0 | G17: =SUMPRODUCT(N((INT(MOD(INT((bd!$A$2:$A$783-2)/7)+0.6,52+5/28))+1)=G$8)*(bd!$B$2:$B$783=$A17)) -> 0 | H17: =SUMPRODUCT(N((INT(MOD(INT((bd!$A$2:$A$783-2)/7)+0.6,52+5/28))+1)=H$8)*(bd!$B$2:$B$783=$A17)) -> 0 | I17: =SUMPRODUCT(N((INT(MOD(INT((bd!$A$2:$A$783-2)/7)+0.6,52+5/28))+1)=I$8)*(bd!$B$2:$B$783=$A17)) -> 0 | ... BA17: =SUMPRODUCT(N((INT(MOD(INT((bd!$A$2:$A$783-2)/7)+0.6,52+5/28))+1)=BA$8)*(bd!$B$2:$B$783=$A17)) -> 1
A18: decalo | B18: =SUMPRODUCT(N((INT(MOD(INT((bd!$A$2:$A$783-2)/7)+0.6,52+5/28))+1)=B$8)*(bd!$B$2:$B$783=$A18)) -> 0 | C18: =SUMPRODUCT(N((INT(MOD(INT((bd!$A$2:$A$783-2)/7)+0.6,52+5/28))+1)=C$8)*(bd!$B$2:$B$783=$A18)) -> 0 | D18: =SUMPRODUCT(N((INT(MOD(INT((bd!$A$2:$A$783-2)/7)+0.6,52+5/28))+1)=D$8)*(bd!$B$2:$B$783=$A18)) -> 0 | E18: =SUMPRODUCT(N((INT(MOD(INT((bd!$A$2:$A$783-2)/7)+0.6,52+5/28))+1)=E$8)*(bd!$B$2:$B$783=$A18)) -> 0 | F18: =SUMPRODUCT(N((INT(MOD(INT((bd!$A$2:$A$783-2)/7)+0.6,52+5/28))+1)=F$8)*(bd!$B$2:$B$783=$A18)) -> 0 | G18: =SUMPRODUCT(N((INT(MOD(INT((bd!$A$2:$A$783-2)/7)+0.6,52+5/28))+1)=G$8)*(bd!$B$2:$B$783=$A18)) -> 0 | H18: =SUMPRODUCT(N((INT(MOD(INT((bd!$A$2:$A$783-2)/7)+0.6,52+5/28))+1)=H$8)*(bd!$B$2:$B$783=$A18)) -> 0 | I18: =SUMPRODUCT(N((INT(MOD(INT((bd!$A$2:$A$783-2)/7)+0.6,52+5/28))+1)=I$8)*(bd!$B$2:$B$783=$A18)) -> 0 | ... BA18: =SUMPRODUCT(N((INT(MOD(INT((bd!$A$2:$A$783-2)/7)+0.6,52+5/28))+1)=BA$8)*(bd!$B$2:$B$783=$A18)) -> 7
A19: SAS | B19: =SUMPRODUCT(N((INT(MOD(INT((bd!$A$2:$A$783-2)/7)+0.6,52+5/28))+1)=B$8)*(bd!$B$2:$B$783=$A19)) -> 1 | C19: =SUMPRODUCT(N((INT(MOD(INT((bd!$A$2:$A$783-2)/7)+0.6,52+5/28))+1)=C$8)*(bd!$B$2:$B$783=$A19)) -> 0 | D19: =SUMPRODUCT(N((INT(MOD(INT((bd!$A$2:$A$783-2)/7)+0.6,52+5/28))+1)=D$8)*(bd!$B$2:$B$783=$A19)) -> 0 | E19: =SUMPRODUCT(N((INT(MOD(INT((bd!$A$2:$A$783-2)/7)+0.6,52+5/28))+1)=E$8)*(bd!$B$2:$B$783=$A19)) -> 0 | F19: =SUMPRODUCT(N((INT(MOD(INT((bd!$A$2:$A$783-2)/7)+0.6,52+5/28))+1)=F$8)*(bd!$B$2:$B$783=$A19)) -> 0 | G19: =SUMPRODUCT(N((INT(MOD(INT((bd!$A$2:$A$783-2)/7)+0.6,52+5/28))+1)=G$8)*(bd!$B$2:$B$783=$A19)) -> 0 | H19: =SUMPRODUCT(N((INT(MOD(INT((bd!$A$2:$A$783-2)/7)+0.6,52+5/28))+1)=H$8)*(bd!$B$2:$B$783=$A19)) -> 0 | I19: =SUMPRODUCT(N((INT(MOD(INT((bd!$A$2:$A$783-2)/7)+0.6,52+5/28))+1)=I$8)*(bd!$B$2:$B$783=$A19)) -> 0 | ... BA19: =SUMPRODUCT(N((INT(MOD(INT((bd!$A$2:$A$783-2)/7)+0.6,52+5/28))+1)=BA$8)*(bd!$B$2:$B$783=$A19)) -> 1
A20: confinement | B20: =SUMPRODUCT(N((INT(MOD(INT((bd!$A$2:$A$783-2)/7)+0.6,52+5/28))+1)=B$8)*(bd!$B$2:$B$783=$A20)) -> 0 | C20: =SUMPRODUCT(N((INT(MOD(INT((bd!$A$2:$A$783-2)/7)+0.6,52+5/28))+1)=C$8)*(bd!$B$2:$B$783=$A20)) -> 0 | D20: =SUMPRODUCT(N((INT(MOD(INT((bd!$A$2:$A$783-2)/7)+0.6,52+5/28))+1)=D$8)*(bd!$B$2:$B$783=$A20)) -> 1 | E20: =SUMPRODUCT(N((INT(MOD(INT((bd!$A$2:$A$783-2)/7)+0.6,52+5/28))+1)=E$8)*(bd!$B$2:$B$783=$A20)) -> 0 | F20: =SUMPRODUCT(N((INT(MOD(INT((bd!$A$2:$A$783-2)/7)+0.6,52+5/28))+1)=F$8)*(bd!$B$2:$B$783=$A20)) -> 0 | G20: =SUMPRODUCT(N((INT(MOD(INT((bd!$A$2:$A$783-2)/7)+0.6,52+5/28))+1)=G$8)*(bd!$B$2:$B$783=$A20)) -> 0 | H20: =SUMPRODUCT(N((INT(MOD(INT((bd!$A$2:$A$783-2)/7)+0.6,52+5/28))+1)=H$8)*(bd!$B$2:$B$783=$A20)) -> 0 | I20: =SUMPRODUCT(N((INT(MOD(INT((bd!$A$2:$A$783-2)/7)+0.6,52+5/28))+1)=I$8)*(bd!$B$2:$B$783=$A20)) -> 0 | ... BA20: =SUMPRODUCT(N((INT(MOD(INT((bd!$A$2:$A$783-2)/7)+0.6,52+5/28))+1)=BA$8)*(bd!$B$2:$B$783=$A20)) -> 12
A21: pro_bio | B21: =SUMPRODUCT(N((INT(MOD(INT((bd!$A$2:$A$783-2)/7)+0.6,52+5/28))+1)=B$8)*(bd!$B$2:$B$783=$A21)) -> 0 | C21: =SUMPRODUCT(N((INT(MOD(INT((bd!$A$2:$A$783-2)/7)+0.6,52+5/28))+1)=C$8)*(bd!$B$2:$B$783=$A21)) -> 0 | D21: =SUMPRODUCT(N((INT(MOD(INT((bd!$A$2:$A$783-2)/7)+0.6,52+5/28))+1)=D$8)*(bd!$B$2:$B$783=$A21)) -> 0 | E21: =SUMPRODUCT(N((INT(MOD(INT((bd!$A$2:$A$783-2)/7)+0.6,52+5/28))+1)=E$8)*(bd!$B$2:$B$783=$A21)) -> 0 | F21: =SUMPRODUCT(N((INT(MOD(INT((bd!$A$2:$A$783-2)/7)+0.6,52+5/28))+1)=F$8)*(bd!$B$2:$B$783=$A21)) -> 0 | G21: =SUMPRODUCT(N((INT(MOD(INT((bd!$A$2:$A$783-2)/7)+0.6,52+5/28))+1)=G$8)*(bd!$B$2:$B$783=$A21)) -> 0 | H21: =SUMPRODUCT(N((INT(MOD(INT((bd!$A$2:$A$783-2)/7)+0.6,52+5/28))+1)=H$8)*(bd!$B$2:$B$783=$A21)) -> 0 | I21: =SUMPRODUCT(N((INT(MOD(INT((bd!$A$2:$A$783-2)/7)+0.6,52+5/28))+1)=I$8)*(bd!$B$2:$B$783=$A21)) -> 0 | ... BA21: =SUMPRODUCT(N((INT(MOD(INT((bd!$A$2:$A$783-2)/7)+0.6,52+5/28))+1)=BA$8)*(bd!$B$2:$B$783=$A21)) -> 1
A22: rambarde | B22: =SUMPRODUCT(N((INT(MOD(INT((bd!$A$2:$A$783-2)/7)+0.6,52+5/28))+1)=B$8)*(bd!$B$2:$B$783=$A22)) -> 0 | C22: =SUMPRODUCT(N((INT(MOD(INT((bd!$A$2:$A$783-2)/7)+0.6,52+5/28))+1)=C$8)*(bd!$B$2:$B$783=$A22)) -> 0 | D22: =SUMPRODUCT(N((INT(MOD(INT((bd!$A$2:$A$783-2)/7)+0.6,52+5/28))+1)=D$8)*(bd!$B$2:$B$783=$A22)) -> 1 | E22: =SUMPRODUCT(N((INT(MOD(INT((bd!$A$2:$A$783-2)/7)+0.6,52+5/28))+1)=E$8)*(bd!$B$2:$B$783=$A22)) -> 0 | F22: =SUMPRODUCT(N((INT(MOD(INT((bd!$A$2:$A$783-2)/7)+0.6,52+5/28))+1)=F$8)*(bd!$B$2:$B$783=$A22)) -> 0 | G22: =SUMPRODUCT(N((INT(MOD(INT((bd!$A$2:$A$783-2)/7)+0.6,52+5/28))+1)=G$8)*(bd!$B$2:$B$783=$A22)) -> 0 | H22: =SUMPRODUCT(N((INT(MOD(INT((bd!$A$2:$A$783-2)/7)+0.6,52+5/28))+1)=H$8)*(bd!$B$2:$B$783=$A22)) -> 0 | I22: =SUMPRODUCT(N((INT(MOD(INT((bd!$A$2:$A$783-2)/7)+0.6,52+5/28))+1)=I$8)*(bd!$B$2:$B$783=$A22)) -> 0 | ... BA22: =SUMPRODUCT(N((INT(MOD(INT((bd!$A$2:$A$783-2)/7)+0.6,52+5/28))+1)=BA$8)*(bd!$B$2:$B$783=$A22)) -> 0
A23: nettoyage | B23: =SUMPRODUCT(N((INT(MOD(INT((bd!$A$2:$A$783-2)/7)+0.6,52+5/28))+1)=B$8)*(bd!$B$2:$B$783=$A23)) -> 0 | C23: =SUMPRODUCT(N((INT(MOD(INT((bd!$A$2:$A$783-2)/7)+0.6,52+5/28))+1)=C$8)*(bd!$B$2:$B$783=$A23)) -> 0 | D23: =SUMPRODUCT(N((INT(MOD(INT((bd!$A$2:$A$783-2)/7)+0.6,52+5/28))+1)=D$8)*(bd!$B$2:$B$783=$A23)) -> 1 | E23: =SUMPRODUCT(N((INT(MOD(INT((bd!$A$2:$A$783-2)/7)+0.6,52+5/28))+1)=E$8)*(bd!$B$2:$B$783=$A23)) -> 0 | F23: =SUMPRODUCT(N((INT(MOD(INT((bd!$A$2:$A$783-2)/7)+0.6,52+5/28))+1)=F$8)*(bd!$B$2:$B$783=$A23)) -> 0 | G23: =SUMPRODUCT(N((INT(MOD(INT((bd!$A$2:$A$783-2)/7)+0.6,52+5/28))+1)=G$8)*(bd!$B$2:$B$783=$A23)) -> 0 | H23: =SUMPRODUCT(N((INT(MOD(INT((bd!$A$2:$A$783-2)/7)+0.6,52+5/28))+1)=H$8)*(bd!$B$2:$B$783=$A23)) -> 0 | I23: =SUMPRODUCT(N((INT(MOD(INT((bd!$A$2:$A$783-2)/7)+0.6,52+5/28))+1)=I$8)*(bd!$B$2:$B$783=$A23)) -> 0 | ... BA23: =SUMPRODUCT(N((INT(MOD(INT((bd!$A$2:$A$783-2)/7)+0.6,52+5/28))+1)=BA$8)*(bd!$B$2:$B$783=$A23)) -> 1

Sheet Calendrier
A1: semaine | B1: Jour
A2: 1 | B2: 41275 | C2: Mardi
A3: 1 | B3: 41276 | C3: Mercredi
A4: 1 | B4: 41277 | C4: Jeudi
A5: 1 | B5: 41278 | C5: Vendredi
A6: 1 | B6: 41279 | C6: Samedi
A7: 1 | B7: 41280 | C7: Dimanche
A8: 2 | B8: 41281 | C8: Lundi
A9: 2 | B9: 41282 | C9: Mardi
A10: 2 | B10: 41283 | C10: Mercredi
A11: 2 | B11: 41284 | C11: Jeudi
A12: 2 | B12: 41285 | C12: Vendredi
A13: 2 | B13: 41286 | C13: Samedi
... A366: 53 | B366: 41639 | C366: Mardi

Sheet bd
A1: Tâche réalisation fin au plus tard le | B1: Prestation | C1: Prestation réalisée le | D1: Repli réalisé le
A2: 41366.333 | B2: echafaudage
A3: 41366.333 | B3: echafaudage
A4: 41366.333 | B4: echafaudage
A5: 41366.333 | B5: echafaudage
A6: 41380.333 | B6: echafaudage
A7: 41366.333 | B7: echafaudage
A8: 41366.333 | B8: echafaudage
A9: 41366.333 | B9: echafaudage
A10: 41366.333 | B10: echafaudage
A11: 41379.333 | B11: echafaudage
A12: 41372.292 | B12: echafaudage
A13: 41372.5 | B13: echafaudage
... A23: 41383.333 | B23: echafaudage
B24: echafaudage
A25: 41382.562 | B25: echafaudage
A26: 41366.333 | B26: echafaudage
A27: 41366.333 | B27: echafaudage
A28: 41381.604 | B28: echafaudage
A29: 41366.333 | B29: echafaudage
A30: 41366.333 | B30: echafaudage
A31: 41366.333 | B31: echafaudage
A32: 41366.333 | B32: echafaudage
A33: 41366.333 | B33: echafaudage
A34: 41394.333 | B34: echafaudage
A35: 41366.333 | B35: echafaudage
A36: 41366.333 | B36: echafaudage
... A325: 41449.833 | B325: decalo
B326: decalo
A327: 41381.604 | B327: decalo
A328: 41366.333 | B328: decalo
A329: 41381.604 | B329: decalo
A330: 41407.333 | B330: decalo
A331: 41407.333 | B331: decalo
A332: 41362.333 | B332: decalo
A333: 41362.333 | B333: decalo
A334: 41372.333 | B334: decalo
A335: 41372.333 | B335: decalo
A336: 41437.333 | B336: decalo
A337: 41358.333 | B337: decalo
...

Sheet Feuil1
