Workbook

Sheet Matrice
A1: 453 | B1: ALLIANZ
A2: 430 | B2: ACTUAL (CG)
A3: 4005 | B3: BANQUE COURTOIS
A4: 4006 | B4: BANQUE TARNEAUD
A5: 4004 | B5: BNP
A6: 459 | B6: BNP Banque de Bretagne
A7: 477 | B7: BOUYGUES
A8: 486 | B8: BPA ATLANTIQUE
A9: 373 | B9: CACHE CACHE
A10: 472 | B10: CARREFOUR
A11: 435 | B11: CITROEN France
A12: 432 | B12: CITROEN IVC
A13: 432a | B13: CITROEN UN SENS
A14: 374 | B14: Contractant Général
A15: 4001 | B15: Ex erbat
A16: 417 | B16: Maintenance
A17: 374 | B17: CREDIT MUTUEL
A18: 417 | B18: CREDIT MUTUEL
A19: 462 | B19: ERAM
A20: 343 | B20: GROUPAMA
A21: 449 | B21: HSBC
A22: 469 | B22: NETTO
A23: 485 | B23: ITM 2015
A24: 479 | B24: ITM DRIVE
B25: INTERMARCHE
A26: 473 | B26: JENNYFER
A27: 401 | B27: MACIF
A28: 452 | B28: MACIF
A29: 481 | B29: Metro Linéaire
A30: 431 | B30: METRO
A31: 457 | B31: METRO
A32: 394 | B32: MMA
B33: MSA
A34: 445 | B34: Peugeot
A35: 467 | B35: Audit
A36: 460 | B36: Peugeot Moc
A37: 475 | B37: Vie du reseau
A38: 445 | B38: PEUGEOT
A39: 460 | B39: Peugeot
A40: 438 | B40: POIVRE ROUGE
A41: 476 | B41: RENAULT
A42: 478 | B42: SG Convoyeurs
A43: 1007 | B43: SG MOC
B44: SOCIETE GENERALE
A45: 4005 | B45: YR ex-erbat
A46: 436 | B46: YR Audit
A47: 458 | B47: YR Audit Benelux
A48: 423 | B48: YR Contrat Cadre survey
A49: 465 | B49: Locaux Annexes
A50: 470 | B50: Prévention des risques
A51: 436 | B51: YVES ROCHER
A52: 423 | B52: YVES ROCHER
A53: 482 | B53: TOYOTA
A54: 489 | B54: TETRIS
B55: DIVERS

Sheet Ratio
A1: N°AFFAIRE | C1: JANVIER | D1: FEVRIER | E1: MARS | F1: AVRIL | G1: MAI | H1: JUIN | I1: JUILLET | J1: AOUT | K1: SEPTEMBRE | L1: OCTOBRE | M1: NOVEMBRE | N1: DECEMBRE | Q1: http://forum.excel-pratique.com/excel/multi-criteres-t67092.html
A2: 453 | B2: =VLOOKUP(A2,Matrice!$A$1:$B$55,2,FALSE) -> ALLIANZ | C2: =IFERROR(INDEX('[1]SIB '!$I$8:$AF$71,MATCH($A2,'[1]SIB '!$B$8:$B$71,0),MATCH(C$1,'[1]SIB '!$I$5:$AF$5,0)),0) -> 15322.53 | D2: =IFERROR(INDEX('[1]SIB '!$I$8:$AF$71,MATCH($A2,'[1]SIB '!$B$8:$B$71,0),MATCH(D$1,'[1]SIB '!$I$5:$AF$5,0)),0) -> 25715.62 | E2: =IFERROR(INDEX('[1]SIB '!$I$8:$AF$71,MATCH($A2,'[1]SIB '!$B$8:$B$71,0),MATCH(E$1,'[1]SIB '!$I$5:$AF$5,0)),0) -> 21725 | F2: =IFERROR(INDEX('[1]SIB '!$I$8:$AF$71,MATCH($A2,'[1]SIB '!$B$8:$B$71,0),MATCH(F$1,'[1]SIB '!$I$5:$AF$5,0)),0) -> 28315.21 | G2: =IFERROR(INDEX('[1]SIB '!$I$8:$AF$71,MATCH($A2,'[1]SIB '!$B$8:$B$71,0),MATCH(G$1,'[1]SIB '!$I$5:$AF$5,0)),0) -> 15954 | H2: =IFERROR(INDEX('[1]SIB '!$I$8:$AF$71,MATCH($A2,'[1]SIB '!$B$8:$B$71,0),MATCH(H$1,'[1]SIB '!$I$5:$AF$5,0)),0) -> 34538 | I2: =IFERROR(INDEX('[1]SIB '!$I$8:$AF$71,MATCH($A2,'[1]SIB '!$B$8:$B$71,0),MATCH(I$1,'[1]SIB '!$I$5:$AF$5,0)),0) -> 0 | J2: =IFERROR(INDEX('[1]SIB '!$I$8:$AF$71,MATCH($A2,'[1]SIB '!$B$8:$B$71,0),MATCH(J$1,'[1]SIB '!$I$5:$AF$5,0)),0) -> 0 | ... N2: =IFERROR(INDEX('[1]SIB '!$I$8:$AF$71,MATCH($A2,'[1]SIB '!$B$8:$B$71,0),MATCH(N$1,'[1]SIB '!$I$5:$AF$5,0)),0) -> 0
A3: 430 | B3: =VLOOKUP(A3,Matrice!$A$1:$B$55,2,FALSE) -> ACTUAL (CG) | C3: =IFERROR(INDEX('[1]SIB '!$I$8:$AF$71,MATCH($A3,'[1]SIB '!$B$8:$B$71,0),MATCH(C$1,'[1]SIB '!$I$5:$AF$5,0)),0) -> 3058.88 | D3: =IFERROR(INDEX('[1]SIB '!$I$8:$AF$71,MATCH($A3,'[1]SIB '!$B$8:$B$71,0),MATCH(D$1,'[1]SIB '!$I$5:$AF$5,0)),0) -> 25831.88 | E3: =IFERROR(INDEX('[1]SIB '!$I$8:$AF$71,MATCH($A3,'[1]SIB '!$B$8:$B$71,0),MATCH(E$1,'[1]SIB '!$I$5:$AF$5,0)),0) -> 0 | F3: =IFERROR(INDEX('[1]SIB '!$I$8:$AF$71,MATCH($A3,'[1]SIB '!$B$8:$B$71,0),MATCH(F$1,'[1]SIB '!$I$5:$AF$5,0)),0) -> 20623.83 | G3: =IFERROR(INDEX('[1]SIB '!$I$8:$AF$71,MATCH($A3,'[1]SIB '!$B$8:$B$71,0),MATCH(G$1,'[1]SIB '!$I$5:$AF$5,0)),0) -> 24469.14 | H3: =IFERROR(INDEX('[1]SIB '!$I$8:$AF$71,MATCH($A3,'[1]SIB '!$B$8:$B$71,0),MATCH(H$1,'[1]SIB '!$I$5:$AF$5,0)),0) -> 0 | I3: =IFERROR(INDEX('[1]SIB '!$I$8:$AF$71,MATCH($A3,'[1]SIB '!$B$8:$B$71,0),MATCH(I$1,'[1]SIB '!$I$5:$AF$5,0)),0) -> 0 | J3: =IFERROR(INDEX('[1]SIB '!$I$8:$AF$71,MATCH($A3,'[1]SIB '!$B$8:$B$71,0),MATCH(J$1,'[1]SIB '!$I$5:$AF$5,0)),0) -> 0 | ... N3: =IFERROR(INDEX('[1]SIB '!$I$8:$AF$71,MATCH($A3,'[1]SIB '!$B$8:$B$71,0),MATCH(N$1,'[1]SIB '!$I$5:$AF$5,0)),0) -> 0
A4: 4005 | B4: =VLOOKUP(A4,Matrice!$A$1:$B$55,2,FALSE) -> BANQUE COURTOIS | C4: =IFERROR(INDEX('[1]SIB '!$I$8:$AF$71,MATCH($A4,'[1]SIB '!$B$8:$B$71,0),MATCH(C$1,'[1]SIB '!$I$5:$AF$5,0)),0) -> 0 | D4: =IFERROR(INDEX('[1]SIB '!$I$8:$AF$71,MATCH($A4,'[1]SIB '!$B$8:$B$71,0),MATCH(D$1,'[1]SIB '!$I$5:$AF$5,0)),0) -> 9058 | E4: =IFERROR(INDEX('[1]SIB '!$I$8:$AF$71,MATCH($A4,'[1]SIB '!$B$8:$B$71,0),MATCH(E$1,'[1]SIB '!$I$5:$AF$5,0)),0) -> 25473 | F4: =IFERROR(INDEX('[1]SIB '!$I$8:$AF$71,MATCH($A4,'[1]SIB '!$B$8:$B$71,0),MATCH(F$1,'[1]SIB '!$I$5:$AF$5,0)),0) -> 0 | G4: =IFERROR(INDEX('[1]SIB '!$I$8:$AF$71,MATCH($A4,'[1]SIB '!$B$8:$B$71,0),MATCH(G$1,'[1]SIB '!$I$5:$AF$5,0)),0) -> 0 | H4: =IFERROR(INDEX('[1]SIB '!$I$8:$AF$71,MATCH($A4,'[1]SIB '!$B$8:$B$71,0),MATCH(H$1,'[1]SIB '!$I$5:$AF$5,0)),0) -> 0 | I4: =IFERROR(INDEX('[1]SIB '!$I$8:$AF$71,MATCH($A4,'[1]SIB '!$B$8:$B$71,0),MATCH(I$1,'[1]SIB '!$I$5:$AF$5,0)),0) -> 0 | J4: =IFERROR(INDEX('[1]SIB '!$I$8:$AF$71,MATCH($A4,'[1]SIB '!$B$8:$B$71,0),MATCH(J$1,'[1]SIB '!$I$5:$AF$5,0)),0) -> 0 | ... N4: =IFERROR(INDEX('[1]SIB '!$I$8:$AF$71,MATCH($A4,'[1]SIB '!$B$8:$B$71,0),MATCH(N$1,'[1]SIB '!$I$5:$AF$5,0)),0) -> 0
A5: 4006 | B5: =VLOOKUP(A5,Matrice!$A$1:$B$55,2,FALSE) -> BANQUE TARNEAUD | C5: =IFERROR(INDEX('[1]SIB '!$I$8:$AF$71,MATCH($A5,'[1]SIB '!$B$8:$B$71,0),MATCH(C$1,'[1]SIB '!$I$5:$AF$5,0)),0) -> 0 | D5: =IFERROR(INDEX('[1]SIB '!$I$8:$AF$71,MATCH($A5,'[1]SIB '!$B$8:$B$71,0),MATCH(D$1,'[1]SIB '!$I$5:$AF$5,0)),0) -> 131184 | E5: =IFERROR(INDEX('[1]SIB '!$I$8:$AF$71,MATCH($A5,'[1]SIB '!$B$8:$B$71,0),MATCH(E$1,'[1]SIB '!$I$5:$AF$5,0)),0) -> 0 | F5: =IFERROR(INDEX('[1]SIB '!$I$8:$AF$71,MATCH($A5,'[1]SIB '!$B$8:$B$71,0),MATCH(F$1,'[1]SIB '!$I$5:$AF$5,0)),0) -> 98719.71 | G5: =IFERROR(INDEX('[1]SIB '!$I$8:$AF$71,MATCH($A5,'[1]SIB '!$B$8:$B$71,0),MATCH(G$1,'[1]SIB '!$I$5:$AF$5,0)),0) -> 153528 | H5: =IFERROR(INDEX('[1]SIB '!$I$8:$AF$71,MATCH($A5,'[1]SIB '!$B$8:$B$71,0),MATCH(H$1,'[1]SIB '!$I$5:$AF$5,0)),0) -> 100673 | I5: =IFERROR(INDEX('[1]SIB '!$I$8:$AF$71,MATCH($A5,'[1]SIB '!$B$8:$B$71,0),MATCH(I$1,'[1]SIB '!$I$5:$AF$5,0)),0) -> 0 | J5: =IFERROR(INDEX('[1]SIB '!$I$8:$AF$71,MATCH($A5,'[1]SIB '!$B$8:$B$71,0),MATCH(J$1,'[1]SIB '!$I$5:$AF$5,0)),0) -> 0 | ... N5: =IFERROR(INDEX('[1]SIB '!$I$8:$AF$71,MATCH($A5,'[1]SIB '!$B$8:$B$71,0),MATCH(N$1,'[1]SIB '!$I$5:$AF$5,0)),0) -> 0
A6: 4004 | B6: =VLOOKUP(A6,Matrice!$A$1:$B$55,2,FALSE) -> BNP | C6: =IFERROR(INDEX('[1]SIB '!$I$8:$AF$71,MATCH($A6,'[1]SIB '!$B$8:$B$71,0),MATCH(C$1,'[1]SIB '!$I$5:$AF$5,0)),0) -> 4600 | D6: =IFERROR(INDEX('[1]SIB '!$I$8:$AF$71,MATCH($A6,'[1]SIB '!$B$8:$B$71,0),MATCH(D$1,'[1]SIB '!$I$5:$AF$5,0)),0) -> 0 | E6: =IFERROR(INDEX('[1]SIB '!$I$8:$AF$71,MATCH($A6,'[1]SIB '!$B$8:$B$71,0),MATCH(E$1,'[1]SIB '!$I$5:$AF$5,0)),0) -> 0 | F6: =IFERROR(INDEX('[1]SIB '!$I$8:$AF$71,MATCH($A6,'[1]SIB '!$B$8:$B$71,0),MATCH(F$1,'[1]SIB '!$I$5:$AF$5,0)),0) -> 0 | G6: =IFERROR(INDEX('[1]SIB '!$I$8:$AF$71,MATCH($A6,'[1]SIB '!$B$8:$B$71,0),MATCH(G$1,'[1]SIB '!$I$5:$AF$5,0)),0) -> 897 | H6: =IFERROR(INDEX('[1]SIB '!$I$8:$AF$71,MATCH($A6,'[1]SIB '!$B$8:$B$71,0),MATCH(H$1,'[1]SIB '!$I$5:$AF$5,0)),0) -> 450 | I6: =IFERROR(INDEX('[1]SIB '!$I$8:$AF$71,MATCH($A6,'[1]SIB '!$B$8:$B$71,0),MATCH(I$1,'[1]SIB '!$I$5:$AF$5,0)),0) -> 0 | J6: =IFERROR(INDEX('[1]SIB '!$I$8:$AF$71,MATCH($A6,'[1]SIB '!$B$8:$B$71,0),MATCH(J$1,'[1]SIB '!$I$5:$AF$5,0)),0) -> 0 | ... N6: =IFERROR(INDEX('[1]SIB '!$I$8:$AF$71,MATCH($A6,'[1]SIB '!$B$8:$B$71,0),MATCH(N$1,'[1]SIB '!$I$5:$AF$5,0)),0) -> 0
A7: 459 | B7: =VLOOKUP(A7,Matrice!$A$1:$B$55,2,FALSE) -> BNP Banque de Bretagne | C7: =IFERROR(INDEX('[1]SIB '!$I$8:$AF$71,MATCH($A7,'[1]SIB '!$B$8:$B$71,0),MATCH(C$1,'[1]SIB '!$I$5:$AF$5,0)),0) -> 0 | D7: =IFERROR(INDEX('[1]SIB '!$I$8:$AF$71,MATCH($A7,'[1]SIB '!$B$8:$B$71,0),MATCH(D$1,'[1]SIB '!$I$5:$AF$5,0)),0) -> 0 | E7: =IFERROR(INDEX('[1]SIB '!$I$8:$AF$71,MATCH($A7,'[1]SIB '!$B$8:$B$71,0),MATCH(E$1,'[1]SIB '!$I$5:$AF$5,0)),0) -> 0 | F7: =IFERROR(INDEX('[1]SIB '!$I$8:$AF$71,MATCH($A7,'[1]SIB '!$B$8:$B$71,0),MATCH(F$1,'[1]SIB '!$I$5:$AF$5,0)),0) -> 0 | G7: =IFERROR(INDEX('[1]SIB '!$I$8:$AF$71,MATCH($A7,'[1]SIB '!$B$8:$B$71,0),MATCH(G$1,'[1]SIB '!$I$5:$AF$5,0)),0) -> 0 | H7: =IFERROR(INDEX('[1]SIB '!$I$8:$AF$71,MATCH($A7,'[1]SIB '!$B$8:$B$71,0),MATCH(H$1,'[1]SIB '!$I$5:$AF$5,0)),0) -> 0 | I7: =IFERROR(INDEX('[1]SIB '!$I$8:$AF$71,MATCH($A7,'[1]SIB '!$B$8:$B$71,0),MATCH(I$1,'[1]SIB '!$I$5:$AF$5,0)),0) -> 0 | J7: =IFERROR(INDEX('[1]SIB '!$I$8:$AF$71,MATCH($A7,'[1]SIB '!$B$8:$B$71,0),MATCH(J$1,'[1]SIB '!$I$5:$AF$5,0)),0) -> 0 | ... N7: =IFERROR(INDEX('[1]SIB '!$I$8:$AF$71,MATCH($A7,'[1]SIB '!$B$8:$B$71,0),MATCH(N$1,'[1]SIB '!$I$5:$AF$5,0)),0) -> 0
A8: 477 | B8: =VLOOKUP(A8,Matrice!$A$1:$B$55,2,FALSE) -> BOUYGUES | C8: =IFERROR(INDEX('[1]SIB '!$I$8:$AF$71,MATCH($A8,'[1]SIB '!$B$8:$B$71,0),MATCH(C$1,'[1]SIB '!$I$5:$AF$5,0)),0) -> 0 | D8: =IFERROR(INDEX('[1]SIB '!$I$8:$AF$71,MATCH($A8,'[1]SIB '!$B$8:$B$71,0),MATCH(D$1,'[1]SIB '!$I$5:$AF$5,0)),0) -> 0 | E8: =IFERROR(INDEX('[1]SIB '!$I$8:$AF$71,MATCH($A8,'[1]SIB '!$B$8:$B$71,0),MATCH(E$1,'[1]SIB '!$I$5:$AF$5,0)),0) -> 53870 | F8: =IFERROR(INDEX('[1]SIB '!$I$8:$AF$71,MATCH($A8,'[1]SIB '!$B$8:$B$71,0),MATCH(F$1,'[1]SIB '!$I$5:$AF$5,0)),0) -> 0 | G8: =IFERROR(INDEX('[1]SIB '!$I$8:$AF$71,MATCH($A8,'[1]SIB '!$B$8:$B$71,0),MATCH(G$1,'[1]SIB '!$I$5:$AF$5,0)),0) -> 10892 | H8: =IFERROR(INDEX('[1]SIB '!$I$8:$AF$71,MATCH($A8,'[1]SIB '!$B$8:$B$71,0),MATCH(H$1,'[1]SIB '!$I$5:$AF$5,0)),0) -> 33880 | I8: =IFERROR(INDEX('[1]SIB '!$I$8:$AF$71,MATCH($A8,'[1]SIB '!$B$8:$B$71,0),MATCH(I$1,'[1]SIB '!$I$5:$AF$5,0)),0) -> 0 | J8: =IFERROR(INDEX('[1]SIB '!$I$8:$AF$71,MATCH($A8,'[1]SIB '!$B$8:$B$71,0),MATCH(J$1,'[1]SIB '!$I$5:$AF$5,0)),0) -> 0 | ... N8: =IFERROR(INDEX('[1]SIB '!$I$8:$AF$71,MATCH($A8,'[1]SIB '!$B$8:$B$71,0),MATCH(N$1,'[1]SIB '!$I$5:$AF$5,0)),0) -> 0
A9: 486 | B9: =VLOOKUP(A9,Matrice!$A$1:$B$55,2,FALSE) -> BPA ATLANTIQUE | C9: =IFERROR(INDEX('[1]SIB '!$I$8:$AF$71,MATCH($A9,'[1]SIB '!$B$8:$B$71,0),MATCH(C$1,'[1]SIB '!$I$5:$AF$5,0)),0) -> 0 | D9: =IFERROR(INDEX('[1]SIB '!$I$8:$AF$71,MATCH($A9,'[1]SIB '!$B$8:$B$71,0),MATCH(D$1,'[1]SIB '!$I$5:$AF$5,0)),0) -> 3200 | E9: =IFERROR(INDEX('[1]SIB '!$I$8:$AF$71,MATCH($A9,'[1]SIB '!$B$8:$B$71,0),MATCH(E$1,'[1]SIB '!$I$5:$AF$5,0)),0) -> 1600 | F9: =IFERROR(INDEX('[1]SIB '!$I$8:$AF$71,MATCH($A9,'[1]SIB '!$B$8:$B$71,0),MATCH(F$1,'[1]SIB '!$I$5:$AF$5,0)),0) -> 0 | G9: =IFERROR(INDEX('[1]SIB '!$I$8:$AF$71,MATCH($A9,'[1]SIB '!$B$8:$B$71,0),MATCH(G$1,'[1]SIB '!$I$5:$AF$5,0)),0) -> 7043 | H9: =IFERROR(INDEX('[1]SIB '!$I$8:$AF$71,MATCH($A9,'[1]SIB '!$B$8:$B$71,0),MATCH(H$1,'[1]SIB '!$I$5:$AF$5,0)),0) -> 3994 | I9: =IFERROR(INDEX('[1]SIB '!$I$8:$AF$71,MATCH($A9,'[1]SIB '!$B$8:$B$71,0),MATCH(I$1,'[1]SIB '!$I$5:$AF$5,0)),0) -> 0 | J9: =IFERROR(INDEX('[1]SIB '!$I$8:$AF$71,MATCH($A9,'[1]SIB '!$B$8:$B$71,0),MATCH(J$1,'[1]SIB '!$I$5:$AF$5,0)),0) -> 0 | ... N9: =IFERROR(INDEX('[1]SIB '!$I$8:$AF$71,MATCH($A9,'[1]SIB '!$B$8:$B$71,0),MATCH(N$1,'[1]SIB '!$I$5:$AF$5,0)),0) -> 0
A10: 272 | B10: =VLOOKUP(A10,Matrice!$A$1:$B$55,2,FALSE) -> #N/A | C10: =IFERROR(INDEX('[1]SIB '!$I$8:$AF$71,MATCH($A10,'[1]SIB '!$B$8:$B$71,0),MATCH(C$1,'[1]SIB '!$I$5:$AF$5,0)),0) -> 0 | D10: =IFERROR(INDEX('[1]SIB '!$I$8:$AF$71,MATCH($A10,'[1]SIB '!$B$8:$B$71,0),MATCH(D$1,'[1]SIB '!$I$5:$AF$5,0)),0) -> 0 | E10: =IFERROR(INDEX('[1]SIB '!$I$8:$AF$71,MATCH($A10,'[1]SIB '!$B$8:$B$71,0),MATCH(E$1,'[1]SIB '!$I$5:$AF$5,0)),0) -> 0 | F10: =IFERROR(INDEX('[1]SIB '!$I$8:$AF$71,MATCH($A10,'[1]SIB '!$B$8:$B$71,0),MATCH(F$1,'[1]SIB '!$I$5:$AF$5,0)),0) -> 0 | G10: =IFERROR(INDEX('[1]SIB '!$I$8:$AF$71,MATCH($A10,'[1]SIB '!$B$8:$B$71,0),MATCH(G$1,'[1]SIB '!$I$5:$AF$5,0)),0) -> 0 | H10: =IFERROR(INDEX('[1]SIB '!$I$8:$AF$71,MATCH($A10,'[1]SIB '!$B$8:$B$71,0),MATCH(H$1,'[1]SIB '!$I$5:$AF$5,0)),0) -> 0 | I10: =IFERROR(INDEX('[1]SIB '!$I$8:$AF$71,MATCH($A10,'[1]SIB '!$B$8:$B$71,0),MATCH(I$1,'[1]SIB '!$I$5:$AF$5,0)),0) -> 0 | J10: =IFERROR(INDEX('[1]SIB '!$I$8:$AF$71,MATCH($A10,'[1]SIB '!$B$8:$B$71,0),MATCH(J$1,'[1]SIB '!$I$5:$AF$5,0)),0) -> 0 | ... N10: =IFERROR(INDEX('[1]SIB '!$I$8:$AF$71,MATCH($A10,'[1]SIB '!$B$8:$B$71,0),MATCH(N$1,'[1]SIB '!$I$5:$AF$5,0)),0) -> 0
A11: 472 | B11: =VLOOKUP(A11,Matrice!$A$1:$B$55,2,FALSE) -> CARREFOUR | C11: =IFERROR(INDEX('[1]SIB '!$I$8:$AF$71,MATCH($A11,'[1]SIB '!$B$8:$B$71,0),MATCH(C$1,'[1]SIB '!$I$5:$AF$5,0)),0) -> 0 | D11: =IFERROR(INDEX('[1]SIB '!$I$8:$AF$71,MATCH($A11,'[1]SIB '!$B$8:$B$71,0),MATCH(D$1,'[1]SIB '!$I$5:$AF$5,0)),0) -> 0 | E11: =IFERROR(INDEX('[1]SIB '!$I$8:$AF$71,MATCH($A11,'[1]SIB '!$B$8:$B$71,0),MATCH(E$1,'[1]SIB '!$I$5:$AF$5,0)),0) -> 1050 | F11: =IFERROR(INDEX('[1]SIB '!$I$8:$AF$71,MATCH($A11,'[1]SIB '!$B$8:$B$71,0),MATCH(F$1,'[1]SIB '!$I$5:$AF$5,0)),0) -> 0 | G11: =IFERROR(INDEX('[1]SIB '!$I$8:$AF$71,MATCH($A11,'[1]SIB '!$B$8:$B$71,0),MATCH(G$1,'[1]SIB '!$I$5:$AF$5,0)),0) -> 0 | H11: =IFERROR(INDEX('[1]SIB '!$I$8:$AF$71,MATCH($A11,'[1]SIB '!$B$8:$B$71,0),MATCH(H$1,'[1]SIB '!$I$5:$AF$5,0)),0) -> 0 | I11: =IFERROR(INDEX('[1]SIB '!$I$8:$AF$71,MATCH($A11,'[1]SIB '!$B$8:$B$71,0),MATCH(I$1,'[1]SIB '!$I$5:$AF$5,0)),0) -> 0 | J11: =IFERROR(INDEX('[1]SIB '!$I$8:$AF$71,MATCH($A11,'[1]SIB '!$B$8:$B$71,0),MATCH(J$1,'[1]SIB '!$I$5:$AF$5,0)),0) -> 0 | ... N11: =IFERROR(INDEX('[1]SIB '!$I$8:$AF$71,MATCH($A11,'[1]SIB '!$B$8:$B$71,0),MATCH(N$1,'[1]SIB '!$I$5:$AF$5,0)),0) -> 0
A12: 435 | B12: =VLOOKUP(A12,Matrice!$A$1:$B$55,2,FALSE) -> CITROEN France | C12: =IFERROR(INDEX('[1]SIB '!$I$8:$AF$71,MATCH($A12,'[1]SIB '!$B$8:$B$71,0),MATCH(C$1,'[1]SIB '!$I$5:$AF$5,0)),0) -> 1716 | D12: =IFERROR(INDEX('[1]SIB '!$I$8:$AF$71,MATCH($A12,'[1]SIB '!$B$8:$B$71,0),MATCH(D$1,'[1]SIB '!$I$5:$AF$5,0)),0) -> 0 | E12: =IFERROR(INDEX('[1]SIB '!$I$8:$AF$71,MATCH($A12,'[1]SIB '!$B$8:$B$71,0),MATCH(E$1,'[1]SIB '!$I$5:$AF$5,0)),0) -> 4136 | F12: =IFERROR(INDEX('[1]SIB '!$I$8:$AF$71,MATCH($A12,'[1]SIB '!$B$8:$B$71,0),MATCH(F$1,'[1]SIB '!$I$5:$AF$5,0)),0) -> 1892 | G12: =IFERROR(INDEX('[1]SIB '!$I$8:$AF$71,MATCH($A12,'[1]SIB '!$B$8:$B$71,0),MATCH(G$1,'[1]SIB '!$I$5:$AF$5,0)),0) -> 660 | H12: =IFERROR(INDEX('[1]SIB '!$I$8:$AF$71,MATCH($A12,'[1]SIB '!$B$8:$B$71,0),MATCH(H$1,'[1]SIB '!$I$5:$AF$5,0)),0) -> 0 | I12: =IFERROR(INDEX('[1]SIB '!$I$8:$AF$71,MATCH($A12,'[1]SIB '!$B$8:$B$71,0),MATCH(I$1,'[1]SIB '!$I$5:$AF$5,0)),0) -> 0 | J12: =IFERROR(INDEX('[1]SIB '!$I$8:$AF$71,MATCH($A12,'[1]SIB '!$B$8:$B$71,0),MATCH(J$1,'[1]SIB '!$I$5:$AF$5,0)),0) -> 0 | ... N12: =IFERROR(INDEX('[1]SIB '!$I$8:$AF$71,MATCH($A12,'[1]SIB '!$B$8:$B$71,0),MATCH(N$1,'[1]SIB '!$I$5:$AF$5,0)),0) -> 0
A13: 432 | B13: =VLOOKUP(A13,Matrice!$A$1:$B$55,2,FALSE) -> CITROEN IVC | C13: =IFERROR(INDEX('[1]SIB '!$I$8:$AF$71,MATCH($A13,'[1]SIB '!$B$8:$B$71,0),MATCH(C$1,'[1]SIB '!$I$5:$AF$5,0)),0) -> 0 | D13: =IFERROR(INDEX('[1]SIB '!$I$8:$AF$71,MATCH($A13,'[1]SIB '!$B$8:$B$71,0),MATCH(D$1,'[1]SIB '!$I$5:$AF$5,0)),0) -> 0 | E13: =IFERROR(INDEX('[1]SIB '!$I$8:$AF$71,MATCH($A13,'[1]SIB '!$B$8:$B$71,0),MATCH(E$1,'[1]SIB '!$I$5:$AF$5,0)),0) -> 3171 | F13: =IFERROR(INDEX('[1]SIB '!$I$8:$AF$71,MATCH($A13,'[1]SIB '!$B$8:$B$71,0),MATCH(F$1,'[1]SIB '!$I$5:$AF$5,0)),0) -> 1171 | G13: =IFERROR(INDEX('[1]SIB '!$I$8:$AF$71,MATCH($A13,'[1]SIB '!$B$8:$B$71,0),MATCH(G$1,'[1]SIB '!$I$5:$AF$5,0)),0) -> 0 | H13: =IFERROR(INDEX('[1]SIB '!$I$8:$AF$71,MATCH($A13,'[1]SIB '!$B$8:$B$71,0),MATCH(H$1,'[1]SIB '!$I$5:$AF$5,0)),0) -> 0 | I13: =IFERROR(INDEX('[1]SIB '!$I$8:$AF$71,MATCH($A13,'[1]SIB '!$B$8:$B$71,0),MATCH(I$1,'[1]SIB '!$I$5:$AF$5,0)),0) -> 0 | J13: =IFERROR(INDEX('[1]SIB '!$I$8:$AF$71,MATCH($A13,'[1]SIB '!$B$8:$B$71,0),MATCH(J$1,'[1]SIB '!$I$5:$AF$5,0)),0) -> 0 | ... N13: =IFERROR(INDEX('[1]SIB '!$I$8:$AF$71,MATCH($A13,'[1]SIB '!$B$8:$B$71,0),MATCH(N$1,'[1]SIB '!$I$5:$AF$5,0)),0) -> 0
... A29: 457 | B29: =VLOOKUP(A29,Matrice!$A$1:$B$55,2,FALSE) -> METRO | C29: =IFERROR(INDEX('[1]SIB '!$I$8:$AF$71,MATCH($A29,'[1]SIB '!$B$8:$B$71,0),MATCH(C$1,'[1]SIB '!$I$5:$AF$5,0)),0) -> 0 | D29: =IFERROR(INDEX('[1]SIB '!$I$8:$AF$71,MATCH($A29,'[1]SIB '!$B$8:$B$71,0),MATCH(D$1,'[1]SIB '!$I$5:$AF$5,0)),0) -> 0 | E29: =IFERROR(INDEX('[1]SIB '!$I$8:$AF$71,MATCH($A29,'[1]SIB '!$B$8:$B$71,0),MATCH(E$1,'[1]SIB '!$I$5:$AF$5,0)),0) -> 0 | F29: =IFERROR(INDEX('[1]SIB '!$I$8:$AF$71,MATCH($A29,'[1]SIB '!$B$8:$B$71,0),MATCH(F$1,'[1]SIB '!$I$5:$AF$5,0)),0) -> 0 | G29: =IFERROR(INDEX('[1]SIB '!$I$8:$AF$71,MATCH($A29,'[1]SIB '!$B$8:$B$71,0),MATCH(G$1,'[1]SIB '!$I$5:$AF$5,0)),0) -> 0 | H29: =IFERROR(INDEX('[1]SIB '!$I$8:$AF$71,MATCH($A29,'[1]SIB '!$B$8:$B$71,0),MATCH(H$1,'[1]SIB '!$I$5:$AF$5,0)),0) -> 0 | I29: =IFERROR(INDEX('[1]SIB '!$I$8:$AF$71,MATCH($A29,'[1]SIB '!$B$8:$B$71,0),MATCH(I$1,'[1]SIB '!$I$5:$AF$5,0)),0) -> 0 | J29: =IFERROR(INDEX('[1]SIB '!$I$8:$AF$71,MATCH($A29,'[1]SIB '!$B$8:$B$71,0),MATCH(J$1,'[1]SIB '!$I$5:$AF$5,0)),0) -> 0 | ... N29: =IFERROR(INDEX('[1]SIB '!$I$8:$AF$71,MATCH($A29,'[1]SIB '!$B$8:$B$71,0),MATCH(N$1,'[1]SIB '!$I$5:$AF$5,0)),0) -> 0
B30: =VLOOKUP(A30,Matrice!$A$1:$B$55,2,FALSE) -> #N/A
B31: =VLOOKUP(A31,Matrice!$A$1:$B$55,2,FALSE) -> #N/A
B32: =VLOOKUP(A32,Matrice!$A$1:$B$55,2,FALSE) -> #N/A
B33: =VLOOKUP(A33,Matrice!$A$1:$B$55,2,FALSE) -> #N/A
B34: =VLOOKUP(A34,Matrice!$A$1:$B$55,2,FALSE) -> #N/A
