Workbook
Name Noms: Feuil1!$A$17:$A$25
Name Tablo1: Feuil1!$B$4:$F$13

Sheet Feuil1
C2: Tableau 1
B3: Poste A | C3: Poste B | D3: Poste C | E3: Poste D | F3: Poste E
A4: Section1 | B4: Titi | C4: Tata | D4: Titi | E4: Toto | F4: Tata
A5: Section2 | B5: Gigi | C5: Fifi | D5: Titi | E5: Mini | F5: Titi
A6: Section3 | B6: Baba | C6: Toto | D6: Popo | E6: Baba | F6: Gigi
A7: Section4
A8: Section5 | K8: Pour info
A9: Section6 | K9: Noms définis
A10: Section7 | K10: Noms | L10: =Feuil1!$A$17:$A$25
A11: Section8 | K11: Tablo1 | L11: =Feuil1!$B$4:$F$13
A12: Section9
A13: Section10
A16: Noms
A17: Titi
A18: Tata
A19: Toto
A20: Gigi
A21: Baba
A22: Fifi
A23: Popo
A24: Mini
A25: Gogo

Sheet Feuil2
Q1: http://forum.excel-pratique.com/excel/mise-en-forme-conditionel-complexe-t55586.html
C2: Tableau 2
B3: =Feuil1!B3 -> Poste A | C3: =Feuil1!C3 -> Poste B | D3: =Feuil1!D3 -> Poste C | E3: =Feuil1!E3 -> Poste D | F3: =Feuil1!F3 -> Poste E
A4: 1er Q | B4: Section1 | C4: Section2 | D4: Section1 | E4: Section1 | F4: Section1
A5: 2e Q | B5: Section2 | C5: Section2 | D5: Section3 | E5: Section2 | F5: Section3
A6: 3e Q | B6: Section1 | C6: Section3 | D6: Section2 | E6: Section3 | F6: Section2
A7: 1er Q
A8: 2e Q
A9: 3e Q
A10: 1er Q
A11: 2e Q
A12: 3e Q
A13: 1er Q
A14: 2e Q
A15: 3e Q | H15: Copie du tableau 1
C17: Tableau 3
B18: =B3 -> Poste A | C18: =C3 -> Poste B | D18: =D3 -> Poste C | E18: =E3 -> Poste D | F18: =F3 -> Poste E | I18: Poste A | J18: Poste B | K18: Poste C | L18: Poste D | M18: Poste E
A19: 1er Q | B19: =IF(AND(Feuil2!B$18=Feuil1!B$3,Feuil1!$A$4=B4),Feuil1!B$4,IF(AND(Feuil2!B$18=Feuil1!B$3,Feuil1!$A$5=B4),Feuil1!B$5,IF(AND(Feuil2!B$18=Feuil1!B$3,Feuil1!$A$6=B4),Feuil1!B$6,""))) -> Titi | C19: =IF(AND(Feuil2!C$18=Feuil1!C$3,Feuil1!$A$4=C4),Feuil1!C$4,IF(AND(Feuil2!C$18=Feuil1!C$3,Feuil1!$A$5=C4),Feuil1!C$5,IF(AND(Feuil2!C$18=Feuil1!C$3,Feuil1!$A$6=C4),Feuil1!C$6,""))) -> Fifi | D19: =IF(AND(Feuil2!D$18=Feuil1!D$3,Feuil1!$A$4=D4),Feuil1!D$4,IF(AND(Feuil2!D$18=Feuil1!D$3,Feuil1!$A$5=D4),Feuil1!D$5,IF(AND(Feuil2!D$18=Feuil1!D$3,Feuil1!$A$6=D4),Feuil1!D$6,""))) -> Titi | E19: =IF(AND(Feuil2!E$18=Feuil1!E$3,Feuil1!$A$4=E4),Feuil1!E$4,IF(AND(Feuil2!E$18=Feuil1!E$3,Feuil1!$A$5=E4),Feuil1!E$5,IF(AND(Feuil2!E$18=Feuil1!E$3,Feuil1!$A$6=E4),Feuil1!E$6,""))) -> Toto | F19: =IF(AND(Feuil2!F$18=Feuil1!F$3,Feuil1!$A$4=F4),Feuil1!F$4,IF(AND(Feuil2!F$18=Feuil1!F$3,Feuil1!$A$5=F4),Feuil1!F$5,IF(AND(Feuil2!F$18=Feuil1!F$3,Feuil1!$A$6=F4),Feuil1!F$6,""))) -> Tata | H19: Section1 | I19: Titi | J19: Tata | K19: Titi | L19: Toto | M19: Tata
A20: 2e Q | B20: =IF(AND(Feuil2!$B$18=Feuil1!$B$3,Feuil1!$A$4=B5),Feuil1!$B$4,IF(AND(Feuil2!$B$18=Feuil1!$B$3,Feuil1!$A$5=B5),Feuil1!$B$5,IF(AND(Feuil2!$B$18=Feuil1!$B$3,Feuil1!$A$6=B5),Feuil1!$B$6,""))) -> Gigi | C20: =IF(AND(Feuil2!C$18=Feuil1!C$3,Feuil1!$A$4=C5),Feuil1!C$4,IF(AND(Feuil2!C$18=Feuil1!C$3,Feuil1!$A$5=C5),Feuil1!C$5,IF(AND(Feuil2!C$18=Feuil1!C$3,Feuil1!$A$6=C5),Feuil1!C$6,""))) -> Fifi | D20: =IF(AND(Feuil2!D$18=Feuil1!D$3,Feuil1!$A$4=D5),Feuil1!D$4,IF(AND(Feuil2!D$18=Feuil1!D$3,Feuil1!$A$5=D5),Feuil1!D$5,IF(AND(Feuil2!D$18=Feuil1!D$3,Feuil1!$A$6=D5),Feuil1!D$6,""))) -> Popo | E20: =IF(AND(Feuil2!E$18=Feuil1!E$3,Feuil1!$A$4=E5),Feuil1!E$4,IF(AND(Feuil2!E$18=Feuil1!E$3,Feuil1!$A$5=E5),Feuil1!E$5,IF(AND(Feuil2!E$18=Feuil1!E$3,Feuil1!$A$6=E5),Feuil1!E$6,""))) -> Mini | F20: =IF(AND(Feuil2!F$18=Feuil1!F$3,Feuil1!$A$4=F5),Feuil1!F$4,IF(AND(Feuil2!F$18=Feuil1!F$3,Feuil1!$A$5=F5),Feuil1!F$5,IF(AND(Feuil2!F$18=Feuil1!F$3,Feuil1!$A$6=F5),Feuil1!F$6,""))) -> Gigi | H20: Section2 | I20: Gigi | J20: Fifi | K20: Titi | L20: Mini | M20: Titi
A21: 3e Q | B21: =IF(AND(Feuil2!$B$18=Feuil1!$B$3,Feuil1!$A$4=B6),Feuil1!$B$4,IF(AND(Feuil2!$B$18=Feuil1!$B$3,Feuil1!$A$5=B6),Feuil1!$B$5,IF(AND(Feuil2!$B$18=Feuil1!$B$3,Feuil1!$A$6=B6),Feuil1!$B$6,""))) -> Titi | C21: =IF(AND(Feuil2!C$18=Feuil1!C$3,Feuil1!$A$4=C6),Feuil1!C$4,IF(AND(Feuil2!C$18=Feuil1!C$3,Feuil1!$A$5=C6),Feuil1!C$5,IF(AND(Feuil2!C$18=Feuil1!C$3,Feuil1!$A$6=C6),Feuil1!C$6,""))) -> Toto | D21: =IF(AND(Feuil2!D$18=Feuil1!D$3,Feuil1!$A$4=D6),Feuil1!D$4,IF(AND(Feuil2!D$18=Feuil1!D$3,Feuil1!$A$5=D6),Feuil1!D$5,IF(AND(Feuil2!D$18=Feuil1!D$3,Feuil1!$A$6=D6),Feuil1!D$6,""))) -> Titi | E21: =IF(AND(Feuil2!E$18=Feuil1!E$3,Feuil1!$A$4=E6),Feuil1!E$4,IF(AND(Feuil2!E$18=Feuil1!E$3,Feuil1!$A$5=E6),Feuil1!E$5,IF(AND(Feuil2!E$18=Feuil1!E$3,Feuil1!$A$6=E6),Feuil1!E$6,""))) -> Baba | F21: =IF(AND(Feuil2!F$18=Feuil1!F$3,Feuil1!$A$4=F6),Feuil1!F$4,IF(AND(Feuil2!F$18=Feuil1!F$3,Feuil1!$A$5=F6),Feuil1!F$5,IF(AND(Feuil2!F$18=Feuil1!F$3,Feuil1!$A$6=F6),Feuil1!F$6,""))) -> Titi | H21: Section3 | I21: Baba | J21: Toto | K21: Popo | L21: Baba | M21: Gigi
A22: 1er Q | B22: =SI(ET(Feuil2!$B$18=Feuil1!$B$3;Feuil1!$A$4=B7);Feuil1!$B$4;SI(ET(Feuil2!$B$18=Feuil1!$B$3;Feuil1!$A$5=B7);Feuil1!$B$5;SI(ET(Feuil2!$B$18=Feuil1!$B$3;Feuil1!$A$6=B7);Feuil1!$B$6;""))) | H22: Section4
A23: 2e Q | H23: Section5
A24: 3e Q | H24: Section6
A25: 1er Q | H25: Section7
A26: 2e Q | H26: Section8
A27: 3e Q | H27: Section9
A28: 1er Q | H28: Section10
A29: 2e Q
A30: 3e Q

Sheet Feuil3
