Workbook
Name divers: Feuil2!$A$9:$A$10
Name finition: Feuil2!$A$13:$A$14
Name pose: Feuil2!$A$4:$A$6
Name travaux: Feuil3!$A$1:$A$3
Name type: Feuil2!$C$2:$E$2

Sheet Feuil1
L1: http://forum.excel-pratique.com/excel/lier-une-valeur-selon-un-choix-effectue-dans-liste-deroulant-t17882-10.html#p188953
A2: neuf
A3: Type | C3: unité (m² / ml) | D3: quantité | E3: P.U HT | F3: montant HT
A4: pose | B4: montage mur hydro | C4: =IF(B4="","",VLOOKUP(B4,Feuil2!$A$4:$B$14,2,0)) -> m² | D4: 1 | E4: =INDEX(Feuil2!$A$2:$E$14,MATCH($B4,Feuil2!$A$2:$A$14,0),MATCH($A$2,Feuil2!$A$2:$E$2,0)) -> 55 | F4: =E4*D4 -> 55
A5: divers | B5: pose bande calico | C5: =IF(B5="","",VLOOKUP(B5,Feuil2!$A$4:$B$14,2,0)) -> ml | D5: 2 | E5: =INDEX(Feuil2!$A$2:$E$14,MATCH($B5,Feuil2!$A$2:$A$14,0),MATCH($A$2,Feuil2!$A$2:$E$2,0)) -> 7 | F5: =E5*D5 -> 14
A6: finition | B6: deuxiéme passe enduit | C6: =IF(B6="","",VLOOKUP(B6,Feuil2!$A$4:$B$14,2,0)) -> ml | D6: 3 | E6: =INDEX(Feuil2!$A$2:$E$14,MATCH($B6,Feuil2!$A$2:$A$14,0),MATCH($A$2,Feuil2!$A$2:$E$2,0)) -> 3 | F6: =E6*D6 -> 9

Sheet Feuil2
B2: unité | C2: neuf | D2: reno | E2: reno++
A3: pose
A4: montage mur placo | B4: m² | C4: 45 | D4: =C4*1.3 -> 58.5 | E4: =C4*1.4 -> 63
A5: montage mur hydro | B5: m² | C5: 55 | D5: =C5*1.3 -> 71.5 | E5: =C5*1.4 -> 77
A6: montage mur caro de platre | B6: m² | C6: 57 | D6: =C6*1.3 -> 74.1 | E6: =C6*1.4 -> 79.8
A8: divers
A9: pose bande calico | B9: ml | C9: 7 | D9: =C9*1.3 -> 9.1 | E9: =C9*1.4 -> 9.8
A10: pose bande armé | B10: ml | C10: 10 | D10: =C10*1.3 -> 13 | E10: =C10*1.4 -> 14
A12: finition
A13: deuxiéme passe enduit | B13: ml | C13: 3 | D13: =C13*1.3 -> 3.9 | E13: =C13*1.4 -> 4.2
A14: peinture | C14: 2 | D14: =C14*1.3 -> 2.6 | E14: =C14*1.4 -> 2.8

Sheet Feuil3
A1: pose
A2: divers
A3: finition
